{"text_format":"1","workbook":"xlsx","n_sheets":14,"sheets":["Instructions","Application","Requested Needs","Explanation of Services","Attendance Centers","Assurances","Collaborative Agreement","Collaborative Agreement (2)","Collaborative Agreement (3)","Building Data","District Data","Prior Year Data","Mental Health Centers","Building Drop Down"],"not_rendered":{"charts":0,"images":1,"macros":1,"external_links":1,"defined_names":31,"comments":3,"pivot_tables":0},"unopened":[],"bounds":{"document_bytes":16777216,"sheet_cells":100000,"rows_first":2000,"rows_last":500,"rows_between":2000,"halvings":0,"cell_chars":16384,"cell_head_chars":4096},"cells_cut":0,"cells_raw":0,"read":"whole","date_system":"1900"}

{"sheet":"Instructions","index":0,"n_rows":16,"n_cols":11,"rows_kept":16,"cut":false,"hidden":false,"merged":[[14,9,14,10],[15,9,15,10],[17,9,17,10],[18,9,18,10],[2,9,2,10],[3,9,3,10],[4,9,4,10],[5,9,5,10]]}
[]
[]
[null,null,null,null,null,null,null,null,null,"Information about the the Mental Health Intervention Team Grant can be found here:"]
[null,null,null,null,null,null,null,null,null,"Mental Health Intervention Team website"]
[null,null,null,null,null,null,null,null,null,"Program Guide"]
[null,null,null,null,null,null,null,null,null,"Memorandum of Understanding (MOU) sample"]
[]
[null,null,null,null,null,null,null,null,null,"Submission"]
[null,null,null,null,null,null,null,null,null,"File Type:","Excel (do not send PDF)"]
[null,null,null,null,null,null,null,null,null,"Email to:","John Calvert (jcalvert@ksde.org)"]
[null,null,null,null,null,null,null,null,null,"Submit by:",{"$f":"IF(WEEKDAY(DATE(Application!$M$1-1,6,10))=7,DATE(Application!$M$1-1,6,9),IF(WEEKDAY(DATE(Application!$M$1-1,6,10))=1,DATE(Application!$M$1-1,6,11),DATE(Application!$M$1-1,6,10)))","v":"2023-06-09"}]
[]
[null,null,null,null,null,null,null,null,null,"Contacts"]
[null,null,null,null,null,null,null,null,null,"     Program Questions: "]
[null,null,null,null,null,null,null,null,null,"John Calvert (jcalvert@ksde.org)"]
[null,null,null,null,null,null,null,null,null,"(785) 296-7056"]

{"sheet":"Application","index":1,"n_rows":298,"n_cols":14,"rows_kept":298,"cut":false,"hidden":false,"merged":[[8,0,9,0],[8,1,9,3],[32,0,32,1],[33,0,33,1],[10,0,11,3],[32,3,32,9],[26,3,26,9],[20,8,20,9],[21,8,21,9],[29,0,29,9],[30,0,30,3],[31,0,31,3],[30,5,30,9],[31,5,31,9],[20,0,20,4],[21,0,21,4],[11,4,11,9],[15,1,15,9],[16,1,16,9],[18,0,18,9],[13,0,14,0],[13,1,14,1],[17,0,17,9],[4,13,4,14],[2,1,2,9],[0,1,0,9],[33,3,33,9],[13,2,14,9],[12,2,12,9],[19,0,19,9],[7,0,7,9],[25,0,25,3],[24,5,24,9],[25,5,25,9],[26,0,26,1],[27,0,27,1],[27,3,27,9],[10,4,10,9],[23,0,23,9],[38,0,38,1],[38,3,38,9],[39,0,39,1],[39,3,39,9],[4,11,4,12],[35,0,35,9],[36,0,36,3],[36,5,36,9],[37,0,37,3],[37,5,37,9],[8,4,8,8],[9,4,9,8],[4,5,4,9],[4,0,4,4],[24,0,24,3],[28,0,28,2]]}
[null,"Mental Health Intervention Team",null,null,null,null,null,null,null,null,null,null,2024]
[]
[null,{"$f":"M1-1&\"-\"&M1&\" Grant Application\"","v":"2023-2024 Grant Application"}]
[]
[{"$f":"IFERROR(\"USD \"&A13&\" \"&VLOOKUP(A13,'District Data'!$A$3:$B$288,2,FALSE),\"\")","v":""},null,null,null,null,{"$f":"\"Submit by: \"&TEXT(CEILING(DATE(M1-1,6,1)-DAY(DATE(M1-1,6,1))+1-6,7)+13,\"mmmmmmm d, yyyy\")","v":"Submit by: June 9, 2023"},null,null,null,null,null,{"$f":"IF(AND(A9=\"Yes\",OR(A9=\"\",J9=\"\",K11=\"\",A13=\"\",A19=\"\",A21=\"\",G21=\"\",Zip_Code=\"\",A25=\"\",F25=\"\",A27=\"\",D27=\"\",A31=\"\",F31=\"\",A33=\"\",D33=\"\")),\"Please input all\",IF(AND(A9=\"No\",OR(A9=\"\",J9=\"\",A13=\"\",A19=\"\",A21=\"\",G21=\"\",Zip_Code=\"\",A25=\"\",F25=\"\",A27=\"\",D27=\"\",A31=\"\",F31=\"\",A33=\"\",D33=\"\")),\"Please input all\",IF(A9=\"\",\"Please enter all\",\"Edit any\")))","v":"Please enter all"},null,"Aqua cells."]
[]
[]
[{"$f":"IF(A9=\"Yes\",\"Coop Information\",\"District Information\")","v":"District Information"}]
[null,"Will USD be part of a\ncoop with other districts?",null,null,{"$f":"IF(A9=\"\",\"\",IF(A9=\"Yes\",\"Number of USDs participating in Coop\",\"\"))","v":""}]
[null,null,null,null,{"$f":"IF(A9=\"\",\"\",IF(A9=\"Yes\",\"(include fiscal agent district)\",\"\"))","v":""}]
[{"$f":"IF(A9=\"Yes\",\"Only one application should be submitted on behalf of the Coop.  Do not submit application if you are not the Fiscal Agent disrict.\",\"\")","v":""},null,null,null,{"$f":"IF(J9=\"\",\"\",IF(J9>0,\"List USDs participating in Coop in column K\",\"\"))","v":""},null,null,null,null,null,{"$f":"IF(OR(A13=239,A13=271,A13=293,A13=311,A13=332,A13=435),A13,\"\")","v":""},null,{"$f":"IFERROR(VLOOKUP(K11,'District Data'!$A$3:$D$288,4,FALSE),0)","v":0}]
[null,null,null,null,{"$f":"IF(J9=\"\",\"\",IF(J9>0,\"include fiscal agent district; list one 3-digit USD # per row\",\"\"))","v":""},null,null,null,null,null,{"$f":"IF(K11=239,'Prior Year Data'!A3,IF(K11=271,'Prior Year Data'!B3,IF(K11=293,'Prior Year Data'!C2,IF(K11=311,'Prior Year Data'!D3,IF(K11=332,'Prior Year Data'!E3,IF(K11=435,'Prior Year Data'!F2,\"\"))))))","v":""},1,{"$f":"IFERROR(VLOOKUP(K12,'District Data'!$A$3:$D$288,4,FALSE),0)","v":0}]
[null,null,{"$f":"IFERROR(VLOOKUP(A13,'District Data'!$A$3:$B$288,2,FALSE),\"\")","v":""},null,null,null,null,null,null,null,{"$f":"IF(K11=293,'Prior Year Data'!C3,IF(K11=435,'Prior Year Data'!F4,\"\"))","v":""},2,{"$f":"IFERROR(VLOOKUP(K13,'District Data'!$A$3:$D$288,4,FALSE),0)","v":0}]
[{"$f":"IF(A9=\"\",\"USD Number\",IF(A9=\"Yes\",\"USD Number of fiscal agent for Coop\",\"USD Number\"))","v":"USD Number"},null,{"$f":"IF(A9=\"\",\"USD Name\",IF(A9=\"Yes\",\"USD Name of fiscal agent for Coop\",\"USD Name\"))","v":"USD Name"},null,null,null,null,null,null,null,{"$f":"IF(K11=293,'Prior Year Data'!C4,IF(K11=435,'Prior Year Data'!F5,\"\"))","v":""},3,{"$f":"IFERROR(VLOOKUP(K14,'District Data'!$A$3:$D$288,4,FALSE),0)","v":0}]
[null,null,null,null,null,null,null,null,null,null,{"$f":"IF(K11=293,'Prior Year Data'!C5,\"\")","v":""},4,{"$f":"IFERROR(VLOOKUP(K15,'District Data'!$A$3:$D$288,4,FALSE),0)","v":0}]
[{"$f":"IF(A13=\"\",\"\",IF(OR(IFERROR(MATCH(A13,'Prior Year Data'!H2:H38),0)>0,IFERROR(MATCH(A13,'Prior Year Data'!I2:I13),0)>0),\"Yes\",\"No\"))","v":""},{"$f":"IF(A13=\"\",\"\",IF(IFERROR(MATCH($A$13,'Prior Year Data'!$H:$H,0),0)>0,\"District participated in Mental Health Intervention Program as a fiscal agent in \"&M1-2&\"-\"&M1-1,IF(IFERROR(MATCH($A$13,'Prior Year Data'!$I:$I,0),0)>0,\"District participated in Mental Health Intervention Program, but NOT as a fiscal agent in \"&M1-2&\"-\"&M1-1,\"District participated in Mental Health Intervention Program in \"&M1-2&\"-\"&M1-1&\"?\")))","v":""},null,null,null,null,null,null,null,null,{"$f":"IF(K11=293,'Prior Year Data'!C7,\"\")","v":""},5,{"$f":"IFERROR(VLOOKUP(K16,'District Data'!$A$3:$D$288,4,FALSE),0)","v":0}]
[{"$f":"IF(OR(AND(A13=\"\",A9=\"No\"),A9=\"\",AND(A9=\"Yes\",J9=\"\"),AND(A9=\"Yes\",K11=\"\")),\"\",IF(AND(A9=\"Yes\"&A13<>\"\",J9>0,K11<>\"\"),SUM($M$11:$M$296),IF(AND(A9=\"No\",A13<>\"\"),IFERROR(VLOOKUP(A13,'District Data'!$A$3:$D$288,4,FALSE),\"\"))))","v":""},{"$f":"IF(A9=\"\",\"Total Student Headcount of District as of 9-20-\"&M1-2,IF(A9=\"Yes\",\"Total Student Headcount of all Coop Districts as of 9-20-\"&M1-2,\"Total Student Headcount of District as of 9-20-\"&M1-2))","v":"Total Student Headcount of District as of 9-20-2022"},null,null,null,null,null,null,null,null,null,6,{"$f":"IFERROR(VLOOKUP(K17,'District Data'!$A$3:$D$288,4,FALSE),0)","v":0}]
[{"$f":"IF(OR(A9=\"\",A9=\"No\"),\"District headcount (cell A17) will not populate until Coop Question (cells A9:A10) and USD # (cell A13) are entered.\",IF(A9=\"Yes\",\"Coop headcount (cell A17) will not populate until Coop Question (cells A9:A10), USD # (cell A13), # of Districts in Coop (cell J9) and Coop member districts (aqua cells in column K) are entered.\"))","v":"District headcount (cell A17) will not populate until Coop Question (cells A9:A10) and USD # (cell A13) are entered."},null,null,null,null,null,null,null,null,null,null,7,{"$f":"IFERROR(VLOOKUP(K18,'District Data'!$A$3:$D$288,4,FALSE),0)","v":0}]
[null,null,null,null,null,null,null,null,null,null,null,8,{"$f":"IFERROR(VLOOKUP(K19,'District Data'!$A$3:$D$288,4,FALSE),0)","v":0}]
["Mailing Address",null,null,null,null,null,null,null,null,null,null,9,{"$f":"IFERROR(VLOOKUP(K20,'District Data'!$A$3:$D$288,4,FALSE),0)","v":0}]
[null,null,null,null,null,null,null,null,null,null,null,10,{"$f":"IFERROR(VLOOKUP(K21,'District Data'!$A$3:$D$288,4,FALSE),0)","v":0}]
["City",null,null,null,null,null,"State",null,"Zip Code",null,null,11,{"$f":"IFERROR(VLOOKUP(K22,'District Data'!$A$3:$D$288,4,FALSE),0)","v":0}]
[null,null,null,null,null,null,null,null,null,null,null,12,{"$f":"IFERROR(VLOOKUP(K23,'District Data'!$A$3:$D$288,4,FALSE),0)","v":0}]
["Application Contact \nKey point of contact whom can best answer questions in regards to this application.",null,null,null,null,null,null,null,null,null,null,13,{"$f":"IFERROR(VLOOKUP(K24,'District Data'!$A$3:$D$288,4,FALSE),0)","v":0}]
[null,null,null,null,null,null,null,null,null,null,null,14,{"$f":"IFERROR(VLOOKUP(K25,'District Data'!$A$3:$D$288,4,FALSE),0)","v":0}]
["Name",null,null,null,null,"Job Title",null,null,null,null,null,15,{"$f":"IFERROR(VLOOKUP(K26,'District Data'!$A$3:$D$288,4,FALSE),0)","v":0}]
[null,null,null,null,null,null,null,null,null,null,null,16,{"$f":"IFERROR(VLOOKUP(K27,'District Data'!$A$3:$D$288,4,FALSE),0)","v":0}]
["Phone Number",null,null,"Email Address",null,null,null,null,null,null,null,17,{"$f":"IFERROR(VLOOKUP(K28,'District Data'!$A$3:$D$288,4,FALSE),0)","v":0}]
[null,null,null,null,null,null,null,null,null,null,null,18,{"$f":"IFERROR(VLOOKUP(K29,'District Data'!$A$3:$D$288,4,FALSE),0)","v":0}]
["Primary Contact \nKey point of contact whom can best answer questions throughout the grant year.",null,null,null,null,null,null,null,null,null,null,19,{"$f":"IFERROR(VLOOKUP(K30,'District Data'!$A$3:$D$288,4,FALSE),0)","v":0}]
[null,null,null,null,null,null,null,null,null,null,null,20,{"$f":"IFERROR(VLOOKUP(K31,'District Data'!$A$3:$D$288,4,FALSE),0)","v":0}]
["Name",null,null,null,null,"Job Title",null,null,null,null,null,21,{"$f":"IFERROR(VLOOKUP(K32,'District Data'!$A$3:$D$288,4,FALSE),0)","v":0}]
[null,null,null,null,null,null,null,null,null,null,null,22,{"$f":"IFERROR(VLOOKUP(K33,'District Data'!$A$3:$D$288,4,FALSE),0)","v":0}]
["Phone Number",null,null,"Email Address",null,null,null,null,null,null,null,23,{"$f":"IFERROR(VLOOKUP(K34,'District Data'!$A$3:$D$288,4,FALSE),0)","v":0}]
[null,null,null,null,null,null,null,null,null,null,null,24,{"$f":"IFERROR(VLOOKUP(K35,'District Data'!$A$3:$D$288,4,FALSE),0)","v":0}]
["Financial Contact \nKey point of contact that will review the requested needs portion of this application and submit the monthly funding requests throughout the year.",null,null,null,null,null,null,null,null,null,null,19,{"$f":"IFERROR(VLOOKUP(K36,'District Data'!$A$3:$D$288,4,FALSE),0)","v":0}]
[null,null,null,null,null,null,null,null,null,null,null,20,{"$f":"IFERROR(VLOOKUP(K37,'District Data'!$A$3:$D$288,4,FALSE),0)","v":0}]
["Name",null,null,null,null,"Job Title",null,null,null,null,null,21,{"$f":"IFERROR(VLOOKUP(K38,'District Data'!$A$3:$D$288,4,FALSE),0)","v":0}]
[null,null,null,null,null,null,null,null,null,null,null,22,{"$f":"IFERROR(VLOOKUP(K39,'District Data'!$A$3:$D$288,4,FALSE),0)","v":0}]
["Phone Number",null,null,"Email Address",null,null,null,null,null,null,null,23,{"$f":"IFERROR(VLOOKUP(K40,'District Data'!$A$3:$D$288,4,FALSE),0)","v":0}]
[null,null,null,null,null,null,null,null,null,null,null,30,{"$f":"IFERROR(VLOOKUP(K41,'District Data'!$A$3:$D$288,4,FALSE),0)","v":0}]
[null,null,null,null,null,null,null,null,null,null,null,31,{"$f":"IFERROR(VLOOKUP(K42,'District Data'!$A$3:$D$288,4,FALSE),0)","v":0}]
[null,null,null,null,null,null,null,null,null,null,null,32,{"$f":"IFERROR(VLOOKUP(K43,'District Data'!$A$3:$D$288,4,FALSE),0)","v":0}]
[null,null,null,null,null,null,null,null,null,null,null,33,{"$f":"IFERROR(VLOOKUP(K44,'District Data'!$A$3:$D$288,4,FALSE),0)","v":0}]
[null,null,null,null,null,null,null,null,null,null,null,34,{"$f":"IFERROR(VLOOKUP(K45,'District Data'!$A$3:$D$288,4,FALSE),0)","v":0}]
[null,null,null,null,null,null,null,null,null,null,null,35,{"$f":"IFERROR(VLOOKUP(K46,'District Data'!$A$3:$D$288,4,FALSE),0)","v":0}]
[null,null,null,null,null,null,null,null,null,null,null,36,{"$f":"IFERROR(VLOOKUP(K47,'District Data'!$A$3:$D$288,4,FALSE),0)","v":0}]
[null,null,null,null,null,null,null,null,null,null,null,37,{"$f":"IFERROR(VLOOKUP(K48,'District Data'!$A$3:$D$288,4,FALSE),0)","v":0}]
[null,null,null,null,null,null,null,null,null,null,null,38,{"$f":"IFERROR(VLOOKUP(K49,'District Data'!$A$3:$D$288,4,FALSE),0)","v":0}]
[null,null,null,null,null,null,null,null,null,null,null,39,{"$f":"IFERROR(VLOOKUP(K50,'District Data'!$A$3:$D$288,4,FALSE),0)","v":0}]
[null,null,null,null,null,null,null,null,null,null,null,40,{"$f":"IFERROR(VLOOKUP(K51,'District Data'!$A$3:$D$288,4,FALSE),0)","v":0}]
[null,null,null,null,null,null,null,null,null,null,null,41,{"$f":"IFERROR(VLOOKUP(K52,'District Data'!$A$3:$D$288,4,FALSE),0)","v":0}]
[null,null,null,null,null,null,null,null,null,null,null,42,{"$f":"IFERROR(VLOOKUP(K53,'District Data'!$A$3:$D$288,4,FALSE),0)","v":0}]
[null,null,null,null,null,null,null,null,null,null,null,43,{"$f":"IFERROR(VLOOKUP(K54,'District Data'!$A$3:$D$288,4,FALSE),0)","v":0}]
[null,null,null,null,null,null,null,null,null,null,null,44,{"$f":"IFERROR(VLOOKUP(K55,'District Data'!$A$3:$D$288,4,FALSE),0)","v":0}]
[null,null,null,null,null,null,null,null,null,null,null,45,{"$f":"IFERROR(VLOOKUP(K56,'District Data'!$A$3:$D$288,4,FALSE),0)","v":0}]
[null,null,null,null,null,null,null,null,null,null,null,46,{"$f":"IFERROR(VLOOKUP(K57,'District Data'!$A$3:$D$288,4,FALSE),0)","v":0}]
[null,null,null,null,null,null,null,null,null,null,null,47,{"$f":"IFERROR(VLOOKUP(K58,'District Data'!$A$3:$D$288,4,FALSE),0)","v":0}]
[null,null,null,null,null,null,null,null,null,null,null,48,{"$f":"IFERROR(VLOOKUP(K59,'District Data'!$A$3:$D$288,4,FALSE),0)","v":0}]
[null,null,null,null,null,null,null,null,null,null,null,49,{"$f":"IFERROR(VLOOKUP(K60,'District Data'!$A$3:$D$288,4,FALSE),0)","v":0}]
[null,null,null,null,null,null,null,null,null,null,null,50,{"$f":"IFERROR(VLOOKUP(K61,'District Data'!$A$3:$D$288,4,FALSE),0)","v":0}]
[null,null,null,null,null,null,null,null,null,null,null,51,{"$f":"IFERROR(VLOOKUP(K62,'District Data'!$A$3:$D$288,4,FALSE),0)","v":0}]
[null,null,null,null,null,null,null,null,null,null,null,52,{"$f":"IFERROR(VLOOKUP(K63,'District Data'!$A$3:$D$288,4,FALSE),0)","v":0}]
[null,null,null,null,null,null,null,null,null,null,null,53,{"$f":"IFERROR(VLOOKUP(K64,'District Data'!$A$3:$D$288,4,FALSE),0)","v":0}]
[null,null,null,null,null,null,null,null,null,null,null,54,{"$f":"IFERROR(VLOOKUP(K65,'District Data'!$A$3:$D$288,4,FALSE),0)","v":0}]
[null,null,null,null,null,null,null,null,null,null,null,55,{"$f":"IFERROR(VLOOKUP(K66,'District Data'!$A$3:$D$288,4,FALSE),0)","v":0}]
[null,null,null,null,null,null,null,null,null,null,null,56,{"$f":"IFERROR(VLOOKUP(K67,'District Data'!$A$3:$D$288,4,FALSE),0)","v":0}]
[null,null,null,null,null,null,null,null,null,null,null,57,{"$f":"IFERROR(VLOOKUP(K68,'District Data'!$A$3:$D$288,4,FALSE),0)","v":0}]
[null,null,null,null,null,null,null,null,null,null,null,58,{"$f":"IFERROR(VLOOKUP(K69,'District Data'!$A$3:$D$288,4,FALSE),0)","v":0}]
[null,null,null,null,null,null,null,null,null,null,null,59,{"$f":"IFERROR(VLOOKUP(K70,'District Data'!$A$3:$D$288,4,FALSE),0)","v":0}]
[null,null,null,null,null,null,null,null,null,null,null,60,{"$f":"IFERROR(VLOOKUP(K71,'District Data'!$A$3:$D$288,4,FALSE),0)","v":0}]
[null,null,null,null,null,null,null,null,null,null,null,61,{"$f":"IFERROR(VLOOKUP(K72,'District Data'!$A$3:$D$288,4,FALSE),0)","v":0}]
[null,null,null,null,null,null,null,null,null,null,null,62,{"$f":"IFERROR(VLOOKUP(K73,'District Data'!$A$3:$D$288,4,FALSE),0)","v":0}]
[null,null,null,null,null,null,null,null,null,null,null,63,{"$f":"IFERROR(VLOOKUP(K74,'District Data'!$A$3:$D$288,4,FALSE),0)","v":0}]
[null,null,null,null,null,null,null,null,null,null,null,64,{"$f":"IFERROR(VLOOKUP(K75,'District Data'!$A$3:$D$288,4,FALSE),0)","v":0}]
[null,null,null,null,null,null,null,null,null,null,null,65,{"$f":"IFERROR(VLOOKUP(K76,'District Data'!$A$3:$D$288,4,FALSE),0)","v":0}]
[null,null,null,null,null,null,null,null,null,null,null,66,{"$f":"IFERROR(VLOOKUP(K77,'District Data'!$A$3:$D$288,4,FALSE),0)","v":0}]
[null,null,null,null,null,null,null,null,null,null,null,67,{"$f":"IFERROR(VLOOKUP(K78,'District Data'!$A$3:$D$288,4,FALSE),0)","v":0}]
[null,null,null,null,null,null,null,null,null,null,null,68,{"$f":"IFERROR(VLOOKUP(K79,'District Data'!$A$3:$D$288,4,FALSE),0)","v":0}]
[null,null,null,null,null,null,null,null,null,null,null,69,{"$f":"IFERROR(VLOOKUP(K80,'District Data'!$A$3:$D$288,4,FALSE),0)","v":0}]
[null,null,null,null,null,null,null,null,null,null,null,70,{"$f":"IFERROR(VLOOKUP(K81,'District Data'!$A$3:$D$288,4,FALSE),0)","v":0}]
[null,null,null,null,null,null,null,null,null,null,null,71,{"$f":"IFERROR(VLOOKUP(K82,'District Data'!$A$3:$D$288,4,FALSE),0)","v":0}]
[null,null,null,null,null,null,null,null,null,null,null,72,{"$f":"IFERROR(VLOOKUP(K83,'District Data'!$A$3:$D$288,4,FALSE),0)","v":0}]
[null,null,null,null,null,null,null,null,null,null,null,73,{"$f":"IFERROR(VLOOKUP(K84,'District Data'!$A$3:$D$288,4,FALSE),0)","v":0}]
[null,null,null,null,null,null,null,null,null,null,null,74,{"$f":"IFERROR(VLOOKUP(K85,'District Data'!$A$3:$D$288,4,FALSE),0)","v":0}]
[null,null,null,null,null,null,null,null,null,null,null,75,{"$f":"IFERROR(VLOOKUP(K86,'District Data'!$A$3:$D$288,4,FALSE),0)","v":0}]
[null,null,null,null,null,null,null,null,null,null,null,76,{"$f":"IFERROR(VLOOKUP(K87,'District Data'!$A$3:$D$288,4,FALSE),0)","v":0}]
[null,null,null,null,null,null,null,null,null,null,null,77,{"$f":"IFERROR(VLOOKUP(K88,'District Data'!$A$3:$D$288,4,FALSE),0)","v":0}]
[null,null,null,null,null,null,null,null,null,null,null,78,{"$f":"IFERROR(VLOOKUP(K89,'District Data'!$A$3:$D$288,4,FALSE),0)","v":0}]
[null,null,null,null,null,null,null,null,null,null,null,79,{"$f":"IFERROR(VLOOKUP(K90,'District Data'!$A$3:$D$288,4,FALSE),0)","v":0}]
[null,null,null,null,null,null,null,null,null,null,null,80,{"$f":"IFERROR(VLOOKUP(K91,'District Data'!$A$3:$D$288,4,FALSE),0)","v":0}]
[null,null,null,null,null,null,null,null,null,null,null,81,{"$f":"IFERROR(VLOOKUP(K92,'District Data'!$A$3:$D$288,4,FALSE),0)","v":0}]
[null,null,null,null,null,null,null,null,null,null,null,82,{"$f":"IFERROR(VLOOKUP(K93,'District Data'!$A$3:$D$288,4,FALSE),0)","v":0}]
[null,null,null,null,null,null,null,null,null,null,null,83,{"$f":"IFERROR(VLOOKUP(K94,'District Data'!$A$3:$D$288,4,FALSE),0)","v":0}]
[null,null,null,null,null,null,null,null,null,null,null,84,{"$f":"IFERROR(VLOOKUP(K95,'District Data'!$A$3:$D$288,4,FALSE),0)","v":0}]
[null,null,null,null,null,null,null,null,null,null,null,85,{"$f":"IFERROR(VLOOKUP(K96,'District Data'!$A$3:$D$288,4,FALSE),0)","v":0}]
[null,null,null,null,null,null,null,null,null,null,null,86,{"$f":"IFERROR(VLOOKUP(K97,'District Data'!$A$3:$D$288,4,FALSE),0)","v":0}]
[null,null,null,null,null,null,null,null,null,null,null,87,{"$f":"IFERROR(VLOOKUP(K98,'District Data'!$A$3:$D$288,4,FALSE),0)","v":0}]
[null,null,null,null,null,null,null,null,null,null,null,88,{"$f":"IFERROR(VLOOKUP(K99,'District Data'!$A$3:$D$288,4,FALSE),0)","v":0}]
[null,null,null,null,null,null,null,null,null,null,null,89,{"$f":"IFERROR(VLOOKUP(K100,'District Data'!$A$3:$D$288,4,FALSE),0)","v":0}]
[null,null,null,null,null,null,null,null,null,null,null,90,{"$f":"IFERROR(VLOOKUP(K101,'District Data'!$A$3:$D$288,4,FALSE),0)","v":0}]
[null,null,null,null,null,null,null,null,null,null,null,91,{"$f":"IFERROR(VLOOKUP(K102,'District Data'!$A$3:$D$288,4,FALSE),0)","v":0}]
[null,null,null,null,null,null,null,null,null,null,null,92,{"$f":"IFERROR(VLOOKUP(K103,'District Data'!$A$3:$D$288,4,FALSE),0)","v":0}]
[null,null,null,null,null,null,null,null,null,null,null,93,{"$f":"IFERROR(VLOOKUP(K104,'District Data'!$A$3:$D$288,4,FALSE),0)","v":0}]
[null,null,null,null,null,null,null,null,null,null,null,94,{"$f":"IFERROR(VLOOKUP(K105,'District Data'!$A$3:$D$288,4,FALSE),0)","v":0}]
[null,null,null,null,null,null,null,null,null,null,null,95,{"$f":"IFERROR(VLOOKUP(K106,'District Data'!$A$3:$D$288,4,FALSE),0)","v":0}]
[null,null,null,null,null,null,null,null,null,null,null,96,{"$f":"IFERROR(VLOOKUP(K107,'District Data'!$A$3:$D$288,4,FALSE),0)","v":0}]
[null,null,null,null,null,null,null,null,null,null,null,97,{"$f":"IFERROR(VLOOKUP(K108,'District Data'!$A$3:$D$288,4,FALSE),0)","v":0}]
[null,null,null,null,null,null,null,null,null,null,null,98,{"$f":"IFERROR(VLOOKUP(K109,'District Data'!$A$3:$D$288,4,FALSE),0)","v":0}]
[null,null,null,null,null,null,null,null,null,null,null,99,{"$f":"IFERROR(VLOOKUP(K110,'District Data'!$A$3:$D$288,4,FALSE),0)","v":0}]
[null,null,null,null,null,null,null,null,null,null,null,100,{"$f":"IFERROR(VLOOKUP(K111,'District Data'!$A$3:$D$288,4,FALSE),0)","v":0}]
[null,null,null,null,null,null,null,null,null,null,null,101,{"$f":"IFERROR(VLOOKUP(K112,'District Data'!$A$3:$D$288,4,FALSE),0)","v":0}]
[null,null,null,null,null,null,null,null,null,null,null,102,{"$f":"IFERROR(VLOOKUP(K113,'District Data'!$A$3:$D$288,4,FALSE),0)","v":0}]
[null,null,null,null,null,null,null,null,null,null,null,103,{"$f":"IFERROR(VLOOKUP(K114,'District Data'!$A$3:$D$288,4,FALSE),0)","v":0}]
[null,null,null,null,null,null,null,null,null,null,null,104,{"$f":"IFERROR(VLOOKUP(K115,'District Data'!$A$3:$D$288,4,FALSE),0)","v":0}]
[null,null,null,null,null,null,null,null,null,null,null,105,{"$f":"IFERROR(VLOOKUP(K116,'District Data'!$A$3:$D$288,4,FALSE),0)","v":0}]
[null,null,null,null,null,null,null,null,null,null,null,106,{"$f":"IFERROR(VLOOKUP(K117,'District Data'!$A$3:$D$288,4,FALSE),0)","v":0}]
[null,null,null,null,null,null,null,null,null,null,null,107,{"$f":"IFERROR(VLOOKUP(K118,'District Data'!$A$3:$D$288,4,FALSE),0)","v":0}]
[null,null,null,null,null,null,null,null,null,null,null,108,{"$f":"IFERROR(VLOOKUP(K119,'District Data'!$A$3:$D$288,4,FALSE),0)","v":0}]
[null,null,null,null,null,null,null,null,null,null,null,109,{"$f":"IFERROR(VLOOKUP(K120,'District Data'!$A$3:$D$288,4,FALSE),0)","v":0}]
[null,null,null,null,null,null,null,null,null,null,null,110,{"$f":"IFERROR(VLOOKUP(K121,'District Data'!$A$3:$D$288,4,FALSE),0)","v":0}]
[null,null,null,null,null,null,null,null,null,null,null,111,{"$f":"IFERROR(VLOOKUP(K122,'District Data'!$A$3:$D$288,4,FALSE),0)","v":0}]
[null,null,null,null,null,null,null,null,null,null,null,112,{"$f":"IFERROR(VLOOKUP(K123,'District Data'!$A$3:$D$288,4,FALSE),0)","v":0}]
[null,null,null,null,null,null,null,null,null,null,null,113,{"$f":"IFERROR(VLOOKUP(K124,'District Data'!$A$3:$D$288,4,FALSE),0)","v":0}]
[null,null,null,null,null,null,null,null,null,null,null,114,{"$f":"IFERROR(VLOOKUP(K125,'District Data'!$A$3:$D$288,4,FALSE),0)","v":0}]
[null,null,null,null,null,null,null,null,null,null,null,115,{"$f":"IFERROR(VLOOKUP(K126,'District Data'!$A$3:$D$288,4,FALSE),0)","v":0}]
[null,null,null,null,null,null,null,null,null,null,null,116,{"$f":"IFERROR(VLOOKUP(K127,'District Data'!$A$3:$D$288,4,FALSE),0)","v":0}]
[null,null,null,null,null,null,null,null,null,null,null,117,{"$f":"IFERROR(VLOOKUP(K128,'District Data'!$A$3:$D$288,4,FALSE),0)","v":0}]
[null,null,null,null,null,null,null,null,null,null,null,118,{"$f":"IFERROR(VLOOKUP(K129,'District Data'!$A$3:$D$288,4,FALSE),0)","v":0}]
[null,null,null,null,null,null,null,null,null,null,null,119,{"$f":"IFERROR(VLOOKUP(K130,'District Data'!$A$3:$D$288,4,FALSE),0)","v":0}]
[null,null,null,null,null,null,null,null,null,null,null,120,{"$f":"IFERROR(VLOOKUP(K131,'District Data'!$A$3:$D$288,4,FALSE),0)","v":0}]
[null,null,null,null,null,null,null,null,null,null,null,121,{"$f":"IFERROR(VLOOKUP(K132,'District Data'!$A$3:$D$288,4,FALSE),0)","v":0}]
[null,null,null,null,null,null,null,null,null,null,null,122,{"$f":"IFERROR(VLOOKUP(K133,'District Data'!$A$3:$D$288,4,FALSE),0)","v":0}]
[null,null,null,null,null,null,null,null,null,null,null,123,{"$f":"IFERROR(VLOOKUP(K134,'District Data'!$A$3:$D$288,4,FALSE),0)","v":0}]
[null,null,null,null,null,null,null,null,null,null,null,124,{"$f":"IFERROR(VLOOKUP(K135,'District Data'!$A$3:$D$288,4,FALSE),0)","v":0}]
[null,null,null,null,null,null,null,null,null,null,null,125,{"$f":"IFERROR(VLOOKUP(K136,'District Data'!$A$3:$D$288,4,FALSE),0)","v":0}]
[null,null,null,null,null,null,null,null,null,null,null,126,{"$f":"IFERROR(VLOOKUP(K137,'District Data'!$A$3:$D$288,4,FALSE),0)","v":0}]
[null,null,null,null,null,null,null,null,null,null,null,127,{"$f":"IFERROR(VLOOKUP(K138,'District Data'!$A$3:$D$288,4,FALSE),0)","v":0}]
[null,null,null,null,null,null,null,null,null,null,null,128,{"$f":"IFERROR(VLOOKUP(K139,'District Data'!$A$3:$D$288,4,FALSE),0)","v":0}]
[null,null,null,null,null,null,null,null,null,null,null,129,{"$f":"IFERROR(VLOOKUP(K140,'District Data'!$A$3:$D$288,4,FALSE),0)","v":0}]
[null,null,null,null,null,null,null,null,null,null,null,130,{"$f":"IFERROR(VLOOKUP(K141,'District Data'!$A$3:$D$288,4,FALSE),0)","v":0}]
[null,null,null,null,null,null,null,null,null,null,null,131,{"$f":"IFERROR(VLOOKUP(K142,'District Data'!$A$3:$D$288,4,FALSE),0)","v":0}]
[null,null,null,null,null,null,null,null,null,null,null,132,{"$f":"IFERROR(VLOOKUP(K143,'District Data'!$A$3:$D$288,4,FALSE),0)","v":0}]
[null,null,null,null,null,null,null,null,null,null,null,133,{"$f":"IFERROR(VLOOKUP(K144,'District Data'!$A$3:$D$288,4,FALSE),0)","v":0}]
[null,null,null,null,null,null,null,null,null,null,null,134,{"$f":"IFERROR(VLOOKUP(K145,'District Data'!$A$3:$D$288,4,FALSE),0)","v":0}]
[null,null,null,null,null,null,null,null,null,null,null,135,{"$f":"IFERROR(VLOOKUP(K146,'District Data'!$A$3:$D$288,4,FALSE),0)","v":0}]
[null,null,null,null,null,null,null,null,null,null,null,136,{"$f":"IFERROR(VLOOKUP(K147,'District Data'!$A$3:$D$288,4,FALSE),0)","v":0}]
[null,null,null,null,null,null,null,null,null,null,null,137,{"$f":"IFERROR(VLOOKUP(K148,'District Data'!$A$3:$D$288,4,FALSE),0)","v":0}]
[null,null,null,null,null,null,null,null,null,null,null,138,{"$f":"IFERROR(VLOOKUP(K149,'District Data'!$A$3:$D$288,4,FALSE),0)","v":0}]
[null,null,null,null,null,null,null,null,null,null,null,139,{"$f":"IFERROR(VLOOKUP(K150,'District Data'!$A$3:$D$288,4,FALSE),0)","v":0}]
[null,null,null,null,null,null,null,null,null,null,null,140,{"$f":"IFERROR(VLOOKUP(K151,'District Data'!$A$3:$D$288,4,FALSE),0)","v":0}]
[null,null,null,null,null,null,null,null,null,null,null,141,{"$f":"IFERROR(VLOOKUP(K152,'District Data'!$A$3:$D$288,4,FALSE),0)","v":0}]
[null,null,null,null,null,null,null,null,null,null,null,142,{"$f":"IFERROR(VLOOKUP(K153,'District Data'!$A$3:$D$288,4,FALSE),0)","v":0}]
[null,null,null,null,null,null,null,null,null,null,null,143,{"$f":"IFERROR(VLOOKUP(K154,'District Data'!$A$3:$D$288,4,FALSE),0)","v":0}]
[null,null,null,null,null,null,null,null,null,null,null,144,{"$f":"IFERROR(VLOOKUP(K155,'District Data'!$A$3:$D$288,4,FALSE),0)","v":0}]
[null,null,null,null,null,null,null,null,null,null,null,145,{"$f":"IFERROR(VLOOKUP(K156,'District Data'!$A$3:$D$288,4,FALSE),0)","v":0}]
[null,null,null,null,null,null,null,null,null,null,null,146,{"$f":"IFERROR(VLOOKUP(K157,'District Data'!$A$3:$D$288,4,FALSE),0)","v":0}]
[null,null,null,null,null,null,null,null,null,null,null,147,{"$f":"IFERROR(VLOOKUP(K158,'District Data'!$A$3:$D$288,4,FALSE),0)","v":0}]
[null,null,null,null,null,null,null,null,null,null,null,148,{"$f":"IFERROR(VLOOKUP(K159,'District Data'!$A$3:$D$288,4,FALSE),0)","v":0}]
[null,null,null,null,null,null,null,null,null,null,null,149,{"$f":"IFERROR(VLOOKUP(K160,'District Data'!$A$3:$D$288,4,FALSE),0)","v":0}]
[null,null,null,null,null,null,null,null,null,null,null,150,{"$f":"IFERROR(VLOOKUP(K161,'District Data'!$A$3:$D$288,4,FALSE),0)","v":0}]
[null,null,null,null,null,null,null,null,null,null,null,151,{"$f":"IFERROR(VLOOKUP(K162,'District Data'!$A$3:$D$288,4,FALSE),0)","v":0}]
[null,null,null,null,null,null,null,null,null,null,null,152,{"$f":"IFERROR(VLOOKUP(K163,'District Data'!$A$3:$D$288,4,FALSE),0)","v":0}]
[null,null,null,null,null,null,null,null,null,null,null,153,{"$f":"IFERROR(VLOOKUP(K164,'District Data'!$A$3:$D$288,4,FALSE),0)","v":0}]
[null,null,null,null,null,null,null,null,null,null,null,154,{"$f":"IFERROR(VLOOKUP(K165,'District Data'!$A$3:$D$288,4,FALSE),0)","v":0}]
[null,null,null,null,null,null,null,null,null,null,null,155,{"$f":"IFERROR(VLOOKUP(K166,'District Data'!$A$3:$D$288,4,FALSE),0)","v":0}]
[null,null,null,null,null,null,null,null,null,null,null,156,{"$f":"IFERROR(VLOOKUP(K167,'District Data'!$A$3:$D$288,4,FALSE),0)","v":0}]
[null,null,null,null,null,null,null,null,null,null,null,157,{"$f":"IFERROR(VLOOKUP(K168,'District Data'!$A$3:$D$288,4,FALSE),0)","v":0}]
[null,null,null,null,null,null,null,null,null,null,null,158,{"$f":"IFERROR(VLOOKUP(K169,'District Data'!$A$3:$D$288,4,FALSE),0)","v":0}]
[null,null,null,null,null,null,null,null,null,null,null,159,{"$f":"IFERROR(VLOOKUP(K170,'District Data'!$A$3:$D$288,4,FALSE),0)","v":0}]
[null,null,null,null,null,null,null,null,null,null,null,160,{"$f":"IFERROR(VLOOKUP(K171,'District Data'!$A$3:$D$288,4,FALSE),0)","v":0}]
[null,null,null,null,null,null,null,null,null,null,null,161,{"$f":"IFERROR(VLOOKUP(K172,'District Data'!$A$3:$D$288,4,FALSE),0)","v":0}]
[null,null,null,null,null,null,null,null,null,null,null,162,{"$f":"IFERROR(VLOOKUP(K173,'District Data'!$A$3:$D$288,4,FALSE),0)","v":0}]
[null,null,null,null,null,null,null,null,null,null,null,163,{"$f":"IFERROR(VLOOKUP(K174,'District Data'!$A$3:$D$288,4,FALSE),0)","v":0}]
[null,null,null,null,null,null,null,null,null,null,null,164,{"$f":"IFERROR(VLOOKUP(K175,'District Data'!$A$3:$D$288,4,FALSE),0)","v":0}]
[null,null,null,null,null,null,null,null,null,null,null,165,{"$f":"IFERROR(VLOOKUP(K176,'District Data'!$A$3:$D$288,4,FALSE),0)","v":0}]
[null,null,null,null,null,null,null,null,null,null,null,166,{"$f":"IFERROR(VLOOKUP(K177,'District Data'!$A$3:$D$288,4,FALSE),0)","v":0}]
[null,null,null,null,null,null,null,null,null,null,null,167,{"$f":"IFERROR(VLOOKUP(K178,'District Data'!$A$3:$D$288,4,FALSE),0)","v":0}]
[null,null,null,null,null,null,null,null,null,null,null,168,{"$f":"IFERROR(VLOOKUP(K179,'District Data'!$A$3:$D$288,4,FALSE),0)","v":0}]
[null,null,null,null,null,null,null,null,null,null,null,169,{"$f":"IFERROR(VLOOKUP(K180,'District Data'!$A$3:$D$288,4,FALSE),0)","v":0}]
[null,null,null,null,null,null,null,null,null,null,null,170,{"$f":"IFERROR(VLOOKUP(K181,'District Data'!$A$3:$D$288,4,FALSE),0)","v":0}]
[null,null,null,null,null,null,null,null,null,null,null,171,{"$f":"IFERROR(VLOOKUP(K182,'District Data'!$A$3:$D$288,4,FALSE),0)","v":0}]
[null,null,null,null,null,null,null,null,null,null,null,172,{"$f":"IFERROR(VLOOKUP(K183,'District Data'!$A$3:$D$288,4,FALSE),0)","v":0}]
[null,null,null,null,null,null,null,null,null,null,null,173,{"$f":"IFERROR(VLOOKUP(K184,'District Data'!$A$3:$D$288,4,FALSE),0)","v":0}]
[null,null,null,null,null,null,null,null,null,null,null,174,{"$f":"IFERROR(VLOOKUP(K185,'District Data'!$A$3:$D$288,4,FALSE),0)","v":0}]
[null,null,null,null,null,null,null,null,null,null,null,175,{"$f":"IFERROR(VLOOKUP(K186,'District Data'!$A$3:$D$288,4,FALSE),0)","v":0}]
[null,null,null,null,null,null,null,null,null,null,null,176,{"$f":"IFERROR(VLOOKUP(K187,'District Data'!$A$3:$D$288,4,FALSE),0)","v":0}]
[null,null,null,null,null,null,null,null,null,null,null,177,{"$f":"IFERROR(VLOOKUP(K188,'District Data'!$A$3:$D$288,4,FALSE),0)","v":0}]
[null,null,null,null,null,null,null,null,null,null,null,178,{"$f":"IFERROR(VLOOKUP(K189,'District Data'!$A$3:$D$288,4,FALSE),0)","v":0}]
[null,null,null,null,null,null,null,null,null,null,null,179,{"$f":"IFERROR(VLOOKUP(K190,'District Data'!$A$3:$D$288,4,FALSE),0)","v":0}]
[null,null,null,null,null,null,null,null,null,null,null,180,{"$f":"IFERROR(VLOOKUP(K191,'District Data'!$A$3:$D$288,4,FALSE),0)","v":0}]
[null,null,null,null,null,null,null,null,null,null,null,181,{"$f":"IFERROR(VLOOKUP(K192,'District Data'!$A$3:$D$288,4,FALSE),0)","v":0}]
[null,null,null,null,null,null,null,null,null,null,null,182,{"$f":"IFERROR(VLOOKUP(K193,'District Data'!$A$3:$D$288,4,FALSE),0)","v":0}]
[null,null,null,null,null,null,null,null,null,null,null,183,{"$f":"IFERROR(VLOOKUP(K194,'District Data'!$A$3:$D$288,4,FALSE),0)","v":0}]
[null,null,null,null,null,null,null,null,null,null,null,184,{"$f":"IFERROR(VLOOKUP(K195,'District Data'!$A$3:$D$288,4,FALSE),0)","v":0}]
[null,null,null,null,null,null,null,null,null,null,null,185,{"$f":"IFERROR(VLOOKUP(K196,'District Data'!$A$3:$D$288,4,FALSE),0)","v":0}]
[null,null,null,null,null,null,null,null,null,null,null,186,{"$f":"IFERROR(VLOOKUP(K197,'District Data'!$A$3:$D$288,4,FALSE),0)","v":0}]
[null,null,null,null,null,null,null,null,null,null,null,187,{"$f":"IFERROR(VLOOKUP(K198,'District Data'!$A$3:$D$288,4,FALSE),0)","v":0}]
[null,null,null,null,null,null,null,null,null,null,null,188,{"$f":"IFERROR(VLOOKUP(K199,'District Data'!$A$3:$D$288,4,FALSE),0)","v":0}]
[null,null,null,null,null,null,null,null,null,null,null,189,{"$f":"IFERROR(VLOOKUP(K200,'District Data'!$A$3:$D$288,4,FALSE),0)","v":0}]
[null,null,null,null,null,null,null,null,null,null,null,190,{"$f":"IFERROR(VLOOKUP(K201,'District Data'!$A$3:$D$288,4,FALSE),0)","v":0}]
[null,null,null,null,null,null,null,null,null,null,null,191,{"$f":"IFERROR(VLOOKUP(K202,'District Data'!$A$3:$D$288,4,FALSE),0)","v":0}]
[null,null,null,null,null,null,null,null,null,null,null,192,{"$f":"IFERROR(VLOOKUP(K203,'District Data'!$A$3:$D$288,4,FALSE),0)","v":0}]
[null,null,null,null,null,null,null,null,null,null,null,193,{"$f":"IFERROR(VLOOKUP(K204,'District Data'!$A$3:$D$288,4,FALSE),0)","v":0}]
[null,null,null,null,null,null,null,null,null,null,null,194,{"$f":"IFERROR(VLOOKUP(K205,'District Data'!$A$3:$D$288,4,FALSE),0)","v":0}]
[null,null,null,null,null,null,null,null,null,null,null,195,{"$f":"IFERROR(VLOOKUP(K206,'District Data'!$A$3:$D$288,4,FALSE),0)","v":0}]
[null,null,null,null,null,null,null,null,null,null,null,196,{"$f":"IFERROR(VLOOKUP(K207,'District Data'!$A$3:$D$288,4,FALSE),0)","v":0}]
[null,null,null,null,null,null,null,null,null,null,null,197,{"$f":"IFERROR(VLOOKUP(K208,'District Data'!$A$3:$D$288,4,FALSE),0)","v":0}]
[null,null,null,null,null,null,null,null,null,null,null,198,{"$f":"IFERROR(VLOOKUP(K209,'District Data'!$A$3:$D$288,4,FALSE),0)","v":0}]
[null,null,null,null,null,null,null,null,null,null,null,199,{"$f":"IFERROR(VLOOKUP(K210,'District Data'!$A$3:$D$288,4,FALSE),0)","v":0}]
[null,null,null,null,null,null,null,null,null,null,null,200,{"$f":"IFERROR(VLOOKUP(K211,'District Data'!$A$3:$D$288,4,FALSE),0)","v":0}]
[null,null,null,null,null,null,null,null,null,null,null,201,{"$f":"IFERROR(VLOOKUP(K212,'District Data'!$A$3:$D$288,4,FALSE),0)","v":0}]
[null,null,null,null,null,null,null,null,null,null,null,202,{"$f":"IFERROR(VLOOKUP(K213,'District Data'!$A$3:$D$288,4,FALSE),0)","v":0}]
[null,null,null,null,null,null,null,null,null,null,null,203,{"$f":"IFERROR(VLOOKUP(K214,'District Data'!$A$3:$D$288,4,FALSE),0)","v":0}]
[null,null,null,null,null,null,null,null,null,null,null,204,{"$f":"IFERROR(VLOOKUP(K215,'District Data'!$A$3:$D$288,4,FALSE),0)","v":0}]
[null,null,null,null,null,null,null,null,null,null,null,205,{"$f":"IFERROR(VLOOKUP(K216,'District Data'!$A$3:$D$288,4,FALSE),0)","v":0}]
[null,null,null,null,null,null,null,null,null,null,null,206,{"$f":"IFERROR(VLOOKUP(K217,'District Data'!$A$3:$D$288,4,FALSE),0)","v":0}]
[null,null,null,null,null,null,null,null,null,null,null,207,{"$f":"IFERROR(VLOOKUP(K218,'District Data'!$A$3:$D$288,4,FALSE),0)","v":0}]
[null,null,null,null,null,null,null,null,null,null,null,208,{"$f":"IFERROR(VLOOKUP(K219,'District Data'!$A$3:$D$288,4,FALSE),0)","v":0}]
[null,null,null,null,null,null,null,null,null,null,null,209,{"$f":"IFERROR(VLOOKUP(K220,'District Data'!$A$3:$D$288,4,FALSE),0)","v":0}]
[null,null,null,null,null,null,null,null,null,null,null,210,{"$f":"IFERROR(VLOOKUP(K221,'District Data'!$A$3:$D$288,4,FALSE),0)","v":0}]
[null,null,null,null,null,null,null,null,null,null,null,211,{"$f":"IFERROR(VLOOKUP(K222,'District Data'!$A$3:$D$288,4,FALSE),0)","v":0}]
[null,null,null,null,null,null,null,null,null,null,null,212,{"$f":"IFERROR(VLOOKUP(K223,'District Data'!$A$3:$D$288,4,FALSE),0)","v":0}]
[null,null,null,null,null,null,null,null,null,null,null,213,{"$f":"IFERROR(VLOOKUP(K224,'District Data'!$A$3:$D$288,4,FALSE),0)","v":0}]
[null,null,null,null,null,null,null,null,null,null,null,214,{"$f":"IFERROR(VLOOKUP(K225,'District Data'!$A$3:$D$288,4,FALSE),0)","v":0}]
[null,null,null,null,null,null,null,null,null,null,null,215,{"$f":"IFERROR(VLOOKUP(K226,'District Data'!$A$3:$D$288,4,FALSE),0)","v":0}]
[null,null,null,null,null,null,null,null,null,null,null,216,{"$f":"IFERROR(VLOOKUP(K227,'District Data'!$A$3:$D$288,4,FALSE),0)","v":0}]
[null,null,null,null,null,null,null,null,null,null,null,217,{"$f":"IFERROR(VLOOKUP(K228,'District Data'!$A$3:$D$288,4,FALSE),0)","v":0}]
[null,null,null,null,null,null,null,null,null,null,null,218,{"$f":"IFERROR(VLOOKUP(K229,'District Data'!$A$3:$D$288,4,FALSE),0)","v":0}]
[null,null,null,null,null,null,null,null,null,null,null,219,{"$f":"IFERROR(VLOOKUP(K230,'District Data'!$A$3:$D$288,4,FALSE),0)","v":0}]
[null,null,null,null,null,null,null,null,null,null,null,220,{"$f":"IFERROR(VLOOKUP(K231,'District Data'!$A$3:$D$288,4,FALSE),0)","v":0}]
[null,null,null,null,null,null,null,null,null,null,null,221,{"$f":"IFERROR(VLOOKUP(K232,'District Data'!$A$3:$D$288,4,FALSE),0)","v":0}]
[null,null,null,null,null,null,null,null,null,null,null,222,{"$f":"IFERROR(VLOOKUP(K233,'District Data'!$A$3:$D$288,4,FALSE),0)","v":0}]
[null,null,null,null,null,null,null,null,null,null,null,223,{"$f":"IFERROR(VLOOKUP(K234,'District Data'!$A$3:$D$288,4,FALSE),0)","v":0}]
[null,null,null,null,null,null,null,null,null,null,null,224,{"$f":"IFERROR(VLOOKUP(K235,'District Data'!$A$3:$D$288,4,FALSE),0)","v":0}]
[null,null,null,null,null,null,null,null,null,null,null,225,{"$f":"IFERROR(VLOOKUP(K236,'District Data'!$A$3:$D$288,4,FALSE),0)","v":0}]
[null,null,null,null,null,null,null,null,null,null,null,226,{"$f":"IFERROR(VLOOKUP(K237,'District Data'!$A$3:$D$288,4,FALSE),0)","v":0}]
[null,null,null,null,null,null,null,null,null,null,null,227,{"$f":"IFERROR(VLOOKUP(K238,'District Data'!$A$3:$D$288,4,FALSE),0)","v":0}]
[null,null,null,null,null,null,null,null,null,null,null,228,{"$f":"IFERROR(VLOOKUP(K239,'District Data'!$A$3:$D$288,4,FALSE),0)","v":0}]
[null,null,null,null,null,null,null,null,null,null,null,229,{"$f":"IFERROR(VLOOKUP(K240,'District Data'!$A$3:$D$288,4,FALSE),0)","v":0}]
[null,null,null,null,null,null,null,null,null,null,null,230,{"$f":"IFERROR(VLOOKUP(K241,'District Data'!$A$3:$D$288,4,FALSE),0)","v":0}]
[null,null,null,null,null,null,null,null,null,null,null,231,{"$f":"IFERROR(VLOOKUP(K242,'District Data'!$A$3:$D$288,4,FALSE),0)","v":0}]
[null,null,null,null,null,null,null,null,null,null,null,232,{"$f":"IFERROR(VLOOKUP(K243,'District Data'!$A$3:$D$288,4,FALSE),0)","v":0}]
[null,null,null,null,null,null,null,null,null,null,null,233,{"$f":"IFERROR(VLOOKUP(K244,'District Data'!$A$3:$D$288,4,FALSE),0)","v":0}]
[null,null,null,null,null,null,null,null,null,null,null,234,{"$f":"IFERROR(VLOOKUP(K245,'District Data'!$A$3:$D$288,4,FALSE),0)","v":0}]
[null,null,null,null,null,null,null,null,null,null,null,235,{"$f":"IFERROR(VLOOKUP(K246,'District Data'!$A$3:$D$288,4,FALSE),0)","v":0}]
[null,null,null,null,null,null,null,null,null,null,null,236,{"$f":"IFERROR(VLOOKUP(K247,'District Data'!$A$3:$D$288,4,FALSE),0)","v":0}]
[null,null,null,null,null,null,null,null,null,null,null,237,{"$f":"IFERROR(VLOOKUP(K248,'District Data'!$A$3:$D$288,4,FALSE),0)","v":0}]
[null,null,null,null,null,null,null,null,null,null,null,238,{"$f":"IFERROR(VLOOKUP(K249,'District Data'!$A$3:$D$288,4,FALSE),0)","v":0}]
[null,null,null,null,null,null,null,null,null,null,null,239,{"$f":"IFERROR(VLOOKUP(K250,'District Data'!$A$3:$D$288,4,FALSE),0)","v":0}]
[null,null,null,null,null,null,null,null,null,null,null,240,{"$f":"IFERROR(VLOOKUP(K251,'District Data'!$A$3:$D$288,4,FALSE),0)","v":0}]
[null,null,null,null,null,null,null,null,null,null,null,241,{"$f":"IFERROR(VLOOKUP(K252,'District Data'!$A$3:$D$288,4,FALSE),0)","v":0}]
[null,null,null,null,null,null,null,null,null,null,null,242,{"$f":"IFERROR(VLOOKUP(K253,'District Data'!$A$3:$D$288,4,FALSE),0)","v":0}]
[null,null,null,null,null,null,null,null,null,null,null,243,{"$f":"IFERROR(VLOOKUP(K254,'District Data'!$A$3:$D$288,4,FALSE),0)","v":0}]
[null,null,null,null,null,null,null,null,null,null,null,244,{"$f":"IFERROR(VLOOKUP(K255,'District Data'!$A$3:$D$288,4,FALSE),0)","v":0}]
[null,null,null,null,null,null,null,null,null,null,null,245,{"$f":"IFERROR(VLOOKUP(K256,'District Data'!$A$3:$D$288,4,FALSE),0)","v":0}]
[null,null,null,null,null,null,null,null,null,null,null,246,{"$f":"IFERROR(VLOOKUP(K257,'District Data'!$A$3:$D$288,4,FALSE),0)","v":0}]
[null,null,null,null,null,null,null,null,null,null,null,247,{"$f":"IFERROR(VLOOKUP(K258,'District Data'!$A$3:$D$288,4,FALSE),0)","v":0}]
[null,null,null,null,null,null,null,null,null,null,null,248,{"$f":"IFERROR(VLOOKUP(K259,'District Data'!$A$3:$D$288,4,FALSE),0)","v":0}]
[null,null,null,null,null,null,null,null,null,null,null,249,{"$f":"IFERROR(VLOOKUP(K260,'District Data'!$A$3:$D$288,4,FALSE),0)","v":0}]
[null,null,null,null,null,null,null,null,null,null,null,250,{"$f":"IFERROR(VLOOKUP(K261,'District Data'!$A$3:$D$288,4,FALSE),0)","v":0}]
[null,null,null,null,null,null,null,null,null,null,null,251,{"$f":"IFERROR(VLOOKUP(K262,'District Data'!$A$3:$D$288,4,FALSE),0)","v":0}]
[null,null,null,null,null,null,null,null,null,null,null,252,{"$f":"IFERROR(VLOOKUP(K263,'District Data'!$A$3:$D$288,4,FALSE),0)","v":0}]
[null,null,null,null,null,null,null,null,null,null,null,253,{"$f":"IFERROR(VLOOKUP(K264,'District Data'!$A$3:$D$288,4,FALSE),0)","v":0}]
[null,null,null,null,null,null,null,null,null,null,null,254,{"$f":"IFERROR(VLOOKUP(K265,'District Data'!$A$3:$D$288,4,FALSE),0)","v":0}]
[null,null,null,null,null,null,null,null,null,null,null,255,{"$f":"IFERROR(VLOOKUP(K266,'District Data'!$A$3:$D$288,4,FALSE),0)","v":0}]
[null,null,null,null,null,null,null,null,null,null,null,256,{"$f":"IFERROR(VLOOKUP(K267,'District Data'!$A$3:$D$288,4,FALSE),0)","v":0}]
[null,null,null,null,null,null,null,null,null,null,null,257,{"$f":"IFERROR(VLOOKUP(K268,'District Data'!$A$3:$D$288,4,FALSE),0)","v":0}]
[null,null,null,null,null,null,null,null,null,null,null,258,{"$f":"IFERROR(VLOOKUP(K269,'District Data'!$A$3:$D$288,4,FALSE),0)","v":0}]
[null,null,null,null,null,null,null,null,null,null,null,259,{"$f":"IFERROR(VLOOKUP(K270,'District Data'!$A$3:$D$288,4,FALSE),0)","v":0}]
[null,null,null,null,null,null,null,null,null,null,null,260,{"$f":"IFERROR(VLOOKUP(K271,'District Data'!$A$3:$D$288,4,FALSE),0)","v":0}]
[null,null,null,null,null,null,null,null,null,null,null,261,{"$f":"IFERROR(VLOOKUP(K272,'District Data'!$A$3:$D$288,4,FALSE),0)","v":0}]
[null,null,null,null,null,null,null,null,null,null,null,262,{"$f":"IFERROR(VLOOKUP(K273,'District Data'!$A$3:$D$288,4,FALSE),0)","v":0}]
[null,null,null,null,null,null,null,null,null,null,null,263,{"$f":"IFERROR(VLOOKUP(K274,'District Data'!$A$3:$D$288,4,FALSE),0)","v":0}]
[null,null,null,null,null,null,null,null,null,null,null,264,{"$f":"IFERROR(VLOOKUP(K275,'District Data'!$A$3:$D$288,4,FALSE),0)","v":0}]
[null,null,null,null,null,null,null,null,null,null,null,265,{"$f":"IFERROR(VLOOKUP(K276,'District Data'!$A$3:$D$288,4,FALSE),0)","v":0}]
[null,null,null,null,null,null,null,null,null,null,null,266,{"$f":"IFERROR(VLOOKUP(K277,'District Data'!$A$3:$D$288,4,FALSE),0)","v":0}]
[null,null,null,null,null,null,null,null,null,null,null,267,{"$f":"IFERROR(VLOOKUP(K278,'District Data'!$A$3:$D$288,4,FALSE),0)","v":0}]
[null,null,null,null,null,null,null,null,null,null,null,268,{"$f":"IFERROR(VLOOKUP(K279,'District Data'!$A$3:$D$288,4,FALSE),0)","v":0}]
[null,null,null,null,null,null,null,null,null,null,null,269,{"$f":"IFERROR(VLOOKUP(K280,'District Data'!$A$3:$D$288,4,FALSE),0)","v":0}]
[null,null,null,null,null,null,null,null,null,null,null,270,{"$f":"IFERROR(VLOOKUP(K281,'District Data'!$A$3:$D$288,4,FALSE),0)","v":0}]
[null,null,null,null,null,null,null,null,null,null,null,271,{"$f":"IFERROR(VLOOKUP(K282,'District Data'!$A$3:$D$288,4,FALSE),0)","v":0}]
[null,null,null,null,null,null,null,null,null,null,null,272,{"$f":"IFERROR(VLOOKUP(K283,'District Data'!$A$3:$D$288,4,FALSE),0)","v":0}]
[null,null,null,null,null,null,null,null,null,null,null,273,{"$f":"IFERROR(VLOOKUP(K284,'District Data'!$A$3:$D$288,4,FALSE),0)","v":0}]
[null,null,null,null,null,null,null,null,null,null,null,274,{"$f":"IFERROR(VLOOKUP(K285,'District Data'!$A$3:$D$288,4,FALSE),0)","v":0}]
[null,null,null,null,null,null,null,null,null,null,null,275,{"$f":"IFERROR(VLOOKUP(K286,'District Data'!$A$3:$D$288,4,FALSE),0)","v":0}]
[null,null,null,null,null,null,null,null,null,null,null,276,{"$f":"IFERROR(VLOOKUP(K287,'District Data'!$A$3:$D$288,4,FALSE),0)","v":0}]
[null,null,null,null,null,null,null,null,null,null,null,277,{"$f":"IFERROR(VLOOKUP(K288,'District Data'!$A$3:$D$288,4,FALSE),0)","v":0}]
[null,null,null,null,null,null,null,null,null,null,null,278,{"$f":"IFERROR(VLOOKUP(K289,'District Data'!$A$3:$D$288,4,FALSE),0)","v":0}]
[null,null,null,null,null,null,null,null,null,null,null,279,{"$f":"IFERROR(VLOOKUP(K290,'District Data'!$A$3:$D$288,4,FALSE),0)","v":0}]
[null,null,null,null,null,null,null,null,null,null,null,280,{"$f":"IFERROR(VLOOKUP(K291,'District Data'!$A$3:$D$288,4,FALSE),0)","v":0}]
[null,null,null,null,null,null,null,null,null,null,null,281,{"$f":"IFERROR(VLOOKUP(K292,'District Data'!$A$3:$D$288,4,FALSE),0)","v":0}]
[null,null,null,null,null,null,null,null,null,null,null,282,{"$f":"IFERROR(VLOOKUP(K293,'District Data'!$A$3:$D$288,4,FALSE),0)","v":0}]
[null,null,null,null,null,null,null,null,null,null,null,283,{"$f":"IFERROR(VLOOKUP(K294,'District Data'!$A$3:$D$288,4,FALSE),0)","v":0}]
[null,null,null,null,null,null,null,null,null,null,null,284,{"$f":"IFERROR(VLOOKUP(K295,'District Data'!$A$3:$D$288,4,FALSE),0)","v":0}]
[null,null,null,null,null,null,null,null,null,null,null,285,{"$f":"IFERROR(VLOOKUP(K296,'District Data'!$A$3:$D$288,4,FALSE),0)","v":0}]
[null,null,null,null,null,null,null,null,null,null,null,286,{"$f":"IFERROR(VLOOKUP(K297,'District Data'!$A$3:$D$288,4,FALSE),0)","v":0}]
[null,null,null,null,null,null,null,null,null,null,null,287,{"$f":"IFERROR(VLOOKUP(K298,'District Data'!$A$3:$D$288,4,FALSE),0)","v":0}]

{"sheet":"Requested Needs","index":2,"n_rows":44,"n_cols":16,"rows_kept":44,"cut":false,"hidden":false,"merged":[[43,0,43,10],[40,1,40,8],[40,9,40,10],[37,1,37,8],[37,9,37,10],[42,0,42,10],[41,9,41,10],[39,9,39,10],[38,9,38,10],[41,1,41,8],[39,1,39,8],[38,1,38,8],[27,9,29,10],[25,9,25,10],[36,1,36,8],[36,9,36,10],[30,1,30,8],[32,9,32,10],[31,9,31,10],[30,9,30,10],[35,9,35,10],[35,1,35,8],[32,1,32,8],[31,1,31,8],[34,0,34,10],[27,0,29,0],[29,1,29,8],[28,1,28,8],[27,1,27,8],[23,1,23,8],[19,1,19,8],[13,1,13,4],[13,5,13,8],[17,1,17,8],[13,9,13,10],[18,1,18,8],[15,0,17,0],[14,0,14,10],[26,0,26,10],[16,1,16,8],[22,1,22,8],[24,9,24,10],[23,9,23,10],[25,1,25,8],[24,1,24,8],[15,1,15,8],[0,3,0,10],[1,3,1,10],[4,12,4,14],[4,15,4,16],[13,12,13,14],[13,15,13,16],[8,4,8,5],[9,4,9,5],[7,6,7,7],[9,6,9,7],[8,6,8,7],[7,8,7,10],[8,8,8,10],[9,8,9,10],[6,0,6,10],[12,0,12,10],[15,12,23,18],[4,6,4,10],[4,0,4,5],[22,9,22,10],[20,1,20,8],[18,9,19,10],[20,9,20,10],[21,9,21,10],[21,1,21,8],[18,0,19,0],[15,9,17,10],[7,0,7,3],[8,0,8,3],[9,0,9,3],[7,4,7,5],[10,0,10,10]]}
[null,null,null,"Mental Health Intervention Team"]
[null,null,null,{"$f":"Application!$M$1-1&\"-\"&Application!$M$1&\" Grant Application\"","v":"2023-2024 Grant Application"}]
[]
[]
[{"$f":"IFERROR(\"USD \"&Application!$A$13&\" \"&VLOOKUP(Application!$A$13,'District Data'!$A$3:$B$288,2,FALSE),\"\")","v":""},null,null,null,null,null,{"$f":"\"Submit By: \"&TEXT(CEILING(DATE(Application!M1-1,6,1)-DAY(DATE(Application!M1-1,6,1))+1-6,7)+13,\"mmmmmmm d, yyyy\")","v":"Submit By: June 9, 2023"}]
[]
["Requested Needs"]
["School Liaison Request",null,null,null,"Full-Time",null,"Part-Time",null,"Total"]
["School Liaison Headcount",null,null,null,null,null,null,null,{"$f":"E9+G9","v":0}]
["*Full-Time Equivalency (FTE)",null,null,null,{"$f":"E9","v":0},null,null,null,{"$f":"E10+G10","v":0}]
["*Please submit FTE to the nearest tenth (one decimal)"]
[]
["Financial Request"]
[null,"Function\n       Object",null,null,null,null,null,null,null,"Amount Requested ($)",null,null,{"$f":"IF(OR($E$9=\"\",$G$9=\"\",$E$10=\"\",$G$10=\"\",$J$16=\"\",$J$19=\"\",$J$33=\"\"),\"Please input all\",\"Edit any\")","v":"Please input all"},null,null,"Aqua cells."]
["School Liaisons"]
[1,"2100 Student Support Services",null,null,null,null,null,null,null,null,null,null,"Make sure you pro-rate the salary (on line 1) and benefits (on lines 3-5) for liaisons that are part-time based on the liaison portion of their FTE reported on rows 9 & 10 above in the Part-Time column."]
[null,"100* Salary"]
[null,{"$f":"\"*Enter 100% of the school liaisons estimated salary for \"&Application!M1-1&\"-\"&Application!M1&\" (exclude Employee Benefits; enter on lines 3-5)\"","v":"*Enter 100% of the school liaisons estimated salary for 2023-2024 (exclude Employee Benefits; enter on lines 3-5)"}]
[null,"2100 Student Support Services",null,null,null,null,null,null,null,{"$f":"SUM(J21:K23)","v":0}]
[null,"200 Employee Benefits"]
[2,"210 Insurance"]
[3,"220 Social Security"]
[4,"290 Other"]
[5,"School Liaison Total Budget Request",null,null,null,null,null,null,null,{"$f":"SUM(J16:K20)","v":0}]
[6,"School Liaison Local Match (25% of Line 5)",null,null,null,null,null,null,null,{"$f":"J24*0.25","v":0}]
[7,"School Liaison Grant Amount Requested (75% of Line 5)",null,null,null,null,null,null,null,{"$f":"J24*0.75","v":0}]
["Mental Health Provider (MHP)"]
[8,"2100 Student Support Services",null,null,null,null,null,null,null,{"$f":"IF(IFERROR(MATCH(Application!$A$13,'Prior Year Data'!J2:J7,0),0)=0,J24*0.25,IF(AND(J26>J36,J37=J42),MAX(J42,J24*0.25),IF(OR(J26<J36,J24*0.25<J42),MIN(J42,(((J26-J36)/J36)*J37)+J37),J24*0.25)))","v":0}]
[null,"300 Purchased Professional & Technical Services"]
[null,{"$f":"IF(IFERROR(MATCH(Application!$A$13,'Prior Year Data'!J2:J7,0),0)>0,\"See note on page 2 for explanation on how CMHC Grant is calculated for six pilot districts from 2018-2019.\",\"25% of School Liaison Total Budget Request (Line 5)\")","v":"25% of School Liaison Total Budget Request (Line 5)"}]
[9,"Total Grant Amount Requested (Line 8 + Line 9)",null,null,null,null,null,null,null,{"$f":"J26+J28","v":0}]
[10,"Total MHIT Program Budget (Line 6 + Line 9)",null,null,null,null,null,null,null,{"$f":"J24+J28","v":0}]
[9,{"$f":"\"Does USD plan to use ESSER funds if MHIT Grant amount awarded for \"&Application!M1-1&\"-\"&Application!M1&\" does NOT cover Total MHIT Program Budget (line 10)?\"","v":"Does USD plan to use ESSER funds if MHIT Grant amount awarded for 2023-2024 does NOT cover Total MHIT Program Budget (line 10)?"}]
[]
["Prior Years Financial Request"]
[10,{"$f":"Application!M1-2&\"-\"&Application!M1-1&\" MHIT Program State Aid Awarded for School Liaisons\"","v":"2022-2023 MHIT Program State Aid Awarded for School Liaisons"},null,null,null,null,null,null,null,{"$f":"VLOOKUP(Application!A13,'District Data'!$A$3:$G$288,6,FALSE)","v":{"$error":"#N/A"}}]
[11,{"$f":"Application!M1-2&\"-\"&Application!M1-1&\" MHIT Program State Aid Awarded for MHP\"","v":"2022-2023 MHIT Program State Aid Awarded for MHP"},null,null,null,null,null,null,null,{"$f":"VLOOKUP(Application!A13,'District Data'!$A$3:$G$288,7,FALSE)","v":{"$error":"#N/A"}}]
[12,{"$f":"Application!M1-2&\"-\"&Application!M1-1&\" MHIT Program State Aid Awarded\"","v":"2022-2023 MHIT Program State Aid Awarded"},null,null,null,null,null,null,null,{"$f":"IFERROR(VLOOKUP(Application!A13,'District Data'!$A$3:$E$288,5,FALSE),\"\")","v":""}]
[null,null,null,null,null,null,null,null,null,{"$f":"IFERROR(VLOOKUP(Application!A13,'District Data'!$A$3:$I$288,9,FALSE),\"\")","v":""}]
[null,null,null,null,null,null,null,null,null,{"$f":"IFERROR(VLOOKUP(Application!A13,'District Data'!$A$3:$H$288,8,FALSE),\"\")","v":""}]
[null,null,null,null,null,null,null,null,null,{"$f":"IFERROR(J31-J39,\"\")","v":""}]
[13,"2019-2020 MHP Grant Award",null,null,null,null,null,null,null,{"$f":"IFERROR(VLOOKUP(Application!A13,'Prior Year Data'!$J$2:$K$7,2,FALSE),\"\")","v":""}]
["Line 6: Community Mental Health Centers partenered with one of the six pilot districts from 2018-2019 will receive funding as follows:"]
["1.  If districts School Liaison Grant Amount Requested for the current year (line 5) is greater than the prior year School Liaison \n     Grant Amount Awarded (Line 10)\n     AND the prior year CMHC Grant Award (Line 11) is the same as the 2019-2020 CMHC Grant Award (Line 13)\n     THAN district will receive the higher of:\n        §  the 2019-2020 CMHC Grant (Line 13) \n            OR 25% of the School Liaison Grant Amount Requested for current year (Line 5).\n2.  Otherwise, the prior year CMHC grant amount (line 11) will be prorated based on the percent increase or descrease of \n     the prior year School Liaison grant (line 10) from current school year school liaison grant (line 5) and shall NOT exceed \n     the 2019-20 CMHC grant amount (line 13)."]

{"sheet":"Explanation of Services","index":3,"n_rows":34,"n_cols":6,"rows_kept":34,"cut":false,"hidden":false,"merged":[[4,3,4,4],[4,5,4,6],[8,0,8,2],[16,0,16,2],[15,0,15,2],[6,0,6,2],[0,1,0,2],[4,0,4,1],[1,1,1,2],[19,0,19,2],[20,0,20,2],[30,0,30,2],[33,0,33,2],[34,0,34,2],[23,0,23,2],[24,0,24,2],[27,0,27,2],[28,0,28,2],[29,0,29,2]]}
[null,"Mental Health Intervention Team"]
[null,{"$f":"Application!$M$1-1&\"-\"&Application!$M$1&\" Grant Application\"","v":"2023-2024 Grant Application"}]
[]
[]
[{"$f":"IFERROR(\"USD \"&Application!$A$13&\" \"&VLOOKUP(Application!$A$13,'District Data'!$A$3:$B$288,2,FALSE),\"\")","v":""},null,{"$f":"\"Submit By: \"&TEXT(CEILING(DATE(Application!M1-1,6,1)-DAY(DATE(Application!M1-1,6,1))+1-6,7)+13,\"mmmmmmm d, yyyy\")","v":"Submit By: June 9, 2023"},{"$f":"IF(OR(AND(IFERROR(MATCH(Application!$A$13,'Prior Year Data'!H2:H38,0),0)>1,OR(A11=\"\",B11=\"\",C11=\"\")),OR(A11=\"\",B11=\"\",C11=\"\",A17=\"\",A21=\"\",A25=\"\",A31=\"\",A35=\"\"),Application!A13=\"\"),\"Please input all\",\"Edit any\")","v":"Please input all"},null,"Aqua cells."]
[]
["Explanation of Services"]
[]
[{"$f":"\"Please list each of your mental health providers (MHPs) and the amount negotiated for the services they will be providing.  A Memorandum of Understanding (MOU)\"&\" is required for each participating MHP listed within the grant and is to be submitted to KSDE no later than August 31, \"&Application!M1-1&\".\"","v":"Please list each of your mental health providers (MHPs) and the amount negotiated for the services they will be providing.  A Memorandum of Understanding (MOU) is required for each participating MHP listed within the grant and is to be submitted to KSDE no later than August 31, 2023."}]
["Mental Health Provider","Services Provided","Total Amount of Agreement\nbetween USD & CMHC"]
[]
[]
[]
[]
[]
["Detailed explanation from the MHP of their capacity to provide services to the students including case management personnel and clinical therapists, 24/7 crisis management plan, providing services in the school buildings, and other services as designated in the Collaborative Agreement between the USD and MHP."]
[]
[]
[]
["A written summary of the need for the Mental Health Intervention Team program based on, for example, the estimated number of students needing mental health services, suicide/ideations data, and data from the MHP."]
[]
[]
[]
["Describe the collaboration with the MHP of evidence-based mental health assessment, diagnosis, intervention, treatment and recovery through a multi-tiered system of supports and communication plan with the school district for this program."]
[]
[]
[]
["How will the plan establish policies and procedures for all schools, to ensure:"]
["•  Students referred for a mental health screening to the MHP are assessed \n    within 15 business days of referral."]
["•  Mental health services are initiated by the MHP within 15 business days of\n    identification and assessment."]
[]
[]
[]
["Explanation of how the USD is handling duties if an exception is being requested.  New USDs, and current programs that are expanding, must hire new staff or provide information on how the duties of the current staff transitioning to school liaisons will change to meet the duties listed in the School Liaison Duties section of the Program Guide and how their old duties are being absorbed by other district staff members."]

{"sheet":"Attendance Centers","index":4,"n_rows":1356,"n_cols":19,"rows_kept":1356,"cut":false,"hidden":false,"merged":[[5,0,5,5],[6,0,6,5],[0,2,0,5],[1,2,1,5],[4,4,4,5],[4,0,4,3],[1,6,1,8],[1,9,1,10],[1,11,1,13],[6,6,6,8],[6,9,6,10],[6,11,6,13],[4,6,4,8],[4,9,4,10],[4,11,4,12]]}
[null,null,"Mental Health Intervention Team",null,null,null,null,null,null,null,null,null,null,null,null,null,null,null,"$D$5"]
[null,null,{"$f":"Application!$M$1-1&\"-\"&Application!$M$1&\" Grant Application\"","v":"2023-2024 Grant Application"},null,null,null,{"$f":"IF(OR($A$9=\"\",$B$9=\"\",$F$9=\"\"),\"Please input\",\"Edit any\")","v":"Please input"},null,null,"Aqua cells",null,"as applicable."]
[]
[]
[{"$f":"IFERROR(\"USD \"&Application!$A$13&\" \"&VLOOKUP(Application!$A$13,'District Data'!$A$3:$B$288,2,FALSE),\"\")","v":""},null,null,null,{"$f":"\"Submit by: \"&TEXT(CEILING(DATE(Application!M1-1,6,1)-DAY(DATE(Application!M1-1,6,1))+1-6,7)+13,\"mmmmmmm dd, yyyy\")","v":"Submit by: June 09, 2023"}]
["Attendance Centers"]
[{"$f":"IF(Application!A9=\"Yes\",\"List all attendance centers within the USDs in the Coop that will be served by school liaisons during the \"&Application!M1-1&\"-\"&Application!M1&\" school year.\",\"List all attendance centers that will be served by school liaisons during the \"&Application!M1-1&\"-\"&Application!M1&\" school year.\")","v":"List all attendance centers that will be served by school liaisons during the 2023-2024 school year."}]
["USD #","Bldg #","Building Name",{"$f":"\"9/20/\"&Application!M1-2&\" Student Headcount\"","v":"9/20/2022 Student Headcount"},{"$f":"\"9/20/\"&Application!M1-2&\" Free Lunch %\"","v":"9/20/2022 Free Lunch %"},{"$f":"Application!$M$1-2&\"-\"&Application!$M$1-1&\" Foster Care Student Headcount\"","v":"2022-2023 Foster Care Student Headcount"}]
[null,null,{"$f":"IFERROR(VLOOKUP($B9,'Building Data'!$F:$H,3,FALSE),\"\")","v":""},{"$f":"IFERROR(VLOOKUP($B9,'Building Data'!$F:$AA,22,FALSE),\"\")","v":""},{"$f":"IFERROR(VLOOKUP($B9,'Building Data'!$F:$AE,26,FALSE),\"\")","v":""}]
[null,null,{"$f":"IFERROR(VLOOKUP($B10,'Building Data'!$F:$H,3,FALSE),\"\")","v":""},{"$f":"IFERROR(VLOOKUP($B10,'Building Data'!$F:$AA,22,FALSE),\"\")","v":""},{"$f":"IFERROR(VLOOKUP($B10,'Building Data'!$F$4:$AE$2970,26,FALSE),\"\")","v":""}]
[null,null,{"$f":"IFERROR(VLOOKUP($B11,'Building Data'!$F:$H,3,FALSE),\"\")","v":""},{"$f":"IFERROR(VLOOKUP($B11,'Building Data'!$F:$AA,22,FALSE),\"\")","v":""},{"$f":"IFERROR(VLOOKUP($B11,'Building Data'!$F$4:$AE$2970,26,FALSE),\"\")","v":""}]
[null,null,{"$f":"IFERROR(VLOOKUP($B12,'Building Data'!$F:$H,3,FALSE),\"\")","v":""},{"$f":"IFERROR(VLOOKUP($B12,'Building Data'!$F:$AA,22,FALSE),\"\")","v":""},{"$f":"IFERROR(VLOOKUP($B12,'Building Data'!$F$4:$AE$2970,26,FALSE),\"\")","v":""}]
[null,null,{"$f":"IFERROR(VLOOKUP($B13,'Building Data'!$F:$H,3,FALSE),\"\")","v":""},{"$f":"IFERROR(VLOOKUP($B13,'Building Data'!$F:$AA,22,FALSE),\"\")","v":""},{"$f":"IFERROR(VLOOKUP($B13,'Building Data'!$F$4:$AE$2970,26,FALSE),\"\")","v":""}]
[null,null,{"$f":"IFERROR(VLOOKUP($B14,'Building Data'!$F:$H,3,FALSE),\"\")","v":""},{"$f":"IFERROR(VLOOKUP($B14,'Building Data'!$F:$AA,22,FALSE),\"\")","v":""},{"$f":"IFERROR(VLOOKUP($B14,'Building Data'!$F$4:$AE$2970,26,FALSE),\"\")","v":""}]
[null,null,{"$f":"IFERROR(VLOOKUP($B15,'Building Data'!$F:$H,3,FALSE),\"\")","v":""},{"$f":"IFERROR(VLOOKUP($B15,'Building Data'!$F:$AA,22,FALSE),\"\")","v":""},{"$f":"IFERROR(VLOOKUP($B15,'Building Data'!$F$4:$AE$2970,26,FALSE),\"\")","v":""}]
[null,null,{"$f":"IFERROR(VLOOKUP($B16,'Building Data'!$F:$H,3,FALSE),\"\")","v":""},{"$f":"IFERROR(VLOOKUP($B16,'Building Data'!$F:$AA,22,FALSE),\"\")","v":""},{"$f":"IFERROR(VLOOKUP($B16,'Building Data'!$F$4:$AE$2970,26,FALSE),\"\")","v":""}]
[null,null,{"$f":"IFERROR(VLOOKUP($B17,'Building Data'!$F:$H,3,FALSE),\"\")","v":""},{"$f":"IFERROR(VLOOKUP($B17,'Building Data'!$F:$AA,22,FALSE),\"\")","v":""},{"$f":"IFERROR(VLOOKUP($B17,'Building Data'!$F$4:$AE$2970,26,FALSE),\"\")","v":""}]
[null,null,{"$f":"IFERROR(VLOOKUP($B18,'Building Data'!$F:$H,3,FALSE),\"\")","v":""},{"$f":"IFERROR(VLOOKUP($B18,'Building Data'!$F:$AA,22,FALSE),\"\")","v":""},{"$f":"IFERROR(VLOOKUP($B18,'Building Data'!$F$4:$AE$2970,26,FALSE),\"\")","v":""}]
[null,null,{"$f":"IFERROR(VLOOKUP($B19,'Building Data'!$F:$H,3,FALSE),\"\")","v":""},{"$f":"IFERROR(VLOOKUP($B19,'Building Data'!$F:$AA,22,FALSE),\"\")","v":""},{"$f":"IFERROR(VLOOKUP($B19,'Building Data'!$F$4:$AE$2970,26,FALSE),\"\")","v":""}]
[null,null,{"$f":"IFERROR(VLOOKUP($B20,'Building Data'!$F:$H,3,FALSE),\"\")","v":""},{"$f":"IFERROR(VLOOKUP($B20,'Building Data'!$F:$AA,22,FALSE),\"\")","v":""},{"$f":"IFERROR(VLOOKUP($B20,'Building Data'!$F$4:$AE$2970,26,FALSE),\"\")","v":""}]
[null,null,{"$f":"IFERROR(VLOOKUP($B21,'Building Data'!$F:$H,3,FALSE),\"\")","v":""},{"$f":"IFERROR(VLOOKUP($B21,'Building Data'!$F:$AA,22,FALSE),\"\")","v":""},{"$f":"IFERROR(VLOOKUP($B21,'Building Data'!$F$4:$AE$2970,26,FALSE),\"\")","v":""}]
[null,null,{"$f":"IFERROR(VLOOKUP($B22,'Building Data'!$F:$H,3,FALSE),\"\")","v":""},{"$f":"IFERROR(VLOOKUP($B22,'Building Data'!$F:$AA,22,FALSE),\"\")","v":""},{"$f":"IFERROR(VLOOKUP($B22,'Building Data'!$F$4:$AE$2970,26,FALSE),\"\")","v":""}]
[null,null,{"$f":"IFERROR(VLOOKUP($B23,'Building Data'!$F:$H,3,FALSE),\"\")","v":""},{"$f":"IFERROR(VLOOKUP($B23,'Building Data'!$F:$AA,22,FALSE),\"\")","v":""},{"$f":"IFERROR(VLOOKUP($B23,'Building Data'!$F$4:$AE$2970,26,FALSE),\"\")","v":""}]
[null,null,{"$f":"IFERROR(VLOOKUP($B24,'Building Data'!$F:$H,3,FALSE),\"\")","v":""},{"$f":"IFERROR(VLOOKUP($B24,'Building Data'!$F:$AA,22,FALSE),\"\")","v":""},{"$f":"IFERROR(VLOOKUP($B24,'Building Data'!$F$4:$AE$2970,26,FALSE),\"\")","v":""}]
[null,null,{"$f":"IFERROR(VLOOKUP($B25,'Building Data'!$F:$H,3,FALSE),\"\")","v":""},{"$f":"IFERROR(VLOOKUP($B25,'Building Data'!$F:$AA,22,FALSE),\"\")","v":""},{"$f":"IFERROR(VLOOKUP($B25,'Building Data'!$F$4:$AE$2970,26,FALSE),\"\")","v":""}]
[null,null,{"$f":"IFERROR(VLOOKUP($B26,'Building Data'!$F:$H,3,FALSE),\"\")","v":""},{"$f":"IFERROR(VLOOKUP($B26,'Building Data'!$F:$AA,22,FALSE),\"\")","v":""},{"$f":"IFERROR(VLOOKUP($B26,'Building Data'!$F$4:$AE$2970,26,FALSE),\"\")","v":""}]
[null,null,{"$f":"IFERROR(VLOOKUP($B27,'Building Data'!$F:$H,3,FALSE),\"\")","v":""},{"$f":"IFERROR(VLOOKUP($B27,'Building Data'!$F:$AA,22,FALSE),\"\")","v":""},{"$f":"IFERROR(VLOOKUP($B27,'Building Data'!$F$4:$AE$2970,26,FALSE),\"\")","v":""}]
[null,null,{"$f":"IFERROR(VLOOKUP($B28,'Building Data'!$F:$H,3,FALSE),\"\")","v":""},{"$f":"IFERROR(VLOOKUP($B28,'Building Data'!$F:$AA,22,FALSE),\"\")","v":""},{"$f":"IFERROR(VLOOKUP($B28,'Building Data'!$F$4:$AE$2970,26,FALSE),\"\")","v":""}]
[null,null,{"$f":"IFERROR(VLOOKUP($B29,'Building Data'!$F:$H,3,FALSE),\"\")","v":""},{"$f":"IFERROR(VLOOKUP($B29,'Building Data'!$F:$AA,22,FALSE),\"\")","v":""},{"$f":"IFERROR(VLOOKUP($B29,'Building Data'!$F$4:$AE$2970,26,FALSE),\"\")","v":""}]
[null,null,{"$f":"IFERROR(VLOOKUP($B30,'Building Data'!$F:$H,3,FALSE),\"\")","v":""},{"$f":"IFERROR(VLOOKUP($B30,'Building Data'!$F:$AA,22,FALSE),\"\")","v":""},{"$f":"IFERROR(VLOOKUP($B30,'Building Data'!$F$4:$AE$2970,26,FALSE),\"\")","v":""}]
[null,null,{"$f":"IFERROR(VLOOKUP($B31,'Building Data'!$F:$H,3,FALSE),\"\")","v":""},{"$f":"IFERROR(VLOOKUP($B31,'Building Data'!$F:$AA,22,FALSE),\"\")","v":""},{"$f":"IFERROR(VLOOKUP($B31,'Building Data'!$F$4:$AE$2970,26,FALSE),\"\")","v":""}]
[null,null,{"$f":"IFERROR(VLOOKUP($B32,'Building Data'!$F:$H,3,FALSE),\"\")","v":""},{"$f":"IFERROR(VLOOKUP($B32,'Building Data'!$F:$AA,22,FALSE),\"\")","v":""},{"$f":"IFERROR(VLOOKUP($B32,'Building Data'!$F$4:$AE$2970,26,FALSE),\"\")","v":""}]
[null,null,{"$f":"IFERROR(VLOOKUP($B33,'Building Data'!$F:$H,3,FALSE),\"\")","v":""},{"$f":"IFERROR(VLOOKUP($B33,'Building Data'!$F:$AA,22,FALSE),\"\")","v":""},{"$f":"IFERROR(VLOOKUP($B33,'Building Data'!$F$4:$AE$2970,26,FALSE),\"\")","v":""}]
[null,null,{"$f":"IFERROR(VLOOKUP($B34,'Building Data'!$F:$H,3,FALSE),\"\")","v":""},{"$f":"IFERROR(VLOOKUP($B34,'Building Data'!$F:$AA,22,FALSE),\"\")","v":""},{"$f":"IFERROR(VLOOKUP($B34,'Building Data'!$F$4:$AE$2970,26,FALSE),\"\")","v":""}]
[null,null,{"$f":"IFERROR(VLOOKUP($B35,'Building Data'!$F:$H,3,FALSE),\"\")","v":""},{"$f":"IFERROR(VLOOKUP($B35,'Building Data'!$F:$AA,22,FALSE),\"\")","v":""},{"$f":"IFERROR(VLOOKUP($B35,'Building Data'!$F$4:$AE$2970,26,FALSE),\"\")","v":""}]
[null,null,{"$f":"IFERROR(VLOOKUP($B36,'Building Data'!$F:$H,3,FALSE),\"\")","v":""},{"$f":"IFERROR(VLOOKUP($B36,'Building Data'!$F:$AA,22,FALSE),\"\")","v":""},{"$f":"IFERROR(VLOOKUP($B36,'Building Data'!$F$4:$AE$2970,26,FALSE),\"\")","v":""}]
[null,null,{"$f":"IFERROR(VLOOKUP($B37,'Building Data'!$F:$H,3,FALSE),\"\")","v":""},{"$f":"IFERROR(VLOOKUP($B37,'Building Data'!$F:$AA,22,FALSE),\"\")","v":""},{"$f":"IFERROR(VLOOKUP($B37,'Building Data'!$F$4:$AE$2970,26,FALSE),\"\")","v":""}]
[null,null,{"$f":"IFERROR(VLOOKUP($B38,'Building Data'!$F:$H,3,FALSE),\"\")","v":""},{"$f":"IFERROR(VLOOKUP($B38,'Building Data'!$F:$AA,22,FALSE),\"\")","v":""},{"$f":"IFERROR(VLOOKUP($B38,'Building Data'!$F$4:$AE$2970,26,FALSE),\"\")","v":""}]
[null,null,{"$f":"IFERROR(VLOOKUP($B39,'Building Data'!$F:$H,3,FALSE),\"\")","v":""},{"$f":"IFERROR(VLOOKUP($B39,'Building Data'!$F:$AA,22,FALSE),\"\")","v":""},{"$f":"IFERROR(VLOOKUP($B39,'Building Data'!$F$4:$AE$2970,26,FALSE),\"\")","v":""}]
[null,null,{"$f":"IFERROR(VLOOKUP($B40,'Building Data'!$F:$H,3,FALSE),\"\")","v":""},{"$f":"IFERROR(VLOOKUP($B40,'Building Data'!$F:$AA,22,FALSE),\"\")","v":""},{"$f":"IFERROR(VLOOKUP($B40,'Building Data'!$F$4:$AE$2970,26,FALSE),\"\")","v":""}]
[null,null,{"$f":"IFERROR(VLOOKUP($B41,'Building Data'!$F:$H,3,FALSE),\"\")","v":""},{"$f":"IFERROR(VLOOKUP($B41,'Building Data'!$F:$AA,22,FALSE),\"\")","v":""},{"$f":"IFERROR(VLOOKUP($B41,'Building Data'!$F$4:$AE$2970,26,FALSE),\"\")","v":""}]
[null,null,{"$f":"IFERROR(VLOOKUP($B42,'Building Data'!$F:$H,3,FALSE),\"\")","v":""},{"$f":"IFERROR(VLOOKUP($B42,'Building Data'!$F:$AA,22,FALSE),\"\")","v":""},{"$f":"IFERROR(VLOOKUP($B42,'Building Data'!$F$4:$AE$2970,26,FALSE),\"\")","v":""}]
[null,null,{"$f":"IFERROR(VLOOKUP($B43,'Building Data'!$F:$H,3,FALSE),\"\")","v":""},{"$f":"IFERROR(VLOOKUP($B43,'Building Data'!$F:$AA,22,FALSE),\"\")","v":""},{"$f":"IFERROR(VLOOKUP($B43,'Building Data'!$F$4:$AE$2970,26,FALSE),\"\")","v":""}]
[null,null,{"$f":"IFERROR(VLOOKUP($B44,'Building Data'!$F:$H,3,FALSE),\"\")","v":""},{"$f":"IFERROR(VLOOKUP($B44,'Building Data'!$F:$AA,22,FALSE),\"\")","v":""},{"$f":"IFERROR(VLOOKUP($B44,'Building Data'!$F$4:$AE$2970,26,FALSE),\"\")","v":""}]
[null,null,{"$f":"IFERROR(VLOOKUP($B45,'Building Data'!$F:$H,3,FALSE),\"\")","v":""},{"$f":"IFERROR(VLOOKUP($B45,'Building Data'!$F:$AA,22,FALSE),\"\")","v":""},{"$f":"IFERROR(VLOOKUP($B45,'Building Data'!$F$4:$AE$2970,26,FALSE),\"\")","v":""}]
[null,null,{"$f":"IFERROR(VLOOKUP($B46,'Building Data'!$F:$H,3,FALSE),\"\")","v":""},{"$f":"IFERROR(VLOOKUP($B46,'Building Data'!$F:$AA,22,FALSE),\"\")","v":""},{"$f":"IFERROR(VLOOKUP($B46,'Building Data'!$F$4:$AE$2970,26,FALSE),\"\")","v":""}]
[null,null,{"$f":"IFERROR(VLOOKUP($B47,'Building Data'!$F:$H,3,FALSE),\"\")","v":""},{"$f":"IFERROR(VLOOKUP($B47,'Building Data'!$F:$AA,22,FALSE),\"\")","v":""},{"$f":"IFERROR(VLOOKUP($B47,'Building Data'!$F$4:$AE$2970,26,FALSE),\"\")","v":""}]
[null,null,{"$f":"IFERROR(VLOOKUP($B48,'Building Data'!$F:$H,3,FALSE),\"\")","v":""},{"$f":"IFERROR(VLOOKUP($B48,'Building Data'!$F:$AA,22,FALSE),\"\")","v":""},{"$f":"IFERROR(VLOOKUP($B48,'Building Data'!$F$4:$AE$2970,26,FALSE),\"\")","v":""}]
[null,null,{"$f":"IFERROR(VLOOKUP($B49,'Building Data'!$F:$H,3,FALSE),\"\")","v":""},{"$f":"IFERROR(VLOOKUP($B49,'Building Data'!$F:$AA,22,FALSE),\"\")","v":""},{"$f":"IFERROR(VLOOKUP($B49,'Building Data'!$F$4:$AE$2970,26,FALSE),\"\")","v":""}]
[null,null,{"$f":"IFERROR(VLOOKUP($B50,'Building Data'!$F:$H,3,FALSE),\"\")","v":""},{"$f":"IFERROR(VLOOKUP($B50,'Building Data'!$F:$AA,22,FALSE),\"\")","v":""},{"$f":"IFERROR(VLOOKUP($B50,'Building Data'!$F$4:$AE$2970,26,FALSE),\"\")","v":""}]
[null,null,{"$f":"IFERROR(VLOOKUP($B51,'Building Data'!$F:$H,3,FALSE),\"\")","v":""},{"$f":"IFERROR(VLOOKUP($B51,'Building Data'!$F:$AA,22,FALSE),\"\")","v":""},{"$f":"IFERROR(VLOOKUP($B51,'Building Data'!$F$4:$AE$2970,26,FALSE),\"\")","v":""}]
[null,null,{"$f":"IFERROR(VLOOKUP($B52,'Building Data'!$F:$H,3,FALSE),\"\")","v":""},{"$f":"IFERROR(VLOOKUP($B52,'Building Data'!$F:$AA,22,FALSE),\"\")","v":""},{"$f":"IFERROR(VLOOKUP($B52,'Building Data'!$F$4:$AE$2970,26,FALSE),\"\")","v":""}]
[null,null,{"$f":"IFERROR(VLOOKUP($B53,'Building Data'!$F:$H,3,FALSE),\"\")","v":""},{"$f":"IFERROR(VLOOKUP($B53,'Building Data'!$F:$AA,22,FALSE),\"\")","v":""},{"$f":"IFERROR(VLOOKUP($B53,'Building Data'!$F$4:$AE$2970,26,FALSE),\"\")","v":""}]
[null,null,{"$f":"IFERROR(VLOOKUP($B54,'Building Data'!$F:$H,3,FALSE),\"\")","v":""},{"$f":"IFERROR(VLOOKUP($B54,'Building Data'!$F:$AA,22,FALSE),\"\")","v":""},{"$f":"IFERROR(VLOOKUP($B54,'Building Data'!$F$4:$AE$2970,26,FALSE),\"\")","v":""}]
[null,null,{"$f":"IFERROR(VLOOKUP($B55,'Building Data'!$F:$H,3,FALSE),\"\")","v":""},{"$f":"IFERROR(VLOOKUP($B55,'Building Data'!$F:$AA,22,FALSE),\"\")","v":""},{"$f":"IFERROR(VLOOKUP($B55,'Building Data'!$F$4:$AE$2970,26,FALSE),\"\")","v":""}]
[null,null,{"$f":"IFERROR(VLOOKUP($B56,'Building Data'!$F:$H,3,FALSE),\"\")","v":""},{"$f":"IFERROR(VLOOKUP($B56,'Building Data'!$F:$AA,22,FALSE),\"\")","v":""},{"$f":"IFERROR(VLOOKUP($B56,'Building Data'!$F$4:$AE$2970,26,FALSE),\"\")","v":""}]
[null,null,{"$f":"IFERROR(VLOOKUP($B57,'Building Data'!$F:$H,3,FALSE),\"\")","v":""},{"$f":"IFERROR(VLOOKUP($B57,'Building Data'!$F:$AA,22,FALSE),\"\")","v":""},{"$f":"IFERROR(VLOOKUP($B57,'Building Data'!$F$4:$AE$2970,26,FALSE),\"\")","v":""}]
[null,null,{"$f":"IFERROR(VLOOKUP($B58,'Building Data'!$F:$H,3,FALSE),\"\")","v":""},{"$f":"IFERROR(VLOOKUP($B58,'Building Data'!$F:$AA,22,FALSE),\"\")","v":""},{"$f":"IFERROR(VLOOKUP($B58,'Building Data'!$F$4:$AE$2970,26,FALSE),\"\")","v":""}]
[null,null,{"$f":"IFERROR(VLOOKUP($B59,'Building Data'!$F:$H,3,FALSE),\"\")","v":""},{"$f":"IFERROR(VLOOKUP($B59,'Building Data'!$F:$AA,22,FALSE),\"\")","v":""},{"$f":"IFERROR(VLOOKUP($B59,'Building Data'!$F$4:$AE$2970,26,FALSE),\"\")","v":""}]
[null,null,{"$f":"IFERROR(VLOOKUP($B60,'Building Data'!$F:$H,3,FALSE),\"\")","v":""},{"$f":"IFERROR(VLOOKUP($B60,'Building Data'!$F:$AA,22,FALSE),\"\")","v":""},{"$f":"IFERROR(VLOOKUP($B60,'Building Data'!$F$4:$AE$2970,26,FALSE),\"\")","v":""}]
[null,null,{"$f":"IFERROR(VLOOKUP($B61,'Building Data'!$F:$H,3,FALSE),\"\")","v":""},{"$f":"IFERROR(VLOOKUP($B61,'Building Data'!$F:$AA,22,FALSE),\"\")","v":""},{"$f":"IFERROR(VLOOKUP($B61,'Building Data'!$F$4:$AE$2970,26,FALSE),\"\")","v":""}]
[null,null,{"$f":"IFERROR(VLOOKUP($B62,'Building Data'!$F:$H,3,FALSE),\"\")","v":""},{"$f":"IFERROR(VLOOKUP($B62,'Building Data'!$F:$AA,22,FALSE),\"\")","v":""},{"$f":"IFERROR(VLOOKUP($B62,'Building Data'!$F$4:$AE$2970,26,FALSE),\"\")","v":""}]
[null,null,{"$f":"IFERROR(VLOOKUP($B63,'Building Data'!$F:$H,3,FALSE),\"\")","v":""},{"$f":"IFERROR(VLOOKUP($B63,'Building Data'!$F:$AA,22,FALSE),\"\")","v":""},{"$f":"IFERROR(VLOOKUP($B63,'Building Data'!$F$4:$AE$2970,26,FALSE),\"\")","v":""}]
[null,null,{"$f":"IFERROR(VLOOKUP($B64,'Building Data'!$F:$H,3,FALSE),\"\")","v":""},{"$f":"IFERROR(VLOOKUP($B64,'Building Data'!$F:$AA,22,FALSE),\"\")","v":""},{"$f":"IFERROR(VLOOKUP($B64,'Building Data'!$F$4:$AE$2970,26,FALSE),\"\")","v":""}]
[null,null,{"$f":"IFERROR(VLOOKUP($B65,'Building Data'!$F:$H,3,FALSE),\"\")","v":""},{"$f":"IFERROR(VLOOKUP($B65,'Building Data'!$F:$AA,22,FALSE),\"\")","v":""},{"$f":"IFERROR(VLOOKUP($B65,'Building Data'!$F$4:$AE$2970,26,FALSE),\"\")","v":""}]
[null,null,{"$f":"IFERROR(VLOOKUP($B66,'Building Data'!$F:$H,3,FALSE),\"\")","v":""},{"$f":"IFERROR(VLOOKUP($B66,'Building Data'!$F:$AA,22,FALSE),\"\")","v":""},{"$f":"IFERROR(VLOOKUP($B66,'Building Data'!$F$4:$AE$2970,26,FALSE),\"\")","v":""}]
[null,null,{"$f":"IFERROR(VLOOKUP($B67,'Building Data'!$F:$H,3,FALSE),\"\")","v":""},{"$f":"IFERROR(VLOOKUP($B67,'Building Data'!$F:$AA,22,FALSE),\"\")","v":""},{"$f":"IFERROR(VLOOKUP($B67,'Building Data'!$F$4:$AE$2970,26,FALSE),\"\")","v":""}]
[null,null,{"$f":"IFERROR(VLOOKUP($B68,'Building Data'!$F:$H,3,FALSE),\"\")","v":""},{"$f":"IFERROR(VLOOKUP($B68,'Building Data'!$F:$AA,22,FALSE),\"\")","v":""},{"$f":"IFERROR(VLOOKUP($B68,'Building Data'!$F$4:$AE$2970,26,FALSE),\"\")","v":""}]
[null,null,{"$f":"IFERROR(VLOOKUP($B69,'Building Data'!$F:$H,3,FALSE),\"\")","v":""},{"$f":"IFERROR(VLOOKUP($B69,'Building Data'!$F:$AA,22,FALSE),\"\")","v":""},{"$f":"IFERROR(VLOOKUP($B69,'Building Data'!$F$4:$AE$2970,26,FALSE),\"\")","v":""}]
[null,null,{"$f":"IFERROR(VLOOKUP($B70,'Building Data'!$F:$H,3,FALSE),\"\")","v":""},{"$f":"IFERROR(VLOOKUP($B70,'Building Data'!$F:$AA,22,FALSE),\"\")","v":""},{"$f":"IFERROR(VLOOKUP($B70,'Building Data'!$F$4:$AE$2970,26,FALSE),\"\")","v":""}]
[null,null,{"$f":"IFERROR(VLOOKUP($B71,'Building Data'!$F:$H,3,FALSE),\"\")","v":""},{"$f":"IFERROR(VLOOKUP($B71,'Building Data'!$F:$AA,22,FALSE),\"\")","v":""},{"$f":"IFERROR(VLOOKUP($B71,'Building Data'!$F$4:$AE$2970,26,FALSE),\"\")","v":""}]
[null,null,{"$f":"IFERROR(VLOOKUP($B72,'Building Data'!$F:$H,3,FALSE),\"\")","v":""},{"$f":"IFERROR(VLOOKUP($B72,'Building Data'!$F:$AA,22,FALSE),\"\")","v":""},{"$f":"IFERROR(VLOOKUP($B72,'Building Data'!$F$4:$AE$2970,26,FALSE),\"\")","v":""}]
[null,null,{"$f":"IFERROR(VLOOKUP($B73,'Building Data'!$F:$H,3,FALSE),\"\")","v":""},{"$f":"IFERROR(VLOOKUP($B73,'Building Data'!$F:$AA,22,FALSE),\"\")","v":""},{"$f":"IFERROR(VLOOKUP($B73,'Building Data'!$F$4:$AE$2970,26,FALSE),\"\")","v":""}]
[null,null,{"$f":"IFERROR(VLOOKUP($B74,'Building Data'!$F:$H,3,FALSE),\"\")","v":""},{"$f":"IFERROR(VLOOKUP($B74,'Building Data'!$F:$AA,22,FALSE),\"\")","v":""},{"$f":"IFERROR(VLOOKUP($B74,'Building Data'!$F$4:$AE$2970,26,FALSE),\"\")","v":""}]
[null,null,{"$f":"IFERROR(VLOOKUP($B75,'Building Data'!$F:$H,3,FALSE),\"\")","v":""},{"$f":"IFERROR(VLOOKUP($B75,'Building Data'!$F:$AA,22,FALSE),\"\")","v":""},{"$f":"IFERROR(VLOOKUP($B75,'Building Data'!$F$4:$AE$2970,26,FALSE),\"\")","v":""}]
[null,null,{"$f":"IFERROR(VLOOKUP($B76,'Building Data'!$F:$H,3,FALSE),\"\")","v":""},{"$f":"IFERROR(VLOOKUP($B76,'Building Data'!$F:$AA,22,FALSE),\"\")","v":""},{"$f":"IFERROR(VLOOKUP($B76,'Building Data'!$F$4:$AE$2970,26,FALSE),\"\")","v":""}]
[null,null,{"$f":"IFERROR(VLOOKUP($B77,'Building Data'!$F:$H,3,FALSE),\"\")","v":""},{"$f":"IFERROR(VLOOKUP($B77,'Building Data'!$F:$AA,22,FALSE),\"\")","v":""},{"$f":"IFERROR(VLOOKUP($B77,'Building Data'!$F$4:$AE$2970,26,FALSE),\"\")","v":""}]
[null,null,{"$f":"IFERROR(VLOOKUP($B78,'Building Data'!$F:$H,3,FALSE),\"\")","v":""},{"$f":"IFERROR(VLOOKUP($B78,'Building Data'!$F:$AA,22,FALSE),\"\")","v":""},{"$f":"IFERROR(VLOOKUP($B78,'Building Data'!$F$4:$AE$2970,26,FALSE),\"\")","v":""}]
[null,null,{"$f":"IFERROR(VLOOKUP($B79,'Building Data'!$F:$H,3,FALSE),\"\")","v":""},{"$f":"IFERROR(VLOOKUP($B79,'Building Data'!$F:$AA,22,FALSE),\"\")","v":""},{"$f":"IFERROR(VLOOKUP($B79,'Building Data'!$F$4:$AE$2970,26,FALSE),\"\")","v":""}]
[null,null,{"$f":"IFERROR(VLOOKUP($B80,'Building Data'!$F:$H,3,FALSE),\"\")","v":""},{"$f":"IFERROR(VLOOKUP($B80,'Building Data'!$F:$AA,22,FALSE),\"\")","v":""},{"$f":"IFERROR(VLOOKUP($B80,'Building Data'!$F$4:$AE$2970,26,FALSE),\"\")","v":""}]
[null,null,{"$f":"IFERROR(VLOOKUP($B81,'Building Data'!$F:$H,3,FALSE),\"\")","v":""},{"$f":"IFERROR(VLOOKUP($B81,'Building Data'!$F:$AA,22,FALSE),\"\")","v":""},{"$f":"IFERROR(VLOOKUP($B81,'Building Data'!$F$4:$AE$2970,26,FALSE),\"\")","v":""}]
[null,null,{"$f":"IFERROR(VLOOKUP($B82,'Building Data'!$F:$H,3,FALSE),\"\")","v":""},{"$f":"IFERROR(VLOOKUP($B82,'Building Data'!$F:$AA,22,FALSE),\"\")","v":""},{"$f":"IFERROR(VLOOKUP($B82,'Building Data'!$F$4:$AE$2970,26,FALSE),\"\")","v":""}]
[null,null,{"$f":"IFERROR(VLOOKUP($B83,'Building Data'!$F:$H,3,FALSE),\"\")","v":""},{"$f":"IFERROR(VLOOKUP($B83,'Building Data'!$F:$AA,22,FALSE),\"\")","v":""},{"$f":"IFERROR(VLOOKUP($B83,'Building Data'!$F$4:$AE$2970,26,FALSE),\"\")","v":""}]
[null,null,{"$f":"IFERROR(VLOOKUP($B84,'Building Data'!$F:$H,3,FALSE),\"\")","v":""},{"$f":"IFERROR(VLOOKUP($B84,'Building Data'!$F:$AA,22,FALSE),\"\")","v":""},{"$f":"IFERROR(VLOOKUP($B84,'Building Data'!$F$4:$AE$2970,26,FALSE),\"\")","v":""}]
[null,null,{"$f":"IFERROR(VLOOKUP($B85,'Building Data'!$F:$H,3,FALSE),\"\")","v":""},{"$f":"IFERROR(VLOOKUP($B85,'Building Data'!$F:$AA,22,FALSE),\"\")","v":""},{"$f":"IFERROR(VLOOKUP($B85,'Building Data'!$F$4:$AE$2970,26,FALSE),\"\")","v":""}]
[null,null,{"$f":"IFERROR(VLOOKUP($B86,'Building Data'!$F:$H,3,FALSE),\"\")","v":""},{"$f":"IFERROR(VLOOKUP($B86,'Building Data'!$F:$AA,22,FALSE),\"\")","v":""},{"$f":"IFERROR(VLOOKUP($B86,'Building Data'!$F$4:$AE$2970,26,FALSE),\"\")","v":""}]
[null,null,{"$f":"IFERROR(VLOOKUP($B87,'Building Data'!$F:$H,3,FALSE),\"\")","v":""},{"$f":"IFERROR(VLOOKUP($B87,'Building Data'!$F:$AA,22,FALSE),\"\")","v":""},{"$f":"IFERROR(VLOOKUP($B87,'Building Data'!$F$4:$AE$2970,26,FALSE),\"\")","v":""}]
[null,null,{"$f":"IFERROR(VLOOKUP($B88,'Building Data'!$F:$H,3,FALSE),\"\")","v":""},{"$f":"IFERROR(VLOOKUP($B88,'Building Data'!$F:$AA,22,FALSE),\"\")","v":""},{"$f":"IFERROR(VLOOKUP($B88,'Building Data'!$F$4:$AE$2970,26,FALSE),\"\")","v":""}]
[null,null,{"$f":"IFERROR(VLOOKUP($B89,'Building Data'!$F:$H,3,FALSE),\"\")","v":""},{"$f":"IFERROR(VLOOKUP($B89,'Building Data'!$F:$AA,22,FALSE),\"\")","v":""},{"$f":"IFERROR(VLOOKUP($B89,'Building Data'!$F$4:$AE$2970,26,FALSE),\"\")","v":""}]
[null,null,{"$f":"IFERROR(VLOOKUP($B90,'Building Data'!$F:$H,3,FALSE),\"\")","v":""},{"$f":"IFERROR(VLOOKUP($B90,'Building Data'!$F:$AA,22,FALSE),\"\")","v":""},{"$f":"IFERROR(VLOOKUP($B90,'Building Data'!$F$4:$AE$2970,26,FALSE),\"\")","v":""}]
[null,null,{"$f":"IFERROR(VLOOKUP($B91,'Building Data'!$F:$H,3,FALSE),\"\")","v":""},{"$f":"IFERROR(VLOOKUP($B91,'Building Data'!$F:$AA,22,FALSE),\"\")","v":""},{"$f":"IFERROR(VLOOKUP($B91,'Building Data'!$F$4:$AE$2970,26,FALSE),\"\")","v":""}]
[null,null,{"$f":"IFERROR(VLOOKUP($B92,'Building Data'!$F:$H,3,FALSE),\"\")","v":""},{"$f":"IFERROR(VLOOKUP($B92,'Building Data'!$F:$AA,22,FALSE),\"\")","v":""},{"$f":"IFERROR(VLOOKUP($B92,'Building Data'!$F$4:$AE$2970,26,FALSE),\"\")","v":""}]
[null,null,{"$f":"IFERROR(VLOOKUP($B93,'Building Data'!$F:$H,3,FALSE),\"\")","v":""},{"$f":"IFERROR(VLOOKUP($B93,'Building Data'!$F:$AA,22,FALSE),\"\")","v":""},{"$f":"IFERROR(VLOOKUP($B93,'Building Data'!$F$4:$AE$2970,26,FALSE),\"\")","v":""}]
[null,null,{"$f":"IFERROR(VLOOKUP($B94,'Building Data'!$F:$H,3,FALSE),\"\")","v":""},{"$f":"IFERROR(VLOOKUP($B94,'Building Data'!$F:$AA,22,FALSE),\"\")","v":""},{"$f":"IFERROR(VLOOKUP($B94,'Building Data'!$F$4:$AE$2970,26,FALSE),\"\")","v":""}]
[null,null,{"$f":"IFERROR(VLOOKUP($B95,'Building Data'!$F:$H,3,FALSE),\"\")","v":""},{"$f":"IFERROR(VLOOKUP($B95,'Building Data'!$F:$AA,22,FALSE),\"\")","v":""},{"$f":"IFERROR(VLOOKUP($B95,'Building Data'!$F$4:$AE$2970,26,FALSE),\"\")","v":""}]
[null,null,{"$f":"IFERROR(VLOOKUP($B96,'Building Data'!$F:$H,3,FALSE),\"\")","v":""},{"$f":"IFERROR(VLOOKUP($B96,'Building Data'!$F:$AA,22,FALSE),\"\")","v":""},{"$f":"IFERROR(VLOOKUP($B96,'Building Data'!$F$4:$AE$2970,26,FALSE),\"\")","v":""}]
[null,null,{"$f":"IFERROR(VLOOKUP($B97,'Building Data'!$F:$H,3,FALSE),\"\")","v":""},{"$f":"IFERROR(VLOOKUP($B97,'Building Data'!$F:$AA,22,FALSE),\"\")","v":""},{"$f":"IFERROR(VLOOKUP($B97,'Building Data'!$F$4:$AE$2970,26,FALSE),\"\")","v":""}]
[null,null,{"$f":"IFERROR(VLOOKUP($B98,'Building Data'!$F:$H,3,FALSE),\"\")","v":""},{"$f":"IFERROR(VLOOKUP($B98,'Building Data'!$F:$AA,22,FALSE),\"\")","v":""},{"$f":"IFERROR(VLOOKUP($B98,'Building Data'!$F$4:$AE$2970,26,FALSE),\"\")","v":""}]
[null,null,{"$f":"IFERROR(VLOOKUP($B99,'Building Data'!$F:$H,3,FALSE),\"\")","v":""},{"$f":"IFERROR(VLOOKUP($B99,'Building Data'!$F:$AA,22,FALSE),\"\")","v":""},{"$f":"IFERROR(VLOOKUP($B99,'Building Data'!$F$4:$AE$2970,26,FALSE),\"\")","v":""}]
[null,null,{"$f":"IFERROR(VLOOKUP($B100,'Building Data'!$F:$H,3,FALSE),\"\")","v":""},{"$f":"IFERROR(VLOOKUP($B100,'Building Data'!$F:$AA,22,FALSE),\"\")","v":""},{"$f":"IFERROR(VLOOKUP($B100,'Building Data'!$F$4:$AE$2970,26,FALSE),\"\")","v":""}]
[null,null,{"$f":"IFERROR(VLOOKUP($B101,'Building Data'!$F:$H,3,FALSE),\"\")","v":""},{"$f":"IFERROR(VLOOKUP($B101,'Building Data'!$F:$AA,22,FALSE),\"\")","v":""},{"$f":"IFERROR(VLOOKUP($B101,'Building Data'!$F$4:$AE$2970,26,FALSE),\"\")","v":""}]
[null,null,{"$f":"IFERROR(VLOOKUP($B102,'Building Data'!$F:$H,3,FALSE),\"\")","v":""},{"$f":"IFERROR(VLOOKUP($B102,'Building Data'!$F:$AA,22,FALSE),\"\")","v":""},{"$f":"IFERROR(VLOOKUP($B102,'Building Data'!$F$4:$AE$2970,26,FALSE),\"\")","v":""}]
[null,null,{"$f":"IFERROR(VLOOKUP($B103,'Building Data'!$F:$H,3,FALSE),\"\")","v":""},{"$f":"IFERROR(VLOOKUP($B103,'Building Data'!$F:$AA,22,FALSE),\"\")","v":""},{"$f":"IFERROR(VLOOKUP($B103,'Building Data'!$F$4:$AE$2970,26,FALSE),\"\")","v":""}]
[null,null,{"$f":"IFERROR(VLOOKUP($B104,'Building Data'!$F:$H,3,FALSE),\"\")","v":""},{"$f":"IFERROR(VLOOKUP($B104,'Building Data'!$F:$AA,22,FALSE),\"\")","v":""},{"$f":"IFERROR(VLOOKUP($B104,'Building Data'!$F$4:$AE$2970,26,FALSE),\"\")","v":""}]
[null,null,{"$f":"IFERROR(VLOOKUP($B105,'Building Data'!$F:$H,3,FALSE),\"\")","v":""},{"$f":"IFERROR(VLOOKUP($B105,'Building Data'!$F:$AA,22,FALSE),\"\")","v":""},{"$f":"IFERROR(VLOOKUP($B105,'Building Data'!$F$4:$AE$2970,26,FALSE),\"\")","v":""}]
[null,null,{"$f":"IFERROR(VLOOKUP($B106,'Building Data'!$F:$H,3,FALSE),\"\")","v":""},{"$f":"IFERROR(VLOOKUP($B106,'Building Data'!$F:$AA,22,FALSE),\"\")","v":""},{"$f":"IFERROR(VLOOKUP($B106,'Building Data'!$F$4:$AE$2970,26,FALSE),\"\")","v":""}]
[null,null,{"$f":"IFERROR(VLOOKUP($B107,'Building Data'!$F:$H,3,FALSE),\"\")","v":""},{"$f":"IFERROR(VLOOKUP($B107,'Building Data'!$F:$AA,22,FALSE),\"\")","v":""},{"$f":"IFERROR(VLOOKUP($B107,'Building Data'!$F$4:$AE$2970,26,FALSE),\"\")","v":""}]
[null,null,{"$f":"IFERROR(VLOOKUP($B108,'Building Data'!$F:$H,3,FALSE),\"\")","v":""},{"$f":"IFERROR(VLOOKUP($B108,'Building Data'!$F:$AA,22,FALSE),\"\")","v":""},{"$f":"IFERROR(VLOOKUP($B108,'Building Data'!$F$4:$AE$2970,26,FALSE),\"\")","v":""}]
[null,null,{"$f":"IFERROR(VLOOKUP($B109,'Building Data'!$F:$H,3,FALSE),\"\")","v":""},{"$f":"IFERROR(VLOOKUP($B109,'Building Data'!$F:$AA,22,FALSE),\"\")","v":""},{"$f":"IFERROR(VLOOKUP($B109,'Building Data'!$F$4:$AE$2970,26,FALSE),\"\")","v":""}]
[null,null,{"$f":"IFERROR(VLOOKUP($B110,'Building Data'!$F:$H,3,FALSE),\"\")","v":""},{"$f":"IFERROR(VLOOKUP($B110,'Building Data'!$F:$AA,22,FALSE),\"\")","v":""},{"$f":"IFERROR(VLOOKUP($B110,'Building Data'!$F$4:$AE$2970,26,FALSE),\"\")","v":""}]
[null,null,{"$f":"IFERROR(VLOOKUP($B111,'Building Data'!$F:$H,3,FALSE),\"\")","v":""},{"$f":"IFERROR(VLOOKUP($B111,'Building Data'!$F:$AA,22,FALSE),\"\")","v":""},{"$f":"IFERROR(VLOOKUP($B111,'Building Data'!$F$4:$AE$2970,26,FALSE),\"\")","v":""}]
[null,null,{"$f":"IFERROR(VLOOKUP($B112,'Building Data'!$F:$H,3,FALSE),\"\")","v":""},{"$f":"IFERROR(VLOOKUP($B112,'Building Data'!$F:$AA,22,FALSE),\"\")","v":""},{"$f":"IFERROR(VLOOKUP($B112,'Building Data'!$F$4:$AE$2970,26,FALSE),\"\")","v":""}]
[null,null,{"$f":"IFERROR(VLOOKUP($B113,'Building Data'!$F:$H,3,FALSE),\"\")","v":""},{"$f":"IFERROR(VLOOKUP($B113,'Building Data'!$F:$AA,22,FALSE),\"\")","v":""},{"$f":"IFERROR(VLOOKUP($B113,'Building Data'!$F$4:$AE$2970,26,FALSE),\"\")","v":""}]
[null,null,{"$f":"IFERROR(VLOOKUP($B114,'Building Data'!$F:$H,3,FALSE),\"\")","v":""},{"$f":"IFERROR(VLOOKUP($B114,'Building Data'!$F:$AA,22,FALSE),\"\")","v":""},{"$f":"IFERROR(VLOOKUP($B114,'Building Data'!$F$4:$AE$2970,26,FALSE),\"\")","v":""}]
[null,null,{"$f":"IFERROR(VLOOKUP($B115,'Building Data'!$F:$H,3,FALSE),\"\")","v":""},{"$f":"IFERROR(VLOOKUP($B115,'Building Data'!$F:$AA,22,FALSE),\"\")","v":""},{"$f":"IFERROR(VLOOKUP($B115,'Building Data'!$F$4:$AE$2970,26,FALSE),\"\")","v":""}]
[null,null,{"$f":"IFERROR(VLOOKUP($B116,'Building Data'!$F:$H,3,FALSE),\"\")","v":""},{"$f":"IFERROR(VLOOKUP($B116,'Building Data'!$F:$AA,22,FALSE),\"\")","v":""},{"$f":"IFERROR(VLOOKUP($B116,'Building Data'!$F$4:$AE$2970,26,FALSE),\"\")","v":""}]
[null,null,{"$f":"IFERROR(VLOOKUP($B117,'Building Data'!$F:$H,3,FALSE),\"\")","v":""},{"$f":"IFERROR(VLOOKUP($B117,'Building Data'!$F:$AA,22,FALSE),\"\")","v":""},{"$f":"IFERROR(VLOOKUP($B117,'Building Data'!$F$4:$AE$2970,26,FALSE),\"\")","v":""}]
[null,null,{"$f":"IFERROR(VLOOKUP($B118,'Building Data'!$F:$H,3,FALSE),\"\")","v":""},{"$f":"IFERROR(VLOOKUP($B118,'Building Data'!$F:$AA,22,FALSE),\"\")","v":""},{"$f":"IFERROR(VLOOKUP($B118,'Building Data'!$F$4:$AE$2970,26,FALSE),\"\")","v":""}]
[null,null,{"$f":"IFERROR(VLOOKUP($B119,'Building Data'!$F:$H,3,FALSE),\"\")","v":""},{"$f":"IFERROR(VLOOKUP($B119,'Building Data'!$F:$AA,22,FALSE),\"\")","v":""},{"$f":"IFERROR(VLOOKUP($B119,'Building Data'!$F$4:$AE$2970,26,FALSE),\"\")","v":""}]
[null,null,{"$f":"IFERROR(VLOOKUP($B120,'Building Data'!$F:$H,3,FALSE),\"\")","v":""},{"$f":"IFERROR(VLOOKUP($B120,'Building Data'!$F:$AA,22,FALSE),\"\")","v":""},{"$f":"IFERROR(VLOOKUP($B120,'Building Data'!$F$4:$AE$2970,26,FALSE),\"\")","v":""}]
[null,null,{"$f":"IFERROR(VLOOKUP($B121,'Building Data'!$F:$H,3,FALSE),\"\")","v":""},{"$f":"IFERROR(VLOOKUP($B121,'Building Data'!$F:$AA,22,FALSE),\"\")","v":""},{"$f":"IFERROR(VLOOKUP($B121,'Building Data'!$F$4:$AE$2970,26,FALSE),\"\")","v":""}]
[null,null,{"$f":"IFERROR(VLOOKUP($B122,'Building Data'!$F:$H,3,FALSE),\"\")","v":""},{"$f":"IFERROR(VLOOKUP($B122,'Building Data'!$F:$AA,22,FALSE),\"\")","v":""},{"$f":"IFERROR(VLOOKUP($B122,'Building Data'!$F$4:$AE$2970,26,FALSE),\"\")","v":""}]
[null,null,{"$f":"IFERROR(VLOOKUP($B123,'Building Data'!$F:$H,3,FALSE),\"\")","v":""},{"$f":"IFERROR(VLOOKUP($B123,'Building Data'!$F:$AA,22,FALSE),\"\")","v":""},{"$f":"IFERROR(VLOOKUP($B123,'Building Data'!$F$4:$AE$2970,26,FALSE),\"\")","v":""}]
[null,null,{"$f":"IFERROR(VLOOKUP($B124,'Building Data'!$F:$H,3,FALSE),\"\")","v":""},{"$f":"IFERROR(VLOOKUP($B124,'Building Data'!$F:$AA,22,FALSE),\"\")","v":""},{"$f":"IFERROR(VLOOKUP($B124,'Building Data'!$F$4:$AE$2970,26,FALSE),\"\")","v":""}]
[null,null,{"$f":"IFERROR(VLOOKUP($B125,'Building Data'!$F:$H,3,FALSE),\"\")","v":""},{"$f":"IFERROR(VLOOKUP($B125,'Building Data'!$F:$AA,22,FALSE),\"\")","v":""},{"$f":"IFERROR(VLOOKUP($B125,'Building Data'!$F$4:$AE$2970,26,FALSE),\"\")","v":""}]
[null,null,{"$f":"IFERROR(VLOOKUP($B126,'Building Data'!$F:$H,3,FALSE),\"\")","v":""},{"$f":"IFERROR(VLOOKUP($B126,'Building Data'!$F:$AA,22,FALSE),\"\")","v":""},{"$f":"IFERROR(VLOOKUP($B126,'Building Data'!$F$4:$AE$2970,26,FALSE),\"\")","v":""}]
[null,null,{"$f":"IFERROR(VLOOKUP($B127,'Building Data'!$F:$H,3,FALSE),\"\")","v":""},{"$f":"IFERROR(VLOOKUP($B127,'Building Data'!$F:$AA,22,FALSE),\"\")","v":""},{"$f":"IFERROR(VLOOKUP($B127,'Building Data'!$F$4:$AE$2970,26,FALSE),\"\")","v":""}]
[null,null,{"$f":"IFERROR(VLOOKUP($B128,'Building Data'!$F:$H,3,FALSE),\"\")","v":""},{"$f":"IFERROR(VLOOKUP($B128,'Building Data'!$F:$AA,22,FALSE),\"\")","v":""},{"$f":"IFERROR(VLOOKUP($B128,'Building Data'!$F$4:$AE$2970,26,FALSE),\"\")","v":""}]
[null,null,{"$f":"IFERROR(VLOOKUP($B129,'Building Data'!$F:$H,3,FALSE),\"\")","v":""},{"$f":"IFERROR(VLOOKUP($B129,'Building Data'!$F:$AA,22,FALSE),\"\")","v":""},{"$f":"IFERROR(VLOOKUP($B129,'Building Data'!$F$4:$AE$2970,26,FALSE),\"\")","v":""}]
[null,null,{"$f":"IFERROR(VLOOKUP($B130,'Building Data'!$F:$H,3,FALSE),\"\")","v":""},{"$f":"IFERROR(VLOOKUP($B130,'Building Data'!$F:$AA,22,FALSE),\"\")","v":""},{"$f":"IFERROR(VLOOKUP($B130,'Building Data'!$F$4:$AE$2970,26,FALSE),\"\")","v":""}]
[null,null,{"$f":"IFERROR(VLOOKUP($B131,'Building Data'!$F:$H,3,FALSE),\"\")","v":""},{"$f":"IFERROR(VLOOKUP($B131,'Building Data'!$F:$AA,22,FALSE),\"\")","v":""},{"$f":"IFERROR(VLOOKUP($B131,'Building Data'!$F$4:$AE$2970,26,FALSE),\"\")","v":""}]
[null,null,{"$f":"IFERROR(VLOOKUP($B132,'Building Data'!$F:$H,3,FALSE),\"\")","v":""},{"$f":"IFERROR(VLOOKUP($B132,'Building Data'!$F:$AA,22,FALSE),\"\")","v":""},{"$f":"IFERROR(VLOOKUP($B132,'Building Data'!$F$4:$AE$2970,26,FALSE),\"\")","v":""}]
[null,null,{"$f":"IFERROR(VLOOKUP($B133,'Building Data'!$F:$H,3,FALSE),\"\")","v":""},{"$f":"IFERROR(VLOOKUP($B133,'Building Data'!$F:$AA,22,FALSE),\"\")","v":""},{"$f":"IFERROR(VLOOKUP($B133,'Building Data'!$F$4:$AE$2970,26,FALSE),\"\")","v":""}]
[null,null,{"$f":"IFERROR(VLOOKUP($B134,'Building Data'!$F:$H,3,FALSE),\"\")","v":""},{"$f":"IFERROR(VLOOKUP($B134,'Building Data'!$F:$AA,22,FALSE),\"\")","v":""},{"$f":"IFERROR(VLOOKUP($B134,'Building Data'!$F$4:$AE$2970,26,FALSE),\"\")","v":""}]
[null,null,{"$f":"IFERROR(VLOOKUP($B135,'Building Data'!$F:$H,3,FALSE),\"\")","v":""},{"$f":"IFERROR(VLOOKUP($B135,'Building Data'!$F:$AA,22,FALSE),\"\")","v":""},{"$f":"IFERROR(VLOOKUP($B135,'Building Data'!$F$4:$AE$2970,26,FALSE),\"\")","v":""}]
[null,null,{"$f":"IFERROR(VLOOKUP($B136,'Building Data'!$F:$H,3,FALSE),\"\")","v":""},{"$f":"IFERROR(VLOOKUP($B136,'Building Data'!$F:$AA,22,FALSE),\"\")","v":""},{"$f":"IFERROR(VLOOKUP($B136,'Building Data'!$F$4:$AE$2970,26,FALSE),\"\")","v":""}]
[null,null,{"$f":"IFERROR(VLOOKUP($B137,'Building Data'!$F:$H,3,FALSE),\"\")","v":""},{"$f":"IFERROR(VLOOKUP($B137,'Building Data'!$F:$AA,22,FALSE),\"\")","v":""},{"$f":"IFERROR(VLOOKUP($B137,'Building Data'!$F$4:$AE$2970,26,FALSE),\"\")","v":""}]
[null,null,{"$f":"IFERROR(VLOOKUP($B138,'Building Data'!$F:$H,3,FALSE),\"\")","v":""},{"$f":"IFERROR(VLOOKUP($B138,'Building Data'!$F:$AA,22,FALSE),\"\")","v":""},{"$f":"IFERROR(VLOOKUP($B138,'Building Data'!$F$4:$AE$2970,26,FALSE),\"\")","v":""}]
[null,null,{"$f":"IFERROR(VLOOKUP($B139,'Building Data'!$F:$H,3,FALSE),\"\")","v":""},{"$f":"IFERROR(VLOOKUP($B139,'Building Data'!$F:$AA,22,FALSE),\"\")","v":""},{"$f":"IFERROR(VLOOKUP($B139,'Building Data'!$F$4:$AE$2970,26,FALSE),\"\")","v":""}]
[null,null,{"$f":"IFERROR(VLOOKUP($B140,'Building Data'!$F:$H,3,FALSE),\"\")","v":""},{"$f":"IFERROR(VLOOKUP($B140,'Building Data'!$F:$AA,22,FALSE),\"\")","v":""},{"$f":"IFERROR(VLOOKUP($B140,'Building Data'!$F$4:$AE$2970,26,FALSE),\"\")","v":""}]
[null,null,{"$f":"IFERROR(VLOOKUP($B141,'Building Data'!$F:$H,3,FALSE),\"\")","v":""},{"$f":"IFERROR(VLOOKUP($B141,'Building Data'!$F:$AA,22,FALSE),\"\")","v":""},{"$f":"IFERROR(VLOOKUP($B141,'Building Data'!$F$4:$AE$2970,26,FALSE),\"\")","v":""}]
[null,null,{"$f":"IFERROR(VLOOKUP($B142,'Building Data'!$F:$H,3,FALSE),\"\")","v":""},{"$f":"IFERROR(VLOOKUP($B142,'Building Data'!$F:$AA,22,FALSE),\"\")","v":""},{"$f":"IFERROR(VLOOKUP($B142,'Building Data'!$F$4:$AE$2970,26,FALSE),\"\")","v":""}]
[null,null,{"$f":"IFERROR(VLOOKUP($B143,'Building Data'!$F:$H,3,FALSE),\"\")","v":""},{"$f":"IFERROR(VLOOKUP($B143,'Building Data'!$F:$AA,22,FALSE),\"\")","v":""},{"$f":"IFERROR(VLOOKUP($B143,'Building Data'!$F$4:$AE$2970,26,FALSE),\"\")","v":""}]
[null,null,{"$f":"IFERROR(VLOOKUP($B144,'Building Data'!$F:$H,3,FALSE),\"\")","v":""},{"$f":"IFERROR(VLOOKUP($B144,'Building Data'!$F:$AA,22,FALSE),\"\")","v":""},{"$f":"IFERROR(VLOOKUP($B144,'Building Data'!$F$4:$AE$2970,26,FALSE),\"\")","v":""}]
[null,null,{"$f":"IFERROR(VLOOKUP($B145,'Building Data'!$F:$H,3,FALSE),\"\")","v":""},{"$f":"IFERROR(VLOOKUP($B145,'Building Data'!$F:$AA,22,FALSE),\"\")","v":""},{"$f":"IFERROR(VLOOKUP($B145,'Building Data'!$F$4:$AE$2970,26,FALSE),\"\")","v":""}]
[null,null,{"$f":"IFERROR(VLOOKUP($B146,'Building Data'!$F:$H,3,FALSE),\"\")","v":""},{"$f":"IFERROR(VLOOKUP($B146,'Building Data'!$F:$AA,22,FALSE),\"\")","v":""},{"$f":"IFERROR(VLOOKUP($B146,'Building Data'!$F$4:$AE$2970,26,FALSE),\"\")","v":""}]
[null,null,{"$f":"IFERROR(VLOOKUP($B147,'Building Data'!$F:$H,3,FALSE),\"\")","v":""},{"$f":"IFERROR(VLOOKUP($B147,'Building Data'!$F:$AA,22,FALSE),\"\")","v":""},{"$f":"IFERROR(VLOOKUP($B147,'Building Data'!$F$4:$AE$2970,26,FALSE),\"\")","v":""}]
[null,null,{"$f":"IFERROR(VLOOKUP($B148,'Building Data'!$F:$H,3,FALSE),\"\")","v":""},{"$f":"IFERROR(VLOOKUP($B148,'Building Data'!$F:$AA,22,FALSE),\"\")","v":""},{"$f":"IFERROR(VLOOKUP($B148,'Building Data'!$F$4:$AE$2970,26,FALSE),\"\")","v":""}]
[null,null,{"$f":"IFERROR(VLOOKUP($B149,'Building Data'!$F:$H,3,FALSE),\"\")","v":""},{"$f":"IFERROR(VLOOKUP($B149,'Building Data'!$F:$AA,22,FALSE),\"\")","v":""},{"$f":"IFERROR(VLOOKUP($B149,'Building Data'!$F$4:$AE$2970,26,FALSE),\"\")","v":""}]
[null,null,{"$f":"IFERROR(VLOOKUP($B150,'Building Data'!$F:$H,3,FALSE),\"\")","v":""},{"$f":"IFERROR(VLOOKUP($B150,'Building Data'!$F:$AA,22,FALSE),\"\")","v":""},{"$f":"IFERROR(VLOOKUP($B150,'Building Data'!$F$4:$AE$2970,26,FALSE),\"\")","v":""}]
[null,null,{"$f":"IFERROR(VLOOKUP($B151,'Building Data'!$F:$H,3,FALSE),\"\")","v":""},{"$f":"IFERROR(VLOOKUP($B151,'Building Data'!$F:$AA,22,FALSE),\"\")","v":""},{"$f":"IFERROR(VLOOKUP($B151,'Building Data'!$F$4:$AE$2970,26,FALSE),\"\")","v":""}]
[null,null,{"$f":"IFERROR(VLOOKUP($B152,'Building Data'!$F:$H,3,FALSE),\"\")","v":""},{"$f":"IFERROR(VLOOKUP($B152,'Building Data'!$F:$AA,22,FALSE),\"\")","v":""},{"$f":"IFERROR(VLOOKUP($B152,'Building Data'!$F$4:$AE$2970,26,FALSE),\"\")","v":""}]
[null,null,{"$f":"IFERROR(VLOOKUP($B153,'Building Data'!$F:$H,3,FALSE),\"\")","v":""},{"$f":"IFERROR(VLOOKUP($B153,'Building Data'!$F:$AA,22,FALSE),\"\")","v":""},{"$f":"IFERROR(VLOOKUP($B153,'Building Data'!$F$4:$AE$2970,26,FALSE),\"\")","v":""}]
[null,null,{"$f":"IFERROR(VLOOKUP($B154,'Building Data'!$F:$H,3,FALSE),\"\")","v":""},{"$f":"IFERROR(VLOOKUP($B154,'Building Data'!$F:$AA,22,FALSE),\"\")","v":""},{"$f":"IFERROR(VLOOKUP($B154,'Building Data'!$F$4:$AE$2970,26,FALSE),\"\")","v":""}]
[null,null,{"$f":"IFERROR(VLOOKUP($B155,'Building Data'!$F:$H,3,FALSE),\"\")","v":""},{"$f":"IFERROR(VLOOKUP($B155,'Building Data'!$F:$AA,22,FALSE),\"\")","v":""},{"$f":"IFERROR(VLOOKUP($B155,'Building Data'!$F$4:$AE$2970,26,FALSE),\"\")","v":""}]
[null,null,{"$f":"IFERROR(VLOOKUP($B156,'Building Data'!$F:$H,3,FALSE),\"\")","v":""},{"$f":"IFERROR(VLOOKUP($B156,'Building Data'!$F:$AA,22,FALSE),\"\")","v":""},{"$f":"IFERROR(VLOOKUP($B156,'Building Data'!$F$4:$AE$2970,26,FALSE),\"\")","v":""}]
[null,null,{"$f":"IFERROR(VLOOKUP($B157,'Building Data'!$F:$H,3,FALSE),\"\")","v":""},{"$f":"IFERROR(VLOOKUP($B157,'Building Data'!$F:$AA,22,FALSE),\"\")","v":""},{"$f":"IFERROR(VLOOKUP($B157,'Building Data'!$F$4:$AE$2970,26,FALSE),\"\")","v":""}]
[null,null,{"$f":"IFERROR(VLOOKUP($B158,'Building Data'!$F:$H,3,FALSE),\"\")","v":""},{"$f":"IFERROR(VLOOKUP($B158,'Building Data'!$F:$AA,22,FALSE),\"\")","v":""},{"$f":"IFERROR(VLOOKUP($B158,'Building Data'!$F$4:$AE$2970,26,FALSE),\"\")","v":""}]
[null,null,{"$f":"IFERROR(VLOOKUP($B159,'Building Data'!$F:$H,3,FALSE),\"\")","v":""},{"$f":"IFERROR(VLOOKUP($B159,'Building Data'!$F:$AA,22,FALSE),\"\")","v":""},{"$f":"IFERROR(VLOOKUP($B159,'Building Data'!$F$4:$AE$2970,26,FALSE),\"\")","v":""}]
[null,null,{"$f":"IFERROR(VLOOKUP($B160,'Building Data'!$F:$H,3,FALSE),\"\")","v":""},{"$f":"IFERROR(VLOOKUP($B160,'Building Data'!$F:$AA,22,FALSE),\"\")","v":""},{"$f":"IFERROR(VLOOKUP($B160,'Building Data'!$F$4:$AE$2970,26,FALSE),\"\")","v":""}]
[null,null,{"$f":"IFERROR(VLOOKUP($B161,'Building Data'!$F:$H,3,FALSE),\"\")","v":""},{"$f":"IFERROR(VLOOKUP($B161,'Building Data'!$F:$AA,22,FALSE),\"\")","v":""},{"$f":"IFERROR(VLOOKUP($B161,'Building Data'!$F$4:$AE$2970,26,FALSE),\"\")","v":""}]
[null,null,{"$f":"IFERROR(VLOOKUP($B162,'Building Data'!$F:$H,3,FALSE),\"\")","v":""},{"$f":"IFERROR(VLOOKUP($B162,'Building Data'!$F:$AA,22,FALSE),\"\")","v":""},{"$f":"IFERROR(VLOOKUP($B162,'Building Data'!$F$4:$AE$2970,26,FALSE),\"\")","v":""}]
[null,null,{"$f":"IFERROR(VLOOKUP($B163,'Building Data'!$F:$H,3,FALSE),\"\")","v":""},{"$f":"IFERROR(VLOOKUP($B163,'Building Data'!$F:$AA,22,FALSE),\"\")","v":""},{"$f":"IFERROR(VLOOKUP($B163,'Building Data'!$F$4:$AE$2970,26,FALSE),\"\")","v":""}]
[null,null,{"$f":"IFERROR(VLOOKUP($B164,'Building Data'!$F:$H,3,FALSE),\"\")","v":""},{"$f":"IFERROR(VLOOKUP($B164,'Building Data'!$F:$AA,22,FALSE),\"\")","v":""},{"$f":"IFERROR(VLOOKUP($B164,'Building Data'!$F$4:$AE$2970,26,FALSE),\"\")","v":""}]
[null,null,{"$f":"IFERROR(VLOOKUP($B165,'Building Data'!$F:$H,3,FALSE),\"\")","v":""},{"$f":"IFERROR(VLOOKUP($B165,'Building Data'!$F:$AA,22,FALSE),\"\")","v":""},{"$f":"IFERROR(VLOOKUP($B165,'Building Data'!$F$4:$AE$2970,26,FALSE),\"\")","v":""}]
[null,null,{"$f":"IFERROR(VLOOKUP($B166,'Building Data'!$F:$H,3,FALSE),\"\")","v":""},{"$f":"IFERROR(VLOOKUP($B166,'Building Data'!$F:$AA,22,FALSE),\"\")","v":""},{"$f":"IFERROR(VLOOKUP($B166,'Building Data'!$F$4:$AE$2970,26,FALSE),\"\")","v":""}]
[null,null,{"$f":"IFERROR(VLOOKUP($B167,'Building Data'!$F:$H,3,FALSE),\"\")","v":""},{"$f":"IFERROR(VLOOKUP($B167,'Building Data'!$F:$AA,22,FALSE),\"\")","v":""},{"$f":"IFERROR(VLOOKUP($B167,'Building Data'!$F$4:$AE$2970,26,FALSE),\"\")","v":""}]
[null,null,{"$f":"IFERROR(VLOOKUP($B168,'Building Data'!$F:$H,3,FALSE),\"\")","v":""},{"$f":"IFERROR(VLOOKUP($B168,'Building Data'!$F:$AA,22,FALSE),\"\")","v":""},{"$f":"IFERROR(VLOOKUP($B168,'Building Data'!$F$4:$AE$2970,26,FALSE),\"\")","v":""}]
[null,null,{"$f":"IFERROR(VLOOKUP($B169,'Building Data'!$F:$H,3,FALSE),\"\")","v":""},{"$f":"IFERROR(VLOOKUP($B169,'Building Data'!$F:$AA,22,FALSE),\"\")","v":""},{"$f":"IFERROR(VLOOKUP($B169,'Building Data'!$F$4:$AE$2970,26,FALSE),\"\")","v":""}]
[null,null,{"$f":"IFERROR(VLOOKUP($B170,'Building Data'!$F:$H,3,FALSE),\"\")","v":""},{"$f":"IFERROR(VLOOKUP($B170,'Building Data'!$F:$AA,22,FALSE),\"\")","v":""},{"$f":"IFERROR(VLOOKUP($B170,'Building Data'!$F$4:$AE$2970,26,FALSE),\"\")","v":""}]
[null,null,{"$f":"IFERROR(VLOOKUP($B171,'Building Data'!$F:$H,3,FALSE),\"\")","v":""},{"$f":"IFERROR(VLOOKUP($B171,'Building Data'!$F:$AA,22,FALSE),\"\")","v":""},{"$f":"IFERROR(VLOOKUP($B171,'Building Data'!$F$4:$AE$2970,26,FALSE),\"\")","v":""}]
[null,null,{"$f":"IFERROR(VLOOKUP($B172,'Building Data'!$F:$H,3,FALSE),\"\")","v":""},{"$f":"IFERROR(VLOOKUP($B172,'Building Data'!$F:$AA,22,FALSE),\"\")","v":""},{"$f":"IFERROR(VLOOKUP($B172,'Building Data'!$F$4:$AE$2970,26,FALSE),\"\")","v":""}]
[null,null,{"$f":"IFERROR(VLOOKUP($B173,'Building Data'!$F:$H,3,FALSE),\"\")","v":""},{"$f":"IFERROR(VLOOKUP($B173,'Building Data'!$F:$AA,22,FALSE),\"\")","v":""},{"$f":"IFERROR(VLOOKUP($B173,'Building Data'!$F$4:$AE$2970,26,FALSE),\"\")","v":""}]
[null,null,{"$f":"IFERROR(VLOOKUP($B174,'Building Data'!$F:$H,3,FALSE),\"\")","v":""},{"$f":"IFERROR(VLOOKUP($B174,'Building Data'!$F:$AA,22,FALSE),\"\")","v":""},{"$f":"IFERROR(VLOOKUP($B174,'Building Data'!$F$4:$AE$2970,26,FALSE),\"\")","v":""}]
[null,null,{"$f":"IFERROR(VLOOKUP($B175,'Building Data'!$F:$H,3,FALSE),\"\")","v":""},{"$f":"IFERROR(VLOOKUP($B175,'Building Data'!$F:$AA,22,FALSE),\"\")","v":""},{"$f":"IFERROR(VLOOKUP($B175,'Building Data'!$F$4:$AE$2970,26,FALSE),\"\")","v":""}]
[null,null,{"$f":"IFERROR(VLOOKUP($B176,'Building Data'!$F:$H,3,FALSE),\"\")","v":""},{"$f":"IFERROR(VLOOKUP($B176,'Building Data'!$F:$AA,22,FALSE),\"\")","v":""},{"$f":"IFERROR(VLOOKUP($B176,'Building Data'!$F$4:$AE$2970,26,FALSE),\"\")","v":""}]
[null,null,{"$f":"IFERROR(VLOOKUP($B177,'Building Data'!$F:$H,3,FALSE),\"\")","v":""},{"$f":"IFERROR(VLOOKUP($B177,'Building Data'!$F:$AA,22,FALSE),\"\")","v":""},{"$f":"IFERROR(VLOOKUP($B177,'Building Data'!$F$4:$AE$2970,26,FALSE),\"\")","v":""}]
[null,null,{"$f":"IFERROR(VLOOKUP($B178,'Building Data'!$F:$H,3,FALSE),\"\")","v":""},{"$f":"IFERROR(VLOOKUP($B178,'Building Data'!$F:$AA,22,FALSE),\"\")","v":""},{"$f":"IFERROR(VLOOKUP($B178,'Building Data'!$F$4:$AE$2970,26,FALSE),\"\")","v":""}]
[null,null,{"$f":"IFERROR(VLOOKUP($B179,'Building Data'!$F:$H,3,FALSE),\"\")","v":""},{"$f":"IFERROR(VLOOKUP($B179,'Building Data'!$F:$AA,22,FALSE),\"\")","v":""},{"$f":"IFERROR(VLOOKUP($B179,'Building Data'!$F$4:$AE$2970,26,FALSE),\"\")","v":""}]
[null,null,{"$f":"IFERROR(VLOOKUP($B180,'Building Data'!$F:$H,3,FALSE),\"\")","v":""},{"$f":"IFERROR(VLOOKUP($B180,'Building Data'!$F:$AA,22,FALSE),\"\")","v":""},{"$f":"IFERROR(VLOOKUP($B180,'Building Data'!$F$4:$AE$2970,26,FALSE),\"\")","v":""}]
[null,null,{"$f":"IFERROR(VLOOKUP($B181,'Building Data'!$F:$H,3,FALSE),\"\")","v":""},{"$f":"IFERROR(VLOOKUP($B181,'Building Data'!$F:$AA,22,FALSE),\"\")","v":""},{"$f":"IFERROR(VLOOKUP($B181,'Building Data'!$F$4:$AE$2970,26,FALSE),\"\")","v":""}]
[null,null,{"$f":"IFERROR(VLOOKUP($B182,'Building Data'!$F:$H,3,FALSE),\"\")","v":""},{"$f":"IFERROR(VLOOKUP($B182,'Building Data'!$F:$AA,22,FALSE),\"\")","v":""},{"$f":"IFERROR(VLOOKUP($B182,'Building Data'!$F$4:$AE$2970,26,FALSE),\"\")","v":""}]
[null,null,{"$f":"IFERROR(VLOOKUP($B183,'Building Data'!$F:$H,3,FALSE),\"\")","v":""},{"$f":"IFERROR(VLOOKUP($B183,'Building Data'!$F:$AA,22,FALSE),\"\")","v":""},{"$f":"IFERROR(VLOOKUP($B183,'Building Data'!$F$4:$AE$2970,26,FALSE),\"\")","v":""}]
[null,null,{"$f":"IFERROR(VLOOKUP($B184,'Building Data'!$F:$H,3,FALSE),\"\")","v":""},{"$f":"IFERROR(VLOOKUP($B184,'Building Data'!$F:$AA,22,FALSE),\"\")","v":""},{"$f":"IFERROR(VLOOKUP($B184,'Building Data'!$F$4:$AE$2970,26,FALSE),\"\")","v":""}]
[null,null,{"$f":"IFERROR(VLOOKUP($B185,'Building Data'!$F:$H,3,FALSE),\"\")","v":""},{"$f":"IFERROR(VLOOKUP($B185,'Building Data'!$F:$AA,22,FALSE),\"\")","v":""},{"$f":"IFERROR(VLOOKUP($B185,'Building Data'!$F$4:$AE$2970,26,FALSE),\"\")","v":""}]
[null,null,{"$f":"IFERROR(VLOOKUP($B186,'Building Data'!$F:$H,3,FALSE),\"\")","v":""},{"$f":"IFERROR(VLOOKUP($B186,'Building Data'!$F:$AA,22,FALSE),\"\")","v":""},{"$f":"IFERROR(VLOOKUP($B186,'Building Data'!$F$4:$AE$2970,26,FALSE),\"\")","v":""}]
[null,null,{"$f":"IFERROR(VLOOKUP($B187,'Building Data'!$F:$H,3,FALSE),\"\")","v":""},{"$f":"IFERROR(VLOOKUP($B187,'Building Data'!$F:$AA,22,FALSE),\"\")","v":""},{"$f":"IFERROR(VLOOKUP($B187,'Building Data'!$F$4:$AE$2970,26,FALSE),\"\")","v":""}]
[null,null,{"$f":"IFERROR(VLOOKUP($B188,'Building Data'!$F:$H,3,FALSE),\"\")","v":""},{"$f":"IFERROR(VLOOKUP($B188,'Building Data'!$F:$AA,22,FALSE),\"\")","v":""},{"$f":"IFERROR(VLOOKUP($B188,'Building Data'!$F$4:$AE$2970,26,FALSE),\"\")","v":""}]
[null,null,{"$f":"IFERROR(VLOOKUP($B189,'Building Data'!$F:$H,3,FALSE),\"\")","v":""},{"$f":"IFERROR(VLOOKUP($B189,'Building Data'!$F:$AA,22,FALSE),\"\")","v":""},{"$f":"IFERROR(VLOOKUP($B189,'Building Data'!$F$4:$AE$2970,26,FALSE),\"\")","v":""}]
[null,null,{"$f":"IFERROR(VLOOKUP($B190,'Building Data'!$F:$H,3,FALSE),\"\")","v":""},{"$f":"IFERROR(VLOOKUP($B190,'Building Data'!$F:$AA,22,FALSE),\"\")","v":""},{"$f":"IFERROR(VLOOKUP($B190,'Building Data'!$F$4:$AE$2970,26,FALSE),\"\")","v":""}]
[null,null,{"$f":"IFERROR(VLOOKUP($B191,'Building Data'!$F:$H,3,FALSE),\"\")","v":""},{"$f":"IFERROR(VLOOKUP($B191,'Building Data'!$F:$AA,22,FALSE),\"\")","v":""},{"$f":"IFERROR(VLOOKUP($B191,'Building Data'!$F$4:$AE$2970,26,FALSE),\"\")","v":""}]
[null,null,{"$f":"IFERROR(VLOOKUP($B192,'Building Data'!$F:$H,3,FALSE),\"\")","v":""},{"$f":"IFERROR(VLOOKUP($B192,'Building Data'!$F:$AA,22,FALSE),\"\")","v":""},{"$f":"IFERROR(VLOOKUP($B192,'Building Data'!$F$4:$AE$2970,26,FALSE),\"\")","v":""}]
[null,null,{"$f":"IFERROR(VLOOKUP($B193,'Building Data'!$F:$H,3,FALSE),\"\")","v":""},{"$f":"IFERROR(VLOOKUP($B193,'Building Data'!$F:$AA,22,FALSE),\"\")","v":""},{"$f":"IFERROR(VLOOKUP($B193,'Building Data'!$F$4:$AE$2970,26,FALSE),\"\")","v":""}]
[null,null,{"$f":"IFERROR(VLOOKUP($B194,'Building Data'!$F:$H,3,FALSE),\"\")","v":""},{"$f":"IFERROR(VLOOKUP($B194,'Building Data'!$F:$AA,22,FALSE),\"\")","v":""},{"$f":"IFERROR(VLOOKUP($B194,'Building Data'!$F$4:$AE$2970,26,FALSE),\"\")","v":""}]
[null,null,{"$f":"IFERROR(VLOOKUP($B195,'Building Data'!$F:$H,3,FALSE),\"\")","v":""},{"$f":"IFERROR(VLOOKUP($B195,'Building Data'!$F:$AA,22,FALSE),\"\")","v":""},{"$f":"IFERROR(VLOOKUP($B195,'Building Data'!$F$4:$AE$2970,26,FALSE),\"\")","v":""}]
[null,null,{"$f":"IFERROR(VLOOKUP($B196,'Building Data'!$F:$H,3,FALSE),\"\")","v":""},{"$f":"IFERROR(VLOOKUP($B196,'Building Data'!$F:$AA,22,FALSE),\"\")","v":""},{"$f":"IFERROR(VLOOKUP($B196,'Building Data'!$F$4:$AE$2970,26,FALSE),\"\")","v":""}]
[null,null,{"$f":"IFERROR(VLOOKUP($B197,'Building Data'!$F:$H,3,FALSE),\"\")","v":""},{"$f":"IFERROR(VLOOKUP($B197,'Building Data'!$F:$AA,22,FALSE),\"\")","v":""},{"$f":"IFERROR(VLOOKUP($B197,'Building Data'!$F$4:$AE$2970,26,FALSE),\"\")","v":""}]
[null,null,{"$f":"IFERROR(VLOOKUP($B198,'Building Data'!$F:$H,3,FALSE),\"\")","v":""},{"$f":"IFERROR(VLOOKUP($B198,'Building Data'!$F:$AA,22,FALSE),\"\")","v":""},{"$f":"IFERROR(VLOOKUP($B198,'Building Data'!$F$4:$AE$2970,26,FALSE),\"\")","v":""}]
[null,null,{"$f":"IFERROR(VLOOKUP($B199,'Building Data'!$F:$H,3,FALSE),\"\")","v":""},{"$f":"IFERROR(VLOOKUP($B199,'Building Data'!$F:$AA,22,FALSE),\"\")","v":""},{"$f":"IFERROR(VLOOKUP($B199,'Building Data'!$F$4:$AE$2970,26,FALSE),\"\")","v":""}]
[null,null,{"$f":"IFERROR(VLOOKUP($B200,'Building Data'!$F:$H,3,FALSE),\"\")","v":""},{"$f":"IFERROR(VLOOKUP($B200,'Building Data'!$F:$AA,22,FALSE),\"\")","v":""},{"$f":"IFERROR(VLOOKUP($B200,'Building Data'!$F$4:$AE$2970,26,FALSE),\"\")","v":""}]
[null,null,{"$f":"IFERROR(VLOOKUP($B201,'Building Data'!$F:$H,3,FALSE),\"\")","v":""},{"$f":"IFERROR(VLOOKUP($B201,'Building Data'!$F:$AA,22,FALSE),\"\")","v":""},{"$f":"IFERROR(VLOOKUP($B201,'Building Data'!$F$4:$AE$2970,26,FALSE),\"\")","v":""}]
[null,null,{"$f":"IFERROR(VLOOKUP($B202,'Building Data'!$F:$H,3,FALSE),\"\")","v":""},{"$f":"IFERROR(VLOOKUP($B202,'Building Data'!$F:$AA,22,FALSE),\"\")","v":""},{"$f":"IFERROR(VLOOKUP($B202,'Building Data'!$F$4:$AE$2970,26,FALSE),\"\")","v":""}]
[null,null,{"$f":"IFERROR(VLOOKUP($B203,'Building Data'!$F:$H,3,FALSE),\"\")","v":""},{"$f":"IFERROR(VLOOKUP($B203,'Building Data'!$F:$AA,22,FALSE),\"\")","v":""},{"$f":"IFERROR(VLOOKUP($B203,'Building Data'!$F$4:$AE$2970,26,FALSE),\"\")","v":""}]
[null,null,{"$f":"IFERROR(VLOOKUP($B204,'Building Data'!$F:$H,3,FALSE),\"\")","v":""},{"$f":"IFERROR(VLOOKUP($B204,'Building Data'!$F:$AA,22,FALSE),\"\")","v":""},{"$f":"IFERROR(VLOOKUP($B204,'Building Data'!$F$4:$AE$2970,26,FALSE),\"\")","v":""}]
[null,null,{"$f":"IFERROR(VLOOKUP($B205,'Building Data'!$F:$H,3,FALSE),\"\")","v":""},{"$f":"IFERROR(VLOOKUP($B205,'Building Data'!$F:$AA,22,FALSE),\"\")","v":""},{"$f":"IFERROR(VLOOKUP($B205,'Building Data'!$F$4:$AE$2970,26,FALSE),\"\")","v":""}]
[null,null,{"$f":"IFERROR(VLOOKUP($B206,'Building Data'!$F:$H,3,FALSE),\"\")","v":""},{"$f":"IFERROR(VLOOKUP($B206,'Building Data'!$F:$AA,22,FALSE),\"\")","v":""},{"$f":"IFERROR(VLOOKUP($B206,'Building Data'!$F$4:$AE$2970,26,FALSE),\"\")","v":""}]
[null,null,{"$f":"IFERROR(VLOOKUP($B207,'Building Data'!$F:$H,3,FALSE),\"\")","v":""},{"$f":"IFERROR(VLOOKUP($B207,'Building Data'!$F:$AA,22,FALSE),\"\")","v":""},{"$f":"IFERROR(VLOOKUP($B207,'Building Data'!$F$4:$AE$2970,26,FALSE),\"\")","v":""}]
[null,null,{"$f":"IFERROR(VLOOKUP($B208,'Building Data'!$F:$H,3,FALSE),\"\")","v":""},{"$f":"IFERROR(VLOOKUP($B208,'Building Data'!$F:$AA,22,FALSE),\"\")","v":""},{"$f":"IFERROR(VLOOKUP($B208,'Building Data'!$F$4:$AE$2970,26,FALSE),\"\")","v":""}]
[null,null,{"$f":"IFERROR(VLOOKUP($B209,'Building Data'!$F:$H,3,FALSE),\"\")","v":""},{"$f":"IFERROR(VLOOKUP($B209,'Building Data'!$F:$AA,22,FALSE),\"\")","v":""},{"$f":"IFERROR(VLOOKUP($B209,'Building Data'!$F$4:$AE$2970,26,FALSE),\"\")","v":""}]
[null,null,{"$f":"IFERROR(VLOOKUP($B210,'Building Data'!$F:$H,3,FALSE),\"\")","v":""},{"$f":"IFERROR(VLOOKUP($B210,'Building Data'!$F:$AA,22,FALSE),\"\")","v":""},{"$f":"IFERROR(VLOOKUP($B210,'Building Data'!$F$4:$AE$2970,26,FALSE),\"\")","v":""}]
[null,null,{"$f":"IFERROR(VLOOKUP($B211,'Building Data'!$F:$H,3,FALSE),\"\")","v":""},{"$f":"IFERROR(VLOOKUP($B211,'Building Data'!$F:$AA,22,FALSE),\"\")","v":""},{"$f":"IFERROR(VLOOKUP($B211,'Building Data'!$F$4:$AE$2970,26,FALSE),\"\")","v":""}]
[null,null,{"$f":"IFERROR(VLOOKUP($B212,'Building Data'!$F:$H,3,FALSE),\"\")","v":""},{"$f":"IFERROR(VLOOKUP($B212,'Building Data'!$F:$AA,22,FALSE),\"\")","v":""},{"$f":"IFERROR(VLOOKUP($B212,'Building Data'!$F$4:$AE$2970,26,FALSE),\"\")","v":""}]
[null,null,{"$f":"IFERROR(VLOOKUP($B213,'Building Data'!$F:$H,3,FALSE),\"\")","v":""},{"$f":"IFERROR(VLOOKUP($B213,'Building Data'!$F:$AA,22,FALSE),\"\")","v":""},{"$f":"IFERROR(VLOOKUP($B213,'Building Data'!$F$4:$AE$2970,26,FALSE),\"\")","v":""}]
[null,null,{"$f":"IFERROR(VLOOKUP($B214,'Building Data'!$F:$H,3,FALSE),\"\")","v":""},{"$f":"IFERROR(VLOOKUP($B214,'Building Data'!$F:$AA,22,FALSE),\"\")","v":""},{"$f":"IFERROR(VLOOKUP($B214,'Building Data'!$F$4:$AE$2970,26,FALSE),\"\")","v":""}]
[null,null,{"$f":"IFERROR(VLOOKUP($B215,'Building Data'!$F:$H,3,FALSE),\"\")","v":""},{"$f":"IFERROR(VLOOKUP($B215,'Building Data'!$F:$AA,22,FALSE),\"\")","v":""},{"$f":"IFERROR(VLOOKUP($B215,'Building Data'!$F$4:$AE$2970,26,FALSE),\"\")","v":""}]
[null,null,{"$f":"IFERROR(VLOOKUP($B216,'Building Data'!$F:$H,3,FALSE),\"\")","v":""},{"$f":"IFERROR(VLOOKUP($B216,'Building Data'!$F:$AA,22,FALSE),\"\")","v":""},{"$f":"IFERROR(VLOOKUP($B216,'Building Data'!$F$4:$AE$2970,26,FALSE),\"\")","v":""}]
[null,null,{"$f":"IFERROR(VLOOKUP($B217,'Building Data'!$F:$H,3,FALSE),\"\")","v":""},{"$f":"IFERROR(VLOOKUP($B217,'Building Data'!$F:$AA,22,FALSE),\"\")","v":""},{"$f":"IFERROR(VLOOKUP($B217,'Building Data'!$F$4:$AE$2970,26,FALSE),\"\")","v":""}]
[null,null,{"$f":"IFERROR(VLOOKUP($B218,'Building Data'!$F:$H,3,FALSE),\"\")","v":""},{"$f":"IFERROR(VLOOKUP($B218,'Building Data'!$F:$AA,22,FALSE),\"\")","v":""},{"$f":"IFERROR(VLOOKUP($B218,'Building Data'!$F$4:$AE$2970,26,FALSE),\"\")","v":""}]
[null,null,{"$f":"IFERROR(VLOOKUP($B219,'Building Data'!$F:$H,3,FALSE),\"\")","v":""},{"$f":"IFERROR(VLOOKUP($B219,'Building Data'!$F:$AA,22,FALSE),\"\")","v":""},{"$f":"IFERROR(VLOOKUP($B219,'Building Data'!$F$4:$AE$2970,26,FALSE),\"\")","v":""}]
[null,null,{"$f":"IFERROR(VLOOKUP($B220,'Building Data'!$F:$H,3,FALSE),\"\")","v":""},{"$f":"IFERROR(VLOOKUP($B220,'Building Data'!$F:$AA,22,FALSE),\"\")","v":""},{"$f":"IFERROR(VLOOKUP($B220,'Building Data'!$F$4:$AE$2970,26,FALSE),\"\")","v":""}]
[null,null,{"$f":"IFERROR(VLOOKUP($B221,'Building Data'!$F:$H,3,FALSE),\"\")","v":""},{"$f":"IFERROR(VLOOKUP($B221,'Building Data'!$F:$AA,22,FALSE),\"\")","v":""},{"$f":"IFERROR(VLOOKUP($B221,'Building Data'!$F$4:$AE$2970,26,FALSE),\"\")","v":""}]
[null,null,{"$f":"IFERROR(VLOOKUP($B222,'Building Data'!$F:$H,3,FALSE),\"\")","v":""},{"$f":"IFERROR(VLOOKUP($B222,'Building Data'!$F:$AA,22,FALSE),\"\")","v":""},{"$f":"IFERROR(VLOOKUP($B222,'Building Data'!$F$4:$AE$2970,26,FALSE),\"\")","v":""}]
[null,null,{"$f":"IFERROR(VLOOKUP($B223,'Building Data'!$F:$H,3,FALSE),\"\")","v":""},{"$f":"IFERROR(VLOOKUP($B223,'Building Data'!$F:$AA,22,FALSE),\"\")","v":""},{"$f":"IFERROR(VLOOKUP($B223,'Building Data'!$F$4:$AE$2970,26,FALSE),\"\")","v":""}]
[null,null,{"$f":"IFERROR(VLOOKUP($B224,'Building Data'!$F:$H,3,FALSE),\"\")","v":""},{"$f":"IFERROR(VLOOKUP($B224,'Building Data'!$F:$AA,22,FALSE),\"\")","v":""},{"$f":"IFERROR(VLOOKUP($B224,'Building Data'!$F$4:$AE$2970,26,FALSE),\"\")","v":""}]
[null,null,{"$f":"IFERROR(VLOOKUP($B225,'Building Data'!$F:$H,3,FALSE),\"\")","v":""},{"$f":"IFERROR(VLOOKUP($B225,'Building Data'!$F:$AA,22,FALSE),\"\")","v":""},{"$f":"IFERROR(VLOOKUP($B225,'Building Data'!$F$4:$AE$2970,26,FALSE),\"\")","v":""}]
[null,null,{"$f":"IFERROR(VLOOKUP($B226,'Building Data'!$F:$H,3,FALSE),\"\")","v":""},{"$f":"IFERROR(VLOOKUP($B226,'Building Data'!$F:$AA,22,FALSE),\"\")","v":""},{"$f":"IFERROR(VLOOKUP($B226,'Building Data'!$F$4:$AE$2970,26,FALSE),\"\")","v":""}]
[null,null,{"$f":"IFERROR(VLOOKUP($B227,'Building Data'!$F:$H,3,FALSE),\"\")","v":""},{"$f":"IFERROR(VLOOKUP($B227,'Building Data'!$F:$AA,22,FALSE),\"\")","v":""},{"$f":"IFERROR(VLOOKUP($B227,'Building Data'!$F$4:$AE$2970,26,FALSE),\"\")","v":""}]
[null,null,{"$f":"IFERROR(VLOOKUP($B228,'Building Data'!$F:$H,3,FALSE),\"\")","v":""},{"$f":"IFERROR(VLOOKUP($B228,'Building Data'!$F:$AA,22,FALSE),\"\")","v":""},{"$f":"IFERROR(VLOOKUP($B228,'Building Data'!$F$4:$AE$2970,26,FALSE),\"\")","v":""}]
[null,null,{"$f":"IFERROR(VLOOKUP($B229,'Building Data'!$F:$H,3,FALSE),\"\")","v":""},{"$f":"IFERROR(VLOOKUP($B229,'Building Data'!$F:$AA,22,FALSE),\"\")","v":""},{"$f":"IFERROR(VLOOKUP($B229,'Building Data'!$F$4:$AE$2970,26,FALSE),\"\")","v":""}]
[null,null,{"$f":"IFERROR(VLOOKUP($B230,'Building Data'!$F:$H,3,FALSE),\"\")","v":""},{"$f":"IFERROR(VLOOKUP($B230,'Building Data'!$F:$AA,22,FALSE),\"\")","v":""},{"$f":"IFERROR(VLOOKUP($B230,'Building Data'!$F$4:$AE$2970,26,FALSE),\"\")","v":""}]
[null,null,{"$f":"IFERROR(VLOOKUP($B231,'Building Data'!$F:$H,3,FALSE),\"\")","v":""},{"$f":"IFERROR(VLOOKUP($B231,'Building Data'!$F:$AA,22,FALSE),\"\")","v":""},{"$f":"IFERROR(VLOOKUP($B231,'Building Data'!$F$4:$AE$2970,26,FALSE),\"\")","v":""}]
[null,null,{"$f":"IFERROR(VLOOKUP($B232,'Building Data'!$F:$H,3,FALSE),\"\")","v":""},{"$f":"IFERROR(VLOOKUP($B232,'Building Data'!$F:$AA,22,FALSE),\"\")","v":""},{"$f":"IFERROR(VLOOKUP($B232,'Building Data'!$F$4:$AE$2970,26,FALSE),\"\")","v":""}]
[null,null,{"$f":"IFERROR(VLOOKUP($B233,'Building Data'!$F:$H,3,FALSE),\"\")","v":""},{"$f":"IFERROR(VLOOKUP($B233,'Building Data'!$F:$AA,22,FALSE),\"\")","v":""},{"$f":"IFERROR(VLOOKUP($B233,'Building Data'!$F$4:$AE$2970,26,FALSE),\"\")","v":""}]
[null,null,{"$f":"IFERROR(VLOOKUP($B234,'Building Data'!$F:$H,3,FALSE),\"\")","v":""},{"$f":"IFERROR(VLOOKUP($B234,'Building Data'!$F:$AA,22,FALSE),\"\")","v":""},{"$f":"IFERROR(VLOOKUP($B234,'Building Data'!$F$4:$AE$2970,26,FALSE),\"\")","v":""}]
[null,null,{"$f":"IFERROR(VLOOKUP($B235,'Building Data'!$F:$H,3,FALSE),\"\")","v":""},{"$f":"IFERROR(VLOOKUP($B235,'Building Data'!$F:$AA,22,FALSE),\"\")","v":""},{"$f":"IFERROR(VLOOKUP($B235,'Building Data'!$F$4:$AE$2970,26,FALSE),\"\")","v":""}]
[null,null,{"$f":"IFERROR(VLOOKUP($B236,'Building Data'!$F:$H,3,FALSE),\"\")","v":""},{"$f":"IFERROR(VLOOKUP($B236,'Building Data'!$F:$AA,22,FALSE),\"\")","v":""},{"$f":"IFERROR(VLOOKUP($B236,'Building Data'!$F$4:$AE$2970,26,FALSE),\"\")","v":""}]
[null,null,{"$f":"IFERROR(VLOOKUP($B237,'Building Data'!$F:$H,3,FALSE),\"\")","v":""},{"$f":"IFERROR(VLOOKUP($B237,'Building Data'!$F:$AA,22,FALSE),\"\")","v":""},{"$f":"IFERROR(VLOOKUP($B237,'Building Data'!$F$4:$AE$2970,26,FALSE),\"\")","v":""}]
[null,null,{"$f":"IFERROR(VLOOKUP($B238,'Building Data'!$F:$H,3,FALSE),\"\")","v":""},{"$f":"IFERROR(VLOOKUP($B238,'Building Data'!$F:$AA,22,FALSE),\"\")","v":""},{"$f":"IFERROR(VLOOKUP($B238,'Building Data'!$F$4:$AE$2970,26,FALSE),\"\")","v":""}]
[null,null,{"$f":"IFERROR(VLOOKUP($B239,'Building Data'!$F:$H,3,FALSE),\"\")","v":""},{"$f":"IFERROR(VLOOKUP($B239,'Building Data'!$F:$AA,22,FALSE),\"\")","v":""},{"$f":"IFERROR(VLOOKUP($B239,'Building Data'!$F$4:$AE$2970,26,FALSE),\"\")","v":""}]
[null,null,{"$f":"IFERROR(VLOOKUP($B240,'Building Data'!$F:$H,3,FALSE),\"\")","v":""},{"$f":"IFERROR(VLOOKUP($B240,'Building Data'!$F:$AA,22,FALSE),\"\")","v":""},{"$f":"IFERROR(VLOOKUP($B240,'Building Data'!$F$4:$AE$2970,26,FALSE),\"\")","v":""}]
[null,null,{"$f":"IFERROR(VLOOKUP($B241,'Building Data'!$F:$H,3,FALSE),\"\")","v":""},{"$f":"IFERROR(VLOOKUP($B241,'Building Data'!$F:$AA,22,FALSE),\"\")","v":""},{"$f":"IFERROR(VLOOKUP($B241,'Building Data'!$F$4:$AE$2970,26,FALSE),\"\")","v":""}]
[null,null,{"$f":"IFERROR(VLOOKUP($B242,'Building Data'!$F:$H,3,FALSE),\"\")","v":""},{"$f":"IFERROR(VLOOKUP($B242,'Building Data'!$F:$AA,22,FALSE),\"\")","v":""},{"$f":"IFERROR(VLOOKUP($B242,'Building Data'!$F$4:$AE$2970,26,FALSE),\"\")","v":""}]
[null,null,{"$f":"IFERROR(VLOOKUP($B243,'Building Data'!$F:$H,3,FALSE),\"\")","v":""},{"$f":"IFERROR(VLOOKUP($B243,'Building Data'!$F:$AA,22,FALSE),\"\")","v":""},{"$f":"IFERROR(VLOOKUP($B243,'Building Data'!$F$4:$AE$2970,26,FALSE),\"\")","v":""}]
[null,null,{"$f":"IFERROR(VLOOKUP($B244,'Building Data'!$F:$H,3,FALSE),\"\")","v":""},{"$f":"IFERROR(VLOOKUP($B244,'Building Data'!$F:$AA,22,FALSE),\"\")","v":""},{"$f":"IFERROR(VLOOKUP($B244,'Building Data'!$F$4:$AE$2970,26,FALSE),\"\")","v":""}]
[null,null,{"$f":"IFERROR(VLOOKUP($B245,'Building Data'!$F:$H,3,FALSE),\"\")","v":""},{"$f":"IFERROR(VLOOKUP($B245,'Building Data'!$F:$AA,22,FALSE),\"\")","v":""},{"$f":"IFERROR(VLOOKUP($B245,'Building Data'!$F$4:$AE$2970,26,FALSE),\"\")","v":""}]
[null,null,{"$f":"IFERROR(VLOOKUP($B246,'Building Data'!$F:$H,3,FALSE),\"\")","v":""},{"$f":"IFERROR(VLOOKUP($B246,'Building Data'!$F:$AA,22,FALSE),\"\")","v":""},{"$f":"IFERROR(VLOOKUP($B246,'Building Data'!$F$4:$AE$2970,26,FALSE),\"\")","v":""}]
[null,null,{"$f":"IFERROR(VLOOKUP($B247,'Building Data'!$F:$H,3,FALSE),\"\")","v":""},{"$f":"IFERROR(VLOOKUP($B247,'Building Data'!$F:$AA,22,FALSE),\"\")","v":""},{"$f":"IFERROR(VLOOKUP($B247,'Building Data'!$F$4:$AE$2970,26,FALSE),\"\")","v":""}]
[null,null,{"$f":"IFERROR(VLOOKUP($B248,'Building Data'!$F:$H,3,FALSE),\"\")","v":""},{"$f":"IFERROR(VLOOKUP($B248,'Building Data'!$F:$AA,22,FALSE),\"\")","v":""},{"$f":"IFERROR(VLOOKUP($B248,'Building Data'!$F$4:$AE$2970,26,FALSE),\"\")","v":""}]
[null,null,{"$f":"IFERROR(VLOOKUP($B249,'Building Data'!$F:$H,3,FALSE),\"\")","v":""},{"$f":"IFERROR(VLOOKUP($B249,'Building Data'!$F:$AA,22,FALSE),\"\")","v":""},{"$f":"IFERROR(VLOOKUP($B249,'Building Data'!$F$4:$AE$2970,26,FALSE),\"\")","v":""}]
[null,null,{"$f":"IFERROR(VLOOKUP($B250,'Building Data'!$F:$H,3,FALSE),\"\")","v":""},{"$f":"IFERROR(VLOOKUP($B250,'Building Data'!$F:$AA,22,FALSE),\"\")","v":""},{"$f":"IFERROR(VLOOKUP($B250,'Building Data'!$F$4:$AE$2970,26,FALSE),\"\")","v":""}]
[null,null,{"$f":"IFERROR(VLOOKUP($B251,'Building Data'!$F:$H,3,FALSE),\"\")","v":""},{"$f":"IFERROR(VLOOKUP($B251,'Building Data'!$F:$AA,22,FALSE),\"\")","v":""},{"$f":"IFERROR(VLOOKUP($B251,'Building Data'!$F$4:$AE$2970,26,FALSE),\"\")","v":""}]
[null,null,{"$f":"IFERROR(VLOOKUP($B252,'Building Data'!$F:$H,3,FALSE),\"\")","v":""},{"$f":"IFERROR(VLOOKUP($B252,'Building Data'!$F:$AA,22,FALSE),\"\")","v":""},{"$f":"IFERROR(VLOOKUP($B252,'Building Data'!$F$4:$AE$2970,26,FALSE),\"\")","v":""}]
[null,null,{"$f":"IFERROR(VLOOKUP($B253,'Building Data'!$F:$H,3,FALSE),\"\")","v":""},{"$f":"IFERROR(VLOOKUP($B253,'Building Data'!$F:$AA,22,FALSE),\"\")","v":""},{"$f":"IFERROR(VLOOKUP($B253,'Building Data'!$F$4:$AE$2970,26,FALSE),\"\")","v":""}]
[null,null,{"$f":"IFERROR(VLOOKUP($B254,'Building Data'!$F:$H,3,FALSE),\"\")","v":""},{"$f":"IFERROR(VLOOKUP($B254,'Building Data'!$F:$AA,22,FALSE),\"\")","v":""},{"$f":"IFERROR(VLOOKUP($B254,'Building Data'!$F$4:$AE$2970,26,FALSE),\"\")","v":""}]
[null,null,{"$f":"IFERROR(VLOOKUP($B255,'Building Data'!$F:$H,3,FALSE),\"\")","v":""},{"$f":"IFERROR(VLOOKUP($B255,'Building Data'!$F:$AA,22,FALSE),\"\")","v":""},{"$f":"IFERROR(VLOOKUP($B255,'Building Data'!$F$4:$AE$2970,26,FALSE),\"\")","v":""}]
[null,null,{"$f":"IFERROR(VLOOKUP($B256,'Building Data'!$F:$H,3,FALSE),\"\")","v":""},{"$f":"IFERROR(VLOOKUP($B256,'Building Data'!$F:$AA,22,FALSE),\"\")","v":""},{"$f":"IFERROR(VLOOKUP($B256,'Building Data'!$F$4:$AE$2970,26,FALSE),\"\")","v":""}]
[null,null,{"$f":"IFERROR(VLOOKUP($B257,'Building Data'!$F:$H,3,FALSE),\"\")","v":""},{"$f":"IFERROR(VLOOKUP($B257,'Building Data'!$F:$AA,22,FALSE),\"\")","v":""},{"$f":"IFERROR(VLOOKUP($B257,'Building Data'!$F$4:$AE$2970,26,FALSE),\"\")","v":""}]
[null,null,{"$f":"IFERROR(VLOOKUP($B258,'Building Data'!$F:$H,3,FALSE),\"\")","v":""},{"$f":"IFERROR(VLOOKUP($B258,'Building Data'!$F:$AA,22,FALSE),\"\")","v":""},{"$f":"IFERROR(VLOOKUP($B258,'Building Data'!$F$4:$AE$2970,26,FALSE),\"\")","v":""}]
[null,null,{"$f":"IFERROR(VLOOKUP($B259,'Building Data'!$F:$H,3,FALSE),\"\")","v":""},{"$f":"IFERROR(VLOOKUP($B259,'Building Data'!$F:$AA,22,FALSE),\"\")","v":""},{"$f":"IFERROR(VLOOKUP($B259,'Building Data'!$F$4:$AE$2970,26,FALSE),\"\")","v":""}]
[null,null,{"$f":"IFERROR(VLOOKUP($B260,'Building Data'!$F:$H,3,FALSE),\"\")","v":""},{"$f":"IFERROR(VLOOKUP($B260,'Building Data'!$F:$AA,22,FALSE),\"\")","v":""},{"$f":"IFERROR(VLOOKUP($B260,'Building Data'!$F$4:$AE$2970,26,FALSE),\"\")","v":""}]
[null,null,{"$f":"IFERROR(VLOOKUP($B261,'Building Data'!$F:$H,3,FALSE),\"\")","v":""},{"$f":"IFERROR(VLOOKUP($B261,'Building Data'!$F:$AA,22,FALSE),\"\")","v":""},{"$f":"IFERROR(VLOOKUP($B261,'Building Data'!$F$4:$AE$2970,26,FALSE),\"\")","v":""}]
[null,null,{"$f":"IFERROR(VLOOKUP($B262,'Building Data'!$F:$H,3,FALSE),\"\")","v":""},{"$f":"IFERROR(VLOOKUP($B262,'Building Data'!$F:$AA,22,FALSE),\"\")","v":""},{"$f":"IFERROR(VLOOKUP($B262,'Building Data'!$F$4:$AE$2970,26,FALSE),\"\")","v":""}]
[null,null,{"$f":"IFERROR(VLOOKUP($B263,'Building Data'!$F:$H,3,FALSE),\"\")","v":""},{"$f":"IFERROR(VLOOKUP($B263,'Building Data'!$F:$AA,22,FALSE),\"\")","v":""},{"$f":"IFERROR(VLOOKUP($B263,'Building Data'!$F$4:$AE$2970,26,FALSE),\"\")","v":""}]
[null,null,{"$f":"IFERROR(VLOOKUP($B264,'Building Data'!$F:$H,3,FALSE),\"\")","v":""},{"$f":"IFERROR(VLOOKUP($B264,'Building Data'!$F:$AA,22,FALSE),\"\")","v":""},{"$f":"IFERROR(VLOOKUP($B264,'Building Data'!$F$4:$AE$2970,26,FALSE),\"\")","v":""}]
[null,null,{"$f":"IFERROR(VLOOKUP($B265,'Building Data'!$F:$H,3,FALSE),\"\")","v":""},{"$f":"IFERROR(VLOOKUP($B265,'Building Data'!$F:$AA,22,FALSE),\"\")","v":""},{"$f":"IFERROR(VLOOKUP($B265,'Building Data'!$F$4:$AE$2970,26,FALSE),\"\")","v":""}]
[null,null,{"$f":"IFERROR(VLOOKUP($B266,'Building Data'!$F:$H,3,FALSE),\"\")","v":""},{"$f":"IFERROR(VLOOKUP($B266,'Building Data'!$F:$AA,22,FALSE),\"\")","v":""},{"$f":"IFERROR(VLOOKUP($B266,'Building Data'!$F$4:$AE$2970,26,FALSE),\"\")","v":""}]
[null,null,{"$f":"IFERROR(VLOOKUP($B267,'Building Data'!$F:$H,3,FALSE),\"\")","v":""},{"$f":"IFERROR(VLOOKUP($B267,'Building Data'!$F:$AA,22,FALSE),\"\")","v":""},{"$f":"IFERROR(VLOOKUP($B267,'Building Data'!$F$4:$AE$2970,26,FALSE),\"\")","v":""}]
[null,null,{"$f":"IFERROR(VLOOKUP($B268,'Building Data'!$F:$H,3,FALSE),\"\")","v":""},{"$f":"IFERROR(VLOOKUP($B268,'Building Data'!$F:$AA,22,FALSE),\"\")","v":""},{"$f":"IFERROR(VLOOKUP($B268,'Building Data'!$F$4:$AE$2970,26,FALSE),\"\")","v":""}]
[null,null,{"$f":"IFERROR(VLOOKUP($B269,'Building Data'!$F:$H,3,FALSE),\"\")","v":""},{"$f":"IFERROR(VLOOKUP($B269,'Building Data'!$F:$AA,22,FALSE),\"\")","v":""},{"$f":"IFERROR(VLOOKUP($B269,'Building Data'!$F$4:$AE$2970,26,FALSE),\"\")","v":""}]
[null,null,{"$f":"IFERROR(VLOOKUP($B270,'Building Data'!$F:$H,3,FALSE),\"\")","v":""},{"$f":"IFERROR(VLOOKUP($B270,'Building Data'!$F:$AA,22,FALSE),\"\")","v":""},{"$f":"IFERROR(VLOOKUP($B270,'Building Data'!$F$4:$AE$2970,26,FALSE),\"\")","v":""}]
[null,null,{"$f":"IFERROR(VLOOKUP($B271,'Building Data'!$F:$H,3,FALSE),\"\")","v":""},{"$f":"IFERROR(VLOOKUP($B271,'Building Data'!$F:$AA,22,FALSE),\"\")","v":""},{"$f":"IFERROR(VLOOKUP($B271,'Building Data'!$F$4:$AE$2970,26,FALSE),\"\")","v":""}]
[null,null,{"$f":"IFERROR(VLOOKUP($B272,'Building Data'!$F:$H,3,FALSE),\"\")","v":""},{"$f":"IFERROR(VLOOKUP($B272,'Building Data'!$F:$AA,22,FALSE),\"\")","v":""},{"$f":"IFERROR(VLOOKUP($B272,'Building Data'!$F$4:$AE$2970,26,FALSE),\"\")","v":""}]
[null,null,{"$f":"IFERROR(VLOOKUP($B273,'Building Data'!$F:$H,3,FALSE),\"\")","v":""},{"$f":"IFERROR(VLOOKUP($B273,'Building Data'!$F:$AA,22,FALSE),\"\")","v":""},{"$f":"IFERROR(VLOOKUP($B273,'Building Data'!$F$4:$AE$2970,26,FALSE),\"\")","v":""}]
[null,null,{"$f":"IFERROR(VLOOKUP($B274,'Building Data'!$F:$H,3,FALSE),\"\")","v":""},{"$f":"IFERROR(VLOOKUP($B274,'Building Data'!$F:$AA,22,FALSE),\"\")","v":""},{"$f":"IFERROR(VLOOKUP($B274,'Building Data'!$F$4:$AE$2970,26,FALSE),\"\")","v":""}]
[null,null,{"$f":"IFERROR(VLOOKUP($B275,'Building Data'!$F:$H,3,FALSE),\"\")","v":""},{"$f":"IFERROR(VLOOKUP($B275,'Building Data'!$F:$AA,22,FALSE),\"\")","v":""},{"$f":"IFERROR(VLOOKUP($B275,'Building Data'!$F$4:$AE$2970,26,FALSE),\"\")","v":""}]
[null,null,{"$f":"IFERROR(VLOOKUP($B276,'Building Data'!$F:$H,3,FALSE),\"\")","v":""},{"$f":"IFERROR(VLOOKUP($B276,'Building Data'!$F:$AA,22,FALSE),\"\")","v":""},{"$f":"IFERROR(VLOOKUP($B276,'Building Data'!$F$4:$AE$2970,26,FALSE),\"\")","v":""}]
[null,null,{"$f":"IFERROR(VLOOKUP($B277,'Building Data'!$F:$H,3,FALSE),\"\")","v":""},{"$f":"IFERROR(VLOOKUP($B277,'Building Data'!$F:$AA,22,FALSE),\"\")","v":""},{"$f":"IFERROR(VLOOKUP($B277,'Building Data'!$F$4:$AE$2970,26,FALSE),\"\")","v":""}]
[null,null,{"$f":"IFERROR(VLOOKUP($B278,'Building Data'!$F:$H,3,FALSE),\"\")","v":""},{"$f":"IFERROR(VLOOKUP($B278,'Building Data'!$F:$AA,22,FALSE),\"\")","v":""},{"$f":"IFERROR(VLOOKUP($B278,'Building Data'!$F$4:$AE$2970,26,FALSE),\"\")","v":""}]
[null,null,{"$f":"IFERROR(VLOOKUP($B279,'Building Data'!$F:$H,3,FALSE),\"\")","v":""},{"$f":"IFERROR(VLOOKUP($B279,'Building Data'!$F:$AA,22,FALSE),\"\")","v":""},{"$f":"IFERROR(VLOOKUP($B279,'Building Data'!$F$4:$AE$2970,26,FALSE),\"\")","v":""}]
[null,null,{"$f":"IFERROR(VLOOKUP($B280,'Building Data'!$F:$H,3,FALSE),\"\")","v":""},{"$f":"IFERROR(VLOOKUP($B280,'Building Data'!$F:$AA,22,FALSE),\"\")","v":""},{"$f":"IFERROR(VLOOKUP($B280,'Building Data'!$F$4:$AE$2970,26,FALSE),\"\")","v":""}]
[null,null,{"$f":"IFERROR(VLOOKUP($B281,'Building Data'!$F:$H,3,FALSE),\"\")","v":""},{"$f":"IFERROR(VLOOKUP($B281,'Building Data'!$F:$AA,22,FALSE),\"\")","v":""},{"$f":"IFERROR(VLOOKUP($B281,'Building Data'!$F$4:$AE$2970,26,FALSE),\"\")","v":""}]
[null,null,{"$f":"IFERROR(VLOOKUP($B282,'Building Data'!$F:$H,3,FALSE),\"\")","v":""},{"$f":"IFERROR(VLOOKUP($B282,'Building Data'!$F:$AA,22,FALSE),\"\")","v":""},{"$f":"IFERROR(VLOOKUP($B282,'Building Data'!$F$4:$AE$2970,26,FALSE),\"\")","v":""}]
[null,null,{"$f":"IFERROR(VLOOKUP($B283,'Building Data'!$F:$H,3,FALSE),\"\")","v":""},{"$f":"IFERROR(VLOOKUP($B283,'Building Data'!$F:$AA,22,FALSE),\"\")","v":""},{"$f":"IFERROR(VLOOKUP($B283,'Building Data'!$F$4:$AE$2970,26,FALSE),\"\")","v":""}]
[null,null,{"$f":"IFERROR(VLOOKUP($B284,'Building Data'!$F:$H,3,FALSE),\"\")","v":""},{"$f":"IFERROR(VLOOKUP($B284,'Building Data'!$F:$AA,22,FALSE),\"\")","v":""},{"$f":"IFERROR(VLOOKUP($B284,'Building Data'!$F$4:$AE$2970,26,FALSE),\"\")","v":""}]
[null,null,{"$f":"IFERROR(VLOOKUP($B285,'Building Data'!$F:$H,3,FALSE),\"\")","v":""},{"$f":"IFERROR(VLOOKUP($B285,'Building Data'!$F:$AA,22,FALSE),\"\")","v":""},{"$f":"IFERROR(VLOOKUP($B285,'Building Data'!$F$4:$AE$2970,26,FALSE),\"\")","v":""}]
[null,null,{"$f":"IFERROR(VLOOKUP($B286,'Building Data'!$F:$H,3,FALSE),\"\")","v":""},{"$f":"IFERROR(VLOOKUP($B286,'Building Data'!$F:$AA,22,FALSE),\"\")","v":""},{"$f":"IFERROR(VLOOKUP($B286,'Building Data'!$F$4:$AE$2970,26,FALSE),\"\")","v":""}]
[null,null,{"$f":"IFERROR(VLOOKUP($B287,'Building Data'!$F:$H,3,FALSE),\"\")","v":""},{"$f":"IFERROR(VLOOKUP($B287,'Building Data'!$F:$AA,22,FALSE),\"\")","v":""},{"$f":"IFERROR(VLOOKUP($B287,'Building Data'!$F$4:$AE$2970,26,FALSE),\"\")","v":""}]
[null,null,{"$f":"IFERROR(VLOOKUP($B288,'Building Data'!$F:$H,3,FALSE),\"\")","v":""},{"$f":"IFERROR(VLOOKUP($B288,'Building Data'!$F:$AA,22,FALSE),\"\")","v":""},{"$f":"IFERROR(VLOOKUP($B288,'Building Data'!$F$4:$AE$2970,26,FALSE),\"\")","v":""}]
[null,null,{"$f":"IFERROR(VLOOKUP($B289,'Building Data'!$F:$H,3,FALSE),\"\")","v":""},{"$f":"IFERROR(VLOOKUP($B289,'Building Data'!$F:$AA,22,FALSE),\"\")","v":""},{"$f":"IFERROR(VLOOKUP($B289,'Building Data'!$F$4:$AE$2970,26,FALSE),\"\")","v":""}]
[null,null,{"$f":"IFERROR(VLOOKUP($B290,'Building Data'!$F:$H,3,FALSE),\"\")","v":""},{"$f":"IFERROR(VLOOKUP($B290,'Building Data'!$F:$AA,22,FALSE),\"\")","v":""},{"$f":"IFERROR(VLOOKUP($B290,'Building Data'!$F$4:$AE$2970,26,FALSE),\"\")","v":""}]
[null,null,{"$f":"IFERROR(VLOOKUP($B291,'Building Data'!$F:$H,3,FALSE),\"\")","v":""},{"$f":"IFERROR(VLOOKUP($B291,'Building Data'!$F:$AA,22,FALSE),\"\")","v":""},{"$f":"IFERROR(VLOOKUP($B291,'Building Data'!$F$4:$AE$2970,26,FALSE),\"\")","v":""}]
[null,null,{"$f":"IFERROR(VLOOKUP($B292,'Building Data'!$F:$H,3,FALSE),\"\")","v":""},{"$f":"IFERROR(VLOOKUP($B292,'Building Data'!$F:$AA,22,FALSE),\"\")","v":""},{"$f":"IFERROR(VLOOKUP($B292,'Building Data'!$F$4:$AE$2970,26,FALSE),\"\")","v":""}]
[null,null,{"$f":"IFERROR(VLOOKUP($B293,'Building Data'!$F:$H,3,FALSE),\"\")","v":""},{"$f":"IFERROR(VLOOKUP($B293,'Building Data'!$F:$AA,22,FALSE),\"\")","v":""},{"$f":"IFERROR(VLOOKUP($B293,'Building Data'!$F$4:$AE$2970,26,FALSE),\"\")","v":""}]
[null,null,{"$f":"IFERROR(VLOOKUP($B294,'Building Data'!$F:$H,3,FALSE),\"\")","v":""},{"$f":"IFERROR(VLOOKUP($B294,'Building Data'!$F:$AA,22,FALSE),\"\")","v":""},{"$f":"IFERROR(VLOOKUP($B294,'Building Data'!$F$4:$AE$2970,26,FALSE),\"\")","v":""}]
[null,null,{"$f":"IFERROR(VLOOKUP($B295,'Building Data'!$F:$H,3,FALSE),\"\")","v":""},{"$f":"IFERROR(VLOOKUP($B295,'Building Data'!$F:$AA,22,FALSE),\"\")","v":""},{"$f":"IFERROR(VLOOKUP($B295,'Building Data'!$F$4:$AE$2970,26,FALSE),\"\")","v":""}]
[null,null,{"$f":"IFERROR(VLOOKUP($B296,'Building Data'!$F:$H,3,FALSE),\"\")","v":""},{"$f":"IFERROR(VLOOKUP($B296,'Building Data'!$F:$AA,22,FALSE),\"\")","v":""},{"$f":"IFERROR(VLOOKUP($B296,'Building Data'!$F$4:$AE$2970,26,FALSE),\"\")","v":""}]
[null,null,{"$f":"IFERROR(VLOOKUP($B297,'Building Data'!$F:$H,3,FALSE),\"\")","v":""},{"$f":"IFERROR(VLOOKUP($B297,'Building Data'!$F:$AA,22,FALSE),\"\")","v":""},{"$f":"IFERROR(VLOOKUP($B297,'Building Data'!$F$4:$AE$2970,26,FALSE),\"\")","v":""}]
[null,null,{"$f":"IFERROR(VLOOKUP($B298,'Building Data'!$F:$H,3,FALSE),\"\")","v":""},{"$f":"IFERROR(VLOOKUP($B298,'Building Data'!$F:$AA,22,FALSE),\"\")","v":""},{"$f":"IFERROR(VLOOKUP($B298,'Building Data'!$F$4:$AE$2970,26,FALSE),\"\")","v":""}]
[null,null,{"$f":"IFERROR(VLOOKUP($B299,'Building Data'!$F:$H,3,FALSE),\"\")","v":""},{"$f":"IFERROR(VLOOKUP($B299,'Building Data'!$F:$AA,22,FALSE),\"\")","v":""},{"$f":"IFERROR(VLOOKUP($B299,'Building Data'!$F$4:$AE$2970,26,FALSE),\"\")","v":""}]
[null,null,{"$f":"IFERROR(VLOOKUP($B300,'Building Data'!$F:$H,3,FALSE),\"\")","v":""},{"$f":"IFERROR(VLOOKUP($B300,'Building Data'!$F:$AA,22,FALSE),\"\")","v":""},{"$f":"IFERROR(VLOOKUP($B300,'Building Data'!$F$4:$AE$2970,26,FALSE),\"\")","v":""}]
[null,null,{"$f":"IFERROR(VLOOKUP($B301,'Building Data'!$F:$H,3,FALSE),\"\")","v":""},{"$f":"IFERROR(VLOOKUP($B301,'Building Data'!$F:$AA,22,FALSE),\"\")","v":""},{"$f":"IFERROR(VLOOKUP($B301,'Building Data'!$F$4:$AE$2970,26,FALSE),\"\")","v":""}]
[null,null,{"$f":"IFERROR(VLOOKUP($B302,'Building Data'!$F:$H,3,FALSE),\"\")","v":""},{"$f":"IFERROR(VLOOKUP($B302,'Building Data'!$F:$AA,22,FALSE),\"\")","v":""},{"$f":"IFERROR(VLOOKUP($B302,'Building Data'!$F$4:$AE$2970,26,FALSE),\"\")","v":""}]
[null,null,{"$f":"IFERROR(VLOOKUP($B303,'Building Data'!$F:$H,3,FALSE),\"\")","v":""},{"$f":"IFERROR(VLOOKUP($B303,'Building Data'!$F:$AA,22,FALSE),\"\")","v":""},{"$f":"IFERROR(VLOOKUP($B303,'Building Data'!$F$4:$AE$2970,26,FALSE),\"\")","v":""}]
[null,null,{"$f":"IFERROR(VLOOKUP($B304,'Building Data'!$F:$H,3,FALSE),\"\")","v":""},{"$f":"IFERROR(VLOOKUP($B304,'Building Data'!$F:$AA,22,FALSE),\"\")","v":""},{"$f":"IFERROR(VLOOKUP($B304,'Building Data'!$F$4:$AE$2970,26,FALSE),\"\")","v":""}]
[null,null,{"$f":"IFERROR(VLOOKUP($B305,'Building Data'!$F:$H,3,FALSE),\"\")","v":""},{"$f":"IFERROR(VLOOKUP($B305,'Building Data'!$F:$AA,22,FALSE),\"\")","v":""},{"$f":"IFERROR(VLOOKUP($B305,'Building Data'!$F$4:$AE$2970,26,FALSE),\"\")","v":""}]
[null,null,{"$f":"IFERROR(VLOOKUP($B306,'Building Data'!$F:$H,3,FALSE),\"\")","v":""},{"$f":"IFERROR(VLOOKUP($B306,'Building Data'!$F:$AA,22,FALSE),\"\")","v":""},{"$f":"IFERROR(VLOOKUP($B306,'Building Data'!$F$4:$AE$2970,26,FALSE),\"\")","v":""}]
[null,null,{"$f":"IFERROR(VLOOKUP($B307,'Building Data'!$F:$H,3,FALSE),\"\")","v":""},{"$f":"IFERROR(VLOOKUP($B307,'Building Data'!$F:$AA,22,FALSE),\"\")","v":""},{"$f":"IFERROR(VLOOKUP($B307,'Building Data'!$F$4:$AE$2970,26,FALSE),\"\")","v":""}]
[null,null,{"$f":"IFERROR(VLOOKUP($B308,'Building Data'!$F:$H,3,FALSE),\"\")","v":""},{"$f":"IFERROR(VLOOKUP($B308,'Building Data'!$F:$AA,22,FALSE),\"\")","v":""},{"$f":"IFERROR(VLOOKUP($B308,'Building Data'!$F$4:$AE$2970,26,FALSE),\"\")","v":""}]
[null,null,{"$f":"IFERROR(VLOOKUP($B309,'Building Data'!$F:$H,3,FALSE),\"\")","v":""},{"$f":"IFERROR(VLOOKUP($B309,'Building Data'!$F:$AA,22,FALSE),\"\")","v":""},{"$f":"IFERROR(VLOOKUP($B309,'Building Data'!$F$4:$AE$2970,26,FALSE),\"\")","v":""}]
[null,null,{"$f":"IFERROR(VLOOKUP($B310,'Building Data'!$F:$H,3,FALSE),\"\")","v":""},{"$f":"IFERROR(VLOOKUP($B310,'Building Data'!$F:$AA,22,FALSE),\"\")","v":""},{"$f":"IFERROR(VLOOKUP($B310,'Building Data'!$F$4:$AE$2970,26,FALSE),\"\")","v":""}]
[null,null,{"$f":"IFERROR(VLOOKUP($B311,'Building Data'!$F:$H,3,FALSE),\"\")","v":""},{"$f":"IFERROR(VLOOKUP($B311,'Building Data'!$F:$AA,22,FALSE),\"\")","v":""},{"$f":"IFERROR(VLOOKUP($B311,'Building Data'!$F$4:$AE$2970,26,FALSE),\"\")","v":""}]
[null,null,{"$f":"IFERROR(VLOOKUP($B312,'Building Data'!$F:$H,3,FALSE),\"\")","v":""},{"$f":"IFERROR(VLOOKUP($B312,'Building Data'!$F:$AA,22,FALSE),\"\")","v":""},{"$f":"IFERROR(VLOOKUP($B312,'Building Data'!$F$4:$AE$2970,26,FALSE),\"\")","v":""}]
[null,null,{"$f":"IFERROR(VLOOKUP($B313,'Building Data'!$F:$H,3,FALSE),\"\")","v":""},{"$f":"IFERROR(VLOOKUP($B313,'Building Data'!$F:$AA,22,FALSE),\"\")","v":""},{"$f":"IFERROR(VLOOKUP($B313,'Building Data'!$F$4:$AE$2970,26,FALSE),\"\")","v":""}]
[null,null,{"$f":"IFERROR(VLOOKUP($B314,'Building Data'!$F:$H,3,FALSE),\"\")","v":""},{"$f":"IFERROR(VLOOKUP($B314,'Building Data'!$F:$AA,22,FALSE),\"\")","v":""},{"$f":"IFERROR(VLOOKUP($B314,'Building Data'!$F$4:$AE$2970,26,FALSE),\"\")","v":""}]
[null,null,{"$f":"IFERROR(VLOOKUP($B315,'Building Data'!$F:$H,3,FALSE),\"\")","v":""},{"$f":"IFERROR(VLOOKUP($B315,'Building Data'!$F:$AA,22,FALSE),\"\")","v":""},{"$f":"IFERROR(VLOOKUP($B315,'Building Data'!$F$4:$AE$2970,26,FALSE),\"\")","v":""}]
[null,null,{"$f":"IFERROR(VLOOKUP($B316,'Building Data'!$F:$H,3,FALSE),\"\")","v":""},{"$f":"IFERROR(VLOOKUP($B316,'Building Data'!$F:$AA,22,FALSE),\"\")","v":""},{"$f":"IFERROR(VLOOKUP($B316,'Building Data'!$F$4:$AE$2970,26,FALSE),\"\")","v":""}]
[null,null,{"$f":"IFERROR(VLOOKUP($B317,'Building Data'!$F:$H,3,FALSE),\"\")","v":""},{"$f":"IFERROR(VLOOKUP($B317,'Building Data'!$F:$AA,22,FALSE),\"\")","v":""},{"$f":"IFERROR(VLOOKUP($B317,'Building Data'!$F$4:$AE$2970,26,FALSE),\"\")","v":""}]
[null,null,{"$f":"IFERROR(VLOOKUP($B318,'Building Data'!$F:$H,3,FALSE),\"\")","v":""},{"$f":"IFERROR(VLOOKUP($B318,'Building Data'!$F:$AA,22,FALSE),\"\")","v":""},{"$f":"IFERROR(VLOOKUP($B318,'Building Data'!$F$4:$AE$2970,26,FALSE),\"\")","v":""}]
[null,null,{"$f":"IFERROR(VLOOKUP($B319,'Building Data'!$F:$H,3,FALSE),\"\")","v":""},{"$f":"IFERROR(VLOOKUP($B319,'Building Data'!$F:$AA,22,FALSE),\"\")","v":""},{"$f":"IFERROR(VLOOKUP($B319,'Building Data'!$F$4:$AE$2970,26,FALSE),\"\")","v":""}]
[null,null,{"$f":"IFERROR(VLOOKUP($B320,'Building Data'!$F:$H,3,FALSE),\"\")","v":""},{"$f":"IFERROR(VLOOKUP($B320,'Building Data'!$F:$AA,22,FALSE),\"\")","v":""},{"$f":"IFERROR(VLOOKUP($B320,'Building Data'!$F$4:$AE$2970,26,FALSE),\"\")","v":""}]
[null,null,{"$f":"IFERROR(VLOOKUP($B321,'Building Data'!$F:$H,3,FALSE),\"\")","v":""},{"$f":"IFERROR(VLOOKUP($B321,'Building Data'!$F:$AA,22,FALSE),\"\")","v":""},{"$f":"IFERROR(VLOOKUP($B321,'Building Data'!$F$4:$AE$2970,26,FALSE),\"\")","v":""}]
[null,null,{"$f":"IFERROR(VLOOKUP($B322,'Building Data'!$F:$H,3,FALSE),\"\")","v":""},{"$f":"IFERROR(VLOOKUP($B322,'Building Data'!$F:$AA,22,FALSE),\"\")","v":""},{"$f":"IFERROR(VLOOKUP($B322,'Building Data'!$F$4:$AE$2970,26,FALSE),\"\")","v":""}]
[null,null,{"$f":"IFERROR(VLOOKUP($B323,'Building Data'!$F:$H,3,FALSE),\"\")","v":""},{"$f":"IFERROR(VLOOKUP($B323,'Building Data'!$F:$AA,22,FALSE),\"\")","v":""},{"$f":"IFERROR(VLOOKUP($B323,'Building Data'!$F$4:$AE$2970,26,FALSE),\"\")","v":""}]
[null,null,{"$f":"IFERROR(VLOOKUP($B324,'Building Data'!$F:$H,3,FALSE),\"\")","v":""},{"$f":"IFERROR(VLOOKUP($B324,'Building Data'!$F:$AA,22,FALSE),\"\")","v":""},{"$f":"IFERROR(VLOOKUP($B324,'Building Data'!$F$4:$AE$2970,26,FALSE),\"\")","v":""}]
[null,null,{"$f":"IFERROR(VLOOKUP($B325,'Building Data'!$F:$H,3,FALSE),\"\")","v":""},{"$f":"IFERROR(VLOOKUP($B325,'Building Data'!$F:$AA,22,FALSE),\"\")","v":""},{"$f":"IFERROR(VLOOKUP($B325,'Building Data'!$F$4:$AE$2970,26,FALSE),\"\")","v":""}]
[null,null,{"$f":"IFERROR(VLOOKUP($B326,'Building Data'!$F:$H,3,FALSE),\"\")","v":""},{"$f":"IFERROR(VLOOKUP($B326,'Building Data'!$F:$AA,22,FALSE),\"\")","v":""},{"$f":"IFERROR(VLOOKUP($B326,'Building Data'!$F$4:$AE$2970,26,FALSE),\"\")","v":""}]
[null,null,{"$f":"IFERROR(VLOOKUP($B327,'Building Data'!$F:$H,3,FALSE),\"\")","v":""},{"$f":"IFERROR(VLOOKUP($B327,'Building Data'!$F:$AA,22,FALSE),\"\")","v":""},{"$f":"IFERROR(VLOOKUP($B327,'Building Data'!$F$4:$AE$2970,26,FALSE),\"\")","v":""}]
[null,null,{"$f":"IFERROR(VLOOKUP($B328,'Building Data'!$F:$H,3,FALSE),\"\")","v":""},{"$f":"IFERROR(VLOOKUP($B328,'Building Data'!$F:$AA,22,FALSE),\"\")","v":""},{"$f":"IFERROR(VLOOKUP($B328,'Building Data'!$F$4:$AE$2970,26,FALSE),\"\")","v":""}]
[null,null,{"$f":"IFERROR(VLOOKUP($B329,'Building Data'!$F:$H,3,FALSE),\"\")","v":""},{"$f":"IFERROR(VLOOKUP($B329,'Building Data'!$F:$AA,22,FALSE),\"\")","v":""},{"$f":"IFERROR(VLOOKUP($B329,'Building Data'!$F$4:$AE$2970,26,FALSE),\"\")","v":""}]
[null,null,{"$f":"IFERROR(VLOOKUP($B330,'Building Data'!$F:$H,3,FALSE),\"\")","v":""},{"$f":"IFERROR(VLOOKUP($B330,'Building Data'!$F:$AA,22,FALSE),\"\")","v":""},{"$f":"IFERROR(VLOOKUP($B330,'Building Data'!$F$4:$AE$2970,26,FALSE),\"\")","v":""}]
[null,null,{"$f":"IFERROR(VLOOKUP($B331,'Building Data'!$F:$H,3,FALSE),\"\")","v":""},{"$f":"IFERROR(VLOOKUP($B331,'Building Data'!$F:$AA,22,FALSE),\"\")","v":""},{"$f":"IFERROR(VLOOKUP($B331,'Building Data'!$F$4:$AE$2970,26,FALSE),\"\")","v":""}]
[null,null,{"$f":"IFERROR(VLOOKUP($B332,'Building Data'!$F:$H,3,FALSE),\"\")","v":""},{"$f":"IFERROR(VLOOKUP($B332,'Building Data'!$F:$AA,22,FALSE),\"\")","v":""},{"$f":"IFERROR(VLOOKUP($B332,'Building Data'!$F$4:$AE$2970,26,FALSE),\"\")","v":""}]
[null,null,{"$f":"IFERROR(VLOOKUP($B333,'Building Data'!$F:$H,3,FALSE),\"\")","v":""},{"$f":"IFERROR(VLOOKUP($B333,'Building Data'!$F:$AA,22,FALSE),\"\")","v":""},{"$f":"IFERROR(VLOOKUP($B333,'Building Data'!$F$4:$AE$2970,26,FALSE),\"\")","v":""}]
[null,null,{"$f":"IFERROR(VLOOKUP($B334,'Building Data'!$F:$H,3,FALSE),\"\")","v":""},{"$f":"IFERROR(VLOOKUP($B334,'Building Data'!$F:$AA,22,FALSE),\"\")","v":""},{"$f":"IFERROR(VLOOKUP($B334,'Building Data'!$F$4:$AE$2970,26,FALSE),\"\")","v":""}]
[null,null,{"$f":"IFERROR(VLOOKUP($B335,'Building Data'!$F:$H,3,FALSE),\"\")","v":""},{"$f":"IFERROR(VLOOKUP($B335,'Building Data'!$F:$AA,22,FALSE),\"\")","v":""},{"$f":"IFERROR(VLOOKUP($B335,'Building Data'!$F$4:$AE$2970,26,FALSE),\"\")","v":""}]
[null,null,{"$f":"IFERROR(VLOOKUP($B336,'Building Data'!$F:$H,3,FALSE),\"\")","v":""},{"$f":"IFERROR(VLOOKUP($B336,'Building Data'!$F:$AA,22,FALSE),\"\")","v":""},{"$f":"IFERROR(VLOOKUP($B336,'Building Data'!$F$4:$AE$2970,26,FALSE),\"\")","v":""}]
[null,null,{"$f":"IFERROR(VLOOKUP($B337,'Building Data'!$F:$H,3,FALSE),\"\")","v":""},{"$f":"IFERROR(VLOOKUP($B337,'Building Data'!$F:$AA,22,FALSE),\"\")","v":""},{"$f":"IFERROR(VLOOKUP($B337,'Building Data'!$F$4:$AE$2970,26,FALSE),\"\")","v":""}]
[null,null,{"$f":"IFERROR(VLOOKUP($B338,'Building Data'!$F:$H,3,FALSE),\"\")","v":""},{"$f":"IFERROR(VLOOKUP($B338,'Building Data'!$F:$AA,22,FALSE),\"\")","v":""},{"$f":"IFERROR(VLOOKUP($B338,'Building Data'!$F$4:$AE$2970,26,FALSE),\"\")","v":""}]
[null,null,{"$f":"IFERROR(VLOOKUP($B339,'Building Data'!$F:$H,3,FALSE),\"\")","v":""},{"$f":"IFERROR(VLOOKUP($B339,'Building Data'!$F:$AA,22,FALSE),\"\")","v":""},{"$f":"IFERROR(VLOOKUP($B339,'Building Data'!$F$4:$AE$2970,26,FALSE),\"\")","v":""}]
[null,null,{"$f":"IFERROR(VLOOKUP($B340,'Building Data'!$F:$H,3,FALSE),\"\")","v":""},{"$f":"IFERROR(VLOOKUP($B340,'Building Data'!$F:$AA,22,FALSE),\"\")","v":""},{"$f":"IFERROR(VLOOKUP($B340,'Building Data'!$F$4:$AE$2970,26,FALSE),\"\")","v":""}]
[null,null,{"$f":"IFERROR(VLOOKUP($B341,'Building Data'!$F:$H,3,FALSE),\"\")","v":""},{"$f":"IFERROR(VLOOKUP($B341,'Building Data'!$F:$AA,22,FALSE),\"\")","v":""},{"$f":"IFERROR(VLOOKUP($B341,'Building Data'!$F$4:$AE$2970,26,FALSE),\"\")","v":""}]
[null,null,{"$f":"IFERROR(VLOOKUP($B342,'Building Data'!$F:$H,3,FALSE),\"\")","v":""},{"$f":"IFERROR(VLOOKUP($B342,'Building Data'!$F:$AA,22,FALSE),\"\")","v":""},{"$f":"IFERROR(VLOOKUP($B342,'Building Data'!$F$4:$AE$2970,26,FALSE),\"\")","v":""}]
[null,null,{"$f":"IFERROR(VLOOKUP($B343,'Building Data'!$F:$H,3,FALSE),\"\")","v":""},{"$f":"IFERROR(VLOOKUP($B343,'Building Data'!$F:$AA,22,FALSE),\"\")","v":""},{"$f":"IFERROR(VLOOKUP($B343,'Building Data'!$F$4:$AE$2970,26,FALSE),\"\")","v":""}]
[null,null,{"$f":"IFERROR(VLOOKUP($B344,'Building Data'!$F:$H,3,FALSE),\"\")","v":""},{"$f":"IFERROR(VLOOKUP($B344,'Building Data'!$F:$AA,22,FALSE),\"\")","v":""},{"$f":"IFERROR(VLOOKUP($B344,'Building Data'!$F$4:$AE$2970,26,FALSE),\"\")","v":""}]
[null,null,{"$f":"IFERROR(VLOOKUP($B345,'Building Data'!$F:$H,3,FALSE),\"\")","v":""},{"$f":"IFERROR(VLOOKUP($B345,'Building Data'!$F:$AA,22,FALSE),\"\")","v":""},{"$f":"IFERROR(VLOOKUP($B345,'Building Data'!$F$4:$AE$2970,26,FALSE),\"\")","v":""}]
[null,null,{"$f":"IFERROR(VLOOKUP($B346,'Building Data'!$F:$H,3,FALSE),\"\")","v":""},{"$f":"IFERROR(VLOOKUP($B346,'Building Data'!$F:$AA,22,FALSE),\"\")","v":""},{"$f":"IFERROR(VLOOKUP($B346,'Building Data'!$F$4:$AE$2970,26,FALSE),\"\")","v":""}]
[null,null,{"$f":"IFERROR(VLOOKUP($B347,'Building Data'!$F:$H,3,FALSE),\"\")","v":""},{"$f":"IFERROR(VLOOKUP($B347,'Building Data'!$F:$AA,22,FALSE),\"\")","v":""},{"$f":"IFERROR(VLOOKUP($B347,'Building Data'!$F$4:$AE$2970,26,FALSE),\"\")","v":""}]
[null,null,{"$f":"IFERROR(VLOOKUP($B348,'Building Data'!$F:$H,3,FALSE),\"\")","v":""},{"$f":"IFERROR(VLOOKUP($B348,'Building Data'!$F:$AA,22,FALSE),\"\")","v":""},{"$f":"IFERROR(VLOOKUP($B348,'Building Data'!$F$4:$AE$2970,26,FALSE),\"\")","v":""}]
[null,null,{"$f":"IFERROR(VLOOKUP($B349,'Building Data'!$F:$H,3,FALSE),\"\")","v":""},{"$f":"IFERROR(VLOOKUP($B349,'Building Data'!$F:$AA,22,FALSE),\"\")","v":""},{"$f":"IFERROR(VLOOKUP($B349,'Building Data'!$F$4:$AE$2970,26,FALSE),\"\")","v":""}]
[null,null,{"$f":"IFERROR(VLOOKUP($B350,'Building Data'!$F:$H,3,FALSE),\"\")","v":""},{"$f":"IFERROR(VLOOKUP($B350,'Building Data'!$F:$AA,22,FALSE),\"\")","v":""},{"$f":"IFERROR(VLOOKUP($B350,'Building Data'!$F$4:$AE$2970,26,FALSE),\"\")","v":""}]
[null,null,{"$f":"IFERROR(VLOOKUP($B351,'Building Data'!$F:$H,3,FALSE),\"\")","v":""},{"$f":"IFERROR(VLOOKUP($B351,'Building Data'!$F:$AA,22,FALSE),\"\")","v":""},{"$f":"IFERROR(VLOOKUP($B351,'Building Data'!$F$4:$AE$2970,26,FALSE),\"\")","v":""}]
[null,null,{"$f":"IFERROR(VLOOKUP($B352,'Building Data'!$F:$H,3,FALSE),\"\")","v":""},{"$f":"IFERROR(VLOOKUP($B352,'Building Data'!$F:$AA,22,FALSE),\"\")","v":""},{"$f":"IFERROR(VLOOKUP($B352,'Building Data'!$F$4:$AE$2970,26,FALSE),\"\")","v":""}]
[null,null,{"$f":"IFERROR(VLOOKUP($B353,'Building Data'!$F:$H,3,FALSE),\"\")","v":""},{"$f":"IFERROR(VLOOKUP($B353,'Building Data'!$F:$AA,22,FALSE),\"\")","v":""},{"$f":"IFERROR(VLOOKUP($B353,'Building Data'!$F$4:$AE$2970,26,FALSE),\"\")","v":""}]
[null,null,{"$f":"IFERROR(VLOOKUP($B354,'Building Data'!$F:$H,3,FALSE),\"\")","v":""},{"$f":"IFERROR(VLOOKUP($B354,'Building Data'!$F:$AA,22,FALSE),\"\")","v":""},{"$f":"IFERROR(VLOOKUP($B354,'Building Data'!$F$4:$AE$2970,26,FALSE),\"\")","v":""}]
[null,null,{"$f":"IFERROR(VLOOKUP($B355,'Building Data'!$F:$H,3,FALSE),\"\")","v":""},{"$f":"IFERROR(VLOOKUP($B355,'Building Data'!$F:$AA,22,FALSE),\"\")","v":""},{"$f":"IFERROR(VLOOKUP($B355,'Building Data'!$F$4:$AE$2970,26,FALSE),\"\")","v":""}]
[null,null,{"$f":"IFERROR(VLOOKUP($B356,'Building Data'!$F:$H,3,FALSE),\"\")","v":""},{"$f":"IFERROR(VLOOKUP($B356,'Building Data'!$F:$AA,22,FALSE),\"\")","v":""},{"$f":"IFERROR(VLOOKUP($B356,'Building Data'!$F$4:$AE$2970,26,FALSE),\"\")","v":""}]
[null,null,{"$f":"IFERROR(VLOOKUP($B357,'Building Data'!$F:$H,3,FALSE),\"\")","v":""},{"$f":"IFERROR(VLOOKUP($B357,'Building Data'!$F:$AA,22,FALSE),\"\")","v":""},{"$f":"IFERROR(VLOOKUP($B357,'Building Data'!$F$4:$AE$2970,26,FALSE),\"\")","v":""}]
[null,null,{"$f":"IFERROR(VLOOKUP($B358,'Building Data'!$F:$H,3,FALSE),\"\")","v":""},{"$f":"IFERROR(VLOOKUP($B358,'Building Data'!$F:$AA,22,FALSE),\"\")","v":""},{"$f":"IFERROR(VLOOKUP($B358,'Building Data'!$F$4:$AE$2970,26,FALSE),\"\")","v":""}]
[null,null,{"$f":"IFERROR(VLOOKUP($B359,'Building Data'!$F:$H,3,FALSE),\"\")","v":""},{"$f":"IFERROR(VLOOKUP($B359,'Building Data'!$F:$AA,22,FALSE),\"\")","v":""},{"$f":"IFERROR(VLOOKUP($B359,'Building Data'!$F$4:$AE$2970,26,FALSE),\"\")","v":""}]
[null,null,{"$f":"IFERROR(VLOOKUP($B360,'Building Data'!$F:$H,3,FALSE),\"\")","v":""},{"$f":"IFERROR(VLOOKUP($B360,'Building Data'!$F:$AA,22,FALSE),\"\")","v":""},{"$f":"IFERROR(VLOOKUP($B360,'Building Data'!$F$4:$AE$2970,26,FALSE),\"\")","v":""}]
[null,null,{"$f":"IFERROR(VLOOKUP($B361,'Building Data'!$F:$H,3,FALSE),\"\")","v":""},{"$f":"IFERROR(VLOOKUP($B361,'Building Data'!$F:$AA,22,FALSE),\"\")","v":""},{"$f":"IFERROR(VLOOKUP($B361,'Building Data'!$F$4:$AE$2970,26,FALSE),\"\")","v":""}]
[null,null,{"$f":"IFERROR(VLOOKUP($B362,'Building Data'!$F:$H,3,FALSE),\"\")","v":""},{"$f":"IFERROR(VLOOKUP($B362,'Building Data'!$F:$AA,22,FALSE),\"\")","v":""},{"$f":"IFERROR(VLOOKUP($B362,'Building Data'!$F$4:$AE$2970,26,FALSE),\"\")","v":""}]
[null,null,{"$f":"IFERROR(VLOOKUP($B363,'Building Data'!$F:$H,3,FALSE),\"\")","v":""},{"$f":"IFERROR(VLOOKUP($B363,'Building Data'!$F:$AA,22,FALSE),\"\")","v":""},{"$f":"IFERROR(VLOOKUP($B363,'Building Data'!$F$4:$AE$2970,26,FALSE),\"\")","v":""}]
[null,null,{"$f":"IFERROR(VLOOKUP($B364,'Building Data'!$F:$H,3,FALSE),\"\")","v":""},{"$f":"IFERROR(VLOOKUP($B364,'Building Data'!$F:$AA,22,FALSE),\"\")","v":""},{"$f":"IFERROR(VLOOKUP($B364,'Building Data'!$F$4:$AE$2970,26,FALSE),\"\")","v":""}]
[null,null,{"$f":"IFERROR(VLOOKUP($B365,'Building Data'!$F:$H,3,FALSE),\"\")","v":""},{"$f":"IFERROR(VLOOKUP($B365,'Building Data'!$F:$AA,22,FALSE),\"\")","v":""},{"$f":"IFERROR(VLOOKUP($B365,'Building Data'!$F$4:$AE$2970,26,FALSE),\"\")","v":""}]
[null,null,{"$f":"IFERROR(VLOOKUP($B366,'Building Data'!$F:$H,3,FALSE),\"\")","v":""},{"$f":"IFERROR(VLOOKUP($B366,'Building Data'!$F:$AA,22,FALSE),\"\")","v":""},{"$f":"IFERROR(VLOOKUP($B366,'Building Data'!$F$4:$AE$2970,26,FALSE),\"\")","v":""}]
[null,null,{"$f":"IFERROR(VLOOKUP($B367,'Building Data'!$F:$H,3,FALSE),\"\")","v":""},{"$f":"IFERROR(VLOOKUP($B367,'Building Data'!$F:$AA,22,FALSE),\"\")","v":""},{"$f":"IFERROR(VLOOKUP($B367,'Building Data'!$F$4:$AE$2970,26,FALSE),\"\")","v":""}]
[null,null,{"$f":"IFERROR(VLOOKUP($B368,'Building Data'!$F:$H,3,FALSE),\"\")","v":""},{"$f":"IFERROR(VLOOKUP($B368,'Building Data'!$F:$AA,22,FALSE),\"\")","v":""},{"$f":"IFERROR(VLOOKUP($B368,'Building Data'!$F$4:$AE$2970,26,FALSE),\"\")","v":""}]
[null,null,{"$f":"IFERROR(VLOOKUP($B369,'Building Data'!$F:$H,3,FALSE),\"\")","v":""},{"$f":"IFERROR(VLOOKUP($B369,'Building Data'!$F:$AA,22,FALSE),\"\")","v":""},{"$f":"IFERROR(VLOOKUP($B369,'Building Data'!$F$4:$AE$2970,26,FALSE),\"\")","v":""}]
[null,null,{"$f":"IFERROR(VLOOKUP($B370,'Building Data'!$F:$H,3,FALSE),\"\")","v":""},{"$f":"IFERROR(VLOOKUP($B370,'Building Data'!$F:$AA,22,FALSE),\"\")","v":""},{"$f":"IFERROR(VLOOKUP($B370,'Building Data'!$F$4:$AE$2970,26,FALSE),\"\")","v":""}]
[null,null,{"$f":"IFERROR(VLOOKUP($B371,'Building Data'!$F:$H,3,FALSE),\"\")","v":""},{"$f":"IFERROR(VLOOKUP($B371,'Building Data'!$F:$AA,22,FALSE),\"\")","v":""},{"$f":"IFERROR(VLOOKUP($B371,'Building Data'!$F$4:$AE$2970,26,FALSE),\"\")","v":""}]
[null,null,{"$f":"IFERROR(VLOOKUP($B372,'Building Data'!$F:$H,3,FALSE),\"\")","v":""},{"$f":"IFERROR(VLOOKUP($B372,'Building Data'!$F:$AA,22,FALSE),\"\")","v":""},{"$f":"IFERROR(VLOOKUP($B372,'Building Data'!$F$4:$AE$2970,26,FALSE),\"\")","v":""}]
[null,null,{"$f":"IFERROR(VLOOKUP($B373,'Building Data'!$F:$H,3,FALSE),\"\")","v":""},{"$f":"IFERROR(VLOOKUP($B373,'Building Data'!$F:$AA,22,FALSE),\"\")","v":""},{"$f":"IFERROR(VLOOKUP($B373,'Building Data'!$F$4:$AE$2970,26,FALSE),\"\")","v":""}]
[null,null,{"$f":"IFERROR(VLOOKUP($B374,'Building Data'!$F:$H,3,FALSE),\"\")","v":""},{"$f":"IFERROR(VLOOKUP($B374,'Building Data'!$F:$AA,22,FALSE),\"\")","v":""},{"$f":"IFERROR(VLOOKUP($B374,'Building Data'!$F$4:$AE$2970,26,FALSE),\"\")","v":""}]
[null,null,{"$f":"IFERROR(VLOOKUP($B375,'Building Data'!$F:$H,3,FALSE),\"\")","v":""},{"$f":"IFERROR(VLOOKUP($B375,'Building Data'!$F:$AA,22,FALSE),\"\")","v":""},{"$f":"IFERROR(VLOOKUP($B375,'Building Data'!$F$4:$AE$2970,26,FALSE),\"\")","v":""}]
[null,null,{"$f":"IFERROR(VLOOKUP($B376,'Building Data'!$F:$H,3,FALSE),\"\")","v":""},{"$f":"IFERROR(VLOOKUP($B376,'Building Data'!$F:$AA,22,FALSE),\"\")","v":""},{"$f":"IFERROR(VLOOKUP($B376,'Building Data'!$F$4:$AE$2970,26,FALSE),\"\")","v":""}]
[null,null,{"$f":"IFERROR(VLOOKUP($B377,'Building Data'!$F:$H,3,FALSE),\"\")","v":""},{"$f":"IFERROR(VLOOKUP($B377,'Building Data'!$F:$AA,22,FALSE),\"\")","v":""},{"$f":"IFERROR(VLOOKUP($B377,'Building Data'!$F$4:$AE$2970,26,FALSE),\"\")","v":""}]
[null,null,{"$f":"IFERROR(VLOOKUP($B378,'Building Data'!$F:$H,3,FALSE),\"\")","v":""},{"$f":"IFERROR(VLOOKUP($B378,'Building Data'!$F:$AA,22,FALSE),\"\")","v":""},{"$f":"IFERROR(VLOOKUP($B378,'Building Data'!$F$4:$AE$2970,26,FALSE),\"\")","v":""}]
[null,null,{"$f":"IFERROR(VLOOKUP($B379,'Building Data'!$F:$H,3,FALSE),\"\")","v":""},{"$f":"IFERROR(VLOOKUP($B379,'Building Data'!$F:$AA,22,FALSE),\"\")","v":""},{"$f":"IFERROR(VLOOKUP($B379,'Building Data'!$F$4:$AE$2970,26,FALSE),\"\")","v":""}]
[null,null,{"$f":"IFERROR(VLOOKUP($B380,'Building Data'!$F:$H,3,FALSE),\"\")","v":""},{"$f":"IFERROR(VLOOKUP($B380,'Building Data'!$F:$AA,22,FALSE),\"\")","v":""},{"$f":"IFERROR(VLOOKUP($B380,'Building Data'!$F$4:$AE$2970,26,FALSE),\"\")","v":""}]
[null,null,{"$f":"IFERROR(VLOOKUP($B381,'Building Data'!$F:$H,3,FALSE),\"\")","v":""},{"$f":"IFERROR(VLOOKUP($B381,'Building Data'!$F:$AA,22,FALSE),\"\")","v":""},{"$f":"IFERROR(VLOOKUP($B381,'Building Data'!$F$4:$AE$2970,26,FALSE),\"\")","v":""}]
[null,null,{"$f":"IFERROR(VLOOKUP($B382,'Building Data'!$F:$H,3,FALSE),\"\")","v":""},{"$f":"IFERROR(VLOOKUP($B382,'Building Data'!$F:$AA,22,FALSE),\"\")","v":""},{"$f":"IFERROR(VLOOKUP($B382,'Building Data'!$F$4:$AE$2970,26,FALSE),\"\")","v":""}]
[null,null,{"$f":"IFERROR(VLOOKUP($B383,'Building Data'!$F:$H,3,FALSE),\"\")","v":""},{"$f":"IFERROR(VLOOKUP($B383,'Building Data'!$F:$AA,22,FALSE),\"\")","v":""},{"$f":"IFERROR(VLOOKUP($B383,'Building Data'!$F$4:$AE$2970,26,FALSE),\"\")","v":""}]
[null,null,{"$f":"IFERROR(VLOOKUP($B384,'Building Data'!$F:$H,3,FALSE),\"\")","v":""},{"$f":"IFERROR(VLOOKUP($B384,'Building Data'!$F:$AA,22,FALSE),\"\")","v":""},{"$f":"IFERROR(VLOOKUP($B384,'Building Data'!$F$4:$AE$2970,26,FALSE),\"\")","v":""}]
[null,null,{"$f":"IFERROR(VLOOKUP($B385,'Building Data'!$F:$H,3,FALSE),\"\")","v":""},{"$f":"IFERROR(VLOOKUP($B385,'Building Data'!$F:$AA,22,FALSE),\"\")","v":""},{"$f":"IFERROR(VLOOKUP($B385,'Building Data'!$F$4:$AE$2970,26,FALSE),\"\")","v":""}]
[null,null,{"$f":"IFERROR(VLOOKUP($B386,'Building Data'!$F:$H,3,FALSE),\"\")","v":""},{"$f":"IFERROR(VLOOKUP($B386,'Building Data'!$F:$AA,22,FALSE),\"\")","v":""},{"$f":"IFERROR(VLOOKUP($B386,'Building Data'!$F$4:$AE$2970,26,FALSE),\"\")","v":""}]
[null,null,{"$f":"IFERROR(VLOOKUP($B387,'Building Data'!$F:$H,3,FALSE),\"\")","v":""},{"$f":"IFERROR(VLOOKUP($B387,'Building Data'!$F:$AA,22,FALSE),\"\")","v":""},{"$f":"IFERROR(VLOOKUP($B387,'Building Data'!$F$4:$AE$2970,26,FALSE),\"\")","v":""}]
[null,null,{"$f":"IFERROR(VLOOKUP($B388,'Building Data'!$F:$H,3,FALSE),\"\")","v":""},{"$f":"IFERROR(VLOOKUP($B388,'Building Data'!$F:$AA,22,FALSE),\"\")","v":""},{"$f":"IFERROR(VLOOKUP($B388,'Building Data'!$F$4:$AE$2970,26,FALSE),\"\")","v":""}]
[null,null,{"$f":"IFERROR(VLOOKUP($B389,'Building Data'!$F:$H,3,FALSE),\"\")","v":""},{"$f":"IFERROR(VLOOKUP($B389,'Building Data'!$F:$AA,22,FALSE),\"\")","v":""},{"$f":"IFERROR(VLOOKUP($B389,'Building Data'!$F$4:$AE$2970,26,FALSE),\"\")","v":""}]
[null,null,{"$f":"IFERROR(VLOOKUP($B390,'Building Data'!$F:$H,3,FALSE),\"\")","v":""},{"$f":"IFERROR(VLOOKUP($B390,'Building Data'!$F:$AA,22,FALSE),\"\")","v":""},{"$f":"IFERROR(VLOOKUP($B390,'Building Data'!$F$4:$AE$2970,26,FALSE),\"\")","v":""}]
[null,null,{"$f":"IFERROR(VLOOKUP($B391,'Building Data'!$F:$H,3,FALSE),\"\")","v":""},{"$f":"IFERROR(VLOOKUP($B391,'Building Data'!$F:$AA,22,FALSE),\"\")","v":""},{"$f":"IFERROR(VLOOKUP($B391,'Building Data'!$F$4:$AE$2970,26,FALSE),\"\")","v":""}]
[null,null,{"$f":"IFERROR(VLOOKUP($B392,'Building Data'!$F:$H,3,FALSE),\"\")","v":""},{"$f":"IFERROR(VLOOKUP($B392,'Building Data'!$F:$AA,22,FALSE),\"\")","v":""},{"$f":"IFERROR(VLOOKUP($B392,'Building Data'!$F$4:$AE$2970,26,FALSE),\"\")","v":""}]
[null,null,{"$f":"IFERROR(VLOOKUP($B393,'Building Data'!$F:$H,3,FALSE),\"\")","v":""},{"$f":"IFERROR(VLOOKUP($B393,'Building Data'!$F:$AA,22,FALSE),\"\")","v":""},{"$f":"IFERROR(VLOOKUP($B393,'Building Data'!$F$4:$AE$2970,26,FALSE),\"\")","v":""}]
[null,null,{"$f":"IFERROR(VLOOKUP($B394,'Building Data'!$F:$H,3,FALSE),\"\")","v":""},{"$f":"IFERROR(VLOOKUP($B394,'Building Data'!$F:$AA,22,FALSE),\"\")","v":""},{"$f":"IFERROR(VLOOKUP($B394,'Building Data'!$F$4:$AE$2970,26,FALSE),\"\")","v":""}]
[null,null,{"$f":"IFERROR(VLOOKUP($B395,'Building Data'!$F:$H,3,FALSE),\"\")","v":""},{"$f":"IFERROR(VLOOKUP($B395,'Building Data'!$F:$AA,22,FALSE),\"\")","v":""},{"$f":"IFERROR(VLOOKUP($B395,'Building Data'!$F$4:$AE$2970,26,FALSE),\"\")","v":""}]
[null,null,{"$f":"IFERROR(VLOOKUP($B396,'Building Data'!$F:$H,3,FALSE),\"\")","v":""},{"$f":"IFERROR(VLOOKUP($B396,'Building Data'!$F:$AA,22,FALSE),\"\")","v":""},{"$f":"IFERROR(VLOOKUP($B396,'Building Data'!$F$4:$AE$2970,26,FALSE),\"\")","v":""}]
[null,null,{"$f":"IFERROR(VLOOKUP($B397,'Building Data'!$F:$H,3,FALSE),\"\")","v":""},{"$f":"IFERROR(VLOOKUP($B397,'Building Data'!$F:$AA,22,FALSE),\"\")","v":""},{"$f":"IFERROR(VLOOKUP($B397,'Building Data'!$F$4:$AE$2970,26,FALSE),\"\")","v":""}]
[null,null,{"$f":"IFERROR(VLOOKUP($B398,'Building Data'!$F:$H,3,FALSE),\"\")","v":""},{"$f":"IFERROR(VLOOKUP($B398,'Building Data'!$F:$AA,22,FALSE),\"\")","v":""},{"$f":"IFERROR(VLOOKUP($B398,'Building Data'!$F$4:$AE$2970,26,FALSE),\"\")","v":""}]
[null,null,{"$f":"IFERROR(VLOOKUP($B399,'Building Data'!$F:$H,3,FALSE),\"\")","v":""},{"$f":"IFERROR(VLOOKUP($B399,'Building Data'!$F:$AA,22,FALSE),\"\")","v":""},{"$f":"IFERROR(VLOOKUP($B399,'Building Data'!$F$4:$AE$2970,26,FALSE),\"\")","v":""}]
[null,null,{"$f":"IFERROR(VLOOKUP($B400,'Building Data'!$F:$H,3,FALSE),\"\")","v":""},{"$f":"IFERROR(VLOOKUP($B400,'Building Data'!$F:$AA,22,FALSE),\"\")","v":""},{"$f":"IFERROR(VLOOKUP($B400,'Building Data'!$F$4:$AE$2970,26,FALSE),\"\")","v":""}]
[null,null,{"$f":"IFERROR(VLOOKUP($B401,'Building Data'!$F:$H,3,FALSE),\"\")","v":""},{"$f":"IFERROR(VLOOKUP($B401,'Building Data'!$F:$AA,22,FALSE),\"\")","v":""},{"$f":"IFERROR(VLOOKUP($B401,'Building Data'!$F$4:$AE$2970,26,FALSE),\"\")","v":""}]
[null,null,{"$f":"IFERROR(VLOOKUP($B402,'Building Data'!$F:$H,3,FALSE),\"\")","v":""},{"$f":"IFERROR(VLOOKUP($B402,'Building Data'!$F:$AA,22,FALSE),\"\")","v":""},{"$f":"IFERROR(VLOOKUP($B402,'Building Data'!$F$4:$AE$2970,26,FALSE),\"\")","v":""}]
[null,null,{"$f":"IFERROR(VLOOKUP($B403,'Building Data'!$F:$H,3,FALSE),\"\")","v":""},{"$f":"IFERROR(VLOOKUP($B403,'Building Data'!$F:$AA,22,FALSE),\"\")","v":""},{"$f":"IFERROR(VLOOKUP($B403,'Building Data'!$F$4:$AE$2970,26,FALSE),\"\")","v":""}]
[null,null,{"$f":"IFERROR(VLOOKUP($B404,'Building Data'!$F:$H,3,FALSE),\"\")","v":""},{"$f":"IFERROR(VLOOKUP($B404,'Building Data'!$F:$AA,22,FALSE),\"\")","v":""},{"$f":"IFERROR(VLOOKUP($B404,'Building Data'!$F$4:$AE$2970,26,FALSE),\"\")","v":""}]
[null,null,{"$f":"IFERROR(VLOOKUP($B405,'Building Data'!$F:$H,3,FALSE),\"\")","v":""},{"$f":"IFERROR(VLOOKUP($B405,'Building Data'!$F:$AA,22,FALSE),\"\")","v":""},{"$f":"IFERROR(VLOOKUP($B405,'Building Data'!$F$4:$AE$2970,26,FALSE),\"\")","v":""}]
[null,null,{"$f":"IFERROR(VLOOKUP($B406,'Building Data'!$F:$H,3,FALSE),\"\")","v":""},{"$f":"IFERROR(VLOOKUP($B406,'Building Data'!$F:$AA,22,FALSE),\"\")","v":""},{"$f":"IFERROR(VLOOKUP($B406,'Building Data'!$F$4:$AE$2970,26,FALSE),\"\")","v":""}]
[null,null,{"$f":"IFERROR(VLOOKUP($B407,'Building Data'!$F:$H,3,FALSE),\"\")","v":""},{"$f":"IFERROR(VLOOKUP($B407,'Building Data'!$F:$AA,22,FALSE),\"\")","v":""},{"$f":"IFERROR(VLOOKUP($B407,'Building Data'!$F$4:$AE$2970,26,FALSE),\"\")","v":""}]
[null,null,{"$f":"IFERROR(VLOOKUP($B408,'Building Data'!$F:$H,3,FALSE),\"\")","v":""},{"$f":"IFERROR(VLOOKUP($B408,'Building Data'!$F:$AA,22,FALSE),\"\")","v":""},{"$f":"IFERROR(VLOOKUP($B408,'Building Data'!$F$4:$AE$2970,26,FALSE),\"\")","v":""}]
[null,null,{"$f":"IFERROR(VLOOKUP($B409,'Building Data'!$F:$H,3,FALSE),\"\")","v":""},{"$f":"IFERROR(VLOOKUP($B409,'Building Data'!$F:$AA,22,FALSE),\"\")","v":""},{"$f":"IFERROR(VLOOKUP($B409,'Building Data'!$F$4:$AE$2970,26,FALSE),\"\")","v":""}]
[null,null,{"$f":"IFERROR(VLOOKUP($B410,'Building Data'!$F:$H,3,FALSE),\"\")","v":""},{"$f":"IFERROR(VLOOKUP($B410,'Building Data'!$F:$AA,22,FALSE),\"\")","v":""},{"$f":"IFERROR(VLOOKUP($B410,'Building Data'!$F$4:$AE$2970,26,FALSE),\"\")","v":""}]
[null,null,{"$f":"IFERROR(VLOOKUP($B411,'Building Data'!$F:$H,3,FALSE),\"\")","v":""},{"$f":"IFERROR(VLOOKUP($B411,'Building Data'!$F:$AA,22,FALSE),\"\")","v":""},{"$f":"IFERROR(VLOOKUP($B411,'Building Data'!$F$4:$AE$2970,26,FALSE),\"\")","v":""}]
[null,null,{"$f":"IFERROR(VLOOKUP($B412,'Building Data'!$F:$H,3,FALSE),\"\")","v":""},{"$f":"IFERROR(VLOOKUP($B412,'Building Data'!$F:$AA,22,FALSE),\"\")","v":""},{"$f":"IFERROR(VLOOKUP($B412,'Building Data'!$F$4:$AE$2970,26,FALSE),\"\")","v":""}]
[null,null,{"$f":"IFERROR(VLOOKUP($B413,'Building Data'!$F:$H,3,FALSE),\"\")","v":""},{"$f":"IFERROR(VLOOKUP($B413,'Building Data'!$F:$AA,22,FALSE),\"\")","v":""},{"$f":"IFERROR(VLOOKUP($B413,'Building Data'!$F$4:$AE$2970,26,FALSE),\"\")","v":""}]
[null,null,{"$f":"IFERROR(VLOOKUP($B414,'Building Data'!$F:$H,3,FALSE),\"\")","v":""},{"$f":"IFERROR(VLOOKUP($B414,'Building Data'!$F:$AA,22,FALSE),\"\")","v":""},{"$f":"IFERROR(VLOOKUP($B414,'Building Data'!$F$4:$AE$2970,26,FALSE),\"\")","v":""}]
[null,null,{"$f":"IFERROR(VLOOKUP($B415,'Building Data'!$F:$H,3,FALSE),\"\")","v":""},{"$f":"IFERROR(VLOOKUP($B415,'Building Data'!$F:$AA,22,FALSE),\"\")","v":""},{"$f":"IFERROR(VLOOKUP($B415,'Building Data'!$F$4:$AE$2970,26,FALSE),\"\")","v":""}]
[null,null,{"$f":"IFERROR(VLOOKUP($B416,'Building Data'!$F:$H,3,FALSE),\"\")","v":""},{"$f":"IFERROR(VLOOKUP($B416,'Building Data'!$F:$AA,22,FALSE),\"\")","v":""},{"$f":"IFERROR(VLOOKUP($B416,'Building Data'!$F$4:$AE$2970,26,FALSE),\"\")","v":""}]
[null,null,{"$f":"IFERROR(VLOOKUP($B417,'Building Data'!$F:$H,3,FALSE),\"\")","v":""},{"$f":"IFERROR(VLOOKUP($B417,'Building Data'!$F:$AA,22,FALSE),\"\")","v":""},{"$f":"IFERROR(VLOOKUP($B417,'Building Data'!$F$4:$AE$2970,26,FALSE),\"\")","v":""}]
[null,null,{"$f":"IFERROR(VLOOKUP($B418,'Building Data'!$F:$H,3,FALSE),\"\")","v":""},{"$f":"IFERROR(VLOOKUP($B418,'Building Data'!$F:$AA,22,FALSE),\"\")","v":""},{"$f":"IFERROR(VLOOKUP($B418,'Building Data'!$F$4:$AE$2970,26,FALSE),\"\")","v":""}]
[null,null,{"$f":"IFERROR(VLOOKUP($B419,'Building Data'!$F:$H,3,FALSE),\"\")","v":""},{"$f":"IFERROR(VLOOKUP($B419,'Building Data'!$F:$AA,22,FALSE),\"\")","v":""},{"$f":"IFERROR(VLOOKUP($B419,'Building Data'!$F$4:$AE$2970,26,FALSE),\"\")","v":""}]
[null,null,{"$f":"IFERROR(VLOOKUP($B420,'Building Data'!$F:$H,3,FALSE),\"\")","v":""},{"$f":"IFERROR(VLOOKUP($B420,'Building Data'!$F:$AA,22,FALSE),\"\")","v":""},{"$f":"IFERROR(VLOOKUP($B420,'Building Data'!$F$4:$AE$2970,26,FALSE),\"\")","v":""}]
[null,null,{"$f":"IFERROR(VLOOKUP($B421,'Building Data'!$F:$H,3,FALSE),\"\")","v":""},{"$f":"IFERROR(VLOOKUP($B421,'Building Data'!$F:$AA,22,FALSE),\"\")","v":""},{"$f":"IFERROR(VLOOKUP($B421,'Building Data'!$F$4:$AE$2970,26,FALSE),\"\")","v":""}]
[null,null,{"$f":"IFERROR(VLOOKUP($B422,'Building Data'!$F:$H,3,FALSE),\"\")","v":""},{"$f":"IFERROR(VLOOKUP($B422,'Building Data'!$F:$AA,22,FALSE),\"\")","v":""},{"$f":"IFERROR(VLOOKUP($B422,'Building Data'!$F$4:$AE$2970,26,FALSE),\"\")","v":""}]
[null,null,{"$f":"IFERROR(VLOOKUP($B423,'Building Data'!$F:$H,3,FALSE),\"\")","v":""},{"$f":"IFERROR(VLOOKUP($B423,'Building Data'!$F:$AA,22,FALSE),\"\")","v":""},{"$f":"IFERROR(VLOOKUP($B423,'Building Data'!$F$4:$AE$2970,26,FALSE),\"\")","v":""}]
[null,null,{"$f":"IFERROR(VLOOKUP($B424,'Building Data'!$F:$H,3,FALSE),\"\")","v":""},{"$f":"IFERROR(VLOOKUP($B424,'Building Data'!$F:$AA,22,FALSE),\"\")","v":""},{"$f":"IFERROR(VLOOKUP($B424,'Building Data'!$F$4:$AE$2970,26,FALSE),\"\")","v":""}]
[null,null,{"$f":"IFERROR(VLOOKUP($B425,'Building Data'!$F:$H,3,FALSE),\"\")","v":""},{"$f":"IFERROR(VLOOKUP($B425,'Building Data'!$F:$AA,22,FALSE),\"\")","v":""},{"$f":"IFERROR(VLOOKUP($B425,'Building Data'!$F$4:$AE$2970,26,FALSE),\"\")","v":""}]
[null,null,{"$f":"IFERROR(VLOOKUP($B426,'Building Data'!$F:$H,3,FALSE),\"\")","v":""},{"$f":"IFERROR(VLOOKUP($B426,'Building Data'!$F:$AA,22,FALSE),\"\")","v":""},{"$f":"IFERROR(VLOOKUP($B426,'Building Data'!$F$4:$AE$2970,26,FALSE),\"\")","v":""}]
[null,null,{"$f":"IFERROR(VLOOKUP($B427,'Building Data'!$F:$H,3,FALSE),\"\")","v":""},{"$f":"IFERROR(VLOOKUP($B427,'Building Data'!$F:$AA,22,FALSE),\"\")","v":""},{"$f":"IFERROR(VLOOKUP($B427,'Building Data'!$F$4:$AE$2970,26,FALSE),\"\")","v":""}]
[null,null,{"$f":"IFERROR(VLOOKUP($B428,'Building Data'!$F:$H,3,FALSE),\"\")","v":""},{"$f":"IFERROR(VLOOKUP($B428,'Building Data'!$F:$AA,22,FALSE),\"\")","v":""},{"$f":"IFERROR(VLOOKUP($B428,'Building Data'!$F$4:$AE$2970,26,FALSE),\"\")","v":""}]
[null,null,{"$f":"IFERROR(VLOOKUP($B429,'Building Data'!$F:$H,3,FALSE),\"\")","v":""},{"$f":"IFERROR(VLOOKUP($B429,'Building Data'!$F:$AA,22,FALSE),\"\")","v":""},{"$f":"IFERROR(VLOOKUP($B429,'Building Data'!$F$4:$AE$2970,26,FALSE),\"\")","v":""}]
[null,null,{"$f":"IFERROR(VLOOKUP($B430,'Building Data'!$F:$H,3,FALSE),\"\")","v":""},{"$f":"IFERROR(VLOOKUP($B430,'Building Data'!$F:$AA,22,FALSE),\"\")","v":""},{"$f":"IFERROR(VLOOKUP($B430,'Building Data'!$F$4:$AE$2970,26,FALSE),\"\")","v":""}]
[null,null,{"$f":"IFERROR(VLOOKUP($B431,'Building Data'!$F:$H,3,FALSE),\"\")","v":""},{"$f":"IFERROR(VLOOKUP($B431,'Building Data'!$F:$AA,22,FALSE),\"\")","v":""},{"$f":"IFERROR(VLOOKUP($B431,'Building Data'!$F$4:$AE$2970,26,FALSE),\"\")","v":""}]
[null,null,{"$f":"IFERROR(VLOOKUP($B432,'Building Data'!$F:$H,3,FALSE),\"\")","v":""},{"$f":"IFERROR(VLOOKUP($B432,'Building Data'!$F:$AA,22,FALSE),\"\")","v":""},{"$f":"IFERROR(VLOOKUP($B432,'Building Data'!$F$4:$AE$2970,26,FALSE),\"\")","v":""}]
[null,null,{"$f":"IFERROR(VLOOKUP($B433,'Building Data'!$F:$H,3,FALSE),\"\")","v":""},{"$f":"IFERROR(VLOOKUP($B433,'Building Data'!$F:$AA,22,FALSE),\"\")","v":""},{"$f":"IFERROR(VLOOKUP($B433,'Building Data'!$F$4:$AE$2970,26,FALSE),\"\")","v":""}]
[null,null,{"$f":"IFERROR(VLOOKUP($B434,'Building Data'!$F:$H,3,FALSE),\"\")","v":""},{"$f":"IFERROR(VLOOKUP($B434,'Building Data'!$F:$AA,22,FALSE),\"\")","v":""},{"$f":"IFERROR(VLOOKUP($B434,'Building Data'!$F$4:$AE$2970,26,FALSE),\"\")","v":""}]
[null,null,{"$f":"IFERROR(VLOOKUP($B435,'Building Data'!$F:$H,3,FALSE),\"\")","v":""},{"$f":"IFERROR(VLOOKUP($B435,'Building Data'!$F:$AA,22,FALSE),\"\")","v":""},{"$f":"IFERROR(VLOOKUP($B435,'Building Data'!$F$4:$AE$2970,26,FALSE),\"\")","v":""}]
[null,null,{"$f":"IFERROR(VLOOKUP($B436,'Building Data'!$F:$H,3,FALSE),\"\")","v":""},{"$f":"IFERROR(VLOOKUP($B436,'Building Data'!$F:$AA,22,FALSE),\"\")","v":""},{"$f":"IFERROR(VLOOKUP($B436,'Building Data'!$F$4:$AE$2970,26,FALSE),\"\")","v":""}]
[null,null,{"$f":"IFERROR(VLOOKUP($B437,'Building Data'!$F:$H,3,FALSE),\"\")","v":""},{"$f":"IFERROR(VLOOKUP($B437,'Building Data'!$F:$AA,22,FALSE),\"\")","v":""},{"$f":"IFERROR(VLOOKUP($B437,'Building Data'!$F$4:$AE$2970,26,FALSE),\"\")","v":""}]
[null,null,{"$f":"IFERROR(VLOOKUP($B438,'Building Data'!$F:$H,3,FALSE),\"\")","v":""},{"$f":"IFERROR(VLOOKUP($B438,'Building Data'!$F:$AA,22,FALSE),\"\")","v":""},{"$f":"IFERROR(VLOOKUP($B438,'Building Data'!$F$4:$AE$2970,26,FALSE),\"\")","v":""}]
[null,null,{"$f":"IFERROR(VLOOKUP($B439,'Building Data'!$F:$H,3,FALSE),\"\")","v":""},{"$f":"IFERROR(VLOOKUP($B439,'Building Data'!$F:$AA,22,FALSE),\"\")","v":""},{"$f":"IFERROR(VLOOKUP($B439,'Building Data'!$F$4:$AE$2970,26,FALSE),\"\")","v":""}]
[null,null,{"$f":"IFERROR(VLOOKUP($B440,'Building Data'!$F:$H,3,FALSE),\"\")","v":""},{"$f":"IFERROR(VLOOKUP($B440,'Building Data'!$F:$AA,22,FALSE),\"\")","v":""},{"$f":"IFERROR(VLOOKUP($B440,'Building Data'!$F$4:$AE$2970,26,FALSE),\"\")","v":""}]
[null,null,{"$f":"IFERROR(VLOOKUP($B441,'Building Data'!$F:$H,3,FALSE),\"\")","v":""},{"$f":"IFERROR(VLOOKUP($B441,'Building Data'!$F:$AA,22,FALSE),\"\")","v":""},{"$f":"IFERROR(VLOOKUP($B441,'Building Data'!$F$4:$AE$2970,26,FALSE),\"\")","v":""}]
[null,null,{"$f":"IFERROR(VLOOKUP($B442,'Building Data'!$F:$H,3,FALSE),\"\")","v":""},{"$f":"IFERROR(VLOOKUP($B442,'Building Data'!$F:$AA,22,FALSE),\"\")","v":""},{"$f":"IFERROR(VLOOKUP($B442,'Building Data'!$F$4:$AE$2970,26,FALSE),\"\")","v":""}]
[null,null,{"$f":"IFERROR(VLOOKUP($B443,'Building Data'!$F:$H,3,FALSE),\"\")","v":""},{"$f":"IFERROR(VLOOKUP($B443,'Building Data'!$F:$AA,22,FALSE),\"\")","v":""},{"$f":"IFERROR(VLOOKUP($B443,'Building Data'!$F$4:$AE$2970,26,FALSE),\"\")","v":""}]
[null,null,{"$f":"IFERROR(VLOOKUP($B444,'Building Data'!$F:$H,3,FALSE),\"\")","v":""},{"$f":"IFERROR(VLOOKUP($B444,'Building Data'!$F:$AA,22,FALSE),\"\")","v":""},{"$f":"IFERROR(VLOOKUP($B444,'Building Data'!$F$4:$AE$2970,26,FALSE),\"\")","v":""}]
[null,null,{"$f":"IFERROR(VLOOKUP($B445,'Building Data'!$F:$H,3,FALSE),\"\")","v":""},{"$f":"IFERROR(VLOOKUP($B445,'Building Data'!$F:$AA,22,FALSE),\"\")","v":""},{"$f":"IFERROR(VLOOKUP($B445,'Building Data'!$F$4:$AE$2970,26,FALSE),\"\")","v":""}]
[null,null,{"$f":"IFERROR(VLOOKUP($B446,'Building Data'!$F:$H,3,FALSE),\"\")","v":""},{"$f":"IFERROR(VLOOKUP($B446,'Building Data'!$F:$AA,22,FALSE),\"\")","v":""},{"$f":"IFERROR(VLOOKUP($B446,'Building Data'!$F$4:$AE$2970,26,FALSE),\"\")","v":""}]
[null,null,{"$f":"IFERROR(VLOOKUP($B447,'Building Data'!$F:$H,3,FALSE),\"\")","v":""},{"$f":"IFERROR(VLOOKUP($B447,'Building Data'!$F:$AA,22,FALSE),\"\")","v":""},{"$f":"IFERROR(VLOOKUP($B447,'Building Data'!$F$4:$AE$2970,26,FALSE),\"\")","v":""}]
[null,null,{"$f":"IFERROR(VLOOKUP($B448,'Building Data'!$F:$H,3,FALSE),\"\")","v":""},{"$f":"IFERROR(VLOOKUP($B448,'Building Data'!$F:$AA,22,FALSE),\"\")","v":""},{"$f":"IFERROR(VLOOKUP($B448,'Building Data'!$F$4:$AE$2970,26,FALSE),\"\")","v":""}]
[null,null,{"$f":"IFERROR(VLOOKUP($B449,'Building Data'!$F:$H,3,FALSE),\"\")","v":""},{"$f":"IFERROR(VLOOKUP($B449,'Building Data'!$F:$AA,22,FALSE),\"\")","v":""},{"$f":"IFERROR(VLOOKUP($B449,'Building Data'!$F$4:$AE$2970,26,FALSE),\"\")","v":""}]
[null,null,{"$f":"IFERROR(VLOOKUP($B450,'Building Data'!$F:$H,3,FALSE),\"\")","v":""},{"$f":"IFERROR(VLOOKUP($B450,'Building Data'!$F:$AA,22,FALSE),\"\")","v":""},{"$f":"IFERROR(VLOOKUP($B450,'Building Data'!$F$4:$AE$2970,26,FALSE),\"\")","v":""}]
[null,null,{"$f":"IFERROR(VLOOKUP($B451,'Building Data'!$F:$H,3,FALSE),\"\")","v":""},{"$f":"IFERROR(VLOOKUP($B451,'Building Data'!$F:$AA,22,FALSE),\"\")","v":""},{"$f":"IFERROR(VLOOKUP($B451,'Building Data'!$F$4:$AE$2970,26,FALSE),\"\")","v":""}]
[null,null,{"$f":"IFERROR(VLOOKUP($B452,'Building Data'!$F:$H,3,FALSE),\"\")","v":""},{"$f":"IFERROR(VLOOKUP($B452,'Building Data'!$F:$AA,22,FALSE),\"\")","v":""},{"$f":"IFERROR(VLOOKUP($B452,'Building Data'!$F$4:$AE$2970,26,FALSE),\"\")","v":""}]
[null,null,{"$f":"IFERROR(VLOOKUP($B453,'Building Data'!$F:$H,3,FALSE),\"\")","v":""},{"$f":"IFERROR(VLOOKUP($B453,'Building Data'!$F:$AA,22,FALSE),\"\")","v":""},{"$f":"IFERROR(VLOOKUP($B453,'Building Data'!$F$4:$AE$2970,26,FALSE),\"\")","v":""}]
[null,null,{"$f":"IFERROR(VLOOKUP($B454,'Building Data'!$F:$H,3,FALSE),\"\")","v":""},{"$f":"IFERROR(VLOOKUP($B454,'Building Data'!$F:$AA,22,FALSE),\"\")","v":""},{"$f":"IFERROR(VLOOKUP($B454,'Building Data'!$F$4:$AE$2970,26,FALSE),\"\")","v":""}]
[null,null,{"$f":"IFERROR(VLOOKUP($B455,'Building Data'!$F:$H,3,FALSE),\"\")","v":""},{"$f":"IFERROR(VLOOKUP($B455,'Building Data'!$F:$AA,22,FALSE),\"\")","v":""},{"$f":"IFERROR(VLOOKUP($B455,'Building Data'!$F$4:$AE$2970,26,FALSE),\"\")","v":""}]
[null,null,{"$f":"IFERROR(VLOOKUP($B456,'Building Data'!$F:$H,3,FALSE),\"\")","v":""},{"$f":"IFERROR(VLOOKUP($B456,'Building Data'!$F:$AA,22,FALSE),\"\")","v":""},{"$f":"IFERROR(VLOOKUP($B456,'Building Data'!$F$4:$AE$2970,26,FALSE),\"\")","v":""}]
[null,null,{"$f":"IFERROR(VLOOKUP($B457,'Building Data'!$F:$H,3,FALSE),\"\")","v":""},{"$f":"IFERROR(VLOOKUP($B457,'Building Data'!$F:$AA,22,FALSE),\"\")","v":""},{"$f":"IFERROR(VLOOKUP($B457,'Building Data'!$F$4:$AE$2970,26,FALSE),\"\")","v":""}]
[null,null,{"$f":"IFERROR(VLOOKUP($B458,'Building Data'!$F:$H,3,FALSE),\"\")","v":""},{"$f":"IFERROR(VLOOKUP($B458,'Building Data'!$F:$AA,22,FALSE),\"\")","v":""},{"$f":"IFERROR(VLOOKUP($B458,'Building Data'!$F$4:$AE$2970,26,FALSE),\"\")","v":""}]
[null,null,{"$f":"IFERROR(VLOOKUP($B459,'Building Data'!$F:$H,3,FALSE),\"\")","v":""},{"$f":"IFERROR(VLOOKUP($B459,'Building Data'!$F:$AA,22,FALSE),\"\")","v":""},{"$f":"IFERROR(VLOOKUP($B459,'Building Data'!$F$4:$AE$2970,26,FALSE),\"\")","v":""}]
[null,null,{"$f":"IFERROR(VLOOKUP($B460,'Building Data'!$F:$H,3,FALSE),\"\")","v":""},{"$f":"IFERROR(VLOOKUP($B460,'Building Data'!$F:$AA,22,FALSE),\"\")","v":""},{"$f":"IFERROR(VLOOKUP($B460,'Building Data'!$F$4:$AE$2970,26,FALSE),\"\")","v":""}]
[null,null,{"$f":"IFERROR(VLOOKUP($B461,'Building Data'!$F:$H,3,FALSE),\"\")","v":""},{"$f":"IFERROR(VLOOKUP($B461,'Building Data'!$F:$AA,22,FALSE),\"\")","v":""},{"$f":"IFERROR(VLOOKUP($B461,'Building Data'!$F$4:$AE$2970,26,FALSE),\"\")","v":""}]
[null,null,{"$f":"IFERROR(VLOOKUP($B462,'Building Data'!$F:$H,3,FALSE),\"\")","v":""},{"$f":"IFERROR(VLOOKUP($B462,'Building Data'!$F:$AA,22,FALSE),\"\")","v":""},{"$f":"IFERROR(VLOOKUP($B462,'Building Data'!$F$4:$AE$2970,26,FALSE),\"\")","v":""}]
[null,null,{"$f":"IFERROR(VLOOKUP($B463,'Building Data'!$F:$H,3,FALSE),\"\")","v":""},{"$f":"IFERROR(VLOOKUP($B463,'Building Data'!$F:$AA,22,FALSE),\"\")","v":""},{"$f":"IFERROR(VLOOKUP($B463,'Building Data'!$F$4:$AE$2970,26,FALSE),\"\")","v":""}]
[null,null,{"$f":"IFERROR(VLOOKUP($B464,'Building Data'!$F:$H,3,FALSE),\"\")","v":""},{"$f":"IFERROR(VLOOKUP($B464,'Building Data'!$F:$AA,22,FALSE),\"\")","v":""},{"$f":"IFERROR(VLOOKUP($B464,'Building Data'!$F$4:$AE$2970,26,FALSE),\"\")","v":""}]
[null,null,{"$f":"IFERROR(VLOOKUP($B465,'Building Data'!$F:$H,3,FALSE),\"\")","v":""},{"$f":"IFERROR(VLOOKUP($B465,'Building Data'!$F:$AA,22,FALSE),\"\")","v":""},{"$f":"IFERROR(VLOOKUP($B465,'Building Data'!$F$4:$AE$2970,26,FALSE),\"\")","v":""}]
[null,null,{"$f":"IFERROR(VLOOKUP($B466,'Building Data'!$F:$H,3,FALSE),\"\")","v":""},{"$f":"IFERROR(VLOOKUP($B466,'Building Data'!$F:$AA,22,FALSE),\"\")","v":""},{"$f":"IFERROR(VLOOKUP($B466,'Building Data'!$F$4:$AE$2970,26,FALSE),\"\")","v":""}]
[null,null,{"$f":"IFERROR(VLOOKUP($B467,'Building Data'!$F:$H,3,FALSE),\"\")","v":""},{"$f":"IFERROR(VLOOKUP($B467,'Building Data'!$F:$AA,22,FALSE),\"\")","v":""},{"$f":"IFERROR(VLOOKUP($B467,'Building Data'!$F$4:$AE$2970,26,FALSE),\"\")","v":""}]
[null,null,{"$f":"IFERROR(VLOOKUP($B468,'Building Data'!$F:$H,3,FALSE),\"\")","v":""},{"$f":"IFERROR(VLOOKUP($B468,'Building Data'!$F:$AA,22,FALSE),\"\")","v":""},{"$f":"IFERROR(VLOOKUP($B468,'Building Data'!$F$4:$AE$2970,26,FALSE),\"\")","v":""}]
[null,null,{"$f":"IFERROR(VLOOKUP($B469,'Building Data'!$F:$H,3,FALSE),\"\")","v":""},{"$f":"IFERROR(VLOOKUP($B469,'Building Data'!$F:$AA,22,FALSE),\"\")","v":""},{"$f":"IFERROR(VLOOKUP($B469,'Building Data'!$F$4:$AE$2970,26,FALSE),\"\")","v":""}]
[null,null,{"$f":"IFERROR(VLOOKUP($B470,'Building Data'!$F:$H,3,FALSE),\"\")","v":""},{"$f":"IFERROR(VLOOKUP($B470,'Building Data'!$F:$AA,22,FALSE),\"\")","v":""},{"$f":"IFERROR(VLOOKUP($B470,'Building Data'!$F$4:$AE$2970,26,FALSE),\"\")","v":""}]
[null,null,{"$f":"IFERROR(VLOOKUP($B471,'Building Data'!$F:$H,3,FALSE),\"\")","v":""},{"$f":"IFERROR(VLOOKUP($B471,'Building Data'!$F:$AA,22,FALSE),\"\")","v":""},{"$f":"IFERROR(VLOOKUP($B471,'Building Data'!$F$4:$AE$2970,26,FALSE),\"\")","v":""}]
[null,null,{"$f":"IFERROR(VLOOKUP($B472,'Building Data'!$F:$H,3,FALSE),\"\")","v":""},{"$f":"IFERROR(VLOOKUP($B472,'Building Data'!$F:$AA,22,FALSE),\"\")","v":""},{"$f":"IFERROR(VLOOKUP($B472,'Building Data'!$F$4:$AE$2970,26,FALSE),\"\")","v":""}]
[null,null,{"$f":"IFERROR(VLOOKUP($B473,'Building Data'!$F:$H,3,FALSE),\"\")","v":""},{"$f":"IFERROR(VLOOKUP($B473,'Building Data'!$F:$AA,22,FALSE),\"\")","v":""},{"$f":"IFERROR(VLOOKUP($B473,'Building Data'!$F$4:$AE$2970,26,FALSE),\"\")","v":""}]
[null,null,{"$f":"IFERROR(VLOOKUP($B474,'Building Data'!$F:$H,3,FALSE),\"\")","v":""},{"$f":"IFERROR(VLOOKUP($B474,'Building Data'!$F:$AA,22,FALSE),\"\")","v":""},{"$f":"IFERROR(VLOOKUP($B474,'Building Data'!$F$4:$AE$2970,26,FALSE),\"\")","v":""}]
[null,null,{"$f":"IFERROR(VLOOKUP($B475,'Building Data'!$F:$H,3,FALSE),\"\")","v":""},{"$f":"IFERROR(VLOOKUP($B475,'Building Data'!$F:$AA,22,FALSE),\"\")","v":""},{"$f":"IFERROR(VLOOKUP($B475,'Building Data'!$F$4:$AE$2970,26,FALSE),\"\")","v":""}]
[null,null,{"$f":"IFERROR(VLOOKUP($B476,'Building Data'!$F:$H,3,FALSE),\"\")","v":""},{"$f":"IFERROR(VLOOKUP($B476,'Building Data'!$F:$AA,22,FALSE),\"\")","v":""},{"$f":"IFERROR(VLOOKUP($B476,'Building Data'!$F$4:$AE$2970,26,FALSE),\"\")","v":""}]
[null,null,{"$f":"IFERROR(VLOOKUP($B477,'Building Data'!$F:$H,3,FALSE),\"\")","v":""},{"$f":"IFERROR(VLOOKUP($B477,'Building Data'!$F:$AA,22,FALSE),\"\")","v":""},{"$f":"IFERROR(VLOOKUP($B477,'Building Data'!$F$4:$AE$2970,26,FALSE),\"\")","v":""}]
[null,null,{"$f":"IFERROR(VLOOKUP($B478,'Building Data'!$F:$H,3,FALSE),\"\")","v":""},{"$f":"IFERROR(VLOOKUP($B478,'Building Data'!$F:$AA,22,FALSE),\"\")","v":""},{"$f":"IFERROR(VLOOKUP($B478,'Building Data'!$F$4:$AE$2970,26,FALSE),\"\")","v":""}]
[null,null,{"$f":"IFERROR(VLOOKUP($B479,'Building Data'!$F:$H,3,FALSE),\"\")","v":""},{"$f":"IFERROR(VLOOKUP($B479,'Building Data'!$F:$AA,22,FALSE),\"\")","v":""},{"$f":"IFERROR(VLOOKUP($B479,'Building Data'!$F$4:$AE$2970,26,FALSE),\"\")","v":""}]
[null,null,{"$f":"IFERROR(VLOOKUP($B480,'Building Data'!$F:$H,3,FALSE),\"\")","v":""},{"$f":"IFERROR(VLOOKUP($B480,'Building Data'!$F:$AA,22,FALSE),\"\")","v":""},{"$f":"IFERROR(VLOOKUP($B480,'Building Data'!$F$4:$AE$2970,26,FALSE),\"\")","v":""}]
[null,null,{"$f":"IFERROR(VLOOKUP($B481,'Building Data'!$F:$H,3,FALSE),\"\")","v":""},{"$f":"IFERROR(VLOOKUP($B481,'Building Data'!$F:$AA,22,FALSE),\"\")","v":""},{"$f":"IFERROR(VLOOKUP($B481,'Building Data'!$F$4:$AE$2970,26,FALSE),\"\")","v":""}]
[null,null,{"$f":"IFERROR(VLOOKUP($B482,'Building Data'!$F:$H,3,FALSE),\"\")","v":""},{"$f":"IFERROR(VLOOKUP($B482,'Building Data'!$F:$AA,22,FALSE),\"\")","v":""},{"$f":"IFERROR(VLOOKUP($B482,'Building Data'!$F$4:$AE$2970,26,FALSE),\"\")","v":""}]
[null,null,{"$f":"IFERROR(VLOOKUP($B483,'Building Data'!$F:$H,3,FALSE),\"\")","v":""},{"$f":"IFERROR(VLOOKUP($B483,'Building Data'!$F:$AA,22,FALSE),\"\")","v":""},{"$f":"IFERROR(VLOOKUP($B483,'Building Data'!$F$4:$AE$2970,26,FALSE),\"\")","v":""}]
[null,null,{"$f":"IFERROR(VLOOKUP($B484,'Building Data'!$F:$H,3,FALSE),\"\")","v":""},{"$f":"IFERROR(VLOOKUP($B484,'Building Data'!$F:$AA,22,FALSE),\"\")","v":""},{"$f":"IFERROR(VLOOKUP($B484,'Building Data'!$F$4:$AE$2970,26,FALSE),\"\")","v":""}]
[null,null,{"$f":"IFERROR(VLOOKUP($B485,'Building Data'!$F:$H,3,FALSE),\"\")","v":""},{"$f":"IFERROR(VLOOKUP($B485,'Building Data'!$F:$AA,22,FALSE),\"\")","v":""},{"$f":"IFERROR(VLOOKUP($B485,'Building Data'!$F$4:$AE$2970,26,FALSE),\"\")","v":""}]
[null,null,{"$f":"IFERROR(VLOOKUP($B486,'Building Data'!$F:$H,3,FALSE),\"\")","v":""},{"$f":"IFERROR(VLOOKUP($B486,'Building Data'!$F:$AA,22,FALSE),\"\")","v":""},{"$f":"IFERROR(VLOOKUP($B486,'Building Data'!$F$4:$AE$2970,26,FALSE),\"\")","v":""}]
[null,null,{"$f":"IFERROR(VLOOKUP($B487,'Building Data'!$F:$H,3,FALSE),\"\")","v":""},{"$f":"IFERROR(VLOOKUP($B487,'Building Data'!$F:$AA,22,FALSE),\"\")","v":""},{"$f":"IFERROR(VLOOKUP($B487,'Building Data'!$F$4:$AE$2970,26,FALSE),\"\")","v":""}]
[null,null,{"$f":"IFERROR(VLOOKUP($B488,'Building Data'!$F:$H,3,FALSE),\"\")","v":""},{"$f":"IFERROR(VLOOKUP($B488,'Building Data'!$F:$AA,22,FALSE),\"\")","v":""},{"$f":"IFERROR(VLOOKUP($B488,'Building Data'!$F$4:$AE$2970,26,FALSE),\"\")","v":""}]
[null,null,{"$f":"IFERROR(VLOOKUP($B489,'Building Data'!$F:$H,3,FALSE),\"\")","v":""},{"$f":"IFERROR(VLOOKUP($B489,'Building Data'!$F:$AA,22,FALSE),\"\")","v":""},{"$f":"IFERROR(VLOOKUP($B489,'Building Data'!$F$4:$AE$2970,26,FALSE),\"\")","v":""}]
[null,null,{"$f":"IFERROR(VLOOKUP($B490,'Building Data'!$F:$H,3,FALSE),\"\")","v":""},{"$f":"IFERROR(VLOOKUP($B490,'Building Data'!$F:$AA,22,FALSE),\"\")","v":""},{"$f":"IFERROR(VLOOKUP($B490,'Building Data'!$F$4:$AE$2970,26,FALSE),\"\")","v":""}]
[null,null,{"$f":"IFERROR(VLOOKUP($B491,'Building Data'!$F:$H,3,FALSE),\"\")","v":""},{"$f":"IFERROR(VLOOKUP($B491,'Building Data'!$F:$AA,22,FALSE),\"\")","v":""},{"$f":"IFERROR(VLOOKUP($B491,'Building Data'!$F$4:$AE$2970,26,FALSE),\"\")","v":""}]
[null,null,{"$f":"IFERROR(VLOOKUP($B492,'Building Data'!$F:$H,3,FALSE),\"\")","v":""},{"$f":"IFERROR(VLOOKUP($B492,'Building Data'!$F:$AA,22,FALSE),\"\")","v":""},{"$f":"IFERROR(VLOOKUP($B492,'Building Data'!$F$4:$AE$2970,26,FALSE),\"\")","v":""}]
[null,null,{"$f":"IFERROR(VLOOKUP($B493,'Building Data'!$F:$H,3,FALSE),\"\")","v":""},{"$f":"IFERROR(VLOOKUP($B493,'Building Data'!$F:$AA,22,FALSE),\"\")","v":""},{"$f":"IFERROR(VLOOKUP($B493,'Building Data'!$F$4:$AE$2970,26,FALSE),\"\")","v":""}]
[null,null,{"$f":"IFERROR(VLOOKUP($B494,'Building Data'!$F:$H,3,FALSE),\"\")","v":""},{"$f":"IFERROR(VLOOKUP($B494,'Building Data'!$F:$AA,22,FALSE),\"\")","v":""},{"$f":"IFERROR(VLOOKUP($B494,'Building Data'!$F$4:$AE$2970,26,FALSE),\"\")","v":""}]
[null,null,{"$f":"IFERROR(VLOOKUP($B495,'Building Data'!$F:$H,3,FALSE),\"\")","v":""},{"$f":"IFERROR(VLOOKUP($B495,'Building Data'!$F:$AA,22,FALSE),\"\")","v":""},{"$f":"IFERROR(VLOOKUP($B495,'Building Data'!$F$4:$AE$2970,26,FALSE),\"\")","v":""}]
[null,null,{"$f":"IFERROR(VLOOKUP($B496,'Building Data'!$F:$H,3,FALSE),\"\")","v":""},{"$f":"IFERROR(VLOOKUP($B496,'Building Data'!$F:$AA,22,FALSE),\"\")","v":""},{"$f":"IFERROR(VLOOKUP($B496,'Building Data'!$F$4:$AE$2970,26,FALSE),\"\")","v":""}]
[null,null,{"$f":"IFERROR(VLOOKUP($B497,'Building Data'!$F:$H,3,FALSE),\"\")","v":""},{"$f":"IFERROR(VLOOKUP($B497,'Building Data'!$F:$AA,22,FALSE),\"\")","v":""},{"$f":"IFERROR(VLOOKUP($B497,'Building Data'!$F$4:$AE$2970,26,FALSE),\"\")","v":""}]
[null,null,{"$f":"IFERROR(VLOOKUP($B498,'Building Data'!$F:$H,3,FALSE),\"\")","v":""},{"$f":"IFERROR(VLOOKUP($B498,'Building Data'!$F:$AA,22,FALSE),\"\")","v":""},{"$f":"IFERROR(VLOOKUP($B498,'Building Data'!$F$4:$AE$2970,26,FALSE),\"\")","v":""}]
[null,null,{"$f":"IFERROR(VLOOKUP($B499,'Building Data'!$F:$H,3,FALSE),\"\")","v":""},{"$f":"IFERROR(VLOOKUP($B499,'Building Data'!$F:$AA,22,FALSE),\"\")","v":""},{"$f":"IFERROR(VLOOKUP($B499,'Building Data'!$F$4:$AE$2970,26,FALSE),\"\")","v":""}]
[null,null,{"$f":"IFERROR(VLOOKUP($B500,'Building Data'!$F:$H,3,FALSE),\"\")","v":""},{"$f":"IFERROR(VLOOKUP($B500,'Building Data'!$F:$AA,22,FALSE),\"\")","v":""},{"$f":"IFERROR(VLOOKUP($B500,'Building Data'!$F$4:$AE$2970,26,FALSE),\"\")","v":""}]
[null,null,{"$f":"IFERROR(VLOOKUP($B501,'Building Data'!$F:$H,3,FALSE),\"\")","v":""},{"$f":"IFERROR(VLOOKUP($B501,'Building Data'!$F:$AA,22,FALSE),\"\")","v":""},{"$f":"IFERROR(VLOOKUP($B501,'Building Data'!$F$4:$AE$2970,26,FALSE),\"\")","v":""}]
[null,null,{"$f":"IFERROR(VLOOKUP($B502,'Building Data'!$F:$H,3,FALSE),\"\")","v":""},{"$f":"IFERROR(VLOOKUP($B502,'Building Data'!$F:$AA,22,FALSE),\"\")","v":""},{"$f":"IFERROR(VLOOKUP($B502,'Building Data'!$F$4:$AE$2970,26,FALSE),\"\")","v":""}]
[null,null,{"$f":"IFERROR(VLOOKUP($B503,'Building Data'!$F:$H,3,FALSE),\"\")","v":""},{"$f":"IFERROR(VLOOKUP($B503,'Building Data'!$F:$AA,22,FALSE),\"\")","v":""},{"$f":"IFERROR(VLOOKUP($B503,'Building Data'!$F$4:$AE$2970,26,FALSE),\"\")","v":""}]
[null,null,{"$f":"IFERROR(VLOOKUP($B504,'Building Data'!$F:$H,3,FALSE),\"\")","v":""},{"$f":"IFERROR(VLOOKUP($B504,'Building Data'!$F:$AA,22,FALSE),\"\")","v":""},{"$f":"IFERROR(VLOOKUP($B504,'Building Data'!$F$4:$AE$2970,26,FALSE),\"\")","v":""}]
[null,null,{"$f":"IFERROR(VLOOKUP($B505,'Building Data'!$F:$H,3,FALSE),\"\")","v":""},{"$f":"IFERROR(VLOOKUP($B505,'Building Data'!$F:$AA,22,FALSE),\"\")","v":""},{"$f":"IFERROR(VLOOKUP($B505,'Building Data'!$F$4:$AE$2970,26,FALSE),\"\")","v":""}]
[null,null,{"$f":"IFERROR(VLOOKUP($B506,'Building Data'!$F:$H,3,FALSE),\"\")","v":""},{"$f":"IFERROR(VLOOKUP($B506,'Building Data'!$F:$AA,22,FALSE),\"\")","v":""},{"$f":"IFERROR(VLOOKUP($B506,'Building Data'!$F$4:$AE$2970,26,FALSE),\"\")","v":""}]
[null,null,{"$f":"IFERROR(VLOOKUP($B507,'Building Data'!$F:$H,3,FALSE),\"\")","v":""},{"$f":"IFERROR(VLOOKUP($B507,'Building Data'!$F:$AA,22,FALSE),\"\")","v":""},{"$f":"IFERROR(VLOOKUP($B507,'Building Data'!$F$4:$AE$2970,26,FALSE),\"\")","v":""}]
[null,null,{"$f":"IFERROR(VLOOKUP($B508,'Building Data'!$F:$H,3,FALSE),\"\")","v":""},{"$f":"IFERROR(VLOOKUP($B508,'Building Data'!$F:$AA,22,FALSE),\"\")","v":""},{"$f":"IFERROR(VLOOKUP($B508,'Building Data'!$F$4:$AE$2970,26,FALSE),\"\")","v":""}]
[null,null,{"$f":"IFERROR(VLOOKUP($B509,'Building Data'!$F:$H,3,FALSE),\"\")","v":""},{"$f":"IFERROR(VLOOKUP($B509,'Building Data'!$F:$AA,22,FALSE),\"\")","v":""},{"$f":"IFERROR(VLOOKUP($B509,'Building Data'!$F$4:$AE$2970,26,FALSE),\"\")","v":""}]
[null,null,{"$f":"IFERROR(VLOOKUP($B510,'Building Data'!$F:$H,3,FALSE),\"\")","v":""},{"$f":"IFERROR(VLOOKUP($B510,'Building Data'!$F:$AA,22,FALSE),\"\")","v":""},{"$f":"IFERROR(VLOOKUP($B510,'Building Data'!$F$4:$AE$2970,26,FALSE),\"\")","v":""}]
[null,null,{"$f":"IFERROR(VLOOKUP($B511,'Building Data'!$F:$H,3,FALSE),\"\")","v":""},{"$f":"IFERROR(VLOOKUP($B511,'Building Data'!$F:$AA,22,FALSE),\"\")","v":""},{"$f":"IFERROR(VLOOKUP($B511,'Building Data'!$F$4:$AE$2970,26,FALSE),\"\")","v":""}]
[null,null,{"$f":"IFERROR(VLOOKUP($B512,'Building Data'!$F:$H,3,FALSE),\"\")","v":""},{"$f":"IFERROR(VLOOKUP($B512,'Building Data'!$F:$AA,22,FALSE),\"\")","v":""},{"$f":"IFERROR(VLOOKUP($B512,'Building Data'!$F$4:$AE$2970,26,FALSE),\"\")","v":""}]
[null,null,{"$f":"IFERROR(VLOOKUP($B513,'Building Data'!$F:$H,3,FALSE),\"\")","v":""},{"$f":"IFERROR(VLOOKUP($B513,'Building Data'!$F:$AA,22,FALSE),\"\")","v":""},{"$f":"IFERROR(VLOOKUP($B513,'Building Data'!$F$4:$AE$2970,26,FALSE),\"\")","v":""}]
[null,null,{"$f":"IFERROR(VLOOKUP($B514,'Building Data'!$F:$H,3,FALSE),\"\")","v":""},{"$f":"IFERROR(VLOOKUP($B514,'Building Data'!$F:$AA,22,FALSE),\"\")","v":""},{"$f":"IFERROR(VLOOKUP($B514,'Building Data'!$F$4:$AE$2970,26,FALSE),\"\")","v":""}]
[null,null,{"$f":"IFERROR(VLOOKUP($B515,'Building Data'!$F:$H,3,FALSE),\"\")","v":""},{"$f":"IFERROR(VLOOKUP($B515,'Building Data'!$F:$AA,22,FALSE),\"\")","v":""},{"$f":"IFERROR(VLOOKUP($B515,'Building Data'!$F$4:$AE$2970,26,FALSE),\"\")","v":""}]
[null,null,{"$f":"IFERROR(VLOOKUP($B516,'Building Data'!$F:$H,3,FALSE),\"\")","v":""},{"$f":"IFERROR(VLOOKUP($B516,'Building Data'!$F:$AA,22,FALSE),\"\")","v":""},{"$f":"IFERROR(VLOOKUP($B516,'Building Data'!$F$4:$AE$2970,26,FALSE),\"\")","v":""}]
[null,null,{"$f":"IFERROR(VLOOKUP($B517,'Building Data'!$F:$H,3,FALSE),\"\")","v":""},{"$f":"IFERROR(VLOOKUP($B517,'Building Data'!$F:$AA,22,FALSE),\"\")","v":""},{"$f":"IFERROR(VLOOKUP($B517,'Building Data'!$F$4:$AE$2970,26,FALSE),\"\")","v":""}]
[null,null,{"$f":"IFERROR(VLOOKUP($B518,'Building Data'!$F:$H,3,FALSE),\"\")","v":""},{"$f":"IFERROR(VLOOKUP($B518,'Building Data'!$F:$AA,22,FALSE),\"\")","v":""},{"$f":"IFERROR(VLOOKUP($B518,'Building Data'!$F$4:$AE$2970,26,FALSE),\"\")","v":""}]
[null,null,{"$f":"IFERROR(VLOOKUP($B519,'Building Data'!$F:$H,3,FALSE),\"\")","v":""},{"$f":"IFERROR(VLOOKUP($B519,'Building Data'!$F:$AA,22,FALSE),\"\")","v":""},{"$f":"IFERROR(VLOOKUP($B519,'Building Data'!$F$4:$AE$2970,26,FALSE),\"\")","v":""}]
[null,null,{"$f":"IFERROR(VLOOKUP($B520,'Building Data'!$F:$H,3,FALSE),\"\")","v":""},{"$f":"IFERROR(VLOOKUP($B520,'Building Data'!$F:$AA,22,FALSE),\"\")","v":""},{"$f":"IFERROR(VLOOKUP($B520,'Building Data'!$F$4:$AE$2970,26,FALSE),\"\")","v":""}]
[null,null,{"$f":"IFERROR(VLOOKUP($B521,'Building Data'!$F:$H,3,FALSE),\"\")","v":""},{"$f":"IFERROR(VLOOKUP($B521,'Building Data'!$F:$AA,22,FALSE),\"\")","v":""},{"$f":"IFERROR(VLOOKUP($B521,'Building Data'!$F$4:$AE$2970,26,FALSE),\"\")","v":""}]
[null,null,{"$f":"IFERROR(VLOOKUP($B522,'Building Data'!$F:$H,3,FALSE),\"\")","v":""},{"$f":"IFERROR(VLOOKUP($B522,'Building Data'!$F:$AA,22,FALSE),\"\")","v":""},{"$f":"IFERROR(VLOOKUP($B522,'Building Data'!$F$4:$AE$2970,26,FALSE),\"\")","v":""}]
[null,null,{"$f":"IFERROR(VLOOKUP($B523,'Building Data'!$F:$H,3,FALSE),\"\")","v":""},{"$f":"IFERROR(VLOOKUP($B523,'Building Data'!$F:$AA,22,FALSE),\"\")","v":""},{"$f":"IFERROR(VLOOKUP($B523,'Building Data'!$F$4:$AE$2970,26,FALSE),\"\")","v":""}]
[null,null,{"$f":"IFERROR(VLOOKUP($B524,'Building Data'!$F:$H,3,FALSE),\"\")","v":""},{"$f":"IFERROR(VLOOKUP($B524,'Building Data'!$F:$AA,22,FALSE),\"\")","v":""},{"$f":"IFERROR(VLOOKUP($B524,'Building Data'!$F$4:$AE$2970,26,FALSE),\"\")","v":""}]
[null,null,{"$f":"IFERROR(VLOOKUP($B525,'Building Data'!$F:$H,3,FALSE),\"\")","v":""},{"$f":"IFERROR(VLOOKUP($B525,'Building Data'!$F:$AA,22,FALSE),\"\")","v":""},{"$f":"IFERROR(VLOOKUP($B525,'Building Data'!$F$4:$AE$2970,26,FALSE),\"\")","v":""}]
[null,null,{"$f":"IFERROR(VLOOKUP($B526,'Building Data'!$F:$H,3,FALSE),\"\")","v":""},{"$f":"IFERROR(VLOOKUP($B526,'Building Data'!$F:$AA,22,FALSE),\"\")","v":""},{"$f":"IFERROR(VLOOKUP($B526,'Building Data'!$F$4:$AE$2970,26,FALSE),\"\")","v":""}]
[null,null,{"$f":"IFERROR(VLOOKUP($B527,'Building Data'!$F:$H,3,FALSE),\"\")","v":""},{"$f":"IFERROR(VLOOKUP($B527,'Building Data'!$F:$AA,22,FALSE),\"\")","v":""},{"$f":"IFERROR(VLOOKUP($B527,'Building Data'!$F$4:$AE$2970,26,FALSE),\"\")","v":""}]
[null,null,{"$f":"IFERROR(VLOOKUP($B528,'Building Data'!$F:$H,3,FALSE),\"\")","v":""},{"$f":"IFERROR(VLOOKUP($B528,'Building Data'!$F:$AA,22,FALSE),\"\")","v":""},{"$f":"IFERROR(VLOOKUP($B528,'Building Data'!$F$4:$AE$2970,26,FALSE),\"\")","v":""}]
[null,null,{"$f":"IFERROR(VLOOKUP($B529,'Building Data'!$F:$H,3,FALSE),\"\")","v":""},{"$f":"IFERROR(VLOOKUP($B529,'Building Data'!$F:$AA,22,FALSE),\"\")","v":""},{"$f":"IFERROR(VLOOKUP($B529,'Building Data'!$F$4:$AE$2970,26,FALSE),\"\")","v":""}]
[null,null,{"$f":"IFERROR(VLOOKUP($B530,'Building Data'!$F:$H,3,FALSE),\"\")","v":""},{"$f":"IFERROR(VLOOKUP($B530,'Building Data'!$F:$AA,22,FALSE),\"\")","v":""},{"$f":"IFERROR(VLOOKUP($B530,'Building Data'!$F$4:$AE$2970,26,FALSE),\"\")","v":""}]
[null,null,{"$f":"IFERROR(VLOOKUP($B531,'Building Data'!$F:$H,3,FALSE),\"\")","v":""},{"$f":"IFERROR(VLOOKUP($B531,'Building Data'!$F:$AA,22,FALSE),\"\")","v":""},{"$f":"IFERROR(VLOOKUP($B531,'Building Data'!$F$4:$AE$2970,26,FALSE),\"\")","v":""}]
[null,null,{"$f":"IFERROR(VLOOKUP($B532,'Building Data'!$F:$H,3,FALSE),\"\")","v":""},{"$f":"IFERROR(VLOOKUP($B532,'Building Data'!$F:$AA,22,FALSE),\"\")","v":""},{"$f":"IFERROR(VLOOKUP($B532,'Building Data'!$F$4:$AE$2970,26,FALSE),\"\")","v":""}]
[null,null,{"$f":"IFERROR(VLOOKUP($B533,'Building Data'!$F:$H,3,FALSE),\"\")","v":""},{"$f":"IFERROR(VLOOKUP($B533,'Building Data'!$F:$AA,22,FALSE),\"\")","v":""},{"$f":"IFERROR(VLOOKUP($B533,'Building Data'!$F$4:$AE$2970,26,FALSE),\"\")","v":""}]
[null,null,{"$f":"IFERROR(VLOOKUP($B534,'Building Data'!$F:$H,3,FALSE),\"\")","v":""},{"$f":"IFERROR(VLOOKUP($B534,'Building Data'!$F:$AA,22,FALSE),\"\")","v":""},{"$f":"IFERROR(VLOOKUP($B534,'Building Data'!$F$4:$AE$2970,26,FALSE),\"\")","v":""}]
[null,null,{"$f":"IFERROR(VLOOKUP($B535,'Building Data'!$F:$H,3,FALSE),\"\")","v":""},{"$f":"IFERROR(VLOOKUP($B535,'Building Data'!$F:$AA,22,FALSE),\"\")","v":""},{"$f":"IFERROR(VLOOKUP($B535,'Building Data'!$F$4:$AE$2970,26,FALSE),\"\")","v":""}]
[null,null,{"$f":"IFERROR(VLOOKUP($B536,'Building Data'!$F:$H,3,FALSE),\"\")","v":""},{"$f":"IFERROR(VLOOKUP($B536,'Building Data'!$F:$AA,22,FALSE),\"\")","v":""},{"$f":"IFERROR(VLOOKUP($B536,'Building Data'!$F$4:$AE$2970,26,FALSE),\"\")","v":""}]
[null,null,{"$f":"IFERROR(VLOOKUP($B537,'Building Data'!$F:$H,3,FALSE),\"\")","v":""},{"$f":"IFERROR(VLOOKUP($B537,'Building Data'!$F:$AA,22,FALSE),\"\")","v":""},{"$f":"IFERROR(VLOOKUP($B537,'Building Data'!$F$4:$AE$2970,26,FALSE),\"\")","v":""}]
[null,null,{"$f":"IFERROR(VLOOKUP($B538,'Building Data'!$F:$H,3,FALSE),\"\")","v":""},{"$f":"IFERROR(VLOOKUP($B538,'Building Data'!$F:$AA,22,FALSE),\"\")","v":""},{"$f":"IFERROR(VLOOKUP($B538,'Building Data'!$F$4:$AE$2970,26,FALSE),\"\")","v":""}]
[null,null,{"$f":"IFERROR(VLOOKUP($B539,'Building Data'!$F:$H,3,FALSE),\"\")","v":""},{"$f":"IFERROR(VLOOKUP($B539,'Building Data'!$F:$AA,22,FALSE),\"\")","v":""},{"$f":"IFERROR(VLOOKUP($B539,'Building Data'!$F$4:$AE$2970,26,FALSE),\"\")","v":""}]
[null,null,{"$f":"IFERROR(VLOOKUP($B540,'Building Data'!$F:$H,3,FALSE),\"\")","v":""},{"$f":"IFERROR(VLOOKUP($B540,'Building Data'!$F:$AA,22,FALSE),\"\")","v":""},{"$f":"IFERROR(VLOOKUP($B540,'Building Data'!$F$4:$AE$2970,26,FALSE),\"\")","v":""}]
[null,null,{"$f":"IFERROR(VLOOKUP($B541,'Building Data'!$F:$H,3,FALSE),\"\")","v":""},{"$f":"IFERROR(VLOOKUP($B541,'Building Data'!$F:$AA,22,FALSE),\"\")","v":""},{"$f":"IFERROR(VLOOKUP($B541,'Building Data'!$F$4:$AE$2970,26,FALSE),\"\")","v":""}]
[null,null,{"$f":"IFERROR(VLOOKUP($B542,'Building Data'!$F:$H,3,FALSE),\"\")","v":""},{"$f":"IFERROR(VLOOKUP($B542,'Building Data'!$F:$AA,22,FALSE),\"\")","v":""},{"$f":"IFERROR(VLOOKUP($B542,'Building Data'!$F$4:$AE$2970,26,FALSE),\"\")","v":""}]
[null,null,{"$f":"IFERROR(VLOOKUP($B543,'Building Data'!$F:$H,3,FALSE),\"\")","v":""},{"$f":"IFERROR(VLOOKUP($B543,'Building Data'!$F:$AA,22,FALSE),\"\")","v":""},{"$f":"IFERROR(VLOOKUP($B543,'Building Data'!$F$4:$AE$2970,26,FALSE),\"\")","v":""}]
[null,null,{"$f":"IFERROR(VLOOKUP($B544,'Building Data'!$F:$H,3,FALSE),\"\")","v":""},{"$f":"IFERROR(VLOOKUP($B544,'Building Data'!$F:$AA,22,FALSE),\"\")","v":""},{"$f":"IFERROR(VLOOKUP($B544,'Building Data'!$F$4:$AE$2970,26,FALSE),\"\")","v":""}]
[null,null,{"$f":"IFERROR(VLOOKUP($B545,'Building Data'!$F:$H,3,FALSE),\"\")","v":""},{"$f":"IFERROR(VLOOKUP($B545,'Building Data'!$F:$AA,22,FALSE),\"\")","v":""},{"$f":"IFERROR(VLOOKUP($B545,'Building Data'!$F$4:$AE$2970,26,FALSE),\"\")","v":""}]
[null,null,{"$f":"IFERROR(VLOOKUP($B546,'Building Data'!$F:$H,3,FALSE),\"\")","v":""},{"$f":"IFERROR(VLOOKUP($B546,'Building Data'!$F:$AA,22,FALSE),\"\")","v":""},{"$f":"IFERROR(VLOOKUP($B546,'Building Data'!$F$4:$AE$2970,26,FALSE),\"\")","v":""}]
[null,null,{"$f":"IFERROR(VLOOKUP($B547,'Building Data'!$F:$H,3,FALSE),\"\")","v":""},{"$f":"IFERROR(VLOOKUP($B547,'Building Data'!$F:$AA,22,FALSE),\"\")","v":""},{"$f":"IFERROR(VLOOKUP($B547,'Building Data'!$F$4:$AE$2970,26,FALSE),\"\")","v":""}]
[null,null,{"$f":"IFERROR(VLOOKUP($B548,'Building Data'!$F:$H,3,FALSE),\"\")","v":""},{"$f":"IFERROR(VLOOKUP($B548,'Building Data'!$F:$AA,22,FALSE),\"\")","v":""},{"$f":"IFERROR(VLOOKUP($B548,'Building Data'!$F$4:$AE$2970,26,FALSE),\"\")","v":""}]
[null,null,{"$f":"IFERROR(VLOOKUP($B549,'Building Data'!$F:$H,3,FALSE),\"\")","v":""},{"$f":"IFERROR(VLOOKUP($B549,'Building Data'!$F:$AA,22,FALSE),\"\")","v":""},{"$f":"IFERROR(VLOOKUP($B549,'Building Data'!$F$4:$AE$2970,26,FALSE),\"\")","v":""}]
[null,null,{"$f":"IFERROR(VLOOKUP($B550,'Building Data'!$F:$H,3,FALSE),\"\")","v":""},{"$f":"IFERROR(VLOOKUP($B550,'Building Data'!$F:$AA,22,FALSE),\"\")","v":""},{"$f":"IFERROR(VLOOKUP($B550,'Building Data'!$F$4:$AE$2970,26,FALSE),\"\")","v":""}]
[null,null,{"$f":"IFERROR(VLOOKUP($B551,'Building Data'!$F:$H,3,FALSE),\"\")","v":""},{"$f":"IFERROR(VLOOKUP($B551,'Building Data'!$F:$AA,22,FALSE),\"\")","v":""},{"$f":"IFERROR(VLOOKUP($B551,'Building Data'!$F$4:$AE$2970,26,FALSE),\"\")","v":""}]
[null,null,{"$f":"IFERROR(VLOOKUP($B552,'Building Data'!$F:$H,3,FALSE),\"\")","v":""},{"$f":"IFERROR(VLOOKUP($B552,'Building Data'!$F:$AA,22,FALSE),\"\")","v":""},{"$f":"IFERROR(VLOOKUP($B552,'Building Data'!$F$4:$AE$2970,26,FALSE),\"\")","v":""}]
[null,null,{"$f":"IFERROR(VLOOKUP($B553,'Building Data'!$F:$H,3,FALSE),\"\")","v":""},{"$f":"IFERROR(VLOOKUP($B553,'Building Data'!$F:$AA,22,FALSE),\"\")","v":""},{"$f":"IFERROR(VLOOKUP($B553,'Building Data'!$F$4:$AE$2970,26,FALSE),\"\")","v":""}]
[null,null,{"$f":"IFERROR(VLOOKUP($B554,'Building Data'!$F:$H,3,FALSE),\"\")","v":""},{"$f":"IFERROR(VLOOKUP($B554,'Building Data'!$F:$AA,22,FALSE),\"\")","v":""},{"$f":"IFERROR(VLOOKUP($B554,'Building Data'!$F$4:$AE$2970,26,FALSE),\"\")","v":""}]
[null,null,{"$f":"IFERROR(VLOOKUP($B555,'Building Data'!$F:$H,3,FALSE),\"\")","v":""},{"$f":"IFERROR(VLOOKUP($B555,'Building Data'!$F:$AA,22,FALSE),\"\")","v":""},{"$f":"IFERROR(VLOOKUP($B555,'Building Data'!$F$4:$AE$2970,26,FALSE),\"\")","v":""}]
[null,null,{"$f":"IFERROR(VLOOKUP($B556,'Building Data'!$F:$H,3,FALSE),\"\")","v":""},{"$f":"IFERROR(VLOOKUP($B556,'Building Data'!$F:$AA,22,FALSE),\"\")","v":""},{"$f":"IFERROR(VLOOKUP($B556,'Building Data'!$F$4:$AE$2970,26,FALSE),\"\")","v":""}]
[null,null,{"$f":"IFERROR(VLOOKUP($B557,'Building Data'!$F:$H,3,FALSE),\"\")","v":""},{"$f":"IFERROR(VLOOKUP($B557,'Building Data'!$F:$AA,22,FALSE),\"\")","v":""},{"$f":"IFERROR(VLOOKUP($B557,'Building Data'!$F$4:$AE$2970,26,FALSE),\"\")","v":""}]
[null,null,{"$f":"IFERROR(VLOOKUP($B558,'Building Data'!$F:$H,3,FALSE),\"\")","v":""},{"$f":"IFERROR(VLOOKUP($B558,'Building Data'!$F:$AA,22,FALSE),\"\")","v":""},{"$f":"IFERROR(VLOOKUP($B558,'Building Data'!$F$4:$AE$2970,26,FALSE),\"\")","v":""}]
[null,null,{"$f":"IFERROR(VLOOKUP($B559,'Building Data'!$F:$H,3,FALSE),\"\")","v":""},{"$f":"IFERROR(VLOOKUP($B559,'Building Data'!$F:$AA,22,FALSE),\"\")","v":""},{"$f":"IFERROR(VLOOKUP($B559,'Building Data'!$F$4:$AE$2970,26,FALSE),\"\")","v":""}]
[null,null,{"$f":"IFERROR(VLOOKUP($B560,'Building Data'!$F:$H,3,FALSE),\"\")","v":""},{"$f":"IFERROR(VLOOKUP($B560,'Building Data'!$F:$AA,22,FALSE),\"\")","v":""},{"$f":"IFERROR(VLOOKUP($B560,'Building Data'!$F$4:$AE$2970,26,FALSE),\"\")","v":""}]
[null,null,{"$f":"IFERROR(VLOOKUP($B561,'Building Data'!$F:$H,3,FALSE),\"\")","v":""},{"$f":"IFERROR(VLOOKUP($B561,'Building Data'!$F:$AA,22,FALSE),\"\")","v":""},{"$f":"IFERROR(VLOOKUP($B561,'Building Data'!$F$4:$AE$2970,26,FALSE),\"\")","v":""}]
[null,null,{"$f":"IFERROR(VLOOKUP($B562,'Building Data'!$F:$H,3,FALSE),\"\")","v":""},{"$f":"IFERROR(VLOOKUP($B562,'Building Data'!$F:$AA,22,FALSE),\"\")","v":""},{"$f":"IFERROR(VLOOKUP($B562,'Building Data'!$F$4:$AE$2970,26,FALSE),\"\")","v":""}]
[null,null,{"$f":"IFERROR(VLOOKUP($B563,'Building Data'!$F:$H,3,FALSE),\"\")","v":""},{"$f":"IFERROR(VLOOKUP($B563,'Building Data'!$F:$AA,22,FALSE),\"\")","v":""},{"$f":"IFERROR(VLOOKUP($B563,'Building Data'!$F$4:$AE$2970,26,FALSE),\"\")","v":""}]
[null,null,{"$f":"IFERROR(VLOOKUP($B564,'Building Data'!$F:$H,3,FALSE),\"\")","v":""},{"$f":"IFERROR(VLOOKUP($B564,'Building Data'!$F:$AA,22,FALSE),\"\")","v":""},{"$f":"IFERROR(VLOOKUP($B564,'Building Data'!$F$4:$AE$2970,26,FALSE),\"\")","v":""}]
[null,null,{"$f":"IFERROR(VLOOKUP($B565,'Building Data'!$F:$H,3,FALSE),\"\")","v":""},{"$f":"IFERROR(VLOOKUP($B565,'Building Data'!$F:$AA,22,FALSE),\"\")","v":""},{"$f":"IFERROR(VLOOKUP($B565,'Building Data'!$F$4:$AE$2970,26,FALSE),\"\")","v":""}]
[null,null,{"$f":"IFERROR(VLOOKUP($B566,'Building Data'!$F:$H,3,FALSE),\"\")","v":""},{"$f":"IFERROR(VLOOKUP($B566,'Building Data'!$F:$AA,22,FALSE),\"\")","v":""},{"$f":"IFERROR(VLOOKUP($B566,'Building Data'!$F$4:$AE$2970,26,FALSE),\"\")","v":""}]
[null,null,{"$f":"IFERROR(VLOOKUP($B567,'Building Data'!$F:$H,3,FALSE),\"\")","v":""},{"$f":"IFERROR(VLOOKUP($B567,'Building Data'!$F:$AA,22,FALSE),\"\")","v":""},{"$f":"IFERROR(VLOOKUP($B567,'Building Data'!$F$4:$AE$2970,26,FALSE),\"\")","v":""}]
[null,null,{"$f":"IFERROR(VLOOKUP($B568,'Building Data'!$F:$H,3,FALSE),\"\")","v":""},{"$f":"IFERROR(VLOOKUP($B568,'Building Data'!$F:$AA,22,FALSE),\"\")","v":""},{"$f":"IFERROR(VLOOKUP($B568,'Building Data'!$F$4:$AE$2970,26,FALSE),\"\")","v":""}]
[null,null,{"$f":"IFERROR(VLOOKUP($B569,'Building Data'!$F:$H,3,FALSE),\"\")","v":""},{"$f":"IFERROR(VLOOKUP($B569,'Building Data'!$F:$AA,22,FALSE),\"\")","v":""},{"$f":"IFERROR(VLOOKUP($B569,'Building Data'!$F$4:$AE$2970,26,FALSE),\"\")","v":""}]
[null,null,{"$f":"IFERROR(VLOOKUP($B570,'Building Data'!$F:$H,3,FALSE),\"\")","v":""},{"$f":"IFERROR(VLOOKUP($B570,'Building Data'!$F:$AA,22,FALSE),\"\")","v":""},{"$f":"IFERROR(VLOOKUP($B570,'Building Data'!$F$4:$AE$2970,26,FALSE),\"\")","v":""}]
[null,null,{"$f":"IFERROR(VLOOKUP($B571,'Building Data'!$F:$H,3,FALSE),\"\")","v":""},{"$f":"IFERROR(VLOOKUP($B571,'Building Data'!$F:$AA,22,FALSE),\"\")","v":""},{"$f":"IFERROR(VLOOKUP($B571,'Building Data'!$F$4:$AE$2970,26,FALSE),\"\")","v":""}]
[null,null,{"$f":"IFERROR(VLOOKUP($B572,'Building Data'!$F:$H,3,FALSE),\"\")","v":""},{"$f":"IFERROR(VLOOKUP($B572,'Building Data'!$F:$AA,22,FALSE),\"\")","v":""},{"$f":"IFERROR(VLOOKUP($B572,'Building Data'!$F$4:$AE$2970,26,FALSE),\"\")","v":""}]
[null,null,{"$f":"IFERROR(VLOOKUP($B573,'Building Data'!$F:$H,3,FALSE),\"\")","v":""},{"$f":"IFERROR(VLOOKUP($B573,'Building Data'!$F:$AA,22,FALSE),\"\")","v":""},{"$f":"IFERROR(VLOOKUP($B573,'Building Data'!$F$4:$AE$2970,26,FALSE),\"\")","v":""}]
[null,null,{"$f":"IFERROR(VLOOKUP($B574,'Building Data'!$F:$H,3,FALSE),\"\")","v":""},{"$f":"IFERROR(VLOOKUP($B574,'Building Data'!$F:$AA,22,FALSE),\"\")","v":""},{"$f":"IFERROR(VLOOKUP($B574,'Building Data'!$F$4:$AE$2970,26,FALSE),\"\")","v":""}]
[null,null,{"$f":"IFERROR(VLOOKUP($B575,'Building Data'!$F:$H,3,FALSE),\"\")","v":""},{"$f":"IFERROR(VLOOKUP($B575,'Building Data'!$F:$AA,22,FALSE),\"\")","v":""},{"$f":"IFERROR(VLOOKUP($B575,'Building Data'!$F$4:$AE$2970,26,FALSE),\"\")","v":""}]
[null,null,{"$f":"IFERROR(VLOOKUP($B576,'Building Data'!$F:$H,3,FALSE),\"\")","v":""},{"$f":"IFERROR(VLOOKUP($B576,'Building Data'!$F:$AA,22,FALSE),\"\")","v":""},{"$f":"IFERROR(VLOOKUP($B576,'Building Data'!$F$4:$AE$2970,26,FALSE),\"\")","v":""}]
[null,null,{"$f":"IFERROR(VLOOKUP($B577,'Building Data'!$F:$H,3,FALSE),\"\")","v":""},{"$f":"IFERROR(VLOOKUP($B577,'Building Data'!$F:$AA,22,FALSE),\"\")","v":""},{"$f":"IFERROR(VLOOKUP($B577,'Building Data'!$F$4:$AE$2970,26,FALSE),\"\")","v":""}]
[null,null,{"$f":"IFERROR(VLOOKUP($B578,'Building Data'!$F:$H,3,FALSE),\"\")","v":""},{"$f":"IFERROR(VLOOKUP($B578,'Building Data'!$F:$AA,22,FALSE),\"\")","v":""},{"$f":"IFERROR(VLOOKUP($B578,'Building Data'!$F$4:$AE$2970,26,FALSE),\"\")","v":""}]
[null,null,{"$f":"IFERROR(VLOOKUP($B579,'Building Data'!$F:$H,3,FALSE),\"\")","v":""},{"$f":"IFERROR(VLOOKUP($B579,'Building Data'!$F:$AA,22,FALSE),\"\")","v":""},{"$f":"IFERROR(VLOOKUP($B579,'Building Data'!$F$4:$AE$2970,26,FALSE),\"\")","v":""}]
[null,null,{"$f":"IFERROR(VLOOKUP($B580,'Building Data'!$F:$H,3,FALSE),\"\")","v":""},{"$f":"IFERROR(VLOOKUP($B580,'Building Data'!$F:$AA,22,FALSE),\"\")","v":""},{"$f":"IFERROR(VLOOKUP($B580,'Building Data'!$F$4:$AE$2970,26,FALSE),\"\")","v":""}]
[null,null,{"$f":"IFERROR(VLOOKUP($B581,'Building Data'!$F:$H,3,FALSE),\"\")","v":""},{"$f":"IFERROR(VLOOKUP($B581,'Building Data'!$F:$AA,22,FALSE),\"\")","v":""},{"$f":"IFERROR(VLOOKUP($B581,'Building Data'!$F$4:$AE$2970,26,FALSE),\"\")","v":""}]
[null,null,{"$f":"IFERROR(VLOOKUP($B582,'Building Data'!$F:$H,3,FALSE),\"\")","v":""},{"$f":"IFERROR(VLOOKUP($B582,'Building Data'!$F:$AA,22,FALSE),\"\")","v":""},{"$f":"IFERROR(VLOOKUP($B582,'Building Data'!$F$4:$AE$2970,26,FALSE),\"\")","v":""}]
[null,null,{"$f":"IFERROR(VLOOKUP($B583,'Building Data'!$F:$H,3,FALSE),\"\")","v":""},{"$f":"IFERROR(VLOOKUP($B583,'Building Data'!$F:$AA,22,FALSE),\"\")","v":""},{"$f":"IFERROR(VLOOKUP($B583,'Building Data'!$F$4:$AE$2970,26,FALSE),\"\")","v":""}]
[null,null,{"$f":"IFERROR(VLOOKUP($B584,'Building Data'!$F:$H,3,FALSE),\"\")","v":""},{"$f":"IFERROR(VLOOKUP($B584,'Building Data'!$F:$AA,22,FALSE),\"\")","v":""},{"$f":"IFERROR(VLOOKUP($B584,'Building Data'!$F$4:$AE$2970,26,FALSE),\"\")","v":""}]
[null,null,{"$f":"IFERROR(VLOOKUP($B585,'Building Data'!$F:$H,3,FALSE),\"\")","v":""},{"$f":"IFERROR(VLOOKUP($B585,'Building Data'!$F:$AA,22,FALSE),\"\")","v":""},{"$f":"IFERROR(VLOOKUP($B585,'Building Data'!$F$4:$AE$2970,26,FALSE),\"\")","v":""}]
[null,null,{"$f":"IFERROR(VLOOKUP($B586,'Building Data'!$F:$H,3,FALSE),\"\")","v":""},{"$f":"IFERROR(VLOOKUP($B586,'Building Data'!$F:$AA,22,FALSE),\"\")","v":""},{"$f":"IFERROR(VLOOKUP($B586,'Building Data'!$F$4:$AE$2970,26,FALSE),\"\")","v":""}]
[null,null,{"$f":"IFERROR(VLOOKUP($B587,'Building Data'!$F:$H,3,FALSE),\"\")","v":""},{"$f":"IFERROR(VLOOKUP($B587,'Building Data'!$F:$AA,22,FALSE),\"\")","v":""},{"$f":"IFERROR(VLOOKUP($B587,'Building Data'!$F$4:$AE$2970,26,FALSE),\"\")","v":""}]
[null,null,{"$f":"IFERROR(VLOOKUP($B588,'Building Data'!$F:$H,3,FALSE),\"\")","v":""},{"$f":"IFERROR(VLOOKUP($B588,'Building Data'!$F:$AA,22,FALSE),\"\")","v":""},{"$f":"IFERROR(VLOOKUP($B588,'Building Data'!$F$4:$AE$2970,26,FALSE),\"\")","v":""}]
[null,null,{"$f":"IFERROR(VLOOKUP($B589,'Building Data'!$F:$H,3,FALSE),\"\")","v":""},{"$f":"IFERROR(VLOOKUP($B589,'Building Data'!$F:$AA,22,FALSE),\"\")","v":""},{"$f":"IFERROR(VLOOKUP($B589,'Building Data'!$F$4:$AE$2970,26,FALSE),\"\")","v":""}]
[null,null,{"$f":"IFERROR(VLOOKUP($B590,'Building Data'!$F:$H,3,FALSE),\"\")","v":""},{"$f":"IFERROR(VLOOKUP($B590,'Building Data'!$F:$AA,22,FALSE),\"\")","v":""},{"$f":"IFERROR(VLOOKUP($B590,'Building Data'!$F$4:$AE$2970,26,FALSE),\"\")","v":""}]
[null,null,{"$f":"IFERROR(VLOOKUP($B591,'Building Data'!$F:$H,3,FALSE),\"\")","v":""},{"$f":"IFERROR(VLOOKUP($B591,'Building Data'!$F:$AA,22,FALSE),\"\")","v":""},{"$f":"IFERROR(VLOOKUP($B591,'Building Data'!$F$4:$AE$2970,26,FALSE),\"\")","v":""}]
[null,null,{"$f":"IFERROR(VLOOKUP($B592,'Building Data'!$F:$H,3,FALSE),\"\")","v":""},{"$f":"IFERROR(VLOOKUP($B592,'Building Data'!$F:$AA,22,FALSE),\"\")","v":""},{"$f":"IFERROR(VLOOKUP($B592,'Building Data'!$F$4:$AE$2970,26,FALSE),\"\")","v":""}]
[null,null,{"$f":"IFERROR(VLOOKUP($B593,'Building Data'!$F:$H,3,FALSE),\"\")","v":""},{"$f":"IFERROR(VLOOKUP($B593,'Building Data'!$F:$AA,22,FALSE),\"\")","v":""},{"$f":"IFERROR(VLOOKUP($B593,'Building Data'!$F$4:$AE$2970,26,FALSE),\"\")","v":""}]
[null,null,{"$f":"IFERROR(VLOOKUP($B594,'Building Data'!$F:$H,3,FALSE),\"\")","v":""},{"$f":"IFERROR(VLOOKUP($B594,'Building Data'!$F:$AA,22,FALSE),\"\")","v":""},{"$f":"IFERROR(VLOOKUP($B594,'Building Data'!$F$4:$AE$2970,26,FALSE),\"\")","v":""}]
[null,null,{"$f":"IFERROR(VLOOKUP($B595,'Building Data'!$F:$H,3,FALSE),\"\")","v":""},{"$f":"IFERROR(VLOOKUP($B595,'Building Data'!$F:$AA,22,FALSE),\"\")","v":""},{"$f":"IFERROR(VLOOKUP($B595,'Building Data'!$F$4:$AE$2970,26,FALSE),\"\")","v":""}]
[null,null,{"$f":"IFERROR(VLOOKUP($B596,'Building Data'!$F:$H,3,FALSE),\"\")","v":""},{"$f":"IFERROR(VLOOKUP($B596,'Building Data'!$F:$AA,22,FALSE),\"\")","v":""},{"$f":"IFERROR(VLOOKUP($B596,'Building Data'!$F$4:$AE$2970,26,FALSE),\"\")","v":""}]
[null,null,{"$f":"IFERROR(VLOOKUP($B597,'Building Data'!$F:$H,3,FALSE),\"\")","v":""},{"$f":"IFERROR(VLOOKUP($B597,'Building Data'!$F:$AA,22,FALSE),\"\")","v":""},{"$f":"IFERROR(VLOOKUP($B597,'Building Data'!$F$4:$AE$2970,26,FALSE),\"\")","v":""}]
[null,null,{"$f":"IFERROR(VLOOKUP($B598,'Building Data'!$F:$H,3,FALSE),\"\")","v":""},{"$f":"IFERROR(VLOOKUP($B598,'Building Data'!$F:$AA,22,FALSE),\"\")","v":""},{"$f":"IFERROR(VLOOKUP($B598,'Building Data'!$F$4:$AE$2970,26,FALSE),\"\")","v":""}]
[null,null,{"$f":"IFERROR(VLOOKUP($B599,'Building Data'!$F:$H,3,FALSE),\"\")","v":""},{"$f":"IFERROR(VLOOKUP($B599,'Building Data'!$F:$AA,22,FALSE),\"\")","v":""},{"$f":"IFERROR(VLOOKUP($B599,'Building Data'!$F$4:$AE$2970,26,FALSE),\"\")","v":""}]
[null,null,{"$f":"IFERROR(VLOOKUP($B600,'Building Data'!$F:$H,3,FALSE),\"\")","v":""},{"$f":"IFERROR(VLOOKUP($B600,'Building Data'!$F:$AA,22,FALSE),\"\")","v":""},{"$f":"IFERROR(VLOOKUP($B600,'Building Data'!$F$4:$AE$2970,26,FALSE),\"\")","v":""}]
[null,null,{"$f":"IFERROR(VLOOKUP($B601,'Building Data'!$F:$H,3,FALSE),\"\")","v":""},{"$f":"IFERROR(VLOOKUP($B601,'Building Data'!$F:$AA,22,FALSE),\"\")","v":""},{"$f":"IFERROR(VLOOKUP($B601,'Building Data'!$F$4:$AE$2970,26,FALSE),\"\")","v":""}]
[null,null,{"$f":"IFERROR(VLOOKUP($B602,'Building Data'!$F:$H,3,FALSE),\"\")","v":""},{"$f":"IFERROR(VLOOKUP($B602,'Building Data'!$F:$AA,22,FALSE),\"\")","v":""},{"$f":"IFERROR(VLOOKUP($B602,'Building Data'!$F$4:$AE$2970,26,FALSE),\"\")","v":""}]
[null,null,{"$f":"IFERROR(VLOOKUP($B603,'Building Data'!$F:$H,3,FALSE),\"\")","v":""},{"$f":"IFERROR(VLOOKUP($B603,'Building Data'!$F:$AA,22,FALSE),\"\")","v":""},{"$f":"IFERROR(VLOOKUP($B603,'Building Data'!$F$4:$AE$2970,26,FALSE),\"\")","v":""}]
[null,null,{"$f":"IFERROR(VLOOKUP($B604,'Building Data'!$F:$H,3,FALSE),\"\")","v":""},{"$f":"IFERROR(VLOOKUP($B604,'Building Data'!$F:$AA,22,FALSE),\"\")","v":""},{"$f":"IFERROR(VLOOKUP($B604,'Building Data'!$F$4:$AE$2970,26,FALSE),\"\")","v":""}]
[null,null,{"$f":"IFERROR(VLOOKUP($B605,'Building Data'!$F:$H,3,FALSE),\"\")","v":""},{"$f":"IFERROR(VLOOKUP($B605,'Building Data'!$F:$AA,22,FALSE),\"\")","v":""},{"$f":"IFERROR(VLOOKUP($B605,'Building Data'!$F$4:$AE$2970,26,FALSE),\"\")","v":""}]
[null,null,{"$f":"IFERROR(VLOOKUP($B606,'Building Data'!$F:$H,3,FALSE),\"\")","v":""},{"$f":"IFERROR(VLOOKUP($B606,'Building Data'!$F:$AA,22,FALSE),\"\")","v":""},{"$f":"IFERROR(VLOOKUP($B606,'Building Data'!$F$4:$AE$2970,26,FALSE),\"\")","v":""}]
[null,null,{"$f":"IFERROR(VLOOKUP($B607,'Building Data'!$F:$H,3,FALSE),\"\")","v":""},{"$f":"IFERROR(VLOOKUP($B607,'Building Data'!$F:$AA,22,FALSE),\"\")","v":""},{"$f":"IFERROR(VLOOKUP($B607,'Building Data'!$F$4:$AE$2970,26,FALSE),\"\")","v":""}]
[null,null,{"$f":"IFERROR(VLOOKUP($B608,'Building Data'!$F:$H,3,FALSE),\"\")","v":""},{"$f":"IFERROR(VLOOKUP($B608,'Building Data'!$F:$AA,22,FALSE),\"\")","v":""},{"$f":"IFERROR(VLOOKUP($B608,'Building Data'!$F$4:$AE$2970,26,FALSE),\"\")","v":""}]
[null,null,{"$f":"IFERROR(VLOOKUP($B609,'Building Data'!$F:$H,3,FALSE),\"\")","v":""},{"$f":"IFERROR(VLOOKUP($B609,'Building Data'!$F:$AA,22,FALSE),\"\")","v":""},{"$f":"IFERROR(VLOOKUP($B609,'Building Data'!$F$4:$AE$2970,26,FALSE),\"\")","v":""}]
[null,null,{"$f":"IFERROR(VLOOKUP($B610,'Building Data'!$F:$H,3,FALSE),\"\")","v":""},{"$f":"IFERROR(VLOOKUP($B610,'Building Data'!$F:$AA,22,FALSE),\"\")","v":""},{"$f":"IFERROR(VLOOKUP($B610,'Building Data'!$F$4:$AE$2970,26,FALSE),\"\")","v":""}]
[null,null,{"$f":"IFERROR(VLOOKUP($B611,'Building Data'!$F:$H,3,FALSE),\"\")","v":""},{"$f":"IFERROR(VLOOKUP($B611,'Building Data'!$F:$AA,22,FALSE),\"\")","v":""},{"$f":"IFERROR(VLOOKUP($B611,'Building Data'!$F$4:$AE$2970,26,FALSE),\"\")","v":""}]
[null,null,{"$f":"IFERROR(VLOOKUP($B612,'Building Data'!$F:$H,3,FALSE),\"\")","v":""},{"$f":"IFERROR(VLOOKUP($B612,'Building Data'!$F:$AA,22,FALSE),\"\")","v":""},{"$f":"IFERROR(VLOOKUP($B612,'Building Data'!$F$4:$AE$2970,26,FALSE),\"\")","v":""}]
[null,null,{"$f":"IFERROR(VLOOKUP($B613,'Building Data'!$F:$H,3,FALSE),\"\")","v":""},{"$f":"IFERROR(VLOOKUP($B613,'Building Data'!$F:$AA,22,FALSE),\"\")","v":""},{"$f":"IFERROR(VLOOKUP($B613,'Building Data'!$F$4:$AE$2970,26,FALSE),\"\")","v":""}]
[null,null,{"$f":"IFERROR(VLOOKUP($B614,'Building Data'!$F:$H,3,FALSE),\"\")","v":""},{"$f":"IFERROR(VLOOKUP($B614,'Building Data'!$F:$AA,22,FALSE),\"\")","v":""},{"$f":"IFERROR(VLOOKUP($B614,'Building Data'!$F$4:$AE$2970,26,FALSE),\"\")","v":""}]
[null,null,{"$f":"IFERROR(VLOOKUP($B615,'Building Data'!$F:$H,3,FALSE),\"\")","v":""},{"$f":"IFERROR(VLOOKUP($B615,'Building Data'!$F:$AA,22,FALSE),\"\")","v":""},{"$f":"IFERROR(VLOOKUP($B615,'Building Data'!$F$4:$AE$2970,26,FALSE),\"\")","v":""}]
[null,null,{"$f":"IFERROR(VLOOKUP($B616,'Building Data'!$F:$H,3,FALSE),\"\")","v":""},{"$f":"IFERROR(VLOOKUP($B616,'Building Data'!$F:$AA,22,FALSE),\"\")","v":""},{"$f":"IFERROR(VLOOKUP($B616,'Building Data'!$F$4:$AE$2970,26,FALSE),\"\")","v":""}]
[null,null,{"$f":"IFERROR(VLOOKUP($B617,'Building Data'!$F:$H,3,FALSE),\"\")","v":""},{"$f":"IFERROR(VLOOKUP($B617,'Building Data'!$F:$AA,22,FALSE),\"\")","v":""},{"$f":"IFERROR(VLOOKUP($B617,'Building Data'!$F$4:$AE$2970,26,FALSE),\"\")","v":""}]
[null,null,{"$f":"IFERROR(VLOOKUP($B618,'Building Data'!$F:$H,3,FALSE),\"\")","v":""},{"$f":"IFERROR(VLOOKUP($B618,'Building Data'!$F:$AA,22,FALSE),\"\")","v":""},{"$f":"IFERROR(VLOOKUP($B618,'Building Data'!$F$4:$AE$2970,26,FALSE),\"\")","v":""}]
[null,null,{"$f":"IFERROR(VLOOKUP($B619,'Building Data'!$F:$H,3,FALSE),\"\")","v":""},{"$f":"IFERROR(VLOOKUP($B619,'Building Data'!$F:$AA,22,FALSE),\"\")","v":""},{"$f":"IFERROR(VLOOKUP($B619,'Building Data'!$F$4:$AE$2970,26,FALSE),\"\")","v":""}]
[null,null,{"$f":"IFERROR(VLOOKUP($B620,'Building Data'!$F:$H,3,FALSE),\"\")","v":""},{"$f":"IFERROR(VLOOKUP($B620,'Building Data'!$F:$AA,22,FALSE),\"\")","v":""},{"$f":"IFERROR(VLOOKUP($B620,'Building Data'!$F$4:$AE$2970,26,FALSE),\"\")","v":""}]
[null,null,{"$f":"IFERROR(VLOOKUP($B621,'Building Data'!$F:$H,3,FALSE),\"\")","v":""},{"$f":"IFERROR(VLOOKUP($B621,'Building Data'!$F:$AA,22,FALSE),\"\")","v":""},{"$f":"IFERROR(VLOOKUP($B621,'Building Data'!$F$4:$AE$2970,26,FALSE),\"\")","v":""}]
[null,null,{"$f":"IFERROR(VLOOKUP($B622,'Building Data'!$F:$H,3,FALSE),\"\")","v":""},{"$f":"IFERROR(VLOOKUP($B622,'Building Data'!$F:$AA,22,FALSE),\"\")","v":""},{"$f":"IFERROR(VLOOKUP($B622,'Building Data'!$F$4:$AE$2970,26,FALSE),\"\")","v":""}]
[null,null,{"$f":"IFERROR(VLOOKUP($B623,'Building Data'!$F:$H,3,FALSE),\"\")","v":""},{"$f":"IFERROR(VLOOKUP($B623,'Building Data'!$F:$AA,22,FALSE),\"\")","v":""},{"$f":"IFERROR(VLOOKUP($B623,'Building Data'!$F$4:$AE$2970,26,FALSE),\"\")","v":""}]
[null,null,{"$f":"IFERROR(VLOOKUP($B624,'Building Data'!$F:$H,3,FALSE),\"\")","v":""},{"$f":"IFERROR(VLOOKUP($B624,'Building Data'!$F:$AA,22,FALSE),\"\")","v":""},{"$f":"IFERROR(VLOOKUP($B624,'Building Data'!$F$4:$AE$2970,26,FALSE),\"\")","v":""}]
[null,null,{"$f":"IFERROR(VLOOKUP($B625,'Building Data'!$F:$H,3,FALSE),\"\")","v":""},{"$f":"IFERROR(VLOOKUP($B625,'Building Data'!$F:$AA,22,FALSE),\"\")","v":""},{"$f":"IFERROR(VLOOKUP($B625,'Building Data'!$F$4:$AE$2970,26,FALSE),\"\")","v":""}]
[null,null,{"$f":"IFERROR(VLOOKUP($B626,'Building Data'!$F:$H,3,FALSE),\"\")","v":""},{"$f":"IFERROR(VLOOKUP($B626,'Building Data'!$F:$AA,22,FALSE),\"\")","v":""},{"$f":"IFERROR(VLOOKUP($B626,'Building Data'!$F$4:$AE$2970,26,FALSE),\"\")","v":""}]
[null,null,{"$f":"IFERROR(VLOOKUP($B627,'Building Data'!$F:$H,3,FALSE),\"\")","v":""},{"$f":"IFERROR(VLOOKUP($B627,'Building Data'!$F:$AA,22,FALSE),\"\")","v":""},{"$f":"IFERROR(VLOOKUP($B627,'Building Data'!$F$4:$AE$2970,26,FALSE),\"\")","v":""}]
[null,null,{"$f":"IFERROR(VLOOKUP($B628,'Building Data'!$F:$H,3,FALSE),\"\")","v":""},{"$f":"IFERROR(VLOOKUP($B628,'Building Data'!$F:$AA,22,FALSE),\"\")","v":""},{"$f":"IFERROR(VLOOKUP($B628,'Building Data'!$F$4:$AE$2970,26,FALSE),\"\")","v":""}]
[null,null,{"$f":"IFERROR(VLOOKUP($B629,'Building Data'!$F:$H,3,FALSE),\"\")","v":""},{"$f":"IFERROR(VLOOKUP($B629,'Building Data'!$F:$AA,22,FALSE),\"\")","v":""},{"$f":"IFERROR(VLOOKUP($B629,'Building Data'!$F$4:$AE$2970,26,FALSE),\"\")","v":""}]
[null,null,{"$f":"IFERROR(VLOOKUP($B630,'Building Data'!$F:$H,3,FALSE),\"\")","v":""},{"$f":"IFERROR(VLOOKUP($B630,'Building Data'!$F:$AA,22,FALSE),\"\")","v":""},{"$f":"IFERROR(VLOOKUP($B630,'Building Data'!$F$4:$AE$2970,26,FALSE),\"\")","v":""}]
[null,null,{"$f":"IFERROR(VLOOKUP($B631,'Building Data'!$F:$H,3,FALSE),\"\")","v":""},{"$f":"IFERROR(VLOOKUP($B631,'Building Data'!$F:$AA,22,FALSE),\"\")","v":""},{"$f":"IFERROR(VLOOKUP($B631,'Building Data'!$F$4:$AE$2970,26,FALSE),\"\")","v":""}]
[null,null,{"$f":"IFERROR(VLOOKUP($B632,'Building Data'!$F:$H,3,FALSE),\"\")","v":""},{"$f":"IFERROR(VLOOKUP($B632,'Building Data'!$F:$AA,22,FALSE),\"\")","v":""},{"$f":"IFERROR(VLOOKUP($B632,'Building Data'!$F$4:$AE$2970,26,FALSE),\"\")","v":""}]
[null,null,{"$f":"IFERROR(VLOOKUP($B633,'Building Data'!$F:$H,3,FALSE),\"\")","v":""},{"$f":"IFERROR(VLOOKUP($B633,'Building Data'!$F:$AA,22,FALSE),\"\")","v":""},{"$f":"IFERROR(VLOOKUP($B633,'Building Data'!$F$4:$AE$2970,26,FALSE),\"\")","v":""}]
[null,null,{"$f":"IFERROR(VLOOKUP($B634,'Building Data'!$F:$H,3,FALSE),\"\")","v":""},{"$f":"IFERROR(VLOOKUP($B634,'Building Data'!$F:$AA,22,FALSE),\"\")","v":""},{"$f":"IFERROR(VLOOKUP($B634,'Building Data'!$F$4:$AE$2970,26,FALSE),\"\")","v":""}]
[null,null,{"$f":"IFERROR(VLOOKUP($B635,'Building Data'!$F:$H,3,FALSE),\"\")","v":""},{"$f":"IFERROR(VLOOKUP($B635,'Building Data'!$F:$AA,22,FALSE),\"\")","v":""},{"$f":"IFERROR(VLOOKUP($B635,'Building Data'!$F$4:$AE$2970,26,FALSE),\"\")","v":""}]
[null,null,{"$f":"IFERROR(VLOOKUP($B636,'Building Data'!$F:$H,3,FALSE),\"\")","v":""},{"$f":"IFERROR(VLOOKUP($B636,'Building Data'!$F:$AA,22,FALSE),\"\")","v":""},{"$f":"IFERROR(VLOOKUP($B636,'Building Data'!$F$4:$AE$2970,26,FALSE),\"\")","v":""}]
[null,null,{"$f":"IFERROR(VLOOKUP($B637,'Building Data'!$F:$H,3,FALSE),\"\")","v":""},{"$f":"IFERROR(VLOOKUP($B637,'Building Data'!$F:$AA,22,FALSE),\"\")","v":""},{"$f":"IFERROR(VLOOKUP($B637,'Building Data'!$F$4:$AE$2970,26,FALSE),\"\")","v":""}]
[null,null,{"$f":"IFERROR(VLOOKUP($B638,'Building Data'!$F:$H,3,FALSE),\"\")","v":""},{"$f":"IFERROR(VLOOKUP($B638,'Building Data'!$F:$AA,22,FALSE),\"\")","v":""},{"$f":"IFERROR(VLOOKUP($B638,'Building Data'!$F$4:$AE$2970,26,FALSE),\"\")","v":""}]
[null,null,{"$f":"IFERROR(VLOOKUP($B639,'Building Data'!$F:$H,3,FALSE),\"\")","v":""},{"$f":"IFERROR(VLOOKUP($B639,'Building Data'!$F:$AA,22,FALSE),\"\")","v":""},{"$f":"IFERROR(VLOOKUP($B639,'Building Data'!$F$4:$AE$2970,26,FALSE),\"\")","v":""}]
[null,null,{"$f":"IFERROR(VLOOKUP($B640,'Building Data'!$F:$H,3,FALSE),\"\")","v":""},{"$f":"IFERROR(VLOOKUP($B640,'Building Data'!$F:$AA,22,FALSE),\"\")","v":""},{"$f":"IFERROR(VLOOKUP($B640,'Building Data'!$F$4:$AE$2970,26,FALSE),\"\")","v":""}]
[null,null,{"$f":"IFERROR(VLOOKUP($B641,'Building Data'!$F:$H,3,FALSE),\"\")","v":""},{"$f":"IFERROR(VLOOKUP($B641,'Building Data'!$F:$AA,22,FALSE),\"\")","v":""},{"$f":"IFERROR(VLOOKUP($B641,'Building Data'!$F$4:$AE$2970,26,FALSE),\"\")","v":""}]
[null,null,{"$f":"IFERROR(VLOOKUP($B642,'Building Data'!$F:$H,3,FALSE),\"\")","v":""},{"$f":"IFERROR(VLOOKUP($B642,'Building Data'!$F:$AA,22,FALSE),\"\")","v":""},{"$f":"IFERROR(VLOOKUP($B642,'Building Data'!$F$4:$AE$2970,26,FALSE),\"\")","v":""}]
[null,null,{"$f":"IFERROR(VLOOKUP($B643,'Building Data'!$F:$H,3,FALSE),\"\")","v":""},{"$f":"IFERROR(VLOOKUP($B643,'Building Data'!$F:$AA,22,FALSE),\"\")","v":""},{"$f":"IFERROR(VLOOKUP($B643,'Building Data'!$F$4:$AE$2970,26,FALSE),\"\")","v":""}]
[null,null,{"$f":"IFERROR(VLOOKUP($B644,'Building Data'!$F:$H,3,FALSE),\"\")","v":""},{"$f":"IFERROR(VLOOKUP($B644,'Building Data'!$F:$AA,22,FALSE),\"\")","v":""},{"$f":"IFERROR(VLOOKUP($B644,'Building Data'!$F$4:$AE$2970,26,FALSE),\"\")","v":""}]
[null,null,{"$f":"IFERROR(VLOOKUP($B645,'Building Data'!$F:$H,3,FALSE),\"\")","v":""},{"$f":"IFERROR(VLOOKUP($B645,'Building Data'!$F:$AA,22,FALSE),\"\")","v":""},{"$f":"IFERROR(VLOOKUP($B645,'Building Data'!$F$4:$AE$2970,26,FALSE),\"\")","v":""}]
[null,null,{"$f":"IFERROR(VLOOKUP($B646,'Building Data'!$F:$H,3,FALSE),\"\")","v":""},{"$f":"IFERROR(VLOOKUP($B646,'Building Data'!$F:$AA,22,FALSE),\"\")","v":""},{"$f":"IFERROR(VLOOKUP($B646,'Building Data'!$F$4:$AE$2970,26,FALSE),\"\")","v":""}]
[null,null,{"$f":"IFERROR(VLOOKUP($B647,'Building Data'!$F:$H,3,FALSE),\"\")","v":""},{"$f":"IFERROR(VLOOKUP($B647,'Building Data'!$F:$AA,22,FALSE),\"\")","v":""},{"$f":"IFERROR(VLOOKUP($B647,'Building Data'!$F$4:$AE$2970,26,FALSE),\"\")","v":""}]
[null,null,{"$f":"IFERROR(VLOOKUP($B648,'Building Data'!$F:$H,3,FALSE),\"\")","v":""},{"$f":"IFERROR(VLOOKUP($B648,'Building Data'!$F:$AA,22,FALSE),\"\")","v":""},{"$f":"IFERROR(VLOOKUP($B648,'Building Data'!$F$4:$AE$2970,26,FALSE),\"\")","v":""}]
[null,null,{"$f":"IFERROR(VLOOKUP($B649,'Building Data'!$F:$H,3,FALSE),\"\")","v":""},{"$f":"IFERROR(VLOOKUP($B649,'Building Data'!$F:$AA,22,FALSE),\"\")","v":""},{"$f":"IFERROR(VLOOKUP($B649,'Building Data'!$F$4:$AE$2970,26,FALSE),\"\")","v":""}]
[null,null,{"$f":"IFERROR(VLOOKUP($B650,'Building Data'!$F:$H,3,FALSE),\"\")","v":""},{"$f":"IFERROR(VLOOKUP($B650,'Building Data'!$F:$AA,22,FALSE),\"\")","v":""},{"$f":"IFERROR(VLOOKUP($B650,'Building Data'!$F$4:$AE$2970,26,FALSE),\"\")","v":""}]
[null,null,{"$f":"IFERROR(VLOOKUP($B651,'Building Data'!$F:$H,3,FALSE),\"\")","v":""},{"$f":"IFERROR(VLOOKUP($B651,'Building Data'!$F:$AA,22,FALSE),\"\")","v":""},{"$f":"IFERROR(VLOOKUP($B651,'Building Data'!$F$4:$AE$2970,26,FALSE),\"\")","v":""}]
[null,null,{"$f":"IFERROR(VLOOKUP($B652,'Building Data'!$F:$H,3,FALSE),\"\")","v":""},{"$f":"IFERROR(VLOOKUP($B652,'Building Data'!$F:$AA,22,FALSE),\"\")","v":""},{"$f":"IFERROR(VLOOKUP($B652,'Building Data'!$F$4:$AE$2970,26,FALSE),\"\")","v":""}]
[null,null,{"$f":"IFERROR(VLOOKUP($B653,'Building Data'!$F:$H,3,FALSE),\"\")","v":""},{"$f":"IFERROR(VLOOKUP($B653,'Building Data'!$F:$AA,22,FALSE),\"\")","v":""},{"$f":"IFERROR(VLOOKUP($B653,'Building Data'!$F$4:$AE$2970,26,FALSE),\"\")","v":""}]
[null,null,{"$f":"IFERROR(VLOOKUP($B654,'Building Data'!$F:$H,3,FALSE),\"\")","v":""},{"$f":"IFERROR(VLOOKUP($B654,'Building Data'!$F:$AA,22,FALSE),\"\")","v":""},{"$f":"IFERROR(VLOOKUP($B654,'Building Data'!$F$4:$AE$2970,26,FALSE),\"\")","v":""}]
[null,null,{"$f":"IFERROR(VLOOKUP($B655,'Building Data'!$F:$H,3,FALSE),\"\")","v":""},{"$f":"IFERROR(VLOOKUP($B655,'Building Data'!$F:$AA,22,FALSE),\"\")","v":""},{"$f":"IFERROR(VLOOKUP($B655,'Building Data'!$F$4:$AE$2970,26,FALSE),\"\")","v":""}]
[null,null,{"$f":"IFERROR(VLOOKUP($B656,'Building Data'!$F:$H,3,FALSE),\"\")","v":""},{"$f":"IFERROR(VLOOKUP($B656,'Building Data'!$F:$AA,22,FALSE),\"\")","v":""},{"$f":"IFERROR(VLOOKUP($B656,'Building Data'!$F$4:$AE$2970,26,FALSE),\"\")","v":""}]
[null,null,{"$f":"IFERROR(VLOOKUP($B657,'Building Data'!$F:$H,3,FALSE),\"\")","v":""},{"$f":"IFERROR(VLOOKUP($B657,'Building Data'!$F:$AA,22,FALSE),\"\")","v":""},{"$f":"IFERROR(VLOOKUP($B657,'Building Data'!$F$4:$AE$2970,26,FALSE),\"\")","v":""}]
[null,null,{"$f":"IFERROR(VLOOKUP($B658,'Building Data'!$F:$H,3,FALSE),\"\")","v":""},{"$f":"IFERROR(VLOOKUP($B658,'Building Data'!$F:$AA,22,FALSE),\"\")","v":""},{"$f":"IFERROR(VLOOKUP($B658,'Building Data'!$F$4:$AE$2970,26,FALSE),\"\")","v":""}]
[null,null,{"$f":"IFERROR(VLOOKUP($B659,'Building Data'!$F:$H,3,FALSE),\"\")","v":""},{"$f":"IFERROR(VLOOKUP($B659,'Building Data'!$F:$AA,22,FALSE),\"\")","v":""},{"$f":"IFERROR(VLOOKUP($B659,'Building Data'!$F$4:$AE$2970,26,FALSE),\"\")","v":""}]
[null,null,{"$f":"IFERROR(VLOOKUP($B660,'Building Data'!$F:$H,3,FALSE),\"\")","v":""},{"$f":"IFERROR(VLOOKUP($B660,'Building Data'!$F:$AA,22,FALSE),\"\")","v":""},{"$f":"IFERROR(VLOOKUP($B660,'Building Data'!$F$4:$AE$2970,26,FALSE),\"\")","v":""}]
[null,null,{"$f":"IFERROR(VLOOKUP($B661,'Building Data'!$F:$H,3,FALSE),\"\")","v":""},{"$f":"IFERROR(VLOOKUP($B661,'Building Data'!$F:$AA,22,FALSE),\"\")","v":""},{"$f":"IFERROR(VLOOKUP($B661,'Building Data'!$F$4:$AE$2970,26,FALSE),\"\")","v":""}]
[null,null,{"$f":"IFERROR(VLOOKUP($B662,'Building Data'!$F:$H,3,FALSE),\"\")","v":""},{"$f":"IFERROR(VLOOKUP($B662,'Building Data'!$F:$AA,22,FALSE),\"\")","v":""},{"$f":"IFERROR(VLOOKUP($B662,'Building Data'!$F$4:$AE$2970,26,FALSE),\"\")","v":""}]
[null,null,{"$f":"IFERROR(VLOOKUP($B663,'Building Data'!$F:$H,3,FALSE),\"\")","v":""},{"$f":"IFERROR(VLOOKUP($B663,'Building Data'!$F:$AA,22,FALSE),\"\")","v":""},{"$f":"IFERROR(VLOOKUP($B663,'Building Data'!$F$4:$AE$2970,26,FALSE),\"\")","v":""}]
[null,null,{"$f":"IFERROR(VLOOKUP($B664,'Building Data'!$F:$H,3,FALSE),\"\")","v":""},{"$f":"IFERROR(VLOOKUP($B664,'Building Data'!$F:$AA,22,FALSE),\"\")","v":""},{"$f":"IFERROR(VLOOKUP($B664,'Building Data'!$F$4:$AE$2970,26,FALSE),\"\")","v":""}]
[null,null,{"$f":"IFERROR(VLOOKUP($B665,'Building Data'!$F:$H,3,FALSE),\"\")","v":""},{"$f":"IFERROR(VLOOKUP($B665,'Building Data'!$F:$AA,22,FALSE),\"\")","v":""},{"$f":"IFERROR(VLOOKUP($B665,'Building Data'!$F$4:$AE$2970,26,FALSE),\"\")","v":""}]
[null,null,{"$f":"IFERROR(VLOOKUP($B666,'Building Data'!$F:$H,3,FALSE),\"\")","v":""},{"$f":"IFERROR(VLOOKUP($B666,'Building Data'!$F:$AA,22,FALSE),\"\")","v":""},{"$f":"IFERROR(VLOOKUP($B666,'Building Data'!$F$4:$AE$2970,26,FALSE),\"\")","v":""}]
[null,null,{"$f":"IFERROR(VLOOKUP($B667,'Building Data'!$F:$H,3,FALSE),\"\")","v":""},{"$f":"IFERROR(VLOOKUP($B667,'Building Data'!$F:$AA,22,FALSE),\"\")","v":""},{"$f":"IFERROR(VLOOKUP($B667,'Building Data'!$F$4:$AE$2970,26,FALSE),\"\")","v":""}]
[null,null,{"$f":"IFERROR(VLOOKUP($B668,'Building Data'!$F:$H,3,FALSE),\"\")","v":""},{"$f":"IFERROR(VLOOKUP($B668,'Building Data'!$F:$AA,22,FALSE),\"\")","v":""},{"$f":"IFERROR(VLOOKUP($B668,'Building Data'!$F$4:$AE$2970,26,FALSE),\"\")","v":""}]
[null,null,{"$f":"IFERROR(VLOOKUP($B669,'Building Data'!$F:$H,3,FALSE),\"\")","v":""},{"$f":"IFERROR(VLOOKUP($B669,'Building Data'!$F:$AA,22,FALSE),\"\")","v":""},{"$f":"IFERROR(VLOOKUP($B669,'Building Data'!$F$4:$AE$2970,26,FALSE),\"\")","v":""}]
[null,null,{"$f":"IFERROR(VLOOKUP($B670,'Building Data'!$F:$H,3,FALSE),\"\")","v":""},{"$f":"IFERROR(VLOOKUP($B670,'Building Data'!$F:$AA,22,FALSE),\"\")","v":""},{"$f":"IFERROR(VLOOKUP($B670,'Building Data'!$F$4:$AE$2970,26,FALSE),\"\")","v":""}]
[null,null,{"$f":"IFERROR(VLOOKUP($B671,'Building Data'!$F:$H,3,FALSE),\"\")","v":""},{"$f":"IFERROR(VLOOKUP($B671,'Building Data'!$F:$AA,22,FALSE),\"\")","v":""},{"$f":"IFERROR(VLOOKUP($B671,'Building Data'!$F$4:$AE$2970,26,FALSE),\"\")","v":""}]
[null,null,{"$f":"IFERROR(VLOOKUP($B672,'Building Data'!$F:$H,3,FALSE),\"\")","v":""},{"$f":"IFERROR(VLOOKUP($B672,'Building Data'!$F:$AA,22,FALSE),\"\")","v":""},{"$f":"IFERROR(VLOOKUP($B672,'Building Data'!$F$4:$AE$2970,26,FALSE),\"\")","v":""}]
[null,null,{"$f":"IFERROR(VLOOKUP($B673,'Building Data'!$F:$H,3,FALSE),\"\")","v":""},{"$f":"IFERROR(VLOOKUP($B673,'Building Data'!$F:$AA,22,FALSE),\"\")","v":""},{"$f":"IFERROR(VLOOKUP($B673,'Building Data'!$F$4:$AE$2970,26,FALSE),\"\")","v":""}]
[null,null,{"$f":"IFERROR(VLOOKUP($B674,'Building Data'!$F:$H,3,FALSE),\"\")","v":""},{"$f":"IFERROR(VLOOKUP($B674,'Building Data'!$F:$AA,22,FALSE),\"\")","v":""},{"$f":"IFERROR(VLOOKUP($B674,'Building Data'!$F$4:$AE$2970,26,FALSE),\"\")","v":""}]
[null,null,{"$f":"IFERROR(VLOOKUP($B675,'Building Data'!$F:$H,3,FALSE),\"\")","v":""},{"$f":"IFERROR(VLOOKUP($B675,'Building Data'!$F:$AA,22,FALSE),\"\")","v":""},{"$f":"IFERROR(VLOOKUP($B675,'Building Data'!$F$4:$AE$2970,26,FALSE),\"\")","v":""}]
[null,null,{"$f":"IFERROR(VLOOKUP($B676,'Building Data'!$F:$H,3,FALSE),\"\")","v":""},{"$f":"IFERROR(VLOOKUP($B676,'Building Data'!$F:$AA,22,FALSE),\"\")","v":""},{"$f":"IFERROR(VLOOKUP($B676,'Building Data'!$F$4:$AE$2970,26,FALSE),\"\")","v":""}]
[null,null,{"$f":"IFERROR(VLOOKUP($B677,'Building Data'!$F:$H,3,FALSE),\"\")","v":""},{"$f":"IFERROR(VLOOKUP($B677,'Building Data'!$F:$AA,22,FALSE),\"\")","v":""},{"$f":"IFERROR(VLOOKUP($B677,'Building Data'!$F$4:$AE$2970,26,FALSE),\"\")","v":""}]
[null,null,{"$f":"IFERROR(VLOOKUP($B678,'Building Data'!$F:$H,3,FALSE),\"\")","v":""},{"$f":"IFERROR(VLOOKUP($B678,'Building Data'!$F:$AA,22,FALSE),\"\")","v":""},{"$f":"IFERROR(VLOOKUP($B678,'Building Data'!$F$4:$AE$2970,26,FALSE),\"\")","v":""}]
[null,null,{"$f":"IFERROR(VLOOKUP($B679,'Building Data'!$F:$H,3,FALSE),\"\")","v":""},{"$f":"IFERROR(VLOOKUP($B679,'Building Data'!$F:$AA,22,FALSE),\"\")","v":""},{"$f":"IFERROR(VLOOKUP($B679,'Building Data'!$F$4:$AE$2970,26,FALSE),\"\")","v":""}]
[null,null,{"$f":"IFERROR(VLOOKUP($B680,'Building Data'!$F:$H,3,FALSE),\"\")","v":""},{"$f":"IFERROR(VLOOKUP($B680,'Building Data'!$F:$AA,22,FALSE),\"\")","v":""},{"$f":"IFERROR(VLOOKUP($B680,'Building Data'!$F$4:$AE$2970,26,FALSE),\"\")","v":""}]
[null,null,{"$f":"IFERROR(VLOOKUP($B681,'Building Data'!$F:$H,3,FALSE),\"\")","v":""},{"$f":"IFERROR(VLOOKUP($B681,'Building Data'!$F:$AA,22,FALSE),\"\")","v":""},{"$f":"IFERROR(VLOOKUP($B681,'Building Data'!$F$4:$AE$2970,26,FALSE),\"\")","v":""}]
[null,null,{"$f":"IFERROR(VLOOKUP($B682,'Building Data'!$F:$H,3,FALSE),\"\")","v":""},{"$f":"IFERROR(VLOOKUP($B682,'Building Data'!$F:$AA,22,FALSE),\"\")","v":""},{"$f":"IFERROR(VLOOKUP($B682,'Building Data'!$F$4:$AE$2970,26,FALSE),\"\")","v":""}]
[null,null,{"$f":"IFERROR(VLOOKUP($B683,'Building Data'!$F:$H,3,FALSE),\"\")","v":""},{"$f":"IFERROR(VLOOKUP($B683,'Building Data'!$F:$AA,22,FALSE),\"\")","v":""},{"$f":"IFERROR(VLOOKUP($B683,'Building Data'!$F$4:$AE$2970,26,FALSE),\"\")","v":""}]
[null,null,{"$f":"IFERROR(VLOOKUP($B684,'Building Data'!$F:$H,3,FALSE),\"\")","v":""},{"$f":"IFERROR(VLOOKUP($B684,'Building Data'!$F:$AA,22,FALSE),\"\")","v":""},{"$f":"IFERROR(VLOOKUP($B684,'Building Data'!$F$4:$AE$2970,26,FALSE),\"\")","v":""}]
[null,null,{"$f":"IFERROR(VLOOKUP($B685,'Building Data'!$F:$H,3,FALSE),\"\")","v":""},{"$f":"IFERROR(VLOOKUP($B685,'Building Data'!$F:$AA,22,FALSE),\"\")","v":""},{"$f":"IFERROR(VLOOKUP($B685,'Building Data'!$F$4:$AE$2970,26,FALSE),\"\")","v":""}]
[null,null,{"$f":"IFERROR(VLOOKUP($B686,'Building Data'!$F:$H,3,FALSE),\"\")","v":""},{"$f":"IFERROR(VLOOKUP($B686,'Building Data'!$F:$AA,22,FALSE),\"\")","v":""},{"$f":"IFERROR(VLOOKUP($B686,'Building Data'!$F$4:$AE$2970,26,FALSE),\"\")","v":""}]
[null,null,{"$f":"IFERROR(VLOOKUP($B687,'Building Data'!$F:$H,3,FALSE),\"\")","v":""},{"$f":"IFERROR(VLOOKUP($B687,'Building Data'!$F:$AA,22,FALSE),\"\")","v":""},{"$f":"IFERROR(VLOOKUP($B687,'Building Data'!$F$4:$AE$2970,26,FALSE),\"\")","v":""}]
[null,null,{"$f":"IFERROR(VLOOKUP($B688,'Building Data'!$F:$H,3,FALSE),\"\")","v":""},{"$f":"IFERROR(VLOOKUP($B688,'Building Data'!$F:$AA,22,FALSE),\"\")","v":""},{"$f":"IFERROR(VLOOKUP($B688,'Building Data'!$F$4:$AE$2970,26,FALSE),\"\")","v":""}]
[null,null,{"$f":"IFERROR(VLOOKUP($B689,'Building Data'!$F:$H,3,FALSE),\"\")","v":""},{"$f":"IFERROR(VLOOKUP($B689,'Building Data'!$F:$AA,22,FALSE),\"\")","v":""},{"$f":"IFERROR(VLOOKUP($B689,'Building Data'!$F$4:$AE$2970,26,FALSE),\"\")","v":""}]
[null,null,{"$f":"IFERROR(VLOOKUP($B690,'Building Data'!$F:$H,3,FALSE),\"\")","v":""},{"$f":"IFERROR(VLOOKUP($B690,'Building Data'!$F:$AA,22,FALSE),\"\")","v":""},{"$f":"IFERROR(VLOOKUP($B690,'Building Data'!$F$4:$AE$2970,26,FALSE),\"\")","v":""}]
[null,null,{"$f":"IFERROR(VLOOKUP($B691,'Building Data'!$F:$H,3,FALSE),\"\")","v":""},{"$f":"IFERROR(VLOOKUP($B691,'Building Data'!$F:$AA,22,FALSE),\"\")","v":""},{"$f":"IFERROR(VLOOKUP($B691,'Building Data'!$F$4:$AE$2970,26,FALSE),\"\")","v":""}]
[null,null,{"$f":"IFERROR(VLOOKUP($B692,'Building Data'!$F:$H,3,FALSE),\"\")","v":""},{"$f":"IFERROR(VLOOKUP($B692,'Building Data'!$F:$AA,22,FALSE),\"\")","v":""},{"$f":"IFERROR(VLOOKUP($B692,'Building Data'!$F$4:$AE$2970,26,FALSE),\"\")","v":""}]
[null,null,{"$f":"IFERROR(VLOOKUP($B693,'Building Data'!$F:$H,3,FALSE),\"\")","v":""},{"$f":"IFERROR(VLOOKUP($B693,'Building Data'!$F:$AA,22,FALSE),\"\")","v":""},{"$f":"IFERROR(VLOOKUP($B693,'Building Data'!$F$4:$AE$2970,26,FALSE),\"\")","v":""}]
[null,null,{"$f":"IFERROR(VLOOKUP($B694,'Building Data'!$F:$H,3,FALSE),\"\")","v":""},{"$f":"IFERROR(VLOOKUP($B694,'Building Data'!$F:$AA,22,FALSE),\"\")","v":""},{"$f":"IFERROR(VLOOKUP($B694,'Building Data'!$F$4:$AE$2970,26,FALSE),\"\")","v":""}]
[null,null,{"$f":"IFERROR(VLOOKUP($B695,'Building Data'!$F:$H,3,FALSE),\"\")","v":""},{"$f":"IFERROR(VLOOKUP($B695,'Building Data'!$F:$AA,22,FALSE),\"\")","v":""},{"$f":"IFERROR(VLOOKUP($B695,'Building Data'!$F$4:$AE$2970,26,FALSE),\"\")","v":""}]
[null,null,{"$f":"IFERROR(VLOOKUP($B696,'Building Data'!$F:$H,3,FALSE),\"\")","v":""},{"$f":"IFERROR(VLOOKUP($B696,'Building Data'!$F:$AA,22,FALSE),\"\")","v":""},{"$f":"IFERROR(VLOOKUP($B696,'Building Data'!$F$4:$AE$2970,26,FALSE),\"\")","v":""}]
[null,null,{"$f":"IFERROR(VLOOKUP($B697,'Building Data'!$F:$H,3,FALSE),\"\")","v":""},{"$f":"IFERROR(VLOOKUP($B697,'Building Data'!$F:$AA,22,FALSE),\"\")","v":""},{"$f":"IFERROR(VLOOKUP($B697,'Building Data'!$F$4:$AE$2970,26,FALSE),\"\")","v":""}]
[null,null,{"$f":"IFERROR(VLOOKUP($B698,'Building Data'!$F:$H,3,FALSE),\"\")","v":""},{"$f":"IFERROR(VLOOKUP($B698,'Building Data'!$F:$AA,22,FALSE),\"\")","v":""},{"$f":"IFERROR(VLOOKUP($B698,'Building Data'!$F$4:$AE$2970,26,FALSE),\"\")","v":""}]
[null,null,{"$f":"IFERROR(VLOOKUP($B699,'Building Data'!$F:$H,3,FALSE),\"\")","v":""},{"$f":"IFERROR(VLOOKUP($B699,'Building Data'!$F:$AA,22,FALSE),\"\")","v":""},{"$f":"IFERROR(VLOOKUP($B699,'Building Data'!$F$4:$AE$2970,26,FALSE),\"\")","v":""}]
[null,null,{"$f":"IFERROR(VLOOKUP($B700,'Building Data'!$F:$H,3,FALSE),\"\")","v":""},{"$f":"IFERROR(VLOOKUP($B700,'Building Data'!$F:$AA,22,FALSE),\"\")","v":""},{"$f":"IFERROR(VLOOKUP($B700,'Building Data'!$F$4:$AE$2970,26,FALSE),\"\")","v":""}]
[null,null,{"$f":"IFERROR(VLOOKUP($B701,'Building Data'!$F:$H,3,FALSE),\"\")","v":""},{"$f":"IFERROR(VLOOKUP($B701,'Building Data'!$F:$AA,22,FALSE),\"\")","v":""},{"$f":"IFERROR(VLOOKUP($B701,'Building Data'!$F$4:$AE$2970,26,FALSE),\"\")","v":""}]
[null,null,{"$f":"IFERROR(VLOOKUP($B702,'Building Data'!$F:$H,3,FALSE),\"\")","v":""},{"$f":"IFERROR(VLOOKUP($B702,'Building Data'!$F:$AA,22,FALSE),\"\")","v":""},{"$f":"IFERROR(VLOOKUP($B702,'Building Data'!$F$4:$AE$2970,26,FALSE),\"\")","v":""}]
[null,null,{"$f":"IFERROR(VLOOKUP($B703,'Building Data'!$F:$H,3,FALSE),\"\")","v":""},{"$f":"IFERROR(VLOOKUP($B703,'Building Data'!$F:$AA,22,FALSE),\"\")","v":""},{"$f":"IFERROR(VLOOKUP($B703,'Building Data'!$F$4:$AE$2970,26,FALSE),\"\")","v":""}]
[null,null,{"$f":"IFERROR(VLOOKUP($B704,'Building Data'!$F:$H,3,FALSE),\"\")","v":""},{"$f":"IFERROR(VLOOKUP($B704,'Building Data'!$F:$AA,22,FALSE),\"\")","v":""},{"$f":"IFERROR(VLOOKUP($B704,'Building Data'!$F$4:$AE$2970,26,FALSE),\"\")","v":""}]
[null,null,{"$f":"IFERROR(VLOOKUP($B705,'Building Data'!$F:$H,3,FALSE),\"\")","v":""},{"$f":"IFERROR(VLOOKUP($B705,'Building Data'!$F:$AA,22,FALSE),\"\")","v":""},{"$f":"IFERROR(VLOOKUP($B705,'Building Data'!$F$4:$AE$2970,26,FALSE),\"\")","v":""}]
[null,null,{"$f":"IFERROR(VLOOKUP($B706,'Building Data'!$F:$H,3,FALSE),\"\")","v":""},{"$f":"IFERROR(VLOOKUP($B706,'Building Data'!$F:$AA,22,FALSE),\"\")","v":""},{"$f":"IFERROR(VLOOKUP($B706,'Building Data'!$F$4:$AE$2970,26,FALSE),\"\")","v":""}]
[null,null,{"$f":"IFERROR(VLOOKUP($B707,'Building Data'!$F:$H,3,FALSE),\"\")","v":""},{"$f":"IFERROR(VLOOKUP($B707,'Building Data'!$F:$AA,22,FALSE),\"\")","v":""},{"$f":"IFERROR(VLOOKUP($B707,'Building Data'!$F$4:$AE$2970,26,FALSE),\"\")","v":""}]
[null,null,{"$f":"IFERROR(VLOOKUP($B708,'Building Data'!$F:$H,3,FALSE),\"\")","v":""},{"$f":"IFERROR(VLOOKUP($B708,'Building Data'!$F:$AA,22,FALSE),\"\")","v":""},{"$f":"IFERROR(VLOOKUP($B708,'Building Data'!$F$4:$AE$2970,26,FALSE),\"\")","v":""}]
[null,null,{"$f":"IFERROR(VLOOKUP($B709,'Building Data'!$F:$H,3,FALSE),\"\")","v":""},{"$f":"IFERROR(VLOOKUP($B709,'Building Data'!$F:$AA,22,FALSE),\"\")","v":""},{"$f":"IFERROR(VLOOKUP($B709,'Building Data'!$F$4:$AE$2970,26,FALSE),\"\")","v":""}]
[null,null,{"$f":"IFERROR(VLOOKUP($B710,'Building Data'!$F:$H,3,FALSE),\"\")","v":""},{"$f":"IFERROR(VLOOKUP($B710,'Building Data'!$F:$AA,22,FALSE),\"\")","v":""},{"$f":"IFERROR(VLOOKUP($B710,'Building Data'!$F$4:$AE$2970,26,FALSE),\"\")","v":""}]
[null,null,{"$f":"IFERROR(VLOOKUP($B711,'Building Data'!$F:$H,3,FALSE),\"\")","v":""},{"$f":"IFERROR(VLOOKUP($B711,'Building Data'!$F:$AA,22,FALSE),\"\")","v":""},{"$f":"IFERROR(VLOOKUP($B711,'Building Data'!$F$4:$AE$2970,26,FALSE),\"\")","v":""}]
[null,null,{"$f":"IFERROR(VLOOKUP($B712,'Building Data'!$F:$H,3,FALSE),\"\")","v":""},{"$f":"IFERROR(VLOOKUP($B712,'Building Data'!$F:$AA,22,FALSE),\"\")","v":""},{"$f":"IFERROR(VLOOKUP($B712,'Building Data'!$F$4:$AE$2970,26,FALSE),\"\")","v":""}]
[null,null,{"$f":"IFERROR(VLOOKUP($B713,'Building Data'!$F:$H,3,FALSE),\"\")","v":""},{"$f":"IFERROR(VLOOKUP($B713,'Building Data'!$F:$AA,22,FALSE),\"\")","v":""},{"$f":"IFERROR(VLOOKUP($B713,'Building Data'!$F$4:$AE$2970,26,FALSE),\"\")","v":""}]
[null,null,{"$f":"IFERROR(VLOOKUP($B714,'Building Data'!$F:$H,3,FALSE),\"\")","v":""},{"$f":"IFERROR(VLOOKUP($B714,'Building Data'!$F:$AA,22,FALSE),\"\")","v":""},{"$f":"IFERROR(VLOOKUP($B714,'Building Data'!$F$4:$AE$2970,26,FALSE),\"\")","v":""}]
[null,null,{"$f":"IFERROR(VLOOKUP($B715,'Building Data'!$F:$H,3,FALSE),\"\")","v":""},{"$f":"IFERROR(VLOOKUP($B715,'Building Data'!$F:$AA,22,FALSE),\"\")","v":""},{"$f":"IFERROR(VLOOKUP($B715,'Building Data'!$F$4:$AE$2970,26,FALSE),\"\")","v":""}]
[null,null,{"$f":"IFERROR(VLOOKUP($B716,'Building Data'!$F:$H,3,FALSE),\"\")","v":""},{"$f":"IFERROR(VLOOKUP($B716,'Building Data'!$F:$AA,22,FALSE),\"\")","v":""},{"$f":"IFERROR(VLOOKUP($B716,'Building Data'!$F$4:$AE$2970,26,FALSE),\"\")","v":""}]
[null,null,{"$f":"IFERROR(VLOOKUP($B717,'Building Data'!$F:$H,3,FALSE),\"\")","v":""},{"$f":"IFERROR(VLOOKUP($B717,'Building Data'!$F:$AA,22,FALSE),\"\")","v":""},{"$f":"IFERROR(VLOOKUP($B717,'Building Data'!$F$4:$AE$2970,26,FALSE),\"\")","v":""}]
[null,null,{"$f":"IFERROR(VLOOKUP($B718,'Building Data'!$F:$H,3,FALSE),\"\")","v":""},{"$f":"IFERROR(VLOOKUP($B718,'Building Data'!$F:$AA,22,FALSE),\"\")","v":""},{"$f":"IFERROR(VLOOKUP($B718,'Building Data'!$F$4:$AE$2970,26,FALSE),\"\")","v":""}]
[null,null,{"$f":"IFERROR(VLOOKUP($B719,'Building Data'!$F:$H,3,FALSE),\"\")","v":""},{"$f":"IFERROR(VLOOKUP($B719,'Building Data'!$F:$AA,22,FALSE),\"\")","v":""},{"$f":"IFERROR(VLOOKUP($B719,'Building Data'!$F$4:$AE$2970,26,FALSE),\"\")","v":""}]
[null,null,{"$f":"IFERROR(VLOOKUP($B720,'Building Data'!$F:$H,3,FALSE),\"\")","v":""},{"$f":"IFERROR(VLOOKUP($B720,'Building Data'!$F:$AA,22,FALSE),\"\")","v":""},{"$f":"IFERROR(VLOOKUP($B720,'Building Data'!$F$4:$AE$2970,26,FALSE),\"\")","v":""}]
[null,null,{"$f":"IFERROR(VLOOKUP($B721,'Building Data'!$F:$H,3,FALSE),\"\")","v":""},{"$f":"IFERROR(VLOOKUP($B721,'Building Data'!$F:$AA,22,FALSE),\"\")","v":""},{"$f":"IFERROR(VLOOKUP($B721,'Building Data'!$F$4:$AE$2970,26,FALSE),\"\")","v":""}]
[null,null,{"$f":"IFERROR(VLOOKUP($B722,'Building Data'!$F:$H,3,FALSE),\"\")","v":""},{"$f":"IFERROR(VLOOKUP($B722,'Building Data'!$F:$AA,22,FALSE),\"\")","v":""},{"$f":"IFERROR(VLOOKUP($B722,'Building Data'!$F$4:$AE$2970,26,FALSE),\"\")","v":""}]
[null,null,{"$f":"IFERROR(VLOOKUP($B723,'Building Data'!$F:$H,3,FALSE),\"\")","v":""},{"$f":"IFERROR(VLOOKUP($B723,'Building Data'!$F:$AA,22,FALSE),\"\")","v":""},{"$f":"IFERROR(VLOOKUP($B723,'Building Data'!$F$4:$AE$2970,26,FALSE),\"\")","v":""}]
[null,null,{"$f":"IFERROR(VLOOKUP($B724,'Building Data'!$F:$H,3,FALSE),\"\")","v":""},{"$f":"IFERROR(VLOOKUP($B724,'Building Data'!$F:$AA,22,FALSE),\"\")","v":""},{"$f":"IFERROR(VLOOKUP($B724,'Building Data'!$F$4:$AE$2970,26,FALSE),\"\")","v":""}]
[null,null,{"$f":"IFERROR(VLOOKUP($B725,'Building Data'!$F:$H,3,FALSE),\"\")","v":""},{"$f":"IFERROR(VLOOKUP($B725,'Building Data'!$F:$AA,22,FALSE),\"\")","v":""},{"$f":"IFERROR(VLOOKUP($B725,'Building Data'!$F$4:$AE$2970,26,FALSE),\"\")","v":""}]
[null,null,{"$f":"IFERROR(VLOOKUP($B726,'Building Data'!$F:$H,3,FALSE),\"\")","v":""},{"$f":"IFERROR(VLOOKUP($B726,'Building Data'!$F:$AA,22,FALSE),\"\")","v":""},{"$f":"IFERROR(VLOOKUP($B726,'Building Data'!$F$4:$AE$2970,26,FALSE),\"\")","v":""}]
[null,null,{"$f":"IFERROR(VLOOKUP($B727,'Building Data'!$F:$H,3,FALSE),\"\")","v":""},{"$f":"IFERROR(VLOOKUP($B727,'Building Data'!$F:$AA,22,FALSE),\"\")","v":""},{"$f":"IFERROR(VLOOKUP($B727,'Building Data'!$F$4:$AE$2970,26,FALSE),\"\")","v":""}]
[null,null,{"$f":"IFERROR(VLOOKUP($B728,'Building Data'!$F:$H,3,FALSE),\"\")","v":""},{"$f":"IFERROR(VLOOKUP($B728,'Building Data'!$F:$AA,22,FALSE),\"\")","v":""},{"$f":"IFERROR(VLOOKUP($B728,'Building Data'!$F$4:$AE$2970,26,FALSE),\"\")","v":""}]
[null,null,{"$f":"IFERROR(VLOOKUP($B729,'Building Data'!$F:$H,3,FALSE),\"\")","v":""},{"$f":"IFERROR(VLOOKUP($B729,'Building Data'!$F:$AA,22,FALSE),\"\")","v":""},{"$f":"IFERROR(VLOOKUP($B729,'Building Data'!$F$4:$AE$2970,26,FALSE),\"\")","v":""}]
[null,null,{"$f":"IFERROR(VLOOKUP($B730,'Building Data'!$F:$H,3,FALSE),\"\")","v":""},{"$f":"IFERROR(VLOOKUP($B730,'Building Data'!$F:$AA,22,FALSE),\"\")","v":""},{"$f":"IFERROR(VLOOKUP($B730,'Building Data'!$F$4:$AE$2970,26,FALSE),\"\")","v":""}]
[null,null,{"$f":"IFERROR(VLOOKUP($B731,'Building Data'!$F:$H,3,FALSE),\"\")","v":""},{"$f":"IFERROR(VLOOKUP($B731,'Building Data'!$F:$AA,22,FALSE),\"\")","v":""},{"$f":"IFERROR(VLOOKUP($B731,'Building Data'!$F$4:$AE$2970,26,FALSE),\"\")","v":""}]
[null,null,{"$f":"IFERROR(VLOOKUP($B732,'Building Data'!$F:$H,3,FALSE),\"\")","v":""},{"$f":"IFERROR(VLOOKUP($B732,'Building Data'!$F:$AA,22,FALSE),\"\")","v":""},{"$f":"IFERROR(VLOOKUP($B732,'Building Data'!$F$4:$AE$2970,26,FALSE),\"\")","v":""}]
[null,null,{"$f":"IFERROR(VLOOKUP($B733,'Building Data'!$F:$H,3,FALSE),\"\")","v":""},{"$f":"IFERROR(VLOOKUP($B733,'Building Data'!$F:$AA,22,FALSE),\"\")","v":""},{"$f":"IFERROR(VLOOKUP($B733,'Building Data'!$F$4:$AE$2970,26,FALSE),\"\")","v":""}]
[null,null,{"$f":"IFERROR(VLOOKUP($B734,'Building Data'!$F:$H,3,FALSE),\"\")","v":""},{"$f":"IFERROR(VLOOKUP($B734,'Building Data'!$F:$AA,22,FALSE),\"\")","v":""},{"$f":"IFERROR(VLOOKUP($B734,'Building Data'!$F$4:$AE$2970,26,FALSE),\"\")","v":""}]
[null,null,{"$f":"IFERROR(VLOOKUP($B735,'Building Data'!$F:$H,3,FALSE),\"\")","v":""},{"$f":"IFERROR(VLOOKUP($B735,'Building Data'!$F:$AA,22,FALSE),\"\")","v":""},{"$f":"IFERROR(VLOOKUP($B735,'Building Data'!$F$4:$AE$2970,26,FALSE),\"\")","v":""}]
[null,null,{"$f":"IFERROR(VLOOKUP($B736,'Building Data'!$F:$H,3,FALSE),\"\")","v":""},{"$f":"IFERROR(VLOOKUP($B736,'Building Data'!$F:$AA,22,FALSE),\"\")","v":""},{"$f":"IFERROR(VLOOKUP($B736,'Building Data'!$F$4:$AE$2970,26,FALSE),\"\")","v":""}]
[null,null,{"$f":"IFERROR(VLOOKUP($B737,'Building Data'!$F:$H,3,FALSE),\"\")","v":""},{"$f":"IFERROR(VLOOKUP($B737,'Building Data'!$F:$AA,22,FALSE),\"\")","v":""},{"$f":"IFERROR(VLOOKUP($B737,'Building Data'!$F$4:$AE$2970,26,FALSE),\"\")","v":""}]
[null,null,{"$f":"IFERROR(VLOOKUP($B738,'Building Data'!$F:$H,3,FALSE),\"\")","v":""},{"$f":"IFERROR(VLOOKUP($B738,'Building Data'!$F:$AA,22,FALSE),\"\")","v":""},{"$f":"IFERROR(VLOOKUP($B738,'Building Data'!$F$4:$AE$2970,26,FALSE),\"\")","v":""}]
[null,null,{"$f":"IFERROR(VLOOKUP($B739,'Building Data'!$F:$H,3,FALSE),\"\")","v":""},{"$f":"IFERROR(VLOOKUP($B739,'Building Data'!$F:$AA,22,FALSE),\"\")","v":""},{"$f":"IFERROR(VLOOKUP($B739,'Building Data'!$F$4:$AE$2970,26,FALSE),\"\")","v":""}]
[null,null,{"$f":"IFERROR(VLOOKUP($B740,'Building Data'!$F:$H,3,FALSE),\"\")","v":""},{"$f":"IFERROR(VLOOKUP($B740,'Building Data'!$F:$AA,22,FALSE),\"\")","v":""},{"$f":"IFERROR(VLOOKUP($B740,'Building Data'!$F$4:$AE$2970,26,FALSE),\"\")","v":""}]
[null,null,{"$f":"IFERROR(VLOOKUP($B741,'Building Data'!$F:$H,3,FALSE),\"\")","v":""},{"$f":"IFERROR(VLOOKUP($B741,'Building Data'!$F:$AA,22,FALSE),\"\")","v":""},{"$f":"IFERROR(VLOOKUP($B741,'Building Data'!$F$4:$AE$2970,26,FALSE),\"\")","v":""}]
[null,null,{"$f":"IFERROR(VLOOKUP($B742,'Building Data'!$F:$H,3,FALSE),\"\")","v":""},{"$f":"IFERROR(VLOOKUP($B742,'Building Data'!$F:$AA,22,FALSE),\"\")","v":""},{"$f":"IFERROR(VLOOKUP($B742,'Building Data'!$F$4:$AE$2970,26,FALSE),\"\")","v":""}]
[null,null,{"$f":"IFERROR(VLOOKUP($B743,'Building Data'!$F:$H,3,FALSE),\"\")","v":""},{"$f":"IFERROR(VLOOKUP($B743,'Building Data'!$F:$AA,22,FALSE),\"\")","v":""},{"$f":"IFERROR(VLOOKUP($B743,'Building Data'!$F$4:$AE$2970,26,FALSE),\"\")","v":""}]
[null,null,{"$f":"IFERROR(VLOOKUP($B744,'Building Data'!$F:$H,3,FALSE),\"\")","v":""},{"$f":"IFERROR(VLOOKUP($B744,'Building Data'!$F:$AA,22,FALSE),\"\")","v":""},{"$f":"IFERROR(VLOOKUP($B744,'Building Data'!$F$4:$AE$2970,26,FALSE),\"\")","v":""}]
[null,null,{"$f":"IFERROR(VLOOKUP($B745,'Building Data'!$F:$H,3,FALSE),\"\")","v":""},{"$f":"IFERROR(VLOOKUP($B745,'Building Data'!$F:$AA,22,FALSE),\"\")","v":""},{"$f":"IFERROR(VLOOKUP($B745,'Building Data'!$F$4:$AE$2970,26,FALSE),\"\")","v":""}]
[null,null,{"$f":"IFERROR(VLOOKUP($B746,'Building Data'!$F:$H,3,FALSE),\"\")","v":""},{"$f":"IFERROR(VLOOKUP($B746,'Building Data'!$F:$AA,22,FALSE),\"\")","v":""},{"$f":"IFERROR(VLOOKUP($B746,'Building Data'!$F$4:$AE$2970,26,FALSE),\"\")","v":""}]
[null,null,{"$f":"IFERROR(VLOOKUP($B747,'Building Data'!$F:$H,3,FALSE),\"\")","v":""},{"$f":"IFERROR(VLOOKUP($B747,'Building Data'!$F:$AA,22,FALSE),\"\")","v":""},{"$f":"IFERROR(VLOOKUP($B747,'Building Data'!$F$4:$AE$2970,26,FALSE),\"\")","v":""}]
[null,null,{"$f":"IFERROR(VLOOKUP($B748,'Building Data'!$F:$H,3,FALSE),\"\")","v":""},{"$f":"IFERROR(VLOOKUP($B748,'Building Data'!$F:$AA,22,FALSE),\"\")","v":""},{"$f":"IFERROR(VLOOKUP($B748,'Building Data'!$F$4:$AE$2970,26,FALSE),\"\")","v":""}]
[null,null,{"$f":"IFERROR(VLOOKUP($B749,'Building Data'!$F:$H,3,FALSE),\"\")","v":""},{"$f":"IFERROR(VLOOKUP($B749,'Building Data'!$F:$AA,22,FALSE),\"\")","v":""},{"$f":"IFERROR(VLOOKUP($B749,'Building Data'!$F$4:$AE$2970,26,FALSE),\"\")","v":""}]
[null,null,{"$f":"IFERROR(VLOOKUP($B750,'Building Data'!$F:$H,3,FALSE),\"\")","v":""},{"$f":"IFERROR(VLOOKUP($B750,'Building Data'!$F:$AA,22,FALSE),\"\")","v":""},{"$f":"IFERROR(VLOOKUP($B750,'Building Data'!$F$4:$AE$2970,26,FALSE),\"\")","v":""}]
[null,null,{"$f":"IFERROR(VLOOKUP($B751,'Building Data'!$F:$H,3,FALSE),\"\")","v":""},{"$f":"IFERROR(VLOOKUP($B751,'Building Data'!$F:$AA,22,FALSE),\"\")","v":""},{"$f":"IFERROR(VLOOKUP($B751,'Building Data'!$F$4:$AE$2970,26,FALSE),\"\")","v":""}]
[null,null,{"$f":"IFERROR(VLOOKUP($B752,'Building Data'!$F:$H,3,FALSE),\"\")","v":""},{"$f":"IFERROR(VLOOKUP($B752,'Building Data'!$F:$AA,22,FALSE),\"\")","v":""},{"$f":"IFERROR(VLOOKUP($B752,'Building Data'!$F$4:$AE$2970,26,FALSE),\"\")","v":""}]
[null,null,{"$f":"IFERROR(VLOOKUP($B753,'Building Data'!$F:$H,3,FALSE),\"\")","v":""},{"$f":"IFERROR(VLOOKUP($B753,'Building Data'!$F:$AA,22,FALSE),\"\")","v":""},{"$f":"IFERROR(VLOOKUP($B753,'Building Data'!$F$4:$AE$2970,26,FALSE),\"\")","v":""}]
[null,null,{"$f":"IFERROR(VLOOKUP($B754,'Building Data'!$F:$H,3,FALSE),\"\")","v":""},{"$f":"IFERROR(VLOOKUP($B754,'Building Data'!$F:$AA,22,FALSE),\"\")","v":""},{"$f":"IFERROR(VLOOKUP($B754,'Building Data'!$F$4:$AE$2970,26,FALSE),\"\")","v":""}]
[null,null,{"$f":"IFERROR(VLOOKUP($B755,'Building Data'!$F:$H,3,FALSE),\"\")","v":""},{"$f":"IFERROR(VLOOKUP($B755,'Building Data'!$F:$AA,22,FALSE),\"\")","v":""},{"$f":"IFERROR(VLOOKUP($B755,'Building Data'!$F$4:$AE$2970,26,FALSE),\"\")","v":""}]
[null,null,{"$f":"IFERROR(VLOOKUP($B756,'Building Data'!$F:$H,3,FALSE),\"\")","v":""},{"$f":"IFERROR(VLOOKUP($B756,'Building Data'!$F:$AA,22,FALSE),\"\")","v":""},{"$f":"IFERROR(VLOOKUP($B756,'Building Data'!$F$4:$AE$2970,26,FALSE),\"\")","v":""}]
[null,null,{"$f":"IFERROR(VLOOKUP($B757,'Building Data'!$F:$H,3,FALSE),\"\")","v":""},{"$f":"IFERROR(VLOOKUP($B757,'Building Data'!$F:$AA,22,FALSE),\"\")","v":""},{"$f":"IFERROR(VLOOKUP($B757,'Building Data'!$F$4:$AE$2970,26,FALSE),\"\")","v":""}]
[null,null,{"$f":"IFERROR(VLOOKUP($B758,'Building Data'!$F:$H,3,FALSE),\"\")","v":""},{"$f":"IFERROR(VLOOKUP($B758,'Building Data'!$F:$AA,22,FALSE),\"\")","v":""},{"$f":"IFERROR(VLOOKUP($B758,'Building Data'!$F$4:$AE$2970,26,FALSE),\"\")","v":""}]
[null,null,{"$f":"IFERROR(VLOOKUP($B759,'Building Data'!$F:$H,3,FALSE),\"\")","v":""},{"$f":"IFERROR(VLOOKUP($B759,'Building Data'!$F:$AA,22,FALSE),\"\")","v":""},{"$f":"IFERROR(VLOOKUP($B759,'Building Data'!$F$4:$AE$2970,26,FALSE),\"\")","v":""}]
[null,null,{"$f":"IFERROR(VLOOKUP($B760,'Building Data'!$F:$H,3,FALSE),\"\")","v":""},{"$f":"IFERROR(VLOOKUP($B760,'Building Data'!$F:$AA,22,FALSE),\"\")","v":""},{"$f":"IFERROR(VLOOKUP($B760,'Building Data'!$F$4:$AE$2970,26,FALSE),\"\")","v":""}]
[null,null,{"$f":"IFERROR(VLOOKUP($B761,'Building Data'!$F:$H,3,FALSE),\"\")","v":""},{"$f":"IFERROR(VLOOKUP($B761,'Building Data'!$F:$AA,22,FALSE),\"\")","v":""},{"$f":"IFERROR(VLOOKUP($B761,'Building Data'!$F$4:$AE$2970,26,FALSE),\"\")","v":""}]
[null,null,{"$f":"IFERROR(VLOOKUP($B762,'Building Data'!$F:$H,3,FALSE),\"\")","v":""},{"$f":"IFERROR(VLOOKUP($B762,'Building Data'!$F:$AA,22,FALSE),\"\")","v":""},{"$f":"IFERROR(VLOOKUP($B762,'Building Data'!$F$4:$AE$2970,26,FALSE),\"\")","v":""}]
[null,null,{"$f":"IFERROR(VLOOKUP($B763,'Building Data'!$F:$H,3,FALSE),\"\")","v":""},{"$f":"IFERROR(VLOOKUP($B763,'Building Data'!$F:$AA,22,FALSE),\"\")","v":""},{"$f":"IFERROR(VLOOKUP($B763,'Building Data'!$F$4:$AE$2970,26,FALSE),\"\")","v":""}]
[null,null,{"$f":"IFERROR(VLOOKUP($B764,'Building Data'!$F:$H,3,FALSE),\"\")","v":""},{"$f":"IFERROR(VLOOKUP($B764,'Building Data'!$F:$AA,22,FALSE),\"\")","v":""},{"$f":"IFERROR(VLOOKUP($B764,'Building Data'!$F$4:$AE$2970,26,FALSE),\"\")","v":""}]
[null,null,{"$f":"IFERROR(VLOOKUP($B765,'Building Data'!$F:$H,3,FALSE),\"\")","v":""},{"$f":"IFERROR(VLOOKUP($B765,'Building Data'!$F:$AA,22,FALSE),\"\")","v":""},{"$f":"IFERROR(VLOOKUP($B765,'Building Data'!$F$4:$AE$2970,26,FALSE),\"\")","v":""}]
[null,null,{"$f":"IFERROR(VLOOKUP($B766,'Building Data'!$F:$H,3,FALSE),\"\")","v":""},{"$f":"IFERROR(VLOOKUP($B766,'Building Data'!$F:$AA,22,FALSE),\"\")","v":""},{"$f":"IFERROR(VLOOKUP($B766,'Building Data'!$F$4:$AE$2970,26,FALSE),\"\")","v":""}]
[null,null,{"$f":"IFERROR(VLOOKUP($B767,'Building Data'!$F:$H,3,FALSE),\"\")","v":""},{"$f":"IFERROR(VLOOKUP($B767,'Building Data'!$F:$AA,22,FALSE),\"\")","v":""},{"$f":"IFERROR(VLOOKUP($B767,'Building Data'!$F$4:$AE$2970,26,FALSE),\"\")","v":""}]
[null,null,{"$f":"IFERROR(VLOOKUP($B768,'Building Data'!$F:$H,3,FALSE),\"\")","v":""},{"$f":"IFERROR(VLOOKUP($B768,'Building Data'!$F:$AA,22,FALSE),\"\")","v":""},{"$f":"IFERROR(VLOOKUP($B768,'Building Data'!$F$4:$AE$2970,26,FALSE),\"\")","v":""}]
[null,null,{"$f":"IFERROR(VLOOKUP($B769,'Building Data'!$F:$H,3,FALSE),\"\")","v":""},{"$f":"IFERROR(VLOOKUP($B769,'Building Data'!$F:$AA,22,FALSE),\"\")","v":""},{"$f":"IFERROR(VLOOKUP($B769,'Building Data'!$F$4:$AE$2970,26,FALSE),\"\")","v":""}]
[null,null,{"$f":"IFERROR(VLOOKUP($B770,'Building Data'!$F:$H,3,FALSE),\"\")","v":""},{"$f":"IFERROR(VLOOKUP($B770,'Building Data'!$F:$AA,22,FALSE),\"\")","v":""},{"$f":"IFERROR(VLOOKUP($B770,'Building Data'!$F$4:$AE$2970,26,FALSE),\"\")","v":""}]
[null,null,{"$f":"IFERROR(VLOOKUP($B771,'Building Data'!$F:$H,3,FALSE),\"\")","v":""},{"$f":"IFERROR(VLOOKUP($B771,'Building Data'!$F:$AA,22,FALSE),\"\")","v":""},{"$f":"IFERROR(VLOOKUP($B771,'Building Data'!$F$4:$AE$2970,26,FALSE),\"\")","v":""}]
[null,null,{"$f":"IFERROR(VLOOKUP($B772,'Building Data'!$F:$H,3,FALSE),\"\")","v":""},{"$f":"IFERROR(VLOOKUP($B772,'Building Data'!$F:$AA,22,FALSE),\"\")","v":""},{"$f":"IFERROR(VLOOKUP($B772,'Building Data'!$F$4:$AE$2970,26,FALSE),\"\")","v":""}]
[null,null,{"$f":"IFERROR(VLOOKUP($B773,'Building Data'!$F:$H,3,FALSE),\"\")","v":""},{"$f":"IFERROR(VLOOKUP($B773,'Building Data'!$F:$AA,22,FALSE),\"\")","v":""},{"$f":"IFERROR(VLOOKUP($B773,'Building Data'!$F$4:$AE$2970,26,FALSE),\"\")","v":""}]
[null,null,{"$f":"IFERROR(VLOOKUP($B774,'Building Data'!$F:$H,3,FALSE),\"\")","v":""},{"$f":"IFERROR(VLOOKUP($B774,'Building Data'!$F:$AA,22,FALSE),\"\")","v":""},{"$f":"IFERROR(VLOOKUP($B774,'Building Data'!$F$4:$AE$2970,26,FALSE),\"\")","v":""}]
[null,null,{"$f":"IFERROR(VLOOKUP($B775,'Building Data'!$F:$H,3,FALSE),\"\")","v":""},{"$f":"IFERROR(VLOOKUP($B775,'Building Data'!$F:$AA,22,FALSE),\"\")","v":""},{"$f":"IFERROR(VLOOKUP($B775,'Building Data'!$F$4:$AE$2970,26,FALSE),\"\")","v":""}]
[null,null,{"$f":"IFERROR(VLOOKUP($B776,'Building Data'!$F:$H,3,FALSE),\"\")","v":""},{"$f":"IFERROR(VLOOKUP($B776,'Building Data'!$F:$AA,22,FALSE),\"\")","v":""},{"$f":"IFERROR(VLOOKUP($B776,'Building Data'!$F$4:$AE$2970,26,FALSE),\"\")","v":""}]
[null,null,{"$f":"IFERROR(VLOOKUP($B777,'Building Data'!$F:$H,3,FALSE),\"\")","v":""},{"$f":"IFERROR(VLOOKUP($B777,'Building Data'!$F:$AA,22,FALSE),\"\")","v":""},{"$f":"IFERROR(VLOOKUP($B777,'Building Data'!$F$4:$AE$2970,26,FALSE),\"\")","v":""}]
[null,null,{"$f":"IFERROR(VLOOKUP($B778,'Building Data'!$F:$H,3,FALSE),\"\")","v":""},{"$f":"IFERROR(VLOOKUP($B778,'Building Data'!$F:$AA,22,FALSE),\"\")","v":""},{"$f":"IFERROR(VLOOKUP($B778,'Building Data'!$F$4:$AE$2970,26,FALSE),\"\")","v":""}]
[null,null,{"$f":"IFERROR(VLOOKUP($B779,'Building Data'!$F:$H,3,FALSE),\"\")","v":""},{"$f":"IFERROR(VLOOKUP($B779,'Building Data'!$F:$AA,22,FALSE),\"\")","v":""},{"$f":"IFERROR(VLOOKUP($B779,'Building Data'!$F$4:$AE$2970,26,FALSE),\"\")","v":""}]
[null,null,{"$f":"IFERROR(VLOOKUP($B780,'Building Data'!$F:$H,3,FALSE),\"\")","v":""},{"$f":"IFERROR(VLOOKUP($B780,'Building Data'!$F:$AA,22,FALSE),\"\")","v":""},{"$f":"IFERROR(VLOOKUP($B780,'Building Data'!$F$4:$AE$2970,26,FALSE),\"\")","v":""}]
[null,null,{"$f":"IFERROR(VLOOKUP($B781,'Building Data'!$F:$H,3,FALSE),\"\")","v":""},{"$f":"IFERROR(VLOOKUP($B781,'Building Data'!$F:$AA,22,FALSE),\"\")","v":""},{"$f":"IFERROR(VLOOKUP($B781,'Building Data'!$F$4:$AE$2970,26,FALSE),\"\")","v":""}]
[null,null,{"$f":"IFERROR(VLOOKUP($B782,'Building Data'!$F:$H,3,FALSE),\"\")","v":""},{"$f":"IFERROR(VLOOKUP($B782,'Building Data'!$F:$AA,22,FALSE),\"\")","v":""},{"$f":"IFERROR(VLOOKUP($B782,'Building Data'!$F$4:$AE$2970,26,FALSE),\"\")","v":""}]
[null,null,{"$f":"IFERROR(VLOOKUP($B783,'Building Data'!$F:$H,3,FALSE),\"\")","v":""},{"$f":"IFERROR(VLOOKUP($B783,'Building Data'!$F:$AA,22,FALSE),\"\")","v":""},{"$f":"IFERROR(VLOOKUP($B783,'Building Data'!$F$4:$AE$2970,26,FALSE),\"\")","v":""}]
[null,null,{"$f":"IFERROR(VLOOKUP($B784,'Building Data'!$F:$H,3,FALSE),\"\")","v":""},{"$f":"IFERROR(VLOOKUP($B784,'Building Data'!$F:$AA,22,FALSE),\"\")","v":""},{"$f":"IFERROR(VLOOKUP($B784,'Building Data'!$F$4:$AE$2970,26,FALSE),\"\")","v":""}]
[null,null,{"$f":"IFERROR(VLOOKUP($B785,'Building Data'!$F:$H,3,FALSE),\"\")","v":""},{"$f":"IFERROR(VLOOKUP($B785,'Building Data'!$F:$AA,22,FALSE),\"\")","v":""},{"$f":"IFERROR(VLOOKUP($B785,'Building Data'!$F$4:$AE$2970,26,FALSE),\"\")","v":""}]
[null,null,{"$f":"IFERROR(VLOOKUP($B786,'Building Data'!$F:$H,3,FALSE),\"\")","v":""},{"$f":"IFERROR(VLOOKUP($B786,'Building Data'!$F:$AA,22,FALSE),\"\")","v":""},{"$f":"IFERROR(VLOOKUP($B786,'Building Data'!$F$4:$AE$2970,26,FALSE),\"\")","v":""}]
[null,null,{"$f":"IFERROR(VLOOKUP($B787,'Building Data'!$F:$H,3,FALSE),\"\")","v":""},{"$f":"IFERROR(VLOOKUP($B787,'Building Data'!$F:$AA,22,FALSE),\"\")","v":""},{"$f":"IFERROR(VLOOKUP($B787,'Building Data'!$F$4:$AE$2970,26,FALSE),\"\")","v":""}]
[null,null,{"$f":"IFERROR(VLOOKUP($B788,'Building Data'!$F:$H,3,FALSE),\"\")","v":""},{"$f":"IFERROR(VLOOKUP($B788,'Building Data'!$F:$AA,22,FALSE),\"\")","v":""},{"$f":"IFERROR(VLOOKUP($B788,'Building Data'!$F$4:$AE$2970,26,FALSE),\"\")","v":""}]
[null,null,{"$f":"IFERROR(VLOOKUP($B789,'Building Data'!$F:$H,3,FALSE),\"\")","v":""},{"$f":"IFERROR(VLOOKUP($B789,'Building Data'!$F:$AA,22,FALSE),\"\")","v":""},{"$f":"IFERROR(VLOOKUP($B789,'Building Data'!$F$4:$AE$2970,26,FALSE),\"\")","v":""}]
[null,null,{"$f":"IFERROR(VLOOKUP($B790,'Building Data'!$F:$H,3,FALSE),\"\")","v":""},{"$f":"IFERROR(VLOOKUP($B790,'Building Data'!$F:$AA,22,FALSE),\"\")","v":""},{"$f":"IFERROR(VLOOKUP($B790,'Building Data'!$F$4:$AE$2970,26,FALSE),\"\")","v":""}]
[null,null,{"$f":"IFERROR(VLOOKUP($B791,'Building Data'!$F:$H,3,FALSE),\"\")","v":""},{"$f":"IFERROR(VLOOKUP($B791,'Building Data'!$F:$AA,22,FALSE),\"\")","v":""},{"$f":"IFERROR(VLOOKUP($B791,'Building Data'!$F$4:$AE$2970,26,FALSE),\"\")","v":""}]
[null,null,{"$f":"IFERROR(VLOOKUP($B792,'Building Data'!$F:$H,3,FALSE),\"\")","v":""},{"$f":"IFERROR(VLOOKUP($B792,'Building Data'!$F:$AA,22,FALSE),\"\")","v":""},{"$f":"IFERROR(VLOOKUP($B792,'Building Data'!$F$4:$AE$2970,26,FALSE),\"\")","v":""}]
[null,null,{"$f":"IFERROR(VLOOKUP($B793,'Building Data'!$F:$H,3,FALSE),\"\")","v":""},{"$f":"IFERROR(VLOOKUP($B793,'Building Data'!$F:$AA,22,FALSE),\"\")","v":""},{"$f":"IFERROR(VLOOKUP($B793,'Building Data'!$F$4:$AE$2970,26,FALSE),\"\")","v":""}]
[null,null,{"$f":"IFERROR(VLOOKUP($B794,'Building Data'!$F:$H,3,FALSE),\"\")","v":""},{"$f":"IFERROR(VLOOKUP($B794,'Building Data'!$F:$AA,22,FALSE),\"\")","v":""},{"$f":"IFERROR(VLOOKUP($B794,'Building Data'!$F$4:$AE$2970,26,FALSE),\"\")","v":""}]
[null,null,{"$f":"IFERROR(VLOOKUP($B795,'Building Data'!$F:$H,3,FALSE),\"\")","v":""},{"$f":"IFERROR(VLOOKUP($B795,'Building Data'!$F:$AA,22,FALSE),\"\")","v":""},{"$f":"IFERROR(VLOOKUP($B795,'Building Data'!$F$4:$AE$2970,26,FALSE),\"\")","v":""}]
[null,null,{"$f":"IFERROR(VLOOKUP($B796,'Building Data'!$F:$H,3,FALSE),\"\")","v":""},{"$f":"IFERROR(VLOOKUP($B796,'Building Data'!$F:$AA,22,FALSE),\"\")","v":""},{"$f":"IFERROR(VLOOKUP($B796,'Building Data'!$F$4:$AE$2970,26,FALSE),\"\")","v":""}]
[null,null,{"$f":"IFERROR(VLOOKUP($B797,'Building Data'!$F:$H,3,FALSE),\"\")","v":""},{"$f":"IFERROR(VLOOKUP($B797,'Building Data'!$F:$AA,22,FALSE),\"\")","v":""},{"$f":"IFERROR(VLOOKUP($B797,'Building Data'!$F$4:$AE$2970,26,FALSE),\"\")","v":""}]
[null,null,{"$f":"IFERROR(VLOOKUP($B798,'Building Data'!$F:$H,3,FALSE),\"\")","v":""},{"$f":"IFERROR(VLOOKUP($B798,'Building Data'!$F:$AA,22,FALSE),\"\")","v":""},{"$f":"IFERROR(VLOOKUP($B798,'Building Data'!$F$4:$AE$2970,26,FALSE),\"\")","v":""}]
[null,null,{"$f":"IFERROR(VLOOKUP($B799,'Building Data'!$F:$H,3,FALSE),\"\")","v":""},{"$f":"IFERROR(VLOOKUP($B799,'Building Data'!$F:$AA,22,FALSE),\"\")","v":""},{"$f":"IFERROR(VLOOKUP($B799,'Building Data'!$F$4:$AE$2970,26,FALSE),\"\")","v":""}]
[null,null,{"$f":"IFERROR(VLOOKUP($B800,'Building Data'!$F:$H,3,FALSE),\"\")","v":""},{"$f":"IFERROR(VLOOKUP($B800,'Building Data'!$F:$AA,22,FALSE),\"\")","v":""},{"$f":"IFERROR(VLOOKUP($B800,'Building Data'!$F$4:$AE$2970,26,FALSE),\"\")","v":""}]
[null,null,{"$f":"IFERROR(VLOOKUP($B801,'Building Data'!$F:$H,3,FALSE),\"\")","v":""},{"$f":"IFERROR(VLOOKUP($B801,'Building Data'!$F:$AA,22,FALSE),\"\")","v":""},{"$f":"IFERROR(VLOOKUP($B801,'Building Data'!$F$4:$AE$2970,26,FALSE),\"\")","v":""}]
[null,null,{"$f":"IFERROR(VLOOKUP($B802,'Building Data'!$F:$H,3,FALSE),\"\")","v":""},{"$f":"IFERROR(VLOOKUP($B802,'Building Data'!$F:$AA,22,FALSE),\"\")","v":""},{"$f":"IFERROR(VLOOKUP($B802,'Building Data'!$F$4:$AE$2970,26,FALSE),\"\")","v":""}]
[null,null,{"$f":"IFERROR(VLOOKUP($B803,'Building Data'!$F:$H,3,FALSE),\"\")","v":""},{"$f":"IFERROR(VLOOKUP($B803,'Building Data'!$F:$AA,22,FALSE),\"\")","v":""},{"$f":"IFERROR(VLOOKUP($B803,'Building Data'!$F$4:$AE$2970,26,FALSE),\"\")","v":""}]
[null,null,{"$f":"IFERROR(VLOOKUP($B804,'Building Data'!$F:$H,3,FALSE),\"\")","v":""},{"$f":"IFERROR(VLOOKUP($B804,'Building Data'!$F:$AA,22,FALSE),\"\")","v":""},{"$f":"IFERROR(VLOOKUP($B804,'Building Data'!$F$4:$AE$2970,26,FALSE),\"\")","v":""}]
[null,null,{"$f":"IFERROR(VLOOKUP($B805,'Building Data'!$F:$H,3,FALSE),\"\")","v":""},{"$f":"IFERROR(VLOOKUP($B805,'Building Data'!$F:$AA,22,FALSE),\"\")","v":""},{"$f":"IFERROR(VLOOKUP($B805,'Building Data'!$F$4:$AE$2970,26,FALSE),\"\")","v":""}]
[null,null,{"$f":"IFERROR(VLOOKUP($B806,'Building Data'!$F:$H,3,FALSE),\"\")","v":""},{"$f":"IFERROR(VLOOKUP($B806,'Building Data'!$F:$AA,22,FALSE),\"\")","v":""},{"$f":"IFERROR(VLOOKUP($B806,'Building Data'!$F$4:$AE$2970,26,FALSE),\"\")","v":""}]
[null,null,{"$f":"IFERROR(VLOOKUP($B807,'Building Data'!$F:$H,3,FALSE),\"\")","v":""},{"$f":"IFERROR(VLOOKUP($B807,'Building Data'!$F:$AA,22,FALSE),\"\")","v":""},{"$f":"IFERROR(VLOOKUP($B807,'Building Data'!$F$4:$AE$2970,26,FALSE),\"\")","v":""}]
[null,null,{"$f":"IFERROR(VLOOKUP($B808,'Building Data'!$F:$H,3,FALSE),\"\")","v":""},{"$f":"IFERROR(VLOOKUP($B808,'Building Data'!$F:$AA,22,FALSE),\"\")","v":""},{"$f":"IFERROR(VLOOKUP($B808,'Building Data'!$F$4:$AE$2970,26,FALSE),\"\")","v":""}]
[null,null,{"$f":"IFERROR(VLOOKUP($B809,'Building Data'!$F:$H,3,FALSE),\"\")","v":""},{"$f":"IFERROR(VLOOKUP($B809,'Building Data'!$F:$AA,22,FALSE),\"\")","v":""},{"$f":"IFERROR(VLOOKUP($B809,'Building Data'!$F$4:$AE$2970,26,FALSE),\"\")","v":""}]
[null,null,{"$f":"IFERROR(VLOOKUP($B810,'Building Data'!$F:$H,3,FALSE),\"\")","v":""},{"$f":"IFERROR(VLOOKUP($B810,'Building Data'!$F:$AA,22,FALSE),\"\")","v":""},{"$f":"IFERROR(VLOOKUP($B810,'Building Data'!$F$4:$AE$2970,26,FALSE),\"\")","v":""}]
[null,null,{"$f":"IFERROR(VLOOKUP($B811,'Building Data'!$F:$H,3,FALSE),\"\")","v":""},{"$f":"IFERROR(VLOOKUP($B811,'Building Data'!$F:$AA,22,FALSE),\"\")","v":""},{"$f":"IFERROR(VLOOKUP($B811,'Building Data'!$F$4:$AE$2970,26,FALSE),\"\")","v":""}]
[null,null,{"$f":"IFERROR(VLOOKUP($B812,'Building Data'!$F:$H,3,FALSE),\"\")","v":""},{"$f":"IFERROR(VLOOKUP($B812,'Building Data'!$F:$AA,22,FALSE),\"\")","v":""},{"$f":"IFERROR(VLOOKUP($B812,'Building Data'!$F$4:$AE$2970,26,FALSE),\"\")","v":""}]
[null,null,{"$f":"IFERROR(VLOOKUP($B813,'Building Data'!$F:$H,3,FALSE),\"\")","v":""},{"$f":"IFERROR(VLOOKUP($B813,'Building Data'!$F:$AA,22,FALSE),\"\")","v":""},{"$f":"IFERROR(VLOOKUP($B813,'Building Data'!$F$4:$AE$2970,26,FALSE),\"\")","v":""}]
[null,null,{"$f":"IFERROR(VLOOKUP($B814,'Building Data'!$F:$H,3,FALSE),\"\")","v":""},{"$f":"IFERROR(VLOOKUP($B814,'Building Data'!$F:$AA,22,FALSE),\"\")","v":""},{"$f":"IFERROR(VLOOKUP($B814,'Building Data'!$F$4:$AE$2970,26,FALSE),\"\")","v":""}]
[null,null,{"$f":"IFERROR(VLOOKUP($B815,'Building Data'!$F:$H,3,FALSE),\"\")","v":""},{"$f":"IFERROR(VLOOKUP($B815,'Building Data'!$F:$AA,22,FALSE),\"\")","v":""},{"$f":"IFERROR(VLOOKUP($B815,'Building Data'!$F$4:$AE$2970,26,FALSE),\"\")","v":""}]
[null,null,{"$f":"IFERROR(VLOOKUP($B816,'Building Data'!$F:$H,3,FALSE),\"\")","v":""},{"$f":"IFERROR(VLOOKUP($B816,'Building Data'!$F:$AA,22,FALSE),\"\")","v":""},{"$f":"IFERROR(VLOOKUP($B816,'Building Data'!$F$4:$AE$2970,26,FALSE),\"\")","v":""}]
[null,null,{"$f":"IFERROR(VLOOKUP($B817,'Building Data'!$F:$H,3,FALSE),\"\")","v":""},{"$f":"IFERROR(VLOOKUP($B817,'Building Data'!$F:$AA,22,FALSE),\"\")","v":""},{"$f":"IFERROR(VLOOKUP($B817,'Building Data'!$F$4:$AE$2970,26,FALSE),\"\")","v":""}]
[null,null,{"$f":"IFERROR(VLOOKUP($B818,'Building Data'!$F:$H,3,FALSE),\"\")","v":""},{"$f":"IFERROR(VLOOKUP($B818,'Building Data'!$F:$AA,22,FALSE),\"\")","v":""},{"$f":"IFERROR(VLOOKUP($B818,'Building Data'!$F$4:$AE$2970,26,FALSE),\"\")","v":""}]
[null,null,{"$f":"IFERROR(VLOOKUP($B819,'Building Data'!$F:$H,3,FALSE),\"\")","v":""},{"$f":"IFERROR(VLOOKUP($B819,'Building Data'!$F:$AA,22,FALSE),\"\")","v":""},{"$f":"IFERROR(VLOOKUP($B819,'Building Data'!$F$4:$AE$2970,26,FALSE),\"\")","v":""}]
[null,null,{"$f":"IFERROR(VLOOKUP($B820,'Building Data'!$F:$H,3,FALSE),\"\")","v":""},{"$f":"IFERROR(VLOOKUP($B820,'Building Data'!$F:$AA,22,FALSE),\"\")","v":""},{"$f":"IFERROR(VLOOKUP($B820,'Building Data'!$F$4:$AE$2970,26,FALSE),\"\")","v":""}]
[null,null,{"$f":"IFERROR(VLOOKUP($B821,'Building Data'!$F:$H,3,FALSE),\"\")","v":""},{"$f":"IFERROR(VLOOKUP($B821,'Building Data'!$F:$AA,22,FALSE),\"\")","v":""},{"$f":"IFERROR(VLOOKUP($B821,'Building Data'!$F$4:$AE$2970,26,FALSE),\"\")","v":""}]
[null,null,{"$f":"IFERROR(VLOOKUP($B822,'Building Data'!$F:$H,3,FALSE),\"\")","v":""},{"$f":"IFERROR(VLOOKUP($B822,'Building Data'!$F:$AA,22,FALSE),\"\")","v":""},{"$f":"IFERROR(VLOOKUP($B822,'Building Data'!$F$4:$AE$2970,26,FALSE),\"\")","v":""}]
[null,null,{"$f":"IFERROR(VLOOKUP($B823,'Building Data'!$F:$H,3,FALSE),\"\")","v":""},{"$f":"IFERROR(VLOOKUP($B823,'Building Data'!$F:$AA,22,FALSE),\"\")","v":""},{"$f":"IFERROR(VLOOKUP($B823,'Building Data'!$F$4:$AE$2970,26,FALSE),\"\")","v":""}]
[null,null,{"$f":"IFERROR(VLOOKUP($B824,'Building Data'!$F:$H,3,FALSE),\"\")","v":""},{"$f":"IFERROR(VLOOKUP($B824,'Building Data'!$F:$AA,22,FALSE),\"\")","v":""},{"$f":"IFERROR(VLOOKUP($B824,'Building Data'!$F$4:$AE$2970,26,FALSE),\"\")","v":""}]
[null,null,{"$f":"IFERROR(VLOOKUP($B825,'Building Data'!$F:$H,3,FALSE),\"\")","v":""},{"$f":"IFERROR(VLOOKUP($B825,'Building Data'!$F:$AA,22,FALSE),\"\")","v":""},{"$f":"IFERROR(VLOOKUP($B825,'Building Data'!$F$4:$AE$2970,26,FALSE),\"\")","v":""}]
[null,null,{"$f":"IFERROR(VLOOKUP($B826,'Building Data'!$F:$H,3,FALSE),\"\")","v":""},{"$f":"IFERROR(VLOOKUP($B826,'Building Data'!$F:$AA,22,FALSE),\"\")","v":""},{"$f":"IFERROR(VLOOKUP($B826,'Building Data'!$F$4:$AE$2970,26,FALSE),\"\")","v":""}]
[null,null,{"$f":"IFERROR(VLOOKUP($B827,'Building Data'!$F:$H,3,FALSE),\"\")","v":""},{"$f":"IFERROR(VLOOKUP($B827,'Building Data'!$F:$AA,22,FALSE),\"\")","v":""},{"$f":"IFERROR(VLOOKUP($B827,'Building Data'!$F$4:$AE$2970,26,FALSE),\"\")","v":""}]
[null,null,{"$f":"IFERROR(VLOOKUP($B828,'Building Data'!$F:$H,3,FALSE),\"\")","v":""},{"$f":"IFERROR(VLOOKUP($B828,'Building Data'!$F:$AA,22,FALSE),\"\")","v":""},{"$f":"IFERROR(VLOOKUP($B828,'Building Data'!$F$4:$AE$2970,26,FALSE),\"\")","v":""}]
[null,null,{"$f":"IFERROR(VLOOKUP($B829,'Building Data'!$F:$H,3,FALSE),\"\")","v":""},{"$f":"IFERROR(VLOOKUP($B829,'Building Data'!$F:$AA,22,FALSE),\"\")","v":""},{"$f":"IFERROR(VLOOKUP($B829,'Building Data'!$F$4:$AE$2970,26,FALSE),\"\")","v":""}]
[null,null,{"$f":"IFERROR(VLOOKUP($B830,'Building Data'!$F:$H,3,FALSE),\"\")","v":""},{"$f":"IFERROR(VLOOKUP($B830,'Building Data'!$F:$AA,22,FALSE),\"\")","v":""},{"$f":"IFERROR(VLOOKUP($B830,'Building Data'!$F$4:$AE$2970,26,FALSE),\"\")","v":""}]
[null,null,{"$f":"IFERROR(VLOOKUP($B831,'Building Data'!$F:$H,3,FALSE),\"\")","v":""},{"$f":"IFERROR(VLOOKUP($B831,'Building Data'!$F:$AA,22,FALSE),\"\")","v":""},{"$f":"IFERROR(VLOOKUP($B831,'Building Data'!$F$4:$AE$2970,26,FALSE),\"\")","v":""}]
[null,null,{"$f":"IFERROR(VLOOKUP($B832,'Building Data'!$F:$H,3,FALSE),\"\")","v":""},{"$f":"IFERROR(VLOOKUP($B832,'Building Data'!$F:$AA,22,FALSE),\"\")","v":""},{"$f":"IFERROR(VLOOKUP($B832,'Building Data'!$F$4:$AE$2970,26,FALSE),\"\")","v":""}]
[null,null,{"$f":"IFERROR(VLOOKUP($B833,'Building Data'!$F:$H,3,FALSE),\"\")","v":""},{"$f":"IFERROR(VLOOKUP($B833,'Building Data'!$F:$AA,22,FALSE),\"\")","v":""},{"$f":"IFERROR(VLOOKUP($B833,'Building Data'!$F$4:$AE$2970,26,FALSE),\"\")","v":""}]
[null,null,{"$f":"IFERROR(VLOOKUP($B834,'Building Data'!$F:$H,3,FALSE),\"\")","v":""},{"$f":"IFERROR(VLOOKUP($B834,'Building Data'!$F:$AA,22,FALSE),\"\")","v":""},{"$f":"IFERROR(VLOOKUP($B834,'Building Data'!$F$4:$AE$2970,26,FALSE),\"\")","v":""}]
[null,null,{"$f":"IFERROR(VLOOKUP($B835,'Building Data'!$F:$H,3,FALSE),\"\")","v":""},{"$f":"IFERROR(VLOOKUP($B835,'Building Data'!$F:$AA,22,FALSE),\"\")","v":""},{"$f":"IFERROR(VLOOKUP($B835,'Building Data'!$F$4:$AE$2970,26,FALSE),\"\")","v":""}]
[null,null,{"$f":"IFERROR(VLOOKUP($B836,'Building Data'!$F:$H,3,FALSE),\"\")","v":""},{"$f":"IFERROR(VLOOKUP($B836,'Building Data'!$F:$AA,22,FALSE),\"\")","v":""},{"$f":"IFERROR(VLOOKUP($B836,'Building Data'!$F$4:$AE$2970,26,FALSE),\"\")","v":""}]
[null,null,{"$f":"IFERROR(VLOOKUP($B837,'Building Data'!$F:$H,3,FALSE),\"\")","v":""},{"$f":"IFERROR(VLOOKUP($B837,'Building Data'!$F:$AA,22,FALSE),\"\")","v":""},{"$f":"IFERROR(VLOOKUP($B837,'Building Data'!$F$4:$AE$2970,26,FALSE),\"\")","v":""}]
[null,null,{"$f":"IFERROR(VLOOKUP($B838,'Building Data'!$F:$H,3,FALSE),\"\")","v":""},{"$f":"IFERROR(VLOOKUP($B838,'Building Data'!$F:$AA,22,FALSE),\"\")","v":""},{"$f":"IFERROR(VLOOKUP($B838,'Building Data'!$F$4:$AE$2970,26,FALSE),\"\")","v":""}]
[null,null,{"$f":"IFERROR(VLOOKUP($B839,'Building Data'!$F:$H,3,FALSE),\"\")","v":""},{"$f":"IFERROR(VLOOKUP($B839,'Building Data'!$F:$AA,22,FALSE),\"\")","v":""},{"$f":"IFERROR(VLOOKUP($B839,'Building Data'!$F$4:$AE$2970,26,FALSE),\"\")","v":""}]
[null,null,{"$f":"IFERROR(VLOOKUP($B840,'Building Data'!$F:$H,3,FALSE),\"\")","v":""},{"$f":"IFERROR(VLOOKUP($B840,'Building Data'!$F:$AA,22,FALSE),\"\")","v":""},{"$f":"IFERROR(VLOOKUP($B840,'Building Data'!$F$4:$AE$2970,26,FALSE),\"\")","v":""}]
[null,null,{"$f":"IFERROR(VLOOKUP($B841,'Building Data'!$F:$H,3,FALSE),\"\")","v":""},{"$f":"IFERROR(VLOOKUP($B841,'Building Data'!$F:$AA,22,FALSE),\"\")","v":""},{"$f":"IFERROR(VLOOKUP($B841,'Building Data'!$F$4:$AE$2970,26,FALSE),\"\")","v":""}]
[null,null,{"$f":"IFERROR(VLOOKUP($B842,'Building Data'!$F:$H,3,FALSE),\"\")","v":""},{"$f":"IFERROR(VLOOKUP($B842,'Building Data'!$F:$AA,22,FALSE),\"\")","v":""},{"$f":"IFERROR(VLOOKUP($B842,'Building Data'!$F$4:$AE$2970,26,FALSE),\"\")","v":""}]
[null,null,{"$f":"IFERROR(VLOOKUP($B843,'Building Data'!$F:$H,3,FALSE),\"\")","v":""},{"$f":"IFERROR(VLOOKUP($B843,'Building Data'!$F:$AA,22,FALSE),\"\")","v":""},{"$f":"IFERROR(VLOOKUP($B843,'Building Data'!$F$4:$AE$2970,26,FALSE),\"\")","v":""}]
[null,null,{"$f":"IFERROR(VLOOKUP($B844,'Building Data'!$F:$H,3,FALSE),\"\")","v":""},{"$f":"IFERROR(VLOOKUP($B844,'Building Data'!$F:$AA,22,FALSE),\"\")","v":""},{"$f":"IFERROR(VLOOKUP($B844,'Building Data'!$F$4:$AE$2970,26,FALSE),\"\")","v":""}]
[null,null,{"$f":"IFERROR(VLOOKUP($B845,'Building Data'!$F:$H,3,FALSE),\"\")","v":""},{"$f":"IFERROR(VLOOKUP($B845,'Building Data'!$F:$AA,22,FALSE),\"\")","v":""},{"$f":"IFERROR(VLOOKUP($B845,'Building Data'!$F$4:$AE$2970,26,FALSE),\"\")","v":""}]
[null,null,{"$f":"IFERROR(VLOOKUP($B846,'Building Data'!$F:$H,3,FALSE),\"\")","v":""},{"$f":"IFERROR(VLOOKUP($B846,'Building Data'!$F:$AA,22,FALSE),\"\")","v":""},{"$f":"IFERROR(VLOOKUP($B846,'Building Data'!$F$4:$AE$2970,26,FALSE),\"\")","v":""}]
[null,null,{"$f":"IFERROR(VLOOKUP($B847,'Building Data'!$F:$H,3,FALSE),\"\")","v":""},{"$f":"IFERROR(VLOOKUP($B847,'Building Data'!$F:$AA,22,FALSE),\"\")","v":""},{"$f":"IFERROR(VLOOKUP($B847,'Building Data'!$F$4:$AE$2970,26,FALSE),\"\")","v":""}]
[null,null,{"$f":"IFERROR(VLOOKUP($B848,'Building Data'!$F:$H,3,FALSE),\"\")","v":""},{"$f":"IFERROR(VLOOKUP($B848,'Building Data'!$F:$AA,22,FALSE),\"\")","v":""},{"$f":"IFERROR(VLOOKUP($B848,'Building Data'!$F$4:$AE$2970,26,FALSE),\"\")","v":""}]
[null,null,{"$f":"IFERROR(VLOOKUP($B849,'Building Data'!$F:$H,3,FALSE),\"\")","v":""},{"$f":"IFERROR(VLOOKUP($B849,'Building Data'!$F:$AA,22,FALSE),\"\")","v":""},{"$f":"IFERROR(VLOOKUP($B849,'Building Data'!$F$4:$AE$2970,26,FALSE),\"\")","v":""}]
[null,null,{"$f":"IFERROR(VLOOKUP($B850,'Building Data'!$F:$H,3,FALSE),\"\")","v":""},{"$f":"IFERROR(VLOOKUP($B850,'Building Data'!$F:$AA,22,FALSE),\"\")","v":""},{"$f":"IFERROR(VLOOKUP($B850,'Building Data'!$F$4:$AE$2970,26,FALSE),\"\")","v":""}]
[null,null,{"$f":"IFERROR(VLOOKUP($B851,'Building Data'!$F:$H,3,FALSE),\"\")","v":""},{"$f":"IFERROR(VLOOKUP($B851,'Building Data'!$F:$AA,22,FALSE),\"\")","v":""},{"$f":"IFERROR(VLOOKUP($B851,'Building Data'!$F$4:$AE$2970,26,FALSE),\"\")","v":""}]
[null,null,{"$f":"IFERROR(VLOOKUP($B852,'Building Data'!$F:$H,3,FALSE),\"\")","v":""},{"$f":"IFERROR(VLOOKUP($B852,'Building Data'!$F:$AA,22,FALSE),\"\")","v":""},{"$f":"IFERROR(VLOOKUP($B852,'Building Data'!$F$4:$AE$2970,26,FALSE),\"\")","v":""}]
[null,null,{"$f":"IFERROR(VLOOKUP($B853,'Building Data'!$F:$H,3,FALSE),\"\")","v":""},{"$f":"IFERROR(VLOOKUP($B853,'Building Data'!$F:$AA,22,FALSE),\"\")","v":""},{"$f":"IFERROR(VLOOKUP($B853,'Building Data'!$F$4:$AE$2970,26,FALSE),\"\")","v":""}]
[null,null,{"$f":"IFERROR(VLOOKUP($B854,'Building Data'!$F:$H,3,FALSE),\"\")","v":""},{"$f":"IFERROR(VLOOKUP($B854,'Building Data'!$F:$AA,22,FALSE),\"\")","v":""},{"$f":"IFERROR(VLOOKUP($B854,'Building Data'!$F$4:$AE$2970,26,FALSE),\"\")","v":""}]
[null,null,{"$f":"IFERROR(VLOOKUP($B855,'Building Data'!$F:$H,3,FALSE),\"\")","v":""},{"$f":"IFERROR(VLOOKUP($B855,'Building Data'!$F:$AA,22,FALSE),\"\")","v":""},{"$f":"IFERROR(VLOOKUP($B855,'Building Data'!$F$4:$AE$2970,26,FALSE),\"\")","v":""}]
[null,null,{"$f":"IFERROR(VLOOKUP($B856,'Building Data'!$F:$H,3,FALSE),\"\")","v":""},{"$f":"IFERROR(VLOOKUP($B856,'Building Data'!$F:$AA,22,FALSE),\"\")","v":""},{"$f":"IFERROR(VLOOKUP($B856,'Building Data'!$F$4:$AE$2970,26,FALSE),\"\")","v":""}]
[null,null,{"$f":"IFERROR(VLOOKUP($B857,'Building Data'!$F:$H,3,FALSE),\"\")","v":""},{"$f":"IFERROR(VLOOKUP($B857,'Building Data'!$F:$AA,22,FALSE),\"\")","v":""},{"$f":"IFERROR(VLOOKUP($B857,'Building Data'!$F$4:$AE$2970,26,FALSE),\"\")","v":""}]
[null,null,{"$f":"IFERROR(VLOOKUP($B858,'Building Data'!$F:$H,3,FALSE),\"\")","v":""},{"$f":"IFERROR(VLOOKUP($B858,'Building Data'!$F:$AA,22,FALSE),\"\")","v":""},{"$f":"IFERROR(VLOOKUP($B858,'Building Data'!$F$4:$AE$2970,26,FALSE),\"\")","v":""}]
[null,null,{"$f":"IFERROR(VLOOKUP($B859,'Building Data'!$F:$H,3,FALSE),\"\")","v":""},{"$f":"IFERROR(VLOOKUP($B859,'Building Data'!$F:$AA,22,FALSE),\"\")","v":""},{"$f":"IFERROR(VLOOKUP($B859,'Building Data'!$F$4:$AE$2970,26,FALSE),\"\")","v":""}]
[null,null,{"$f":"IFERROR(VLOOKUP($B860,'Building Data'!$F:$H,3,FALSE),\"\")","v":""},{"$f":"IFERROR(VLOOKUP($B860,'Building Data'!$F:$AA,22,FALSE),\"\")","v":""},{"$f":"IFERROR(VLOOKUP($B860,'Building Data'!$F$4:$AE$2970,26,FALSE),\"\")","v":""}]
[null,null,{"$f":"IFERROR(VLOOKUP($B861,'Building Data'!$F:$H,3,FALSE),\"\")","v":""},{"$f":"IFERROR(VLOOKUP($B861,'Building Data'!$F:$AA,22,FALSE),\"\")","v":""},{"$f":"IFERROR(VLOOKUP($B861,'Building Data'!$F$4:$AE$2970,26,FALSE),\"\")","v":""}]
[null,null,{"$f":"IFERROR(VLOOKUP($B862,'Building Data'!$F:$H,3,FALSE),\"\")","v":""},{"$f":"IFERROR(VLOOKUP($B862,'Building Data'!$F:$AA,22,FALSE),\"\")","v":""},{"$f":"IFERROR(VLOOKUP($B862,'Building Data'!$F$4:$AE$2970,26,FALSE),\"\")","v":""}]
[null,null,{"$f":"IFERROR(VLOOKUP($B863,'Building Data'!$F:$H,3,FALSE),\"\")","v":""},{"$f":"IFERROR(VLOOKUP($B863,'Building Data'!$F:$AA,22,FALSE),\"\")","v":""},{"$f":"IFERROR(VLOOKUP($B863,'Building Data'!$F$4:$AE$2970,26,FALSE),\"\")","v":""}]
[null,null,{"$f":"IFERROR(VLOOKUP($B864,'Building Data'!$F:$H,3,FALSE),\"\")","v":""},{"$f":"IFERROR(VLOOKUP($B864,'Building Data'!$F:$AA,22,FALSE),\"\")","v":""},{"$f":"IFERROR(VLOOKUP($B864,'Building Data'!$F$4:$AE$2970,26,FALSE),\"\")","v":""}]
[null,null,{"$f":"IFERROR(VLOOKUP($B865,'Building Data'!$F:$H,3,FALSE),\"\")","v":""},{"$f":"IFERROR(VLOOKUP($B865,'Building Data'!$F:$AA,22,FALSE),\"\")","v":""},{"$f":"IFERROR(VLOOKUP($B865,'Building Data'!$F$4:$AE$2970,26,FALSE),\"\")","v":""}]
[null,null,{"$f":"IFERROR(VLOOKUP($B866,'Building Data'!$F:$H,3,FALSE),\"\")","v":""},{"$f":"IFERROR(VLOOKUP($B866,'Building Data'!$F:$AA,22,FALSE),\"\")","v":""},{"$f":"IFERROR(VLOOKUP($B866,'Building Data'!$F$4:$AE$2970,26,FALSE),\"\")","v":""}]
[null,null,{"$f":"IFERROR(VLOOKUP($B867,'Building Data'!$F:$H,3,FALSE),\"\")","v":""},{"$f":"IFERROR(VLOOKUP($B867,'Building Data'!$F:$AA,22,FALSE),\"\")","v":""},{"$f":"IFERROR(VLOOKUP($B867,'Building Data'!$F$4:$AE$2970,26,FALSE),\"\")","v":""}]
[null,null,{"$f":"IFERROR(VLOOKUP($B868,'Building Data'!$F:$H,3,FALSE),\"\")","v":""},{"$f":"IFERROR(VLOOKUP($B868,'Building Data'!$F:$AA,22,FALSE),\"\")","v":""},{"$f":"IFERROR(VLOOKUP($B868,'Building Data'!$F$4:$AE$2970,26,FALSE),\"\")","v":""}]
[null,null,{"$f":"IFERROR(VLOOKUP($B869,'Building Data'!$F:$H,3,FALSE),\"\")","v":""},{"$f":"IFERROR(VLOOKUP($B869,'Building Data'!$F:$AA,22,FALSE),\"\")","v":""},{"$f":"IFERROR(VLOOKUP($B869,'Building Data'!$F$4:$AE$2970,26,FALSE),\"\")","v":""}]
[null,null,{"$f":"IFERROR(VLOOKUP($B870,'Building Data'!$F:$H,3,FALSE),\"\")","v":""},{"$f":"IFERROR(VLOOKUP($B870,'Building Data'!$F:$AA,22,FALSE),\"\")","v":""},{"$f":"IFERROR(VLOOKUP($B870,'Building Data'!$F$4:$AE$2970,26,FALSE),\"\")","v":""}]
[null,null,{"$f":"IFERROR(VLOOKUP($B871,'Building Data'!$F:$H,3,FALSE),\"\")","v":""},{"$f":"IFERROR(VLOOKUP($B871,'Building Data'!$F:$AA,22,FALSE),\"\")","v":""},{"$f":"IFERROR(VLOOKUP($B871,'Building Data'!$F$4:$AE$2970,26,FALSE),\"\")","v":""}]
[null,null,{"$f":"IFERROR(VLOOKUP($B872,'Building Data'!$F:$H,3,FALSE),\"\")","v":""},{"$f":"IFERROR(VLOOKUP($B872,'Building Data'!$F:$AA,22,FALSE),\"\")","v":""},{"$f":"IFERROR(VLOOKUP($B872,'Building Data'!$F$4:$AE$2970,26,FALSE),\"\")","v":""}]
[null,null,{"$f":"IFERROR(VLOOKUP($B873,'Building Data'!$F:$H,3,FALSE),\"\")","v":""},{"$f":"IFERROR(VLOOKUP($B873,'Building Data'!$F:$AA,22,FALSE),\"\")","v":""},{"$f":"IFERROR(VLOOKUP($B873,'Building Data'!$F$4:$AE$2970,26,FALSE),\"\")","v":""}]
[null,null,{"$f":"IFERROR(VLOOKUP($B874,'Building Data'!$F:$H,3,FALSE),\"\")","v":""},{"$f":"IFERROR(VLOOKUP($B874,'Building Data'!$F:$AA,22,FALSE),\"\")","v":""},{"$f":"IFERROR(VLOOKUP($B874,'Building Data'!$F$4:$AE$2970,26,FALSE),\"\")","v":""}]
[null,null,{"$f":"IFERROR(VLOOKUP($B875,'Building Data'!$F:$H,3,FALSE),\"\")","v":""},{"$f":"IFERROR(VLOOKUP($B875,'Building Data'!$F:$AA,22,FALSE),\"\")","v":""},{"$f":"IFERROR(VLOOKUP($B875,'Building Data'!$F$4:$AE$2970,26,FALSE),\"\")","v":""}]
[null,null,{"$f":"IFERROR(VLOOKUP($B876,'Building Data'!$F:$H,3,FALSE),\"\")","v":""},{"$f":"IFERROR(VLOOKUP($B876,'Building Data'!$F:$AA,22,FALSE),\"\")","v":""},{"$f":"IFERROR(VLOOKUP($B876,'Building Data'!$F$4:$AE$2970,26,FALSE),\"\")","v":""}]
[null,null,{"$f":"IFERROR(VLOOKUP($B877,'Building Data'!$F:$H,3,FALSE),\"\")","v":""},{"$f":"IFERROR(VLOOKUP($B877,'Building Data'!$F:$AA,22,FALSE),\"\")","v":""},{"$f":"IFERROR(VLOOKUP($B877,'Building Data'!$F$4:$AE$2970,26,FALSE),\"\")","v":""}]
[null,null,{"$f":"IFERROR(VLOOKUP($B878,'Building Data'!$F:$H,3,FALSE),\"\")","v":""},{"$f":"IFERROR(VLOOKUP($B878,'Building Data'!$F:$AA,22,FALSE),\"\")","v":""},{"$f":"IFERROR(VLOOKUP($B878,'Building Data'!$F$4:$AE$2970,26,FALSE),\"\")","v":""}]
[null,null,{"$f":"IFERROR(VLOOKUP($B879,'Building Data'!$F:$H,3,FALSE),\"\")","v":""},{"$f":"IFERROR(VLOOKUP($B879,'Building Data'!$F:$AA,22,FALSE),\"\")","v":""},{"$f":"IFERROR(VLOOKUP($B879,'Building Data'!$F$4:$AE$2970,26,FALSE),\"\")","v":""}]
[null,null,{"$f":"IFERROR(VLOOKUP($B880,'Building Data'!$F:$H,3,FALSE),\"\")","v":""},{"$f":"IFERROR(VLOOKUP($B880,'Building Data'!$F:$AA,22,FALSE),\"\")","v":""},{"$f":"IFERROR(VLOOKUP($B880,'Building Data'!$F$4:$AE$2970,26,FALSE),\"\")","v":""}]
[null,null,{"$f":"IFERROR(VLOOKUP($B881,'Building Data'!$F:$H,3,FALSE),\"\")","v":""},{"$f":"IFERROR(VLOOKUP($B881,'Building Data'!$F:$AA,22,FALSE),\"\")","v":""},{"$f":"IFERROR(VLOOKUP($B881,'Building Data'!$F$4:$AE$2970,26,FALSE),\"\")","v":""}]
[null,null,{"$f":"IFERROR(VLOOKUP($B882,'Building Data'!$F:$H,3,FALSE),\"\")","v":""},{"$f":"IFERROR(VLOOKUP($B882,'Building Data'!$F:$AA,22,FALSE),\"\")","v":""},{"$f":"IFERROR(VLOOKUP($B882,'Building Data'!$F$4:$AE$2970,26,FALSE),\"\")","v":""}]
[null,null,{"$f":"IFERROR(VLOOKUP($B883,'Building Data'!$F:$H,3,FALSE),\"\")","v":""},{"$f":"IFERROR(VLOOKUP($B883,'Building Data'!$F:$AA,22,FALSE),\"\")","v":""},{"$f":"IFERROR(VLOOKUP($B883,'Building Data'!$F$4:$AE$2970,26,FALSE),\"\")","v":""}]
[null,null,{"$f":"IFERROR(VLOOKUP($B884,'Building Data'!$F:$H,3,FALSE),\"\")","v":""},{"$f":"IFERROR(VLOOKUP($B884,'Building Data'!$F:$AA,22,FALSE),\"\")","v":""},{"$f":"IFERROR(VLOOKUP($B884,'Building Data'!$F$4:$AE$2970,26,FALSE),\"\")","v":""}]
[null,null,{"$f":"IFERROR(VLOOKUP($B885,'Building Data'!$F:$H,3,FALSE),\"\")","v":""},{"$f":"IFERROR(VLOOKUP($B885,'Building Data'!$F:$AA,22,FALSE),\"\")","v":""},{"$f":"IFERROR(VLOOKUP($B885,'Building Data'!$F$4:$AE$2970,26,FALSE),\"\")","v":""}]
[null,null,{"$f":"IFERROR(VLOOKUP($B886,'Building Data'!$F:$H,3,FALSE),\"\")","v":""},{"$f":"IFERROR(VLOOKUP($B886,'Building Data'!$F:$AA,22,FALSE),\"\")","v":""},{"$f":"IFERROR(VLOOKUP($B886,'Building Data'!$F$4:$AE$2970,26,FALSE),\"\")","v":""}]
[null,null,{"$f":"IFERROR(VLOOKUP($B887,'Building Data'!$F:$H,3,FALSE),\"\")","v":""},{"$f":"IFERROR(VLOOKUP($B887,'Building Data'!$F:$AA,22,FALSE),\"\")","v":""},{"$f":"IFERROR(VLOOKUP($B887,'Building Data'!$F$4:$AE$2970,26,FALSE),\"\")","v":""}]
[null,null,{"$f":"IFERROR(VLOOKUP($B888,'Building Data'!$F:$H,3,FALSE),\"\")","v":""},{"$f":"IFERROR(VLOOKUP($B888,'Building Data'!$F:$AA,22,FALSE),\"\")","v":""},{"$f":"IFERROR(VLOOKUP($B888,'Building Data'!$F$4:$AE$2970,26,FALSE),\"\")","v":""}]
[null,null,{"$f":"IFERROR(VLOOKUP($B889,'Building Data'!$F:$H,3,FALSE),\"\")","v":""},{"$f":"IFERROR(VLOOKUP($B889,'Building Data'!$F:$AA,22,FALSE),\"\")","v":""},{"$f":"IFERROR(VLOOKUP($B889,'Building Data'!$F$4:$AE$2970,26,FALSE),\"\")","v":""}]
[null,null,{"$f":"IFERROR(VLOOKUP($B890,'Building Data'!$F:$H,3,FALSE),\"\")","v":""},{"$f":"IFERROR(VLOOKUP($B890,'Building Data'!$F:$AA,22,FALSE),\"\")","v":""},{"$f":"IFERROR(VLOOKUP($B890,'Building Data'!$F$4:$AE$2970,26,FALSE),\"\")","v":""}]
[null,null,{"$f":"IFERROR(VLOOKUP($B891,'Building Data'!$F:$H,3,FALSE),\"\")","v":""},{"$f":"IFERROR(VLOOKUP($B891,'Building Data'!$F:$AA,22,FALSE),\"\")","v":""},{"$f":"IFERROR(VLOOKUP($B891,'Building Data'!$F$4:$AE$2970,26,FALSE),\"\")","v":""}]
[null,null,{"$f":"IFERROR(VLOOKUP($B892,'Building Data'!$F:$H,3,FALSE),\"\")","v":""},{"$f":"IFERROR(VLOOKUP($B892,'Building Data'!$F:$AA,22,FALSE),\"\")","v":""},{"$f":"IFERROR(VLOOKUP($B892,'Building Data'!$F$4:$AE$2970,26,FALSE),\"\")","v":""}]
[null,null,{"$f":"IFERROR(VLOOKUP($B893,'Building Data'!$F:$H,3,FALSE),\"\")","v":""},{"$f":"IFERROR(VLOOKUP($B893,'Building Data'!$F:$AA,22,FALSE),\"\")","v":""},{"$f":"IFERROR(VLOOKUP($B893,'Building Data'!$F$4:$AE$2970,26,FALSE),\"\")","v":""}]
[null,null,{"$f":"IFERROR(VLOOKUP($B894,'Building Data'!$F:$H,3,FALSE),\"\")","v":""},{"$f":"IFERROR(VLOOKUP($B894,'Building Data'!$F:$AA,22,FALSE),\"\")","v":""},{"$f":"IFERROR(VLOOKUP($B894,'Building Data'!$F$4:$AE$2970,26,FALSE),\"\")","v":""}]
[null,null,{"$f":"IFERROR(VLOOKUP($B895,'Building Data'!$F:$H,3,FALSE),\"\")","v":""},{"$f":"IFERROR(VLOOKUP($B895,'Building Data'!$F:$AA,22,FALSE),\"\")","v":""},{"$f":"IFERROR(VLOOKUP($B895,'Building Data'!$F$4:$AE$2970,26,FALSE),\"\")","v":""}]
[null,null,{"$f":"IFERROR(VLOOKUP($B896,'Building Data'!$F:$H,3,FALSE),\"\")","v":""},{"$f":"IFERROR(VLOOKUP($B896,'Building Data'!$F:$AA,22,FALSE),\"\")","v":""},{"$f":"IFERROR(VLOOKUP($B896,'Building Data'!$F$4:$AE$2970,26,FALSE),\"\")","v":""}]
[null,null,{"$f":"IFERROR(VLOOKUP($B897,'Building Data'!$F:$H,3,FALSE),\"\")","v":""},{"$f":"IFERROR(VLOOKUP($B897,'Building Data'!$F:$AA,22,FALSE),\"\")","v":""},{"$f":"IFERROR(VLOOKUP($B897,'Building Data'!$F$4:$AE$2970,26,FALSE),\"\")","v":""}]
[null,null,{"$f":"IFERROR(VLOOKUP($B898,'Building Data'!$F:$H,3,FALSE),\"\")","v":""},{"$f":"IFERROR(VLOOKUP($B898,'Building Data'!$F:$AA,22,FALSE),\"\")","v":""},{"$f":"IFERROR(VLOOKUP($B898,'Building Data'!$F$4:$AE$2970,26,FALSE),\"\")","v":""}]
[null,null,{"$f":"IFERROR(VLOOKUP($B899,'Building Data'!$F:$H,3,FALSE),\"\")","v":""},{"$f":"IFERROR(VLOOKUP($B899,'Building Data'!$F:$AA,22,FALSE),\"\")","v":""},{"$f":"IFERROR(VLOOKUP($B899,'Building Data'!$F$4:$AE$2970,26,FALSE),\"\")","v":""}]
[null,null,{"$f":"IFERROR(VLOOKUP($B900,'Building Data'!$F:$H,3,FALSE),\"\")","v":""},{"$f":"IFERROR(VLOOKUP($B900,'Building Data'!$F:$AA,22,FALSE),\"\")","v":""},{"$f":"IFERROR(VLOOKUP($B900,'Building Data'!$F$4:$AE$2970,26,FALSE),\"\")","v":""}]
[null,null,{"$f":"IFERROR(VLOOKUP($B901,'Building Data'!$F:$H,3,FALSE),\"\")","v":""},{"$f":"IFERROR(VLOOKUP($B901,'Building Data'!$F:$AA,22,FALSE),\"\")","v":""},{"$f":"IFERROR(VLOOKUP($B901,'Building Data'!$F$4:$AE$2970,26,FALSE),\"\")","v":""}]
[null,null,{"$f":"IFERROR(VLOOKUP($B902,'Building Data'!$F:$H,3,FALSE),\"\")","v":""},{"$f":"IFERROR(VLOOKUP($B902,'Building Data'!$F:$AA,22,FALSE),\"\")","v":""},{"$f":"IFERROR(VLOOKUP($B902,'Building Data'!$F$4:$AE$2970,26,FALSE),\"\")","v":""}]
[null,null,{"$f":"IFERROR(VLOOKUP($B903,'Building Data'!$F:$H,3,FALSE),\"\")","v":""},{"$f":"IFERROR(VLOOKUP($B903,'Building Data'!$F:$AA,22,FALSE),\"\")","v":""},{"$f":"IFERROR(VLOOKUP($B903,'Building Data'!$F$4:$AE$2970,26,FALSE),\"\")","v":""}]
[null,null,{"$f":"IFERROR(VLOOKUP($B904,'Building Data'!$F:$H,3,FALSE),\"\")","v":""},{"$f":"IFERROR(VLOOKUP($B904,'Building Data'!$F:$AA,22,FALSE),\"\")","v":""},{"$f":"IFERROR(VLOOKUP($B904,'Building Data'!$F$4:$AE$2970,26,FALSE),\"\")","v":""}]
[null,null,{"$f":"IFERROR(VLOOKUP($B905,'Building Data'!$F:$H,3,FALSE),\"\")","v":""},{"$f":"IFERROR(VLOOKUP($B905,'Building Data'!$F:$AA,22,FALSE),\"\")","v":""},{"$f":"IFERROR(VLOOKUP($B905,'Building Data'!$F$4:$AE$2970,26,FALSE),\"\")","v":""}]
[null,null,{"$f":"IFERROR(VLOOKUP($B906,'Building Data'!$F:$H,3,FALSE),\"\")","v":""},{"$f":"IFERROR(VLOOKUP($B906,'Building Data'!$F:$AA,22,FALSE),\"\")","v":""},{"$f":"IFERROR(VLOOKUP($B906,'Building Data'!$F$4:$AE$2970,26,FALSE),\"\")","v":""}]
[null,null,{"$f":"IFERROR(VLOOKUP($B907,'Building Data'!$F:$H,3,FALSE),\"\")","v":""},{"$f":"IFERROR(VLOOKUP($B907,'Building Data'!$F:$AA,22,FALSE),\"\")","v":""},{"$f":"IFERROR(VLOOKUP($B907,'Building Data'!$F$4:$AE$2970,26,FALSE),\"\")","v":""}]
[null,null,{"$f":"IFERROR(VLOOKUP($B908,'Building Data'!$F:$H,3,FALSE),\"\")","v":""},{"$f":"IFERROR(VLOOKUP($B908,'Building Data'!$F:$AA,22,FALSE),\"\")","v":""},{"$f":"IFERROR(VLOOKUP($B908,'Building Data'!$F$4:$AE$2970,26,FALSE),\"\")","v":""}]
[null,null,{"$f":"IFERROR(VLOOKUP($B909,'Building Data'!$F:$H,3,FALSE),\"\")","v":""},{"$f":"IFERROR(VLOOKUP($B909,'Building Data'!$F:$AA,22,FALSE),\"\")","v":""},{"$f":"IFERROR(VLOOKUP($B909,'Building Data'!$F$4:$AE$2970,26,FALSE),\"\")","v":""}]
[null,null,{"$f":"IFERROR(VLOOKUP($B910,'Building Data'!$F:$H,3,FALSE),\"\")","v":""},{"$f":"IFERROR(VLOOKUP($B910,'Building Data'!$F:$AA,22,FALSE),\"\")","v":""},{"$f":"IFERROR(VLOOKUP($B910,'Building Data'!$F$4:$AE$2970,26,FALSE),\"\")","v":""}]
[null,null,{"$f":"IFERROR(VLOOKUP($B911,'Building Data'!$F:$H,3,FALSE),\"\")","v":""},{"$f":"IFERROR(VLOOKUP($B911,'Building Data'!$F:$AA,22,FALSE),\"\")","v":""},{"$f":"IFERROR(VLOOKUP($B911,'Building Data'!$F$4:$AE$2970,26,FALSE),\"\")","v":""}]
[null,null,{"$f":"IFERROR(VLOOKUP($B912,'Building Data'!$F:$H,3,FALSE),\"\")","v":""},{"$f":"IFERROR(VLOOKUP($B912,'Building Data'!$F:$AA,22,FALSE),\"\")","v":""},{"$f":"IFERROR(VLOOKUP($B912,'Building Data'!$F$4:$AE$2970,26,FALSE),\"\")","v":""}]
[null,null,{"$f":"IFERROR(VLOOKUP($B913,'Building Data'!$F:$H,3,FALSE),\"\")","v":""},{"$f":"IFERROR(VLOOKUP($B913,'Building Data'!$F:$AA,22,FALSE),\"\")","v":""},{"$f":"IFERROR(VLOOKUP($B913,'Building Data'!$F$4:$AE$2970,26,FALSE),\"\")","v":""}]
[null,null,{"$f":"IFERROR(VLOOKUP($B914,'Building Data'!$F:$H,3,FALSE),\"\")","v":""},{"$f":"IFERROR(VLOOKUP($B914,'Building Data'!$F:$AA,22,FALSE),\"\")","v":""},{"$f":"IFERROR(VLOOKUP($B914,'Building Data'!$F$4:$AE$2970,26,FALSE),\"\")","v":""}]
[null,null,{"$f":"IFERROR(VLOOKUP($B915,'Building Data'!$F:$H,3,FALSE),\"\")","v":""},{"$f":"IFERROR(VLOOKUP($B915,'Building Data'!$F:$AA,22,FALSE),\"\")","v":""},{"$f":"IFERROR(VLOOKUP($B915,'Building Data'!$F$4:$AE$2970,26,FALSE),\"\")","v":""}]
[null,null,{"$f":"IFERROR(VLOOKUP($B916,'Building Data'!$F:$H,3,FALSE),\"\")","v":""},{"$f":"IFERROR(VLOOKUP($B916,'Building Data'!$F:$AA,22,FALSE),\"\")","v":""},{"$f":"IFERROR(VLOOKUP($B916,'Building Data'!$F$4:$AE$2970,26,FALSE),\"\")","v":""}]
[null,null,{"$f":"IFERROR(VLOOKUP($B917,'Building Data'!$F:$H,3,FALSE),\"\")","v":""},{"$f":"IFERROR(VLOOKUP($B917,'Building Data'!$F:$AA,22,FALSE),\"\")","v":""},{"$f":"IFERROR(VLOOKUP($B917,'Building Data'!$F$4:$AE$2970,26,FALSE),\"\")","v":""}]
[null,null,{"$f":"IFERROR(VLOOKUP($B918,'Building Data'!$F:$H,3,FALSE),\"\")","v":""},{"$f":"IFERROR(VLOOKUP($B918,'Building Data'!$F:$AA,22,FALSE),\"\")","v":""},{"$f":"IFERROR(VLOOKUP($B918,'Building Data'!$F$4:$AE$2970,26,FALSE),\"\")","v":""}]
[null,null,{"$f":"IFERROR(VLOOKUP($B919,'Building Data'!$F:$H,3,FALSE),\"\")","v":""},{"$f":"IFERROR(VLOOKUP($B919,'Building Data'!$F:$AA,22,FALSE),\"\")","v":""},{"$f":"IFERROR(VLOOKUP($B919,'Building Data'!$F$4:$AE$2970,26,FALSE),\"\")","v":""}]
[null,null,{"$f":"IFERROR(VLOOKUP($B920,'Building Data'!$F:$H,3,FALSE),\"\")","v":""},{"$f":"IFERROR(VLOOKUP($B920,'Building Data'!$F:$AA,22,FALSE),\"\")","v":""},{"$f":"IFERROR(VLOOKUP($B920,'Building Data'!$F$4:$AE$2970,26,FALSE),\"\")","v":""}]
[null,null,{"$f":"IFERROR(VLOOKUP($B921,'Building Data'!$F:$H,3,FALSE),\"\")","v":""},{"$f":"IFERROR(VLOOKUP($B921,'Building Data'!$F:$AA,22,FALSE),\"\")","v":""},{"$f":"IFERROR(VLOOKUP($B921,'Building Data'!$F$4:$AE$2970,26,FALSE),\"\")","v":""}]
[null,null,{"$f":"IFERROR(VLOOKUP($B922,'Building Data'!$F:$H,3,FALSE),\"\")","v":""},{"$f":"IFERROR(VLOOKUP($B922,'Building Data'!$F:$AA,22,FALSE),\"\")","v":""},{"$f":"IFERROR(VLOOKUP($B922,'Building Data'!$F$4:$AE$2970,26,FALSE),\"\")","v":""}]
[null,null,{"$f":"IFERROR(VLOOKUP($B923,'Building Data'!$F:$H,3,FALSE),\"\")","v":""},{"$f":"IFERROR(VLOOKUP($B923,'Building Data'!$F:$AA,22,FALSE),\"\")","v":""},{"$f":"IFERROR(VLOOKUP($B923,'Building Data'!$F$4:$AE$2970,26,FALSE),\"\")","v":""}]
[null,null,{"$f":"IFERROR(VLOOKUP($B924,'Building Data'!$F:$H,3,FALSE),\"\")","v":""},{"$f":"IFERROR(VLOOKUP($B924,'Building Data'!$F:$AA,22,FALSE),\"\")","v":""},{"$f":"IFERROR(VLOOKUP($B924,'Building Data'!$F$4:$AE$2970,26,FALSE),\"\")","v":""}]
[null,null,{"$f":"IFERROR(VLOOKUP($B925,'Building Data'!$F:$H,3,FALSE),\"\")","v":""},{"$f":"IFERROR(VLOOKUP($B925,'Building Data'!$F:$AA,22,FALSE),\"\")","v":""},{"$f":"IFERROR(VLOOKUP($B925,'Building Data'!$F$4:$AE$2970,26,FALSE),\"\")","v":""}]
[null,null,{"$f":"IFERROR(VLOOKUP($B926,'Building Data'!$F:$H,3,FALSE),\"\")","v":""},{"$f":"IFERROR(VLOOKUP($B926,'Building Data'!$F:$AA,22,FALSE),\"\")","v":""},{"$f":"IFERROR(VLOOKUP($B926,'Building Data'!$F$4:$AE$2970,26,FALSE),\"\")","v":""}]
[null,null,{"$f":"IFERROR(VLOOKUP($B927,'Building Data'!$F:$H,3,FALSE),\"\")","v":""},{"$f":"IFERROR(VLOOKUP($B927,'Building Data'!$F:$AA,22,FALSE),\"\")","v":""},{"$f":"IFERROR(VLOOKUP($B927,'Building Data'!$F$4:$AE$2970,26,FALSE),\"\")","v":""}]
[null,null,{"$f":"IFERROR(VLOOKUP($B928,'Building Data'!$F:$H,3,FALSE),\"\")","v":""},{"$f":"IFERROR(VLOOKUP($B928,'Building Data'!$F:$AA,22,FALSE),\"\")","v":""},{"$f":"IFERROR(VLOOKUP($B928,'Building Data'!$F$4:$AE$2970,26,FALSE),\"\")","v":""}]
[null,null,{"$f":"IFERROR(VLOOKUP($B929,'Building Data'!$F:$H,3,FALSE),\"\")","v":""},{"$f":"IFERROR(VLOOKUP($B929,'Building Data'!$F:$AA,22,FALSE),\"\")","v":""},{"$f":"IFERROR(VLOOKUP($B929,'Building Data'!$F$4:$AE$2970,26,FALSE),\"\")","v":""}]
[null,null,{"$f":"IFERROR(VLOOKUP($B930,'Building Data'!$F:$H,3,FALSE),\"\")","v":""},{"$f":"IFERROR(VLOOKUP($B930,'Building Data'!$F:$AA,22,FALSE),\"\")","v":""},{"$f":"IFERROR(VLOOKUP($B930,'Building Data'!$F$4:$AE$2970,26,FALSE),\"\")","v":""}]
[null,null,{"$f":"IFERROR(VLOOKUP($B931,'Building Data'!$F:$H,3,FALSE),\"\")","v":""},{"$f":"IFERROR(VLOOKUP($B931,'Building Data'!$F:$AA,22,FALSE),\"\")","v":""},{"$f":"IFERROR(VLOOKUP($B931,'Building Data'!$F$4:$AE$2970,26,FALSE),\"\")","v":""}]
[null,null,{"$f":"IFERROR(VLOOKUP($B932,'Building Data'!$F:$H,3,FALSE),\"\")","v":""},{"$f":"IFERROR(VLOOKUP($B932,'Building Data'!$F:$AA,22,FALSE),\"\")","v":""},{"$f":"IFERROR(VLOOKUP($B932,'Building Data'!$F$4:$AE$2970,26,FALSE),\"\")","v":""}]
[null,null,{"$f":"IFERROR(VLOOKUP($B933,'Building Data'!$F:$H,3,FALSE),\"\")","v":""},{"$f":"IFERROR(VLOOKUP($B933,'Building Data'!$F:$AA,22,FALSE),\"\")","v":""},{"$f":"IFERROR(VLOOKUP($B933,'Building Data'!$F$4:$AE$2970,26,FALSE),\"\")","v":""}]
[null,null,{"$f":"IFERROR(VLOOKUP($B934,'Building Data'!$F:$H,3,FALSE),\"\")","v":""},{"$f":"IFERROR(VLOOKUP($B934,'Building Data'!$F:$AA,22,FALSE),\"\")","v":""},{"$f":"IFERROR(VLOOKUP($B934,'Building Data'!$F$4:$AE$2970,26,FALSE),\"\")","v":""}]
[null,null,{"$f":"IFERROR(VLOOKUP($B935,'Building Data'!$F:$H,3,FALSE),\"\")","v":""},{"$f":"IFERROR(VLOOKUP($B935,'Building Data'!$F:$AA,22,FALSE),\"\")","v":""},{"$f":"IFERROR(VLOOKUP($B935,'Building Data'!$F$4:$AE$2970,26,FALSE),\"\")","v":""}]
[null,null,{"$f":"IFERROR(VLOOKUP($B936,'Building Data'!$F:$H,3,FALSE),\"\")","v":""},{"$f":"IFERROR(VLOOKUP($B936,'Building Data'!$F:$AA,22,FALSE),\"\")","v":""},{"$f":"IFERROR(VLOOKUP($B936,'Building Data'!$F$4:$AE$2970,26,FALSE),\"\")","v":""}]
[null,null,{"$f":"IFERROR(VLOOKUP($B937,'Building Data'!$F:$H,3,FALSE),\"\")","v":""},{"$f":"IFERROR(VLOOKUP($B937,'Building Data'!$F:$AA,22,FALSE),\"\")","v":""},{"$f":"IFERROR(VLOOKUP($B937,'Building Data'!$F$4:$AE$2970,26,FALSE),\"\")","v":""}]
[null,null,{"$f":"IFERROR(VLOOKUP($B938,'Building Data'!$F:$H,3,FALSE),\"\")","v":""},{"$f":"IFERROR(VLOOKUP($B938,'Building Data'!$F:$AA,22,FALSE),\"\")","v":""},{"$f":"IFERROR(VLOOKUP($B938,'Building Data'!$F$4:$AE$2970,26,FALSE),\"\")","v":""}]
[null,null,{"$f":"IFERROR(VLOOKUP($B939,'Building Data'!$F:$H,3,FALSE),\"\")","v":""},{"$f":"IFERROR(VLOOKUP($B939,'Building Data'!$F:$AA,22,FALSE),\"\")","v":""},{"$f":"IFERROR(VLOOKUP($B939,'Building Data'!$F$4:$AE$2970,26,FALSE),\"\")","v":""}]
[null,null,{"$f":"IFERROR(VLOOKUP($B940,'Building Data'!$F:$H,3,FALSE),\"\")","v":""},{"$f":"IFERROR(VLOOKUP($B940,'Building Data'!$F:$AA,22,FALSE),\"\")","v":""},{"$f":"IFERROR(VLOOKUP($B940,'Building Data'!$F$4:$AE$2970,26,FALSE),\"\")","v":""}]
[null,null,{"$f":"IFERROR(VLOOKUP($B941,'Building Data'!$F:$H,3,FALSE),\"\")","v":""},{"$f":"IFERROR(VLOOKUP($B941,'Building Data'!$F:$AA,22,FALSE),\"\")","v":""},{"$f":"IFERROR(VLOOKUP($B941,'Building Data'!$F$4:$AE$2970,26,FALSE),\"\")","v":""}]
[null,null,{"$f":"IFERROR(VLOOKUP($B942,'Building Data'!$F:$H,3,FALSE),\"\")","v":""},{"$f":"IFERROR(VLOOKUP($B942,'Building Data'!$F:$AA,22,FALSE),\"\")","v":""},{"$f":"IFERROR(VLOOKUP($B942,'Building Data'!$F$4:$AE$2970,26,FALSE),\"\")","v":""}]
[null,null,{"$f":"IFERROR(VLOOKUP($B943,'Building Data'!$F:$H,3,FALSE),\"\")","v":""},{"$f":"IFERROR(VLOOKUP($B943,'Building Data'!$F:$AA,22,FALSE),\"\")","v":""},{"$f":"IFERROR(VLOOKUP($B943,'Building Data'!$F$4:$AE$2970,26,FALSE),\"\")","v":""}]
[null,null,{"$f":"IFERROR(VLOOKUP($B944,'Building Data'!$F:$H,3,FALSE),\"\")","v":""},{"$f":"IFERROR(VLOOKUP($B944,'Building Data'!$F:$AA,22,FALSE),\"\")","v":""},{"$f":"IFERROR(VLOOKUP($B944,'Building Data'!$F$4:$AE$2970,26,FALSE),\"\")","v":""}]
[null,null,{"$f":"IFERROR(VLOOKUP($B945,'Building Data'!$F:$H,3,FALSE),\"\")","v":""},{"$f":"IFERROR(VLOOKUP($B945,'Building Data'!$F:$AA,22,FALSE),\"\")","v":""},{"$f":"IFERROR(VLOOKUP($B945,'Building Data'!$F$4:$AE$2970,26,FALSE),\"\")","v":""}]
[null,null,{"$f":"IFERROR(VLOOKUP($B946,'Building Data'!$F:$H,3,FALSE),\"\")","v":""},{"$f":"IFERROR(VLOOKUP($B946,'Building Data'!$F:$AA,22,FALSE),\"\")","v":""},{"$f":"IFERROR(VLOOKUP($B946,'Building Data'!$F$4:$AE$2970,26,FALSE),\"\")","v":""}]
[null,null,{"$f":"IFERROR(VLOOKUP($B947,'Building Data'!$F:$H,3,FALSE),\"\")","v":""},{"$f":"IFERROR(VLOOKUP($B947,'Building Data'!$F:$AA,22,FALSE),\"\")","v":""},{"$f":"IFERROR(VLOOKUP($B947,'Building Data'!$F$4:$AE$2970,26,FALSE),\"\")","v":""}]
[null,null,{"$f":"IFERROR(VLOOKUP($B948,'Building Data'!$F:$H,3,FALSE),\"\")","v":""},{"$f":"IFERROR(VLOOKUP($B948,'Building Data'!$F:$AA,22,FALSE),\"\")","v":""},{"$f":"IFERROR(VLOOKUP($B948,'Building Data'!$F$4:$AE$2970,26,FALSE),\"\")","v":""}]
[null,null,{"$f":"IFERROR(VLOOKUP($B949,'Building Data'!$F:$H,3,FALSE),\"\")","v":""},{"$f":"IFERROR(VLOOKUP($B949,'Building Data'!$F:$AA,22,FALSE),\"\")","v":""},{"$f":"IFERROR(VLOOKUP($B949,'Building Data'!$F$4:$AE$2970,26,FALSE),\"\")","v":""}]
[null,null,{"$f":"IFERROR(VLOOKUP($B950,'Building Data'!$F:$H,3,FALSE),\"\")","v":""},{"$f":"IFERROR(VLOOKUP($B950,'Building Data'!$F:$AA,22,FALSE),\"\")","v":""},{"$f":"IFERROR(VLOOKUP($B950,'Building Data'!$F$4:$AE$2970,26,FALSE),\"\")","v":""}]
[null,null,{"$f":"IFERROR(VLOOKUP($B951,'Building Data'!$F:$H,3,FALSE),\"\")","v":""},{"$f":"IFERROR(VLOOKUP($B951,'Building Data'!$F:$AA,22,FALSE),\"\")","v":""},{"$f":"IFERROR(VLOOKUP($B951,'Building Data'!$F$4:$AE$2970,26,FALSE),\"\")","v":""}]
[null,null,{"$f":"IFERROR(VLOOKUP($B952,'Building Data'!$F:$H,3,FALSE),\"\")","v":""},{"$f":"IFERROR(VLOOKUP($B952,'Building Data'!$F:$AA,22,FALSE),\"\")","v":""},{"$f":"IFERROR(VLOOKUP($B952,'Building Data'!$F$4:$AE$2970,26,FALSE),\"\")","v":""}]
[null,null,{"$f":"IFERROR(VLOOKUP($B953,'Building Data'!$F:$H,3,FALSE),\"\")","v":""},{"$f":"IFERROR(VLOOKUP($B953,'Building Data'!$F:$AA,22,FALSE),\"\")","v":""},{"$f":"IFERROR(VLOOKUP($B953,'Building Data'!$F$4:$AE$2970,26,FALSE),\"\")","v":""}]
[null,null,{"$f":"IFERROR(VLOOKUP($B954,'Building Data'!$F:$H,3,FALSE),\"\")","v":""},{"$f":"IFERROR(VLOOKUP($B954,'Building Data'!$F:$AA,22,FALSE),\"\")","v":""},{"$f":"IFERROR(VLOOKUP($B954,'Building Data'!$F$4:$AE$2970,26,FALSE),\"\")","v":""}]
[null,null,{"$f":"IFERROR(VLOOKUP($B955,'Building Data'!$F:$H,3,FALSE),\"\")","v":""},{"$f":"IFERROR(VLOOKUP($B955,'Building Data'!$F:$AA,22,FALSE),\"\")","v":""},{"$f":"IFERROR(VLOOKUP($B955,'Building Data'!$F$4:$AE$2970,26,FALSE),\"\")","v":""}]
[null,null,{"$f":"IFERROR(VLOOKUP($B956,'Building Data'!$F:$H,3,FALSE),\"\")","v":""},{"$f":"IFERROR(VLOOKUP($B956,'Building Data'!$F:$AA,22,FALSE),\"\")","v":""},{"$f":"IFERROR(VLOOKUP($B956,'Building Data'!$F$4:$AE$2970,26,FALSE),\"\")","v":""}]
[null,null,{"$f":"IFERROR(VLOOKUP($B957,'Building Data'!$F:$H,3,FALSE),\"\")","v":""},{"$f":"IFERROR(VLOOKUP($B957,'Building Data'!$F:$AA,22,FALSE),\"\")","v":""},{"$f":"IFERROR(VLOOKUP($B957,'Building Data'!$F$4:$AE$2970,26,FALSE),\"\")","v":""}]
[null,null,{"$f":"IFERROR(VLOOKUP($B958,'Building Data'!$F:$H,3,FALSE),\"\")","v":""},{"$f":"IFERROR(VLOOKUP($B958,'Building Data'!$F:$AA,22,FALSE),\"\")","v":""},{"$f":"IFERROR(VLOOKUP($B958,'Building Data'!$F$4:$AE$2970,26,FALSE),\"\")","v":""}]
[null,null,{"$f":"IFERROR(VLOOKUP($B959,'Building Data'!$F:$H,3,FALSE),\"\")","v":""},{"$f":"IFERROR(VLOOKUP($B959,'Building Data'!$F:$AA,22,FALSE),\"\")","v":""},{"$f":"IFERROR(VLOOKUP($B959,'Building Data'!$F$4:$AE$2970,26,FALSE),\"\")","v":""}]
[null,null,{"$f":"IFERROR(VLOOKUP($B960,'Building Data'!$F:$H,3,FALSE),\"\")","v":""},{"$f":"IFERROR(VLOOKUP($B960,'Building Data'!$F:$AA,22,FALSE),\"\")","v":""},{"$f":"IFERROR(VLOOKUP($B960,'Building Data'!$F$4:$AE$2970,26,FALSE),\"\")","v":""}]
[null,null,{"$f":"IFERROR(VLOOKUP($B961,'Building Data'!$F:$H,3,FALSE),\"\")","v":""},{"$f":"IFERROR(VLOOKUP($B961,'Building Data'!$F:$AA,22,FALSE),\"\")","v":""},{"$f":"IFERROR(VLOOKUP($B961,'Building Data'!$F$4:$AE$2970,26,FALSE),\"\")","v":""}]
[null,null,{"$f":"IFERROR(VLOOKUP($B962,'Building Data'!$F:$H,3,FALSE),\"\")","v":""},{"$f":"IFERROR(VLOOKUP($B962,'Building Data'!$F:$AA,22,FALSE),\"\")","v":""},{"$f":"IFERROR(VLOOKUP($B962,'Building Data'!$F$4:$AE$2970,26,FALSE),\"\")","v":""}]
[null,null,{"$f":"IFERROR(VLOOKUP($B963,'Building Data'!$F:$H,3,FALSE),\"\")","v":""},{"$f":"IFERROR(VLOOKUP($B963,'Building Data'!$F:$AA,22,FALSE),\"\")","v":""},{"$f":"IFERROR(VLOOKUP($B963,'Building Data'!$F$4:$AE$2970,26,FALSE),\"\")","v":""}]
[null,null,{"$f":"IFERROR(VLOOKUP($B964,'Building Data'!$F:$H,3,FALSE),\"\")","v":""},{"$f":"IFERROR(VLOOKUP($B964,'Building Data'!$F:$AA,22,FALSE),\"\")","v":""},{"$f":"IFERROR(VLOOKUP($B964,'Building Data'!$F$4:$AE$2970,26,FALSE),\"\")","v":""}]
[null,null,{"$f":"IFERROR(VLOOKUP($B965,'Building Data'!$F:$H,3,FALSE),\"\")","v":""},{"$f":"IFERROR(VLOOKUP($B965,'Building Data'!$F:$AA,22,FALSE),\"\")","v":""},{"$f":"IFERROR(VLOOKUP($B965,'Building Data'!$F$4:$AE$2970,26,FALSE),\"\")","v":""}]
[null,null,{"$f":"IFERROR(VLOOKUP($B966,'Building Data'!$F:$H,3,FALSE),\"\")","v":""},{"$f":"IFERROR(VLOOKUP($B966,'Building Data'!$F:$AA,22,FALSE),\"\")","v":""},{"$f":"IFERROR(VLOOKUP($B966,'Building Data'!$F$4:$AE$2970,26,FALSE),\"\")","v":""}]
[null,null,{"$f":"IFERROR(VLOOKUP($B967,'Building Data'!$F:$H,3,FALSE),\"\")","v":""},{"$f":"IFERROR(VLOOKUP($B967,'Building Data'!$F:$AA,22,FALSE),\"\")","v":""},{"$f":"IFERROR(VLOOKUP($B967,'Building Data'!$F$4:$AE$2970,26,FALSE),\"\")","v":""}]
[null,null,{"$f":"IFERROR(VLOOKUP($B968,'Building Data'!$F:$H,3,FALSE),\"\")","v":""},{"$f":"IFERROR(VLOOKUP($B968,'Building Data'!$F:$AA,22,FALSE),\"\")","v":""},{"$f":"IFERROR(VLOOKUP($B968,'Building Data'!$F$4:$AE$2970,26,FALSE),\"\")","v":""}]
[null,null,{"$f":"IFERROR(VLOOKUP($B969,'Building Data'!$F:$H,3,FALSE),\"\")","v":""},{"$f":"IFERROR(VLOOKUP($B969,'Building Data'!$F:$AA,22,FALSE),\"\")","v":""},{"$f":"IFERROR(VLOOKUP($B969,'Building Data'!$F$4:$AE$2970,26,FALSE),\"\")","v":""}]
[null,null,{"$f":"IFERROR(VLOOKUP($B970,'Building Data'!$F:$H,3,FALSE),\"\")","v":""},{"$f":"IFERROR(VLOOKUP($B970,'Building Data'!$F:$AA,22,FALSE),\"\")","v":""},{"$f":"IFERROR(VLOOKUP($B970,'Building Data'!$F$4:$AE$2970,26,FALSE),\"\")","v":""}]
[null,null,{"$f":"IFERROR(VLOOKUP($B971,'Building Data'!$F:$H,3,FALSE),\"\")","v":""},{"$f":"IFERROR(VLOOKUP($B971,'Building Data'!$F:$AA,22,FALSE),\"\")","v":""},{"$f":"IFERROR(VLOOKUP($B971,'Building Data'!$F$4:$AE$2970,26,FALSE),\"\")","v":""}]
[null,null,{"$f":"IFERROR(VLOOKUP($B972,'Building Data'!$F:$H,3,FALSE),\"\")","v":""},{"$f":"IFERROR(VLOOKUP($B972,'Building Data'!$F:$AA,22,FALSE),\"\")","v":""},{"$f":"IFERROR(VLOOKUP($B972,'Building Data'!$F$4:$AE$2970,26,FALSE),\"\")","v":""}]
[null,null,{"$f":"IFERROR(VLOOKUP($B973,'Building Data'!$F:$H,3,FALSE),\"\")","v":""},{"$f":"IFERROR(VLOOKUP($B973,'Building Data'!$F:$AA,22,FALSE),\"\")","v":""},{"$f":"IFERROR(VLOOKUP($B973,'Building Data'!$F$4:$AE$2970,26,FALSE),\"\")","v":""}]
[null,null,{"$f":"IFERROR(VLOOKUP($B974,'Building Data'!$F:$H,3,FALSE),\"\")","v":""},{"$f":"IFERROR(VLOOKUP($B974,'Building Data'!$F:$AA,22,FALSE),\"\")","v":""},{"$f":"IFERROR(VLOOKUP($B974,'Building Data'!$F$4:$AE$2970,26,FALSE),\"\")","v":""}]
[null,null,{"$f":"IFERROR(VLOOKUP($B975,'Building Data'!$F:$H,3,FALSE),\"\")","v":""},{"$f":"IFERROR(VLOOKUP($B975,'Building Data'!$F:$AA,22,FALSE),\"\")","v":""},{"$f":"IFERROR(VLOOKUP($B975,'Building Data'!$F$4:$AE$2970,26,FALSE),\"\")","v":""}]
[null,null,{"$f":"IFERROR(VLOOKUP($B976,'Building Data'!$F:$H,3,FALSE),\"\")","v":""},{"$f":"IFERROR(VLOOKUP($B976,'Building Data'!$F:$AA,22,FALSE),\"\")","v":""},{"$f":"IFERROR(VLOOKUP($B976,'Building Data'!$F$4:$AE$2970,26,FALSE),\"\")","v":""}]
[null,null,{"$f":"IFERROR(VLOOKUP($B977,'Building Data'!$F:$H,3,FALSE),\"\")","v":""},{"$f":"IFERROR(VLOOKUP($B977,'Building Data'!$F:$AA,22,FALSE),\"\")","v":""},{"$f":"IFERROR(VLOOKUP($B977,'Building Data'!$F$4:$AE$2970,26,FALSE),\"\")","v":""}]
[null,null,{"$f":"IFERROR(VLOOKUP($B978,'Building Data'!$F:$H,3,FALSE),\"\")","v":""},{"$f":"IFERROR(VLOOKUP($B978,'Building Data'!$F:$AA,22,FALSE),\"\")","v":""},{"$f":"IFERROR(VLOOKUP($B978,'Building Data'!$F$4:$AE$2970,26,FALSE),\"\")","v":""}]
[null,null,{"$f":"IFERROR(VLOOKUP($B979,'Building Data'!$F:$H,3,FALSE),\"\")","v":""},{"$f":"IFERROR(VLOOKUP($B979,'Building Data'!$F:$AA,22,FALSE),\"\")","v":""},{"$f":"IFERROR(VLOOKUP($B979,'Building Data'!$F$4:$AE$2970,26,FALSE),\"\")","v":""}]
[null,null,{"$f":"IFERROR(VLOOKUP($B980,'Building Data'!$F:$H,3,FALSE),\"\")","v":""},{"$f":"IFERROR(VLOOKUP($B980,'Building Data'!$F:$AA,22,FALSE),\"\")","v":""},{"$f":"IFERROR(VLOOKUP($B980,'Building Data'!$F$4:$AE$2970,26,FALSE),\"\")","v":""}]
[null,null,{"$f":"IFERROR(VLOOKUP($B981,'Building Data'!$F:$H,3,FALSE),\"\")","v":""},{"$f":"IFERROR(VLOOKUP($B981,'Building Data'!$F:$AA,22,FALSE),\"\")","v":""},{"$f":"IFERROR(VLOOKUP($B981,'Building Data'!$F$4:$AE$2970,26,FALSE),\"\")","v":""}]
[null,null,{"$f":"IFERROR(VLOOKUP($B982,'Building Data'!$F:$H,3,FALSE),\"\")","v":""},{"$f":"IFERROR(VLOOKUP($B982,'Building Data'!$F:$AA,22,FALSE),\"\")","v":""},{"$f":"IFERROR(VLOOKUP($B982,'Building Data'!$F$4:$AE$2970,26,FALSE),\"\")","v":""}]
[null,null,{"$f":"IFERROR(VLOOKUP($B983,'Building Data'!$F:$H,3,FALSE),\"\")","v":""},{"$f":"IFERROR(VLOOKUP($B983,'Building Data'!$F:$AA,22,FALSE),\"\")","v":""},{"$f":"IFERROR(VLOOKUP($B983,'Building Data'!$F$4:$AE$2970,26,FALSE),\"\")","v":""}]
[null,null,{"$f":"IFERROR(VLOOKUP($B984,'Building Data'!$F:$H,3,FALSE),\"\")","v":""},{"$f":"IFERROR(VLOOKUP($B984,'Building Data'!$F:$AA,22,FALSE),\"\")","v":""},{"$f":"IFERROR(VLOOKUP($B984,'Building Data'!$F$4:$AE$2970,26,FALSE),\"\")","v":""}]
[null,null,{"$f":"IFERROR(VLOOKUP($B985,'Building Data'!$F:$H,3,FALSE),\"\")","v":""},{"$f":"IFERROR(VLOOKUP($B985,'Building Data'!$F:$AA,22,FALSE),\"\")","v":""},{"$f":"IFERROR(VLOOKUP($B985,'Building Data'!$F$4:$AE$2970,26,FALSE),\"\")","v":""}]
[null,null,{"$f":"IFERROR(VLOOKUP($B986,'Building Data'!$F:$H,3,FALSE),\"\")","v":""},{"$f":"IFERROR(VLOOKUP($B986,'Building Data'!$F:$AA,22,FALSE),\"\")","v":""},{"$f":"IFERROR(VLOOKUP($B986,'Building Data'!$F$4:$AE$2970,26,FALSE),\"\")","v":""}]
[null,null,{"$f":"IFERROR(VLOOKUP($B987,'Building Data'!$F:$H,3,FALSE),\"\")","v":""},{"$f":"IFERROR(VLOOKUP($B987,'Building Data'!$F:$AA,22,FALSE),\"\")","v":""},{"$f":"IFERROR(VLOOKUP($B987,'Building Data'!$F$4:$AE$2970,26,FALSE),\"\")","v":""}]
[null,null,{"$f":"IFERROR(VLOOKUP($B988,'Building Data'!$F:$H,3,FALSE),\"\")","v":""},{"$f":"IFERROR(VLOOKUP($B988,'Building Data'!$F:$AA,22,FALSE),\"\")","v":""},{"$f":"IFERROR(VLOOKUP($B988,'Building Data'!$F$4:$AE$2970,26,FALSE),\"\")","v":""}]
[null,null,{"$f":"IFERROR(VLOOKUP($B989,'Building Data'!$F:$H,3,FALSE),\"\")","v":""},{"$f":"IFERROR(VLOOKUP($B989,'Building Data'!$F:$AA,22,FALSE),\"\")","v":""},{"$f":"IFERROR(VLOOKUP($B989,'Building Data'!$F$4:$AE$2970,26,FALSE),\"\")","v":""}]
[null,null,{"$f":"IFERROR(VLOOKUP($B990,'Building Data'!$F:$H,3,FALSE),\"\")","v":""},{"$f":"IFERROR(VLOOKUP($B990,'Building Data'!$F:$AA,22,FALSE),\"\")","v":""},{"$f":"IFERROR(VLOOKUP($B990,'Building Data'!$F$4:$AE$2970,26,FALSE),\"\")","v":""}]
[null,null,{"$f":"IFERROR(VLOOKUP($B991,'Building Data'!$F:$H,3,FALSE),\"\")","v":""},{"$f":"IFERROR(VLOOKUP($B991,'Building Data'!$F:$AA,22,FALSE),\"\")","v":""},{"$f":"IFERROR(VLOOKUP($B991,'Building Data'!$F$4:$AE$2970,26,FALSE),\"\")","v":""}]
[null,null,{"$f":"IFERROR(VLOOKUP($B992,'Building Data'!$F:$H,3,FALSE),\"\")","v":""},{"$f":"IFERROR(VLOOKUP($B992,'Building Data'!$F:$AA,22,FALSE),\"\")","v":""},{"$f":"IFERROR(VLOOKUP($B992,'Building Data'!$F$4:$AE$2970,26,FALSE),\"\")","v":""}]
[null,null,{"$f":"IFERROR(VLOOKUP($B993,'Building Data'!$F:$H,3,FALSE),\"\")","v":""},{"$f":"IFERROR(VLOOKUP($B993,'Building Data'!$F:$AA,22,FALSE),\"\")","v":""},{"$f":"IFERROR(VLOOKUP($B993,'Building Data'!$F$4:$AE$2970,26,FALSE),\"\")","v":""}]
[null,null,{"$f":"IFERROR(VLOOKUP($B994,'Building Data'!$F:$H,3,FALSE),\"\")","v":""},{"$f":"IFERROR(VLOOKUP($B994,'Building Data'!$F:$AA,22,FALSE),\"\")","v":""},{"$f":"IFERROR(VLOOKUP($B994,'Building Data'!$F$4:$AE$2970,26,FALSE),\"\")","v":""}]
[null,null,{"$f":"IFERROR(VLOOKUP($B995,'Building Data'!$F:$H,3,FALSE),\"\")","v":""},{"$f":"IFERROR(VLOOKUP($B995,'Building Data'!$F:$AA,22,FALSE),\"\")","v":""},{"$f":"IFERROR(VLOOKUP($B995,'Building Data'!$F$4:$AE$2970,26,FALSE),\"\")","v":""}]
[null,null,{"$f":"IFERROR(VLOOKUP($B996,'Building Data'!$F:$H,3,FALSE),\"\")","v":""},{"$f":"IFERROR(VLOOKUP($B996,'Building Data'!$F:$AA,22,FALSE),\"\")","v":""},{"$f":"IFERROR(VLOOKUP($B996,'Building Data'!$F$4:$AE$2970,26,FALSE),\"\")","v":""}]
[null,null,{"$f":"IFERROR(VLOOKUP($B997,'Building Data'!$F:$H,3,FALSE),\"\")","v":""},{"$f":"IFERROR(VLOOKUP($B997,'Building Data'!$F:$AA,22,FALSE),\"\")","v":""},{"$f":"IFERROR(VLOOKUP($B997,'Building Data'!$F$4:$AE$2970,26,FALSE),\"\")","v":""}]
[null,null,{"$f":"IFERROR(VLOOKUP($B998,'Building Data'!$F:$H,3,FALSE),\"\")","v":""},{"$f":"IFERROR(VLOOKUP($B998,'Building Data'!$F:$AA,22,FALSE),\"\")","v":""},{"$f":"IFERROR(VLOOKUP($B998,'Building Data'!$F$4:$AE$2970,26,FALSE),\"\")","v":""}]
[null,null,{"$f":"IFERROR(VLOOKUP($B999,'Building Data'!$F:$H,3,FALSE),\"\")","v":""},{"$f":"IFERROR(VLOOKUP($B999,'Building Data'!$F:$AA,22,FALSE),\"\")","v":""},{"$f":"IFERROR(VLOOKUP($B999,'Building Data'!$F$4:$AE$2970,26,FALSE),\"\")","v":""}]
[null,null,{"$f":"IFERROR(VLOOKUP($B1000,'Building Data'!$F:$H,3,FALSE),\"\")","v":""},{"$f":"IFERROR(VLOOKUP($B1000,'Building Data'!$F:$AA,22,FALSE),\"\")","v":""},{"$f":"IFERROR(VLOOKUP($B1000,'Building Data'!$F$4:$AE$2970,26,FALSE),\"\")","v":""}]
[null,null,{"$f":"IFERROR(VLOOKUP($B1001,'Building Data'!$F:$H,3,FALSE),\"\")","v":""},{"$f":"IFERROR(VLOOKUP($B1001,'Building Data'!$F:$AA,22,FALSE),\"\")","v":""},{"$f":"IFERROR(VLOOKUP($B1001,'Building Data'!$F$4:$AE$2970,26,FALSE),\"\")","v":""}]
[null,null,{"$f":"IFERROR(VLOOKUP($B1002,'Building Data'!$F:$H,3,FALSE),\"\")","v":""},{"$f":"IFERROR(VLOOKUP($B1002,'Building Data'!$F:$AA,22,FALSE),\"\")","v":""},{"$f":"IFERROR(VLOOKUP($B1002,'Building Data'!$F$4:$AE$2970,26,FALSE),\"\")","v":""}]
[null,null,{"$f":"IFERROR(VLOOKUP($B1003,'Building Data'!$F:$H,3,FALSE),\"\")","v":""},{"$f":"IFERROR(VLOOKUP($B1003,'Building Data'!$F:$AA,22,FALSE),\"\")","v":""},{"$f":"IFERROR(VLOOKUP($B1003,'Building Data'!$F$4:$AE$2970,26,FALSE),\"\")","v":""}]
[null,null,{"$f":"IFERROR(VLOOKUP($B1004,'Building Data'!$F:$H,3,FALSE),\"\")","v":""},{"$f":"IFERROR(VLOOKUP($B1004,'Building Data'!$F:$AA,22,FALSE),\"\")","v":""},{"$f":"IFERROR(VLOOKUP($B1004,'Building Data'!$F$4:$AE$2970,26,FALSE),\"\")","v":""}]
[null,null,{"$f":"IFERROR(VLOOKUP($B1005,'Building Data'!$F:$H,3,FALSE),\"\")","v":""},{"$f":"IFERROR(VLOOKUP($B1005,'Building Data'!$F:$AA,22,FALSE),\"\")","v":""},{"$f":"IFERROR(VLOOKUP($B1005,'Building Data'!$F$4:$AE$2970,26,FALSE),\"\")","v":""}]
[null,null,{"$f":"IFERROR(VLOOKUP($B1006,'Building Data'!$F:$H,3,FALSE),\"\")","v":""},{"$f":"IFERROR(VLOOKUP($B1006,'Building Data'!$F:$AA,22,FALSE),\"\")","v":""},{"$f":"IFERROR(VLOOKUP($B1006,'Building Data'!$F$4:$AE$2970,26,FALSE),\"\")","v":""}]
[null,null,{"$f":"IFERROR(VLOOKUP($B1007,'Building Data'!$F:$H,3,FALSE),\"\")","v":""},{"$f":"IFERROR(VLOOKUP($B1007,'Building Data'!$F:$AA,22,FALSE),\"\")","v":""},{"$f":"IFERROR(VLOOKUP($B1007,'Building Data'!$F$4:$AE$2970,26,FALSE),\"\")","v":""}]
[null,null,{"$f":"IFERROR(VLOOKUP($B1008,'Building Data'!$F:$H,3,FALSE),\"\")","v":""},{"$f":"IFERROR(VLOOKUP($B1008,'Building Data'!$F:$AA,22,FALSE),\"\")","v":""},{"$f":"IFERROR(VLOOKUP($B1008,'Building Data'!$F$4:$AE$2970,26,FALSE),\"\")","v":""}]
[null,null,{"$f":"IFERROR(VLOOKUP($B1009,'Building Data'!$F:$H,3,FALSE),\"\")","v":""},{"$f":"IFERROR(VLOOKUP($B1009,'Building Data'!$F:$AA,22,FALSE),\"\")","v":""},{"$f":"IFERROR(VLOOKUP($B1009,'Building Data'!$F$4:$AE$2970,26,FALSE),\"\")","v":""}]
[null,null,{"$f":"IFERROR(VLOOKUP($B1010,'Building Data'!$F:$H,3,FALSE),\"\")","v":""},{"$f":"IFERROR(VLOOKUP($B1010,'Building Data'!$F:$AA,22,FALSE),\"\")","v":""},{"$f":"IFERROR(VLOOKUP($B1010,'Building Data'!$F$4:$AE$2970,26,FALSE),\"\")","v":""}]
[null,null,{"$f":"IFERROR(VLOOKUP($B1011,'Building Data'!$F:$H,3,FALSE),\"\")","v":""},{"$f":"IFERROR(VLOOKUP($B1011,'Building Data'!$F:$AA,22,FALSE),\"\")","v":""},{"$f":"IFERROR(VLOOKUP($B1011,'Building Data'!$F$4:$AE$2970,26,FALSE),\"\")","v":""}]
[null,null,{"$f":"IFERROR(VLOOKUP($B1012,'Building Data'!$F:$H,3,FALSE),\"\")","v":""},{"$f":"IFERROR(VLOOKUP($B1012,'Building Data'!$F:$AA,22,FALSE),\"\")","v":""},{"$f":"IFERROR(VLOOKUP($B1012,'Building Data'!$F$4:$AE$2970,26,FALSE),\"\")","v":""}]
[null,null,{"$f":"IFERROR(VLOOKUP($B1013,'Building Data'!$F:$H,3,FALSE),\"\")","v":""},{"$f":"IFERROR(VLOOKUP($B1013,'Building Data'!$F:$AA,22,FALSE),\"\")","v":""},{"$f":"IFERROR(VLOOKUP($B1013,'Building Data'!$F$4:$AE$2970,26,FALSE),\"\")","v":""}]
[null,null,{"$f":"IFERROR(VLOOKUP($B1014,'Building Data'!$F:$H,3,FALSE),\"\")","v":""},{"$f":"IFERROR(VLOOKUP($B1014,'Building Data'!$F:$AA,22,FALSE),\"\")","v":""},{"$f":"IFERROR(VLOOKUP($B1014,'Building Data'!$F$4:$AE$2970,26,FALSE),\"\")","v":""}]
[null,null,{"$f":"IFERROR(VLOOKUP($B1015,'Building Data'!$F:$H,3,FALSE),\"\")","v":""},{"$f":"IFERROR(VLOOKUP($B1015,'Building Data'!$F:$AA,22,FALSE),\"\")","v":""},{"$f":"IFERROR(VLOOKUP($B1015,'Building Data'!$F$4:$AE$2970,26,FALSE),\"\")","v":""}]
[null,null,{"$f":"IFERROR(VLOOKUP($B1016,'Building Data'!$F:$H,3,FALSE),\"\")","v":""},{"$f":"IFERROR(VLOOKUP($B1016,'Building Data'!$F:$AA,22,FALSE),\"\")","v":""},{"$f":"IFERROR(VLOOKUP($B1016,'Building Data'!$F$4:$AE$2970,26,FALSE),\"\")","v":""}]
[null,null,{"$f":"IFERROR(VLOOKUP($B1017,'Building Data'!$F:$H,3,FALSE),\"\")","v":""},{"$f":"IFERROR(VLOOKUP($B1017,'Building Data'!$F:$AA,22,FALSE),\"\")","v":""},{"$f":"IFERROR(VLOOKUP($B1017,'Building Data'!$F$4:$AE$2970,26,FALSE),\"\")","v":""}]
[null,null,{"$f":"IFERROR(VLOOKUP($B1018,'Building Data'!$F:$H,3,FALSE),\"\")","v":""},{"$f":"IFERROR(VLOOKUP($B1018,'Building Data'!$F:$AA,22,FALSE),\"\")","v":""},{"$f":"IFERROR(VLOOKUP($B1018,'Building Data'!$F$4:$AE$2970,26,FALSE),\"\")","v":""}]
[null,null,{"$f":"IFERROR(VLOOKUP($B1019,'Building Data'!$F:$H,3,FALSE),\"\")","v":""},{"$f":"IFERROR(VLOOKUP($B1019,'Building Data'!$F:$AA,22,FALSE),\"\")","v":""},{"$f":"IFERROR(VLOOKUP($B1019,'Building Data'!$F$4:$AE$2970,26,FALSE),\"\")","v":""}]
[null,null,{"$f":"IFERROR(VLOOKUP($B1020,'Building Data'!$F:$H,3,FALSE),\"\")","v":""},{"$f":"IFERROR(VLOOKUP($B1020,'Building Data'!$F:$AA,22,FALSE),\"\")","v":""},{"$f":"IFERROR(VLOOKUP($B1020,'Building Data'!$F$4:$AE$2970,26,FALSE),\"\")","v":""}]
[null,null,{"$f":"IFERROR(VLOOKUP($B1021,'Building Data'!$F:$H,3,FALSE),\"\")","v":""},{"$f":"IFERROR(VLOOKUP($B1021,'Building Data'!$F:$AA,22,FALSE),\"\")","v":""},{"$f":"IFERROR(VLOOKUP($B1021,'Building Data'!$F$4:$AE$2970,26,FALSE),\"\")","v":""}]
[null,null,{"$f":"IFERROR(VLOOKUP($B1022,'Building Data'!$F:$H,3,FALSE),\"\")","v":""},{"$f":"IFERROR(VLOOKUP($B1022,'Building Data'!$F:$AA,22,FALSE),\"\")","v":""},{"$f":"IFERROR(VLOOKUP($B1022,'Building Data'!$F$4:$AE$2970,26,FALSE),\"\")","v":""}]
[null,null,{"$f":"IFERROR(VLOOKUP($B1023,'Building Data'!$F:$H,3,FALSE),\"\")","v":""},{"$f":"IFERROR(VLOOKUP($B1023,'Building Data'!$F:$AA,22,FALSE),\"\")","v":""},{"$f":"IFERROR(VLOOKUP($B1023,'Building Data'!$F$4:$AE$2970,26,FALSE),\"\")","v":""}]
[null,null,{"$f":"IFERROR(VLOOKUP($B1024,'Building Data'!$F:$H,3,FALSE),\"\")","v":""},{"$f":"IFERROR(VLOOKUP($B1024,'Building Data'!$F:$AA,22,FALSE),\"\")","v":""},{"$f":"IFERROR(VLOOKUP($B1024,'Building Data'!$F$4:$AE$2970,26,FALSE),\"\")","v":""}]
[null,null,{"$f":"IFERROR(VLOOKUP($B1025,'Building Data'!$F:$H,3,FALSE),\"\")","v":""},{"$f":"IFERROR(VLOOKUP($B1025,'Building Data'!$F:$AA,22,FALSE),\"\")","v":""},{"$f":"IFERROR(VLOOKUP($B1025,'Building Data'!$F$4:$AE$2970,26,FALSE),\"\")","v":""}]
[null,null,{"$f":"IFERROR(VLOOKUP($B1026,'Building Data'!$F:$H,3,FALSE),\"\")","v":""},{"$f":"IFERROR(VLOOKUP($B1026,'Building Data'!$F:$AA,22,FALSE),\"\")","v":""},{"$f":"IFERROR(VLOOKUP($B1026,'Building Data'!$F$4:$AE$2970,26,FALSE),\"\")","v":""}]
[null,null,{"$f":"IFERROR(VLOOKUP($B1027,'Building Data'!$F:$H,3,FALSE),\"\")","v":""},{"$f":"IFERROR(VLOOKUP($B1027,'Building Data'!$F:$AA,22,FALSE),\"\")","v":""},{"$f":"IFERROR(VLOOKUP($B1027,'Building Data'!$F$4:$AE$2970,26,FALSE),\"\")","v":""}]
[null,null,{"$f":"IFERROR(VLOOKUP($B1028,'Building Data'!$F:$H,3,FALSE),\"\")","v":""},{"$f":"IFERROR(VLOOKUP($B1028,'Building Data'!$F:$AA,22,FALSE),\"\")","v":""},{"$f":"IFERROR(VLOOKUP($B1028,'Building Data'!$F$4:$AE$2970,26,FALSE),\"\")","v":""}]
[null,null,{"$f":"IFERROR(VLOOKUP($B1029,'Building Data'!$F:$H,3,FALSE),\"\")","v":""},{"$f":"IFERROR(VLOOKUP($B1029,'Building Data'!$F:$AA,22,FALSE),\"\")","v":""},{"$f":"IFERROR(VLOOKUP($B1029,'Building Data'!$F$4:$AE$2970,26,FALSE),\"\")","v":""}]
[null,null,{"$f":"IFERROR(VLOOKUP($B1030,'Building Data'!$F:$H,3,FALSE),\"\")","v":""},{"$f":"IFERROR(VLOOKUP($B1030,'Building Data'!$F:$AA,22,FALSE),\"\")","v":""},{"$f":"IFERROR(VLOOKUP($B1030,'Building Data'!$F$4:$AE$2970,26,FALSE),\"\")","v":""}]
[null,null,{"$f":"IFERROR(VLOOKUP($B1031,'Building Data'!$F:$H,3,FALSE),\"\")","v":""},{"$f":"IFERROR(VLOOKUP($B1031,'Building Data'!$F:$AA,22,FALSE),\"\")","v":""},{"$f":"IFERROR(VLOOKUP($B1031,'Building Data'!$F$4:$AE$2970,26,FALSE),\"\")","v":""}]
[null,null,{"$f":"IFERROR(VLOOKUP($B1032,'Building Data'!$F:$H,3,FALSE),\"\")","v":""},{"$f":"IFERROR(VLOOKUP($B1032,'Building Data'!$F:$AA,22,FALSE),\"\")","v":""},{"$f":"IFERROR(VLOOKUP($B1032,'Building Data'!$F$4:$AE$2970,26,FALSE),\"\")","v":""}]
[null,null,{"$f":"IFERROR(VLOOKUP($B1033,'Building Data'!$F:$H,3,FALSE),\"\")","v":""},{"$f":"IFERROR(VLOOKUP($B1033,'Building Data'!$F:$AA,22,FALSE),\"\")","v":""},{"$f":"IFERROR(VLOOKUP($B1033,'Building Data'!$F$4:$AE$2970,26,FALSE),\"\")","v":""}]
[null,null,{"$f":"IFERROR(VLOOKUP($B1034,'Building Data'!$F:$H,3,FALSE),\"\")","v":""},{"$f":"IFERROR(VLOOKUP($B1034,'Building Data'!$F:$AA,22,FALSE),\"\")","v":""},{"$f":"IFERROR(VLOOKUP($B1034,'Building Data'!$F$4:$AE$2970,26,FALSE),\"\")","v":""}]
[null,null,{"$f":"IFERROR(VLOOKUP($B1035,'Building Data'!$F:$H,3,FALSE),\"\")","v":""},{"$f":"IFERROR(VLOOKUP($B1035,'Building Data'!$F:$AA,22,FALSE),\"\")","v":""},{"$f":"IFERROR(VLOOKUP($B1035,'Building Data'!$F$4:$AE$2970,26,FALSE),\"\")","v":""}]
[null,null,{"$f":"IFERROR(VLOOKUP($B1036,'Building Data'!$F:$H,3,FALSE),\"\")","v":""},{"$f":"IFERROR(VLOOKUP($B1036,'Building Data'!$F:$AA,22,FALSE),\"\")","v":""},{"$f":"IFERROR(VLOOKUP($B1036,'Building Data'!$F$4:$AE$2970,26,FALSE),\"\")","v":""}]
[null,null,{"$f":"IFERROR(VLOOKUP($B1037,'Building Data'!$F:$H,3,FALSE),\"\")","v":""},{"$f":"IFERROR(VLOOKUP($B1037,'Building Data'!$F:$AA,22,FALSE),\"\")","v":""},{"$f":"IFERROR(VLOOKUP($B1037,'Building Data'!$F$4:$AE$2970,26,FALSE),\"\")","v":""}]
[null,null,{"$f":"IFERROR(VLOOKUP($B1038,'Building Data'!$F:$H,3,FALSE),\"\")","v":""},{"$f":"IFERROR(VLOOKUP($B1038,'Building Data'!$F:$AA,22,FALSE),\"\")","v":""},{"$f":"IFERROR(VLOOKUP($B1038,'Building Data'!$F$4:$AE$2970,26,FALSE),\"\")","v":""}]
[null,null,{"$f":"IFERROR(VLOOKUP($B1039,'Building Data'!$F:$H,3,FALSE),\"\")","v":""},{"$f":"IFERROR(VLOOKUP($B1039,'Building Data'!$F:$AA,22,FALSE),\"\")","v":""},{"$f":"IFERROR(VLOOKUP($B1039,'Building Data'!$F$4:$AE$2970,26,FALSE),\"\")","v":""}]
[null,null,{"$f":"IFERROR(VLOOKUP($B1040,'Building Data'!$F:$H,3,FALSE),\"\")","v":""},{"$f":"IFERROR(VLOOKUP($B1040,'Building Data'!$F:$AA,22,FALSE),\"\")","v":""},{"$f":"IFERROR(VLOOKUP($B1040,'Building Data'!$F$4:$AE$2970,26,FALSE),\"\")","v":""}]
[null,null,{"$f":"IFERROR(VLOOKUP($B1041,'Building Data'!$F:$H,3,FALSE),\"\")","v":""},{"$f":"IFERROR(VLOOKUP($B1041,'Building Data'!$F:$AA,22,FALSE),\"\")","v":""},{"$f":"IFERROR(VLOOKUP($B1041,'Building Data'!$F$4:$AE$2970,26,FALSE),\"\")","v":""}]
[null,null,{"$f":"IFERROR(VLOOKUP($B1042,'Building Data'!$F:$H,3,FALSE),\"\")","v":""},{"$f":"IFERROR(VLOOKUP($B1042,'Building Data'!$F:$AA,22,FALSE),\"\")","v":""},{"$f":"IFERROR(VLOOKUP($B1042,'Building Data'!$F$4:$AE$2970,26,FALSE),\"\")","v":""}]
[null,null,{"$f":"IFERROR(VLOOKUP($B1043,'Building Data'!$F:$H,3,FALSE),\"\")","v":""},{"$f":"IFERROR(VLOOKUP($B1043,'Building Data'!$F:$AA,22,FALSE),\"\")","v":""},{"$f":"IFERROR(VLOOKUP($B1043,'Building Data'!$F$4:$AE$2970,26,FALSE),\"\")","v":""}]
[null,null,{"$f":"IFERROR(VLOOKUP($B1044,'Building Data'!$F:$H,3,FALSE),\"\")","v":""},{"$f":"IFERROR(VLOOKUP($B1044,'Building Data'!$F:$AA,22,FALSE),\"\")","v":""},{"$f":"IFERROR(VLOOKUP($B1044,'Building Data'!$F$4:$AE$2970,26,FALSE),\"\")","v":""}]
[null,null,{"$f":"IFERROR(VLOOKUP($B1045,'Building Data'!$F:$H,3,FALSE),\"\")","v":""},{"$f":"IFERROR(VLOOKUP($B1045,'Building Data'!$F:$AA,22,FALSE),\"\")","v":""},{"$f":"IFERROR(VLOOKUP($B1045,'Building Data'!$F$4:$AE$2970,26,FALSE),\"\")","v":""}]
[null,null,{"$f":"IFERROR(VLOOKUP($B1046,'Building Data'!$F:$H,3,FALSE),\"\")","v":""},{"$f":"IFERROR(VLOOKUP($B1046,'Building Data'!$F:$AA,22,FALSE),\"\")","v":""},{"$f":"IFERROR(VLOOKUP($B1046,'Building Data'!$F$4:$AE$2970,26,FALSE),\"\")","v":""}]
[null,null,{"$f":"IFERROR(VLOOKUP($B1047,'Building Data'!$F:$H,3,FALSE),\"\")","v":""},{"$f":"IFERROR(VLOOKUP($B1047,'Building Data'!$F:$AA,22,FALSE),\"\")","v":""},{"$f":"IFERROR(VLOOKUP($B1047,'Building Data'!$F$4:$AE$2970,26,FALSE),\"\")","v":""}]
[null,null,{"$f":"IFERROR(VLOOKUP($B1048,'Building Data'!$F:$H,3,FALSE),\"\")","v":""},{"$f":"IFERROR(VLOOKUP($B1048,'Building Data'!$F:$AA,22,FALSE),\"\")","v":""},{"$f":"IFERROR(VLOOKUP($B1048,'Building Data'!$F$4:$AE$2970,26,FALSE),\"\")","v":""}]
[null,null,{"$f":"IFERROR(VLOOKUP($B1049,'Building Data'!$F:$H,3,FALSE),\"\")","v":""},{"$f":"IFERROR(VLOOKUP($B1049,'Building Data'!$F:$AA,22,FALSE),\"\")","v":""},{"$f":"IFERROR(VLOOKUP($B1049,'Building Data'!$F$4:$AE$2970,26,FALSE),\"\")","v":""}]
[null,null,{"$f":"IFERROR(VLOOKUP($B1050,'Building Data'!$F:$H,3,FALSE),\"\")","v":""},{"$f":"IFERROR(VLOOKUP($B1050,'Building Data'!$F:$AA,22,FALSE),\"\")","v":""},{"$f":"IFERROR(VLOOKUP($B1050,'Building Data'!$F$4:$AE$2970,26,FALSE),\"\")","v":""}]
[null,null,{"$f":"IFERROR(VLOOKUP($B1051,'Building Data'!$F:$H,3,FALSE),\"\")","v":""},{"$f":"IFERROR(VLOOKUP($B1051,'Building Data'!$F:$AA,22,FALSE),\"\")","v":""},{"$f":"IFERROR(VLOOKUP($B1051,'Building Data'!$F$4:$AE$2970,26,FALSE),\"\")","v":""}]
[null,null,{"$f":"IFERROR(VLOOKUP($B1052,'Building Data'!$F:$H,3,FALSE),\"\")","v":""},{"$f":"IFERROR(VLOOKUP($B1052,'Building Data'!$F:$AA,22,FALSE),\"\")","v":""},{"$f":"IFERROR(VLOOKUP($B1052,'Building Data'!$F$4:$AE$2970,26,FALSE),\"\")","v":""}]
[null,null,{"$f":"IFERROR(VLOOKUP($B1053,'Building Data'!$F:$H,3,FALSE),\"\")","v":""},{"$f":"IFERROR(VLOOKUP($B1053,'Building Data'!$F:$AA,22,FALSE),\"\")","v":""},{"$f":"IFERROR(VLOOKUP($B1053,'Building Data'!$F$4:$AE$2970,26,FALSE),\"\")","v":""}]
[null,null,{"$f":"IFERROR(VLOOKUP($B1054,'Building Data'!$F:$H,3,FALSE),\"\")","v":""},{"$f":"IFERROR(VLOOKUP($B1054,'Building Data'!$F:$AA,22,FALSE),\"\")","v":""},{"$f":"IFERROR(VLOOKUP($B1054,'Building Data'!$F$4:$AE$2970,26,FALSE),\"\")","v":""}]
[null,null,{"$f":"IFERROR(VLOOKUP($B1055,'Building Data'!$F:$H,3,FALSE),\"\")","v":""},{"$f":"IFERROR(VLOOKUP($B1055,'Building Data'!$F:$AA,22,FALSE),\"\")","v":""},{"$f":"IFERROR(VLOOKUP($B1055,'Building Data'!$F$4:$AE$2970,26,FALSE),\"\")","v":""}]
[null,null,{"$f":"IFERROR(VLOOKUP($B1056,'Building Data'!$F:$H,3,FALSE),\"\")","v":""},{"$f":"IFERROR(VLOOKUP($B1056,'Building Data'!$F:$AA,22,FALSE),\"\")","v":""},{"$f":"IFERROR(VLOOKUP($B1056,'Building Data'!$F$4:$AE$2970,26,FALSE),\"\")","v":""}]
[null,null,{"$f":"IFERROR(VLOOKUP($B1057,'Building Data'!$F:$H,3,FALSE),\"\")","v":""},{"$f":"IFERROR(VLOOKUP($B1057,'Building Data'!$F:$AA,22,FALSE),\"\")","v":""},{"$f":"IFERROR(VLOOKUP($B1057,'Building Data'!$F$4:$AE$2970,26,FALSE),\"\")","v":""}]
[null,null,{"$f":"IFERROR(VLOOKUP($B1058,'Building Data'!$F:$H,3,FALSE),\"\")","v":""},{"$f":"IFERROR(VLOOKUP($B1058,'Building Data'!$F:$AA,22,FALSE),\"\")","v":""},{"$f":"IFERROR(VLOOKUP($B1058,'Building Data'!$F$4:$AE$2970,26,FALSE),\"\")","v":""}]
[null,null,{"$f":"IFERROR(VLOOKUP($B1059,'Building Data'!$F:$H,3,FALSE),\"\")","v":""},{"$f":"IFERROR(VLOOKUP($B1059,'Building Data'!$F:$AA,22,FALSE),\"\")","v":""},{"$f":"IFERROR(VLOOKUP($B1059,'Building Data'!$F$4:$AE$2970,26,FALSE),\"\")","v":""}]
[null,null,{"$f":"IFERROR(VLOOKUP($B1060,'Building Data'!$F:$H,3,FALSE),\"\")","v":""},{"$f":"IFERROR(VLOOKUP($B1060,'Building Data'!$F:$AA,22,FALSE),\"\")","v":""},{"$f":"IFERROR(VLOOKUP($B1060,'Building Data'!$F$4:$AE$2970,26,FALSE),\"\")","v":""}]
[null,null,{"$f":"IFERROR(VLOOKUP($B1061,'Building Data'!$F:$H,3,FALSE),\"\")","v":""},{"$f":"IFERROR(VLOOKUP($B1061,'Building Data'!$F:$AA,22,FALSE),\"\")","v":""},{"$f":"IFERROR(VLOOKUP($B1061,'Building Data'!$F$4:$AE$2970,26,FALSE),\"\")","v":""}]
[null,null,{"$f":"IFERROR(VLOOKUP($B1062,'Building Data'!$F:$H,3,FALSE),\"\")","v":""},{"$f":"IFERROR(VLOOKUP($B1062,'Building Data'!$F:$AA,22,FALSE),\"\")","v":""},{"$f":"IFERROR(VLOOKUP($B1062,'Building Data'!$F$4:$AE$2970,26,FALSE),\"\")","v":""}]
[null,null,{"$f":"IFERROR(VLOOKUP($B1063,'Building Data'!$F:$H,3,FALSE),\"\")","v":""},{"$f":"IFERROR(VLOOKUP($B1063,'Building Data'!$F:$AA,22,FALSE),\"\")","v":""},{"$f":"IFERROR(VLOOKUP($B1063,'Building Data'!$F$4:$AE$2970,26,FALSE),\"\")","v":""}]
[null,null,{"$f":"IFERROR(VLOOKUP($B1064,'Building Data'!$F:$H,3,FALSE),\"\")","v":""},{"$f":"IFERROR(VLOOKUP($B1064,'Building Data'!$F:$AA,22,FALSE),\"\")","v":""},{"$f":"IFERROR(VLOOKUP($B1064,'Building Data'!$F$4:$AE$2970,26,FALSE),\"\")","v":""}]
[null,null,{"$f":"IFERROR(VLOOKUP($B1065,'Building Data'!$F:$H,3,FALSE),\"\")","v":""},{"$f":"IFERROR(VLOOKUP($B1065,'Building Data'!$F:$AA,22,FALSE),\"\")","v":""},{"$f":"IFERROR(VLOOKUP($B1065,'Building Data'!$F$4:$AE$2970,26,FALSE),\"\")","v":""}]
[null,null,{"$f":"IFERROR(VLOOKUP($B1066,'Building Data'!$F:$H,3,FALSE),\"\")","v":""},{"$f":"IFERROR(VLOOKUP($B1066,'Building Data'!$F:$AA,22,FALSE),\"\")","v":""},{"$f":"IFERROR(VLOOKUP($B1066,'Building Data'!$F$4:$AE$2970,26,FALSE),\"\")","v":""}]
[null,null,{"$f":"IFERROR(VLOOKUP($B1067,'Building Data'!$F:$H,3,FALSE),\"\")","v":""},{"$f":"IFERROR(VLOOKUP($B1067,'Building Data'!$F:$AA,22,FALSE),\"\")","v":""},{"$f":"IFERROR(VLOOKUP($B1067,'Building Data'!$F$4:$AE$2970,26,FALSE),\"\")","v":""}]
[null,null,{"$f":"IFERROR(VLOOKUP($B1068,'Building Data'!$F:$H,3,FALSE),\"\")","v":""},{"$f":"IFERROR(VLOOKUP($B1068,'Building Data'!$F:$AA,22,FALSE),\"\")","v":""},{"$f":"IFERROR(VLOOKUP($B1068,'Building Data'!$F$4:$AE$2970,26,FALSE),\"\")","v":""}]
[null,null,{"$f":"IFERROR(VLOOKUP($B1069,'Building Data'!$F:$H,3,FALSE),\"\")","v":""},{"$f":"IFERROR(VLOOKUP($B1069,'Building Data'!$F:$AA,22,FALSE),\"\")","v":""},{"$f":"IFERROR(VLOOKUP($B1069,'Building Data'!$F$4:$AE$2970,26,FALSE),\"\")","v":""}]
[null,null,{"$f":"IFERROR(VLOOKUP($B1070,'Building Data'!$F:$H,3,FALSE),\"\")","v":""},{"$f":"IFERROR(VLOOKUP($B1070,'Building Data'!$F:$AA,22,FALSE),\"\")","v":""},{"$f":"IFERROR(VLOOKUP($B1070,'Building Data'!$F$4:$AE$2970,26,FALSE),\"\")","v":""}]
[null,null,{"$f":"IFERROR(VLOOKUP($B1071,'Building Data'!$F:$H,3,FALSE),\"\")","v":""},{"$f":"IFERROR(VLOOKUP($B1071,'Building Data'!$F:$AA,22,FALSE),\"\")","v":""},{"$f":"IFERROR(VLOOKUP($B1071,'Building Data'!$F$4:$AE$2970,26,FALSE),\"\")","v":""}]
[null,null,{"$f":"IFERROR(VLOOKUP($B1072,'Building Data'!$F:$H,3,FALSE),\"\")","v":""},{"$f":"IFERROR(VLOOKUP($B1072,'Building Data'!$F:$AA,22,FALSE),\"\")","v":""},{"$f":"IFERROR(VLOOKUP($B1072,'Building Data'!$F$4:$AE$2970,26,FALSE),\"\")","v":""}]
[null,null,{"$f":"IFERROR(VLOOKUP($B1073,'Building Data'!$F:$H,3,FALSE),\"\")","v":""},{"$f":"IFERROR(VLOOKUP($B1073,'Building Data'!$F:$AA,22,FALSE),\"\")","v":""},{"$f":"IFERROR(VLOOKUP($B1073,'Building Data'!$F$4:$AE$2970,26,FALSE),\"\")","v":""}]
[null,null,{"$f":"IFERROR(VLOOKUP($B1074,'Building Data'!$F:$H,3,FALSE),\"\")","v":""},{"$f":"IFERROR(VLOOKUP($B1074,'Building Data'!$F:$AA,22,FALSE),\"\")","v":""},{"$f":"IFERROR(VLOOKUP($B1074,'Building Data'!$F$4:$AE$2970,26,FALSE),\"\")","v":""}]
[null,null,{"$f":"IFERROR(VLOOKUP($B1075,'Building Data'!$F:$H,3,FALSE),\"\")","v":""},{"$f":"IFERROR(VLOOKUP($B1075,'Building Data'!$F:$AA,22,FALSE),\"\")","v":""},{"$f":"IFERROR(VLOOKUP($B1075,'Building Data'!$F$4:$AE$2970,26,FALSE),\"\")","v":""}]
[null,null,{"$f":"IFERROR(VLOOKUP($B1076,'Building Data'!$F:$H,3,FALSE),\"\")","v":""},{"$f":"IFERROR(VLOOKUP($B1076,'Building Data'!$F:$AA,22,FALSE),\"\")","v":""},{"$f":"IFERROR(VLOOKUP($B1076,'Building Data'!$F$4:$AE$2970,26,FALSE),\"\")","v":""}]
[null,null,{"$f":"IFERROR(VLOOKUP($B1077,'Building Data'!$F:$H,3,FALSE),\"\")","v":""},{"$f":"IFERROR(VLOOKUP($B1077,'Building Data'!$F:$AA,22,FALSE),\"\")","v":""},{"$f":"IFERROR(VLOOKUP($B1077,'Building Data'!$F$4:$AE$2970,26,FALSE),\"\")","v":""}]
[null,null,{"$f":"IFERROR(VLOOKUP($B1078,'Building Data'!$F:$H,3,FALSE),\"\")","v":""},{"$f":"IFERROR(VLOOKUP($B1078,'Building Data'!$F:$AA,22,FALSE),\"\")","v":""},{"$f":"IFERROR(VLOOKUP($B1078,'Building Data'!$F$4:$AE$2970,26,FALSE),\"\")","v":""}]
[null,null,{"$f":"IFERROR(VLOOKUP($B1079,'Building Data'!$F:$H,3,FALSE),\"\")","v":""},{"$f":"IFERROR(VLOOKUP($B1079,'Building Data'!$F:$AA,22,FALSE),\"\")","v":""},{"$f":"IFERROR(VLOOKUP($B1079,'Building Data'!$F$4:$AE$2970,26,FALSE),\"\")","v":""}]
[null,null,{"$f":"IFERROR(VLOOKUP($B1080,'Building Data'!$F:$H,3,FALSE),\"\")","v":""},{"$f":"IFERROR(VLOOKUP($B1080,'Building Data'!$F:$AA,22,FALSE),\"\")","v":""},{"$f":"IFERROR(VLOOKUP($B1080,'Building Data'!$F$4:$AE$2970,26,FALSE),\"\")","v":""}]
[null,null,{"$f":"IFERROR(VLOOKUP($B1081,'Building Data'!$F:$H,3,FALSE),\"\")","v":""},{"$f":"IFERROR(VLOOKUP($B1081,'Building Data'!$F:$AA,22,FALSE),\"\")","v":""},{"$f":"IFERROR(VLOOKUP($B1081,'Building Data'!$F$4:$AE$2970,26,FALSE),\"\")","v":""}]
[null,null,{"$f":"IFERROR(VLOOKUP($B1082,'Building Data'!$F:$H,3,FALSE),\"\")","v":""},{"$f":"IFERROR(VLOOKUP($B1082,'Building Data'!$F:$AA,22,FALSE),\"\")","v":""},{"$f":"IFERROR(VLOOKUP($B1082,'Building Data'!$F$4:$AE$2970,26,FALSE),\"\")","v":""}]
[null,null,{"$f":"IFERROR(VLOOKUP($B1083,'Building Data'!$F:$H,3,FALSE),\"\")","v":""},{"$f":"IFERROR(VLOOKUP($B1083,'Building Data'!$F:$AA,22,FALSE),\"\")","v":""},{"$f":"IFERROR(VLOOKUP($B1083,'Building Data'!$F$4:$AE$2970,26,FALSE),\"\")","v":""}]
[null,null,{"$f":"IFERROR(VLOOKUP($B1084,'Building Data'!$F:$H,3,FALSE),\"\")","v":""},{"$f":"IFERROR(VLOOKUP($B1084,'Building Data'!$F:$AA,22,FALSE),\"\")","v":""},{"$f":"IFERROR(VLOOKUP($B1084,'Building Data'!$F$4:$AE$2970,26,FALSE),\"\")","v":""}]
[null,null,{"$f":"IFERROR(VLOOKUP($B1085,'Building Data'!$F:$H,3,FALSE),\"\")","v":""},{"$f":"IFERROR(VLOOKUP($B1085,'Building Data'!$F:$AA,22,FALSE),\"\")","v":""},{"$f":"IFERROR(VLOOKUP($B1085,'Building Data'!$F$4:$AE$2970,26,FALSE),\"\")","v":""}]
[null,null,{"$f":"IFERROR(VLOOKUP($B1086,'Building Data'!$F:$H,3,FALSE),\"\")","v":""},{"$f":"IFERROR(VLOOKUP($B1086,'Building Data'!$F:$AA,22,FALSE),\"\")","v":""},{"$f":"IFERROR(VLOOKUP($B1086,'Building Data'!$F$4:$AE$2970,26,FALSE),\"\")","v":""}]
[null,null,{"$f":"IFERROR(VLOOKUP($B1087,'Building Data'!$F:$H,3,FALSE),\"\")","v":""},{"$f":"IFERROR(VLOOKUP($B1087,'Building Data'!$F:$AA,22,FALSE),\"\")","v":""},{"$f":"IFERROR(VLOOKUP($B1087,'Building Data'!$F$4:$AE$2970,26,FALSE),\"\")","v":""}]
[null,null,{"$f":"IFERROR(VLOOKUP($B1088,'Building Data'!$F:$H,3,FALSE),\"\")","v":""},{"$f":"IFERROR(VLOOKUP($B1088,'Building Data'!$F:$AA,22,FALSE),\"\")","v":""},{"$f":"IFERROR(VLOOKUP($B1088,'Building Data'!$F$4:$AE$2970,26,FALSE),\"\")","v":""}]
[null,null,{"$f":"IFERROR(VLOOKUP($B1089,'Building Data'!$F:$H,3,FALSE),\"\")","v":""},{"$f":"IFERROR(VLOOKUP($B1089,'Building Data'!$F:$AA,22,FALSE),\"\")","v":""},{"$f":"IFERROR(VLOOKUP($B1089,'Building Data'!$F$4:$AE$2970,26,FALSE),\"\")","v":""}]
[null,null,{"$f":"IFERROR(VLOOKUP($B1090,'Building Data'!$F:$H,3,FALSE),\"\")","v":""},{"$f":"IFERROR(VLOOKUP($B1090,'Building Data'!$F:$AA,22,FALSE),\"\")","v":""},{"$f":"IFERROR(VLOOKUP($B1090,'Building Data'!$F$4:$AE$2970,26,FALSE),\"\")","v":""}]
[null,null,{"$f":"IFERROR(VLOOKUP($B1091,'Building Data'!$F:$H,3,FALSE),\"\")","v":""},{"$f":"IFERROR(VLOOKUP($B1091,'Building Data'!$F:$AA,22,FALSE),\"\")","v":""},{"$f":"IFERROR(VLOOKUP($B1091,'Building Data'!$F$4:$AE$2970,26,FALSE),\"\")","v":""}]
[null,null,{"$f":"IFERROR(VLOOKUP($B1092,'Building Data'!$F:$H,3,FALSE),\"\")","v":""},{"$f":"IFERROR(VLOOKUP($B1092,'Building Data'!$F:$AA,22,FALSE),\"\")","v":""},{"$f":"IFERROR(VLOOKUP($B1092,'Building Data'!$F$4:$AE$2970,26,FALSE),\"\")","v":""}]
[null,null,{"$f":"IFERROR(VLOOKUP($B1093,'Building Data'!$F:$H,3,FALSE),\"\")","v":""},{"$f":"IFERROR(VLOOKUP($B1093,'Building Data'!$F:$AA,22,FALSE),\"\")","v":""},{"$f":"IFERROR(VLOOKUP($B1093,'Building Data'!$F$4:$AE$2970,26,FALSE),\"\")","v":""}]
[null,null,{"$f":"IFERROR(VLOOKUP($B1094,'Building Data'!$F:$H,3,FALSE),\"\")","v":""},{"$f":"IFERROR(VLOOKUP($B1094,'Building Data'!$F:$AA,22,FALSE),\"\")","v":""},{"$f":"IFERROR(VLOOKUP($B1094,'Building Data'!$F$4:$AE$2970,26,FALSE),\"\")","v":""}]
[null,null,{"$f":"IFERROR(VLOOKUP($B1095,'Building Data'!$F:$H,3,FALSE),\"\")","v":""},{"$f":"IFERROR(VLOOKUP($B1095,'Building Data'!$F:$AA,22,FALSE),\"\")","v":""},{"$f":"IFERROR(VLOOKUP($B1095,'Building Data'!$F$4:$AE$2970,26,FALSE),\"\")","v":""}]
[null,null,{"$f":"IFERROR(VLOOKUP($B1096,'Building Data'!$F:$H,3,FALSE),\"\")","v":""},{"$f":"IFERROR(VLOOKUP($B1096,'Building Data'!$F:$AA,22,FALSE),\"\")","v":""},{"$f":"IFERROR(VLOOKUP($B1096,'Building Data'!$F$4:$AE$2970,26,FALSE),\"\")","v":""}]
[null,null,{"$f":"IFERROR(VLOOKUP($B1097,'Building Data'!$F:$H,3,FALSE),\"\")","v":""},{"$f":"IFERROR(VLOOKUP($B1097,'Building Data'!$F:$AA,22,FALSE),\"\")","v":""},{"$f":"IFERROR(VLOOKUP($B1097,'Building Data'!$F$4:$AE$2970,26,FALSE),\"\")","v":""}]
[null,null,{"$f":"IFERROR(VLOOKUP($B1098,'Building Data'!$F:$H,3,FALSE),\"\")","v":""},{"$f":"IFERROR(VLOOKUP($B1098,'Building Data'!$F:$AA,22,FALSE),\"\")","v":""},{"$f":"IFERROR(VLOOKUP($B1098,'Building Data'!$F$4:$AE$2970,26,FALSE),\"\")","v":""}]
[null,null,{"$f":"IFERROR(VLOOKUP($B1099,'Building Data'!$F:$H,3,FALSE),\"\")","v":""},{"$f":"IFERROR(VLOOKUP($B1099,'Building Data'!$F:$AA,22,FALSE),\"\")","v":""},{"$f":"IFERROR(VLOOKUP($B1099,'Building Data'!$F$4:$AE$2970,26,FALSE),\"\")","v":""}]
[null,null,{"$f":"IFERROR(VLOOKUP($B1100,'Building Data'!$F:$H,3,FALSE),\"\")","v":""},{"$f":"IFERROR(VLOOKUP($B1100,'Building Data'!$F:$AA,22,FALSE),\"\")","v":""},{"$f":"IFERROR(VLOOKUP($B1100,'Building Data'!$F$4:$AE$2970,26,FALSE),\"\")","v":""}]
[null,null,{"$f":"IFERROR(VLOOKUP($B1101,'Building Data'!$F:$H,3,FALSE),\"\")","v":""},{"$f":"IFERROR(VLOOKUP($B1101,'Building Data'!$F:$AA,22,FALSE),\"\")","v":""},{"$f":"IFERROR(VLOOKUP($B1101,'Building Data'!$F$4:$AE$2970,26,FALSE),\"\")","v":""}]
[null,null,{"$f":"IFERROR(VLOOKUP($B1102,'Building Data'!$F:$H,3,FALSE),\"\")","v":""},{"$f":"IFERROR(VLOOKUP($B1102,'Building Data'!$F:$AA,22,FALSE),\"\")","v":""},{"$f":"IFERROR(VLOOKUP($B1102,'Building Data'!$F$4:$AE$2970,26,FALSE),\"\")","v":""}]
[null,null,{"$f":"IFERROR(VLOOKUP($B1103,'Building Data'!$F:$H,3,FALSE),\"\")","v":""},{"$f":"IFERROR(VLOOKUP($B1103,'Building Data'!$F:$AA,22,FALSE),\"\")","v":""},{"$f":"IFERROR(VLOOKUP($B1103,'Building Data'!$F$4:$AE$2970,26,FALSE),\"\")","v":""}]
[null,null,{"$f":"IFERROR(VLOOKUP($B1104,'Building Data'!$F:$H,3,FALSE),\"\")","v":""},{"$f":"IFERROR(VLOOKUP($B1104,'Building Data'!$F:$AA,22,FALSE),\"\")","v":""},{"$f":"IFERROR(VLOOKUP($B1104,'Building Data'!$F$4:$AE$2970,26,FALSE),\"\")","v":""}]
[null,null,{"$f":"IFERROR(VLOOKUP($B1105,'Building Data'!$F:$H,3,FALSE),\"\")","v":""},{"$f":"IFERROR(VLOOKUP($B1105,'Building Data'!$F:$AA,22,FALSE),\"\")","v":""},{"$f":"IFERROR(VLOOKUP($B1105,'Building Data'!$F$4:$AE$2970,26,FALSE),\"\")","v":""}]
[null,null,{"$f":"IFERROR(VLOOKUP($B1106,'Building Data'!$F:$H,3,FALSE),\"\")","v":""},{"$f":"IFERROR(VLOOKUP($B1106,'Building Data'!$F:$AA,22,FALSE),\"\")","v":""},{"$f":"IFERROR(VLOOKUP($B1106,'Building Data'!$F$4:$AE$2970,26,FALSE),\"\")","v":""}]
[null,null,{"$f":"IFERROR(VLOOKUP($B1107,'Building Data'!$F:$H,3,FALSE),\"\")","v":""},{"$f":"IFERROR(VLOOKUP($B1107,'Building Data'!$F:$AA,22,FALSE),\"\")","v":""},{"$f":"IFERROR(VLOOKUP($B1107,'Building Data'!$F$4:$AE$2970,26,FALSE),\"\")","v":""}]
[null,null,{"$f":"IFERROR(VLOOKUP($B1108,'Building Data'!$F:$H,3,FALSE),\"\")","v":""},{"$f":"IFERROR(VLOOKUP($B1108,'Building Data'!$F:$AA,22,FALSE),\"\")","v":""},{"$f":"IFERROR(VLOOKUP($B1108,'Building Data'!$F$4:$AE$2970,26,FALSE),\"\")","v":""}]
[null,null,{"$f":"IFERROR(VLOOKUP($B1109,'Building Data'!$F:$H,3,FALSE),\"\")","v":""},{"$f":"IFERROR(VLOOKUP($B1109,'Building Data'!$F:$AA,22,FALSE),\"\")","v":""},{"$f":"IFERROR(VLOOKUP($B1109,'Building Data'!$F$4:$AE$2970,26,FALSE),\"\")","v":""}]
[null,null,{"$f":"IFERROR(VLOOKUP($B1110,'Building Data'!$F:$H,3,FALSE),\"\")","v":""},{"$f":"IFERROR(VLOOKUP($B1110,'Building Data'!$F:$AA,22,FALSE),\"\")","v":""},{"$f":"IFERROR(VLOOKUP($B1110,'Building Data'!$F$4:$AE$2970,26,FALSE),\"\")","v":""}]
[null,null,{"$f":"IFERROR(VLOOKUP($B1111,'Building Data'!$F:$H,3,FALSE),\"\")","v":""},{"$f":"IFERROR(VLOOKUP($B1111,'Building Data'!$F:$AA,22,FALSE),\"\")","v":""},{"$f":"IFERROR(VLOOKUP($B1111,'Building Data'!$F$4:$AE$2970,26,FALSE),\"\")","v":""}]
[null,null,{"$f":"IFERROR(VLOOKUP($B1112,'Building Data'!$F:$H,3,FALSE),\"\")","v":""},{"$f":"IFERROR(VLOOKUP($B1112,'Building Data'!$F:$AA,22,FALSE),\"\")","v":""},{"$f":"IFERROR(VLOOKUP($B1112,'Building Data'!$F$4:$AE$2970,26,FALSE),\"\")","v":""}]
[null,null,{"$f":"IFERROR(VLOOKUP($B1113,'Building Data'!$F:$H,3,FALSE),\"\")","v":""},{"$f":"IFERROR(VLOOKUP($B1113,'Building Data'!$F:$AA,22,FALSE),\"\")","v":""},{"$f":"IFERROR(VLOOKUP($B1113,'Building Data'!$F$4:$AE$2970,26,FALSE),\"\")","v":""}]
[null,null,{"$f":"IFERROR(VLOOKUP($B1114,'Building Data'!$F:$H,3,FALSE),\"\")","v":""},{"$f":"IFERROR(VLOOKUP($B1114,'Building Data'!$F:$AA,22,FALSE),\"\")","v":""},{"$f":"IFERROR(VLOOKUP($B1114,'Building Data'!$F$4:$AE$2970,26,FALSE),\"\")","v":""}]
[null,null,{"$f":"IFERROR(VLOOKUP($B1115,'Building Data'!$F:$H,3,FALSE),\"\")","v":""},{"$f":"IFERROR(VLOOKUP($B1115,'Building Data'!$F:$AA,22,FALSE),\"\")","v":""},{"$f":"IFERROR(VLOOKUP($B1115,'Building Data'!$F$4:$AE$2970,26,FALSE),\"\")","v":""}]
[null,null,{"$f":"IFERROR(VLOOKUP($B1116,'Building Data'!$F:$H,3,FALSE),\"\")","v":""},{"$f":"IFERROR(VLOOKUP($B1116,'Building Data'!$F:$AA,22,FALSE),\"\")","v":""},{"$f":"IFERROR(VLOOKUP($B1116,'Building Data'!$F$4:$AE$2970,26,FALSE),\"\")","v":""}]
[null,null,{"$f":"IFERROR(VLOOKUP($B1117,'Building Data'!$F:$H,3,FALSE),\"\")","v":""},{"$f":"IFERROR(VLOOKUP($B1117,'Building Data'!$F:$AA,22,FALSE),\"\")","v":""},{"$f":"IFERROR(VLOOKUP($B1117,'Building Data'!$F$4:$AE$2970,26,FALSE),\"\")","v":""}]
[null,null,{"$f":"IFERROR(VLOOKUP($B1118,'Building Data'!$F:$H,3,FALSE),\"\")","v":""},{"$f":"IFERROR(VLOOKUP($B1118,'Building Data'!$F:$AA,22,FALSE),\"\")","v":""},{"$f":"IFERROR(VLOOKUP($B1118,'Building Data'!$F$4:$AE$2970,26,FALSE),\"\")","v":""}]
[null,null,{"$f":"IFERROR(VLOOKUP($B1119,'Building Data'!$F:$H,3,FALSE),\"\")","v":""},{"$f":"IFERROR(VLOOKUP($B1119,'Building Data'!$F:$AA,22,FALSE),\"\")","v":""},{"$f":"IFERROR(VLOOKUP($B1119,'Building Data'!$F$4:$AE$2970,26,FALSE),\"\")","v":""}]
[null,null,{"$f":"IFERROR(VLOOKUP($B1120,'Building Data'!$F:$H,3,FALSE),\"\")","v":""},{"$f":"IFERROR(VLOOKUP($B1120,'Building Data'!$F:$AA,22,FALSE),\"\")","v":""},{"$f":"IFERROR(VLOOKUP($B1120,'Building Data'!$F$4:$AE$2970,26,FALSE),\"\")","v":""}]
[null,null,{"$f":"IFERROR(VLOOKUP($B1121,'Building Data'!$F:$H,3,FALSE),\"\")","v":""},{"$f":"IFERROR(VLOOKUP($B1121,'Building Data'!$F:$AA,22,FALSE),\"\")","v":""},{"$f":"IFERROR(VLOOKUP($B1121,'Building Data'!$F$4:$AE$2970,26,FALSE),\"\")","v":""}]
[null,null,{"$f":"IFERROR(VLOOKUP($B1122,'Building Data'!$F:$H,3,FALSE),\"\")","v":""},{"$f":"IFERROR(VLOOKUP($B1122,'Building Data'!$F:$AA,22,FALSE),\"\")","v":""},{"$f":"IFERROR(VLOOKUP($B1122,'Building Data'!$F$4:$AE$2970,26,FALSE),\"\")","v":""}]
[null,null,{"$f":"IFERROR(VLOOKUP($B1123,'Building Data'!$F:$H,3,FALSE),\"\")","v":""},{"$f":"IFERROR(VLOOKUP($B1123,'Building Data'!$F:$AA,22,FALSE),\"\")","v":""},{"$f":"IFERROR(VLOOKUP($B1123,'Building Data'!$F$4:$AE$2970,26,FALSE),\"\")","v":""}]
[null,null,{"$f":"IFERROR(VLOOKUP($B1124,'Building Data'!$F:$H,3,FALSE),\"\")","v":""},{"$f":"IFERROR(VLOOKUP($B1124,'Building Data'!$F:$AA,22,FALSE),\"\")","v":""},{"$f":"IFERROR(VLOOKUP($B1124,'Building Data'!$F$4:$AE$2970,26,FALSE),\"\")","v":""}]
[null,null,{"$f":"IFERROR(VLOOKUP($B1125,'Building Data'!$F:$H,3,FALSE),\"\")","v":""},{"$f":"IFERROR(VLOOKUP($B1125,'Building Data'!$F:$AA,22,FALSE),\"\")","v":""},{"$f":"IFERROR(VLOOKUP($B1125,'Building Data'!$F$4:$AE$2970,26,FALSE),\"\")","v":""}]
[null,null,{"$f":"IFERROR(VLOOKUP($B1126,'Building Data'!$F:$H,3,FALSE),\"\")","v":""},{"$f":"IFERROR(VLOOKUP($B1126,'Building Data'!$F:$AA,22,FALSE),\"\")","v":""},{"$f":"IFERROR(VLOOKUP($B1126,'Building Data'!$F$4:$AE$2970,26,FALSE),\"\")","v":""}]
[null,null,{"$f":"IFERROR(VLOOKUP($B1127,'Building Data'!$F:$H,3,FALSE),\"\")","v":""},{"$f":"IFERROR(VLOOKUP($B1127,'Building Data'!$F:$AA,22,FALSE),\"\")","v":""},{"$f":"IFERROR(VLOOKUP($B1127,'Building Data'!$F$4:$AE$2970,26,FALSE),\"\")","v":""}]
[null,null,{"$f":"IFERROR(VLOOKUP($B1128,'Building Data'!$F:$H,3,FALSE),\"\")","v":""},{"$f":"IFERROR(VLOOKUP($B1128,'Building Data'!$F:$AA,22,FALSE),\"\")","v":""},{"$f":"IFERROR(VLOOKUP($B1128,'Building Data'!$F$4:$AE$2970,26,FALSE),\"\")","v":""}]
[null,null,{"$f":"IFERROR(VLOOKUP($B1129,'Building Data'!$F:$H,3,FALSE),\"\")","v":""},{"$f":"IFERROR(VLOOKUP($B1129,'Building Data'!$F:$AA,22,FALSE),\"\")","v":""},{"$f":"IFERROR(VLOOKUP($B1129,'Building Data'!$F$4:$AE$2970,26,FALSE),\"\")","v":""}]
[null,null,{"$f":"IFERROR(VLOOKUP($B1130,'Building Data'!$F:$H,3,FALSE),\"\")","v":""},{"$f":"IFERROR(VLOOKUP($B1130,'Building Data'!$F:$AA,22,FALSE),\"\")","v":""},{"$f":"IFERROR(VLOOKUP($B1130,'Building Data'!$F$4:$AE$2970,26,FALSE),\"\")","v":""}]
[null,null,{"$f":"IFERROR(VLOOKUP($B1131,'Building Data'!$F:$H,3,FALSE),\"\")","v":""},{"$f":"IFERROR(VLOOKUP($B1131,'Building Data'!$F:$AA,22,FALSE),\"\")","v":""},{"$f":"IFERROR(VLOOKUP($B1131,'Building Data'!$F$4:$AE$2970,26,FALSE),\"\")","v":""}]
[null,null,{"$f":"IFERROR(VLOOKUP($B1132,'Building Data'!$F:$H,3,FALSE),\"\")","v":""},{"$f":"IFERROR(VLOOKUP($B1132,'Building Data'!$F:$AA,22,FALSE),\"\")","v":""},{"$f":"IFERROR(VLOOKUP($B1132,'Building Data'!$F$4:$AE$2970,26,FALSE),\"\")","v":""}]
[null,null,{"$f":"IFERROR(VLOOKUP($B1133,'Building Data'!$F:$H,3,FALSE),\"\")","v":""},{"$f":"IFERROR(VLOOKUP($B1133,'Building Data'!$F:$AA,22,FALSE),\"\")","v":""},{"$f":"IFERROR(VLOOKUP($B1133,'Building Data'!$F$4:$AE$2970,26,FALSE),\"\")","v":""}]
[null,null,{"$f":"IFERROR(VLOOKUP($B1134,'Building Data'!$F:$H,3,FALSE),\"\")","v":""},{"$f":"IFERROR(VLOOKUP($B1134,'Building Data'!$F:$AA,22,FALSE),\"\")","v":""},{"$f":"IFERROR(VLOOKUP($B1134,'Building Data'!$F$4:$AE$2970,26,FALSE),\"\")","v":""}]
[null,null,{"$f":"IFERROR(VLOOKUP($B1135,'Building Data'!$F:$H,3,FALSE),\"\")","v":""},{"$f":"IFERROR(VLOOKUP($B1135,'Building Data'!$F:$AA,22,FALSE),\"\")","v":""},{"$f":"IFERROR(VLOOKUP($B1135,'Building Data'!$F$4:$AE$2970,26,FALSE),\"\")","v":""}]
[null,null,{"$f":"IFERROR(VLOOKUP($B1136,'Building Data'!$F:$H,3,FALSE),\"\")","v":""},{"$f":"IFERROR(VLOOKUP($B1136,'Building Data'!$F:$AA,22,FALSE),\"\")","v":""},{"$f":"IFERROR(VLOOKUP($B1136,'Building Data'!$F$4:$AE$2970,26,FALSE),\"\")","v":""}]
[null,null,{"$f":"IFERROR(VLOOKUP($B1137,'Building Data'!$F:$H,3,FALSE),\"\")","v":""},{"$f":"IFERROR(VLOOKUP($B1137,'Building Data'!$F:$AA,22,FALSE),\"\")","v":""},{"$f":"IFERROR(VLOOKUP($B1137,'Building Data'!$F$4:$AE$2970,26,FALSE),\"\")","v":""}]
[null,null,{"$f":"IFERROR(VLOOKUP($B1138,'Building Data'!$F:$H,3,FALSE),\"\")","v":""},{"$f":"IFERROR(VLOOKUP($B1138,'Building Data'!$F:$AA,22,FALSE),\"\")","v":""},{"$f":"IFERROR(VLOOKUP($B1138,'Building Data'!$F$4:$AE$2970,26,FALSE),\"\")","v":""}]
[null,null,{"$f":"IFERROR(VLOOKUP($B1139,'Building Data'!$F:$H,3,FALSE),\"\")","v":""},{"$f":"IFERROR(VLOOKUP($B1139,'Building Data'!$F:$AA,22,FALSE),\"\")","v":""},{"$f":"IFERROR(VLOOKUP($B1139,'Building Data'!$F$4:$AE$2970,26,FALSE),\"\")","v":""}]
[null,null,{"$f":"IFERROR(VLOOKUP($B1140,'Building Data'!$F:$H,3,FALSE),\"\")","v":""},{"$f":"IFERROR(VLOOKUP($B1140,'Building Data'!$F:$AA,22,FALSE),\"\")","v":""},{"$f":"IFERROR(VLOOKUP($B1140,'Building Data'!$F$4:$AE$2970,26,FALSE),\"\")","v":""}]
[null,null,{"$f":"IFERROR(VLOOKUP($B1141,'Building Data'!$F:$H,3,FALSE),\"\")","v":""},{"$f":"IFERROR(VLOOKUP($B1141,'Building Data'!$F:$AA,22,FALSE),\"\")","v":""},{"$f":"IFERROR(VLOOKUP($B1141,'Building Data'!$F$4:$AE$2970,26,FALSE),\"\")","v":""}]
[null,null,{"$f":"IFERROR(VLOOKUP($B1142,'Building Data'!$F:$H,3,FALSE),\"\")","v":""},{"$f":"IFERROR(VLOOKUP($B1142,'Building Data'!$F:$AA,22,FALSE),\"\")","v":""},{"$f":"IFERROR(VLOOKUP($B1142,'Building Data'!$F$4:$AE$2970,26,FALSE),\"\")","v":""}]
[null,null,{"$f":"IFERROR(VLOOKUP($B1143,'Building Data'!$F:$H,3,FALSE),\"\")","v":""},{"$f":"IFERROR(VLOOKUP($B1143,'Building Data'!$F:$AA,22,FALSE),\"\")","v":""},{"$f":"IFERROR(VLOOKUP($B1143,'Building Data'!$F$4:$AE$2970,26,FALSE),\"\")","v":""}]
[null,null,{"$f":"IFERROR(VLOOKUP($B1144,'Building Data'!$F:$H,3,FALSE),\"\")","v":""},{"$f":"IFERROR(VLOOKUP($B1144,'Building Data'!$F:$AA,22,FALSE),\"\")","v":""},{"$f":"IFERROR(VLOOKUP($B1144,'Building Data'!$F$4:$AE$2970,26,FALSE),\"\")","v":""}]
[null,null,{"$f":"IFERROR(VLOOKUP($B1145,'Building Data'!$F:$H,3,FALSE),\"\")","v":""},{"$f":"IFERROR(VLOOKUP($B1145,'Building Data'!$F:$AA,22,FALSE),\"\")","v":""},{"$f":"IFERROR(VLOOKUP($B1145,'Building Data'!$F$4:$AE$2970,26,FALSE),\"\")","v":""}]
[null,null,{"$f":"IFERROR(VLOOKUP($B1146,'Building Data'!$F:$H,3,FALSE),\"\")","v":""},{"$f":"IFERROR(VLOOKUP($B1146,'Building Data'!$F:$AA,22,FALSE),\"\")","v":""},{"$f":"IFERROR(VLOOKUP($B1146,'Building Data'!$F$4:$AE$2970,26,FALSE),\"\")","v":""}]
[null,null,{"$f":"IFERROR(VLOOKUP($B1147,'Building Data'!$F:$H,3,FALSE),\"\")","v":""},{"$f":"IFERROR(VLOOKUP($B1147,'Building Data'!$F:$AA,22,FALSE),\"\")","v":""},{"$f":"IFERROR(VLOOKUP($B1147,'Building Data'!$F$4:$AE$2970,26,FALSE),\"\")","v":""}]
[null,null,{"$f":"IFERROR(VLOOKUP($B1148,'Building Data'!$F:$H,3,FALSE),\"\")","v":""},{"$f":"IFERROR(VLOOKUP($B1148,'Building Data'!$F:$AA,22,FALSE),\"\")","v":""},{"$f":"IFERROR(VLOOKUP($B1148,'Building Data'!$F$4:$AE$2970,26,FALSE),\"\")","v":""}]
[null,null,{"$f":"IFERROR(VLOOKUP($B1149,'Building Data'!$F:$H,3,FALSE),\"\")","v":""},{"$f":"IFERROR(VLOOKUP($B1149,'Building Data'!$F:$AA,22,FALSE),\"\")","v":""},{"$f":"IFERROR(VLOOKUP($B1149,'Building Data'!$F$4:$AE$2970,26,FALSE),\"\")","v":""}]
[null,null,{"$f":"IFERROR(VLOOKUP($B1150,'Building Data'!$F:$H,3,FALSE),\"\")","v":""},{"$f":"IFERROR(VLOOKUP($B1150,'Building Data'!$F:$AA,22,FALSE),\"\")","v":""},{"$f":"IFERROR(VLOOKUP($B1150,'Building Data'!$F$4:$AE$2970,26,FALSE),\"\")","v":""}]
[null,null,{"$f":"IFERROR(VLOOKUP($B1151,'Building Data'!$F:$H,3,FALSE),\"\")","v":""},{"$f":"IFERROR(VLOOKUP($B1151,'Building Data'!$F:$AA,22,FALSE),\"\")","v":""},{"$f":"IFERROR(VLOOKUP($B1151,'Building Data'!$F$4:$AE$2970,26,FALSE),\"\")","v":""}]
[null,null,{"$f":"IFERROR(VLOOKUP($B1152,'Building Data'!$F:$H,3,FALSE),\"\")","v":""},{"$f":"IFERROR(VLOOKUP($B1152,'Building Data'!$F:$AA,22,FALSE),\"\")","v":""},{"$f":"IFERROR(VLOOKUP($B1152,'Building Data'!$F$4:$AE$2970,26,FALSE),\"\")","v":""}]
[null,null,{"$f":"IFERROR(VLOOKUP($B1153,'Building Data'!$F:$H,3,FALSE),\"\")","v":""},{"$f":"IFERROR(VLOOKUP($B1153,'Building Data'!$F:$AA,22,FALSE),\"\")","v":""},{"$f":"IFERROR(VLOOKUP($B1153,'Building Data'!$F$4:$AE$2970,26,FALSE),\"\")","v":""}]
[null,null,{"$f":"IFERROR(VLOOKUP($B1154,'Building Data'!$F:$H,3,FALSE),\"\")","v":""},{"$f":"IFERROR(VLOOKUP($B1154,'Building Data'!$F:$AA,22,FALSE),\"\")","v":""},{"$f":"IFERROR(VLOOKUP($B1154,'Building Data'!$F$4:$AE$2970,26,FALSE),\"\")","v":""}]
[null,null,{"$f":"IFERROR(VLOOKUP($B1155,'Building Data'!$F:$H,3,FALSE),\"\")","v":""},{"$f":"IFERROR(VLOOKUP($B1155,'Building Data'!$F:$AA,22,FALSE),\"\")","v":""},{"$f":"IFERROR(VLOOKUP($B1155,'Building Data'!$F$4:$AE$2970,26,FALSE),\"\")","v":""}]
[null,null,{"$f":"IFERROR(VLOOKUP($B1156,'Building Data'!$F:$H,3,FALSE),\"\")","v":""},{"$f":"IFERROR(VLOOKUP($B1156,'Building Data'!$F:$AA,22,FALSE),\"\")","v":""},{"$f":"IFERROR(VLOOKUP($B1156,'Building Data'!$F$4:$AE$2970,26,FALSE),\"\")","v":""}]
[null,null,{"$f":"IFERROR(VLOOKUP($B1157,'Building Data'!$F:$H,3,FALSE),\"\")","v":""},{"$f":"IFERROR(VLOOKUP($B1157,'Building Data'!$F:$AA,22,FALSE),\"\")","v":""},{"$f":"IFERROR(VLOOKUP($B1157,'Building Data'!$F$4:$AE$2970,26,FALSE),\"\")","v":""}]
[null,null,{"$f":"IFERROR(VLOOKUP($B1158,'Building Data'!$F:$H,3,FALSE),\"\")","v":""},{"$f":"IFERROR(VLOOKUP($B1158,'Building Data'!$F:$AA,22,FALSE),\"\")","v":""},{"$f":"IFERROR(VLOOKUP($B1158,'Building Data'!$F$4:$AE$2970,26,FALSE),\"\")","v":""}]
[null,null,{"$f":"IFERROR(VLOOKUP($B1159,'Building Data'!$F:$H,3,FALSE),\"\")","v":""},{"$f":"IFERROR(VLOOKUP($B1159,'Building Data'!$F:$AA,22,FALSE),\"\")","v":""},{"$f":"IFERROR(VLOOKUP($B1159,'Building Data'!$F$4:$AE$2970,26,FALSE),\"\")","v":""}]
[null,null,{"$f":"IFERROR(VLOOKUP($B1160,'Building Data'!$F:$H,3,FALSE),\"\")","v":""},{"$f":"IFERROR(VLOOKUP($B1160,'Building Data'!$F:$AA,22,FALSE),\"\")","v":""},{"$f":"IFERROR(VLOOKUP($B1160,'Building Data'!$F$4:$AE$2970,26,FALSE),\"\")","v":""}]
[null,null,{"$f":"IFERROR(VLOOKUP($B1161,'Building Data'!$F:$H,3,FALSE),\"\")","v":""},{"$f":"IFERROR(VLOOKUP($B1161,'Building Data'!$F:$AA,22,FALSE),\"\")","v":""},{"$f":"IFERROR(VLOOKUP($B1161,'Building Data'!$F$4:$AE$2970,26,FALSE),\"\")","v":""}]
[null,null,{"$f":"IFERROR(VLOOKUP($B1162,'Building Data'!$F:$H,3,FALSE),\"\")","v":""},{"$f":"IFERROR(VLOOKUP($B1162,'Building Data'!$F:$AA,22,FALSE),\"\")","v":""},{"$f":"IFERROR(VLOOKUP($B1162,'Building Data'!$F$4:$AE$2970,26,FALSE),\"\")","v":""}]
[null,null,{"$f":"IFERROR(VLOOKUP($B1163,'Building Data'!$F:$H,3,FALSE),\"\")","v":""},{"$f":"IFERROR(VLOOKUP($B1163,'Building Data'!$F:$AA,22,FALSE),\"\")","v":""},{"$f":"IFERROR(VLOOKUP($B1163,'Building Data'!$F$4:$AE$2970,26,FALSE),\"\")","v":""}]
[null,null,{"$f":"IFERROR(VLOOKUP($B1164,'Building Data'!$F:$H,3,FALSE),\"\")","v":""},{"$f":"IFERROR(VLOOKUP($B1164,'Building Data'!$F:$AA,22,FALSE),\"\")","v":""},{"$f":"IFERROR(VLOOKUP($B1164,'Building Data'!$F$4:$AE$2970,26,FALSE),\"\")","v":""}]
[null,null,{"$f":"IFERROR(VLOOKUP($B1165,'Building Data'!$F:$H,3,FALSE),\"\")","v":""},{"$f":"IFERROR(VLOOKUP($B1165,'Building Data'!$F:$AA,22,FALSE),\"\")","v":""},{"$f":"IFERROR(VLOOKUP($B1165,'Building Data'!$F$4:$AE$2970,26,FALSE),\"\")","v":""}]
[null,null,{"$f":"IFERROR(VLOOKUP($B1166,'Building Data'!$F:$H,3,FALSE),\"\")","v":""},{"$f":"IFERROR(VLOOKUP($B1166,'Building Data'!$F:$AA,22,FALSE),\"\")","v":""},{"$f":"IFERROR(VLOOKUP($B1166,'Building Data'!$F$4:$AE$2970,26,FALSE),\"\")","v":""}]
[null,null,{"$f":"IFERROR(VLOOKUP($B1167,'Building Data'!$F:$H,3,FALSE),\"\")","v":""},{"$f":"IFERROR(VLOOKUP($B1167,'Building Data'!$F:$AA,22,FALSE),\"\")","v":""},{"$f":"IFERROR(VLOOKUP($B1167,'Building Data'!$F$4:$AE$2970,26,FALSE),\"\")","v":""}]
[null,null,{"$f":"IFERROR(VLOOKUP($B1168,'Building Data'!$F:$H,3,FALSE),\"\")","v":""},{"$f":"IFERROR(VLOOKUP($B1168,'Building Data'!$F:$AA,22,FALSE),\"\")","v":""},{"$f":"IFERROR(VLOOKUP($B1168,'Building Data'!$F$4:$AE$2970,26,FALSE),\"\")","v":""}]
[null,null,{"$f":"IFERROR(VLOOKUP($B1169,'Building Data'!$F:$H,3,FALSE),\"\")","v":""},{"$f":"IFERROR(VLOOKUP($B1169,'Building Data'!$F:$AA,22,FALSE),\"\")","v":""},{"$f":"IFERROR(VLOOKUP($B1169,'Building Data'!$F$4:$AE$2970,26,FALSE),\"\")","v":""}]
[null,null,{"$f":"IFERROR(VLOOKUP($B1170,'Building Data'!$F:$H,3,FALSE),\"\")","v":""},{"$f":"IFERROR(VLOOKUP($B1170,'Building Data'!$F:$AA,22,FALSE),\"\")","v":""},{"$f":"IFERROR(VLOOKUP($B1170,'Building Data'!$F$4:$AE$2970,26,FALSE),\"\")","v":""}]
[null,null,{"$f":"IFERROR(VLOOKUP($B1171,'Building Data'!$F:$H,3,FALSE),\"\")","v":""},{"$f":"IFERROR(VLOOKUP($B1171,'Building Data'!$F:$AA,22,FALSE),\"\")","v":""},{"$f":"IFERROR(VLOOKUP($B1171,'Building Data'!$F$4:$AE$2970,26,FALSE),\"\")","v":""}]
[null,null,{"$f":"IFERROR(VLOOKUP($B1172,'Building Data'!$F:$H,3,FALSE),\"\")","v":""},{"$f":"IFERROR(VLOOKUP($B1172,'Building Data'!$F:$AA,22,FALSE),\"\")","v":""},{"$f":"IFERROR(VLOOKUP($B1172,'Building Data'!$F$4:$AE$2970,26,FALSE),\"\")","v":""}]
[null,null,{"$f":"IFERROR(VLOOKUP($B1173,'Building Data'!$F:$H,3,FALSE),\"\")","v":""},{"$f":"IFERROR(VLOOKUP($B1173,'Building Data'!$F:$AA,22,FALSE),\"\")","v":""},{"$f":"IFERROR(VLOOKUP($B1173,'Building Data'!$F$4:$AE$2970,26,FALSE),\"\")","v":""}]
[null,null,{"$f":"IFERROR(VLOOKUP($B1174,'Building Data'!$F:$H,3,FALSE),\"\")","v":""},{"$f":"IFERROR(VLOOKUP($B1174,'Building Data'!$F:$AA,22,FALSE),\"\")","v":""},{"$f":"IFERROR(VLOOKUP($B1174,'Building Data'!$F$4:$AE$2970,26,FALSE),\"\")","v":""}]
[null,null,{"$f":"IFERROR(VLOOKUP($B1175,'Building Data'!$F:$H,3,FALSE),\"\")","v":""},{"$f":"IFERROR(VLOOKUP($B1175,'Building Data'!$F:$AA,22,FALSE),\"\")","v":""},{"$f":"IFERROR(VLOOKUP($B1175,'Building Data'!$F$4:$AE$2970,26,FALSE),\"\")","v":""}]
[null,null,{"$f":"IFERROR(VLOOKUP($B1176,'Building Data'!$F:$H,3,FALSE),\"\")","v":""},{"$f":"IFERROR(VLOOKUP($B1176,'Building Data'!$F:$AA,22,FALSE),\"\")","v":""},{"$f":"IFERROR(VLOOKUP($B1176,'Building Data'!$F$4:$AE$2970,26,FALSE),\"\")","v":""}]
[null,null,{"$f":"IFERROR(VLOOKUP($B1177,'Building Data'!$F:$H,3,FALSE),\"\")","v":""},{"$f":"IFERROR(VLOOKUP($B1177,'Building Data'!$F:$AA,22,FALSE),\"\")","v":""},{"$f":"IFERROR(VLOOKUP($B1177,'Building Data'!$F$4:$AE$2970,26,FALSE),\"\")","v":""}]
[null,null,{"$f":"IFERROR(VLOOKUP($B1178,'Building Data'!$F:$H,3,FALSE),\"\")","v":""},{"$f":"IFERROR(VLOOKUP($B1178,'Building Data'!$F:$AA,22,FALSE),\"\")","v":""},{"$f":"IFERROR(VLOOKUP($B1178,'Building Data'!$F$4:$AE$2970,26,FALSE),\"\")","v":""}]
[null,null,{"$f":"IFERROR(VLOOKUP($B1179,'Building Data'!$F:$H,3,FALSE),\"\")","v":""},{"$f":"IFERROR(VLOOKUP($B1179,'Building Data'!$F:$AA,22,FALSE),\"\")","v":""},{"$f":"IFERROR(VLOOKUP($B1179,'Building Data'!$F$4:$AE$2970,26,FALSE),\"\")","v":""}]
[null,null,{"$f":"IFERROR(VLOOKUP($B1180,'Building Data'!$F:$H,3,FALSE),\"\")","v":""},{"$f":"IFERROR(VLOOKUP($B1180,'Building Data'!$F:$AA,22,FALSE),\"\")","v":""},{"$f":"IFERROR(VLOOKUP($B1180,'Building Data'!$F$4:$AE$2970,26,FALSE),\"\")","v":""}]
[null,null,{"$f":"IFERROR(VLOOKUP($B1181,'Building Data'!$F:$H,3,FALSE),\"\")","v":""},{"$f":"IFERROR(VLOOKUP($B1181,'Building Data'!$F:$AA,22,FALSE),\"\")","v":""},{"$f":"IFERROR(VLOOKUP($B1181,'Building Data'!$F$4:$AE$2970,26,FALSE),\"\")","v":""}]
[null,null,{"$f":"IFERROR(VLOOKUP($B1182,'Building Data'!$F:$H,3,FALSE),\"\")","v":""},{"$f":"IFERROR(VLOOKUP($B1182,'Building Data'!$F:$AA,22,FALSE),\"\")","v":""},{"$f":"IFERROR(VLOOKUP($B1182,'Building Data'!$F$4:$AE$2970,26,FALSE),\"\")","v":""}]
[null,null,{"$f":"IFERROR(VLOOKUP($B1183,'Building Data'!$F:$H,3,FALSE),\"\")","v":""},{"$f":"IFERROR(VLOOKUP($B1183,'Building Data'!$F:$AA,22,FALSE),\"\")","v":""},{"$f":"IFERROR(VLOOKUP($B1183,'Building Data'!$F$4:$AE$2970,26,FALSE),\"\")","v":""}]
[null,null,{"$f":"IFERROR(VLOOKUP($B1184,'Building Data'!$F:$H,3,FALSE),\"\")","v":""},{"$f":"IFERROR(VLOOKUP($B1184,'Building Data'!$F:$AA,22,FALSE),\"\")","v":""},{"$f":"IFERROR(VLOOKUP($B1184,'Building Data'!$F$4:$AE$2970,26,FALSE),\"\")","v":""}]
[null,null,{"$f":"IFERROR(VLOOKUP($B1185,'Building Data'!$F:$H,3,FALSE),\"\")","v":""},{"$f":"IFERROR(VLOOKUP($B1185,'Building Data'!$F:$AA,22,FALSE),\"\")","v":""},{"$f":"IFERROR(VLOOKUP($B1185,'Building Data'!$F$4:$AE$2970,26,FALSE),\"\")","v":""}]
[null,null,{"$f":"IFERROR(VLOOKUP($B1186,'Building Data'!$F:$H,3,FALSE),\"\")","v":""},{"$f":"IFERROR(VLOOKUP($B1186,'Building Data'!$F:$AA,22,FALSE),\"\")","v":""},{"$f":"IFERROR(VLOOKUP($B1186,'Building Data'!$F$4:$AE$2970,26,FALSE),\"\")","v":""}]
[null,null,{"$f":"IFERROR(VLOOKUP($B1187,'Building Data'!$F:$H,3,FALSE),\"\")","v":""},{"$f":"IFERROR(VLOOKUP($B1187,'Building Data'!$F:$AA,22,FALSE),\"\")","v":""},{"$f":"IFERROR(VLOOKUP($B1187,'Building Data'!$F$4:$AE$2970,26,FALSE),\"\")","v":""}]
[null,null,{"$f":"IFERROR(VLOOKUP($B1188,'Building Data'!$F:$H,3,FALSE),\"\")","v":""},{"$f":"IFERROR(VLOOKUP($B1188,'Building Data'!$F:$AA,22,FALSE),\"\")","v":""},{"$f":"IFERROR(VLOOKUP($B1188,'Building Data'!$F$4:$AE$2970,26,FALSE),\"\")","v":""}]
[null,null,{"$f":"IFERROR(VLOOKUP($B1189,'Building Data'!$F:$H,3,FALSE),\"\")","v":""},{"$f":"IFERROR(VLOOKUP($B1189,'Building Data'!$F:$AA,22,FALSE),\"\")","v":""},{"$f":"IFERROR(VLOOKUP($B1189,'Building Data'!$F$4:$AE$2970,26,FALSE),\"\")","v":""}]
[null,null,{"$f":"IFERROR(VLOOKUP($B1190,'Building Data'!$F:$H,3,FALSE),\"\")","v":""},{"$f":"IFERROR(VLOOKUP($B1190,'Building Data'!$F:$AA,22,FALSE),\"\")","v":""},{"$f":"IFERROR(VLOOKUP($B1190,'Building Data'!$F$4:$AE$2970,26,FALSE),\"\")","v":""}]
[null,null,{"$f":"IFERROR(VLOOKUP($B1191,'Building Data'!$F:$H,3,FALSE),\"\")","v":""},{"$f":"IFERROR(VLOOKUP($B1191,'Building Data'!$F:$AA,22,FALSE),\"\")","v":""},{"$f":"IFERROR(VLOOKUP($B1191,'Building Data'!$F$4:$AE$2970,26,FALSE),\"\")","v":""}]
[null,null,{"$f":"IFERROR(VLOOKUP($B1192,'Building Data'!$F:$H,3,FALSE),\"\")","v":""},{"$f":"IFERROR(VLOOKUP($B1192,'Building Data'!$F:$AA,22,FALSE),\"\")","v":""},{"$f":"IFERROR(VLOOKUP($B1192,'Building Data'!$F$4:$AE$2970,26,FALSE),\"\")","v":""}]
[null,null,{"$f":"IFERROR(VLOOKUP($B1193,'Building Data'!$F:$H,3,FALSE),\"\")","v":""},{"$f":"IFERROR(VLOOKUP($B1193,'Building Data'!$F:$AA,22,FALSE),\"\")","v":""},{"$f":"IFERROR(VLOOKUP($B1193,'Building Data'!$F$4:$AE$2970,26,FALSE),\"\")","v":""}]
[null,null,{"$f":"IFERROR(VLOOKUP($B1194,'Building Data'!$F:$H,3,FALSE),\"\")","v":""},{"$f":"IFERROR(VLOOKUP($B1194,'Building Data'!$F:$AA,22,FALSE),\"\")","v":""},{"$f":"IFERROR(VLOOKUP($B1194,'Building Data'!$F$4:$AE$2970,26,FALSE),\"\")","v":""}]
[null,null,{"$f":"IFERROR(VLOOKUP($B1195,'Building Data'!$F:$H,3,FALSE),\"\")","v":""},{"$f":"IFERROR(VLOOKUP($B1195,'Building Data'!$F:$AA,22,FALSE),\"\")","v":""},{"$f":"IFERROR(VLOOKUP($B1195,'Building Data'!$F$4:$AE$2970,26,FALSE),\"\")","v":""}]
[null,null,{"$f":"IFERROR(VLOOKUP($B1196,'Building Data'!$F:$H,3,FALSE),\"\")","v":""},{"$f":"IFERROR(VLOOKUP($B1196,'Building Data'!$F:$AA,22,FALSE),\"\")","v":""},{"$f":"IFERROR(VLOOKUP($B1196,'Building Data'!$F$4:$AE$2970,26,FALSE),\"\")","v":""}]
[null,null,{"$f":"IFERROR(VLOOKUP($B1197,'Building Data'!$F:$H,3,FALSE),\"\")","v":""},{"$f":"IFERROR(VLOOKUP($B1197,'Building Data'!$F:$AA,22,FALSE),\"\")","v":""},{"$f":"IFERROR(VLOOKUP($B1197,'Building Data'!$F$4:$AE$2970,26,FALSE),\"\")","v":""}]
[null,null,{"$f":"IFERROR(VLOOKUP($B1198,'Building Data'!$F:$H,3,FALSE),\"\")","v":""},{"$f":"IFERROR(VLOOKUP($B1198,'Building Data'!$F:$AA,22,FALSE),\"\")","v":""},{"$f":"IFERROR(VLOOKUP($B1198,'Building Data'!$F$4:$AE$2970,26,FALSE),\"\")","v":""}]
[null,null,{"$f":"IFERROR(VLOOKUP($B1199,'Building Data'!$F:$H,3,FALSE),\"\")","v":""},{"$f":"IFERROR(VLOOKUP($B1199,'Building Data'!$F:$AA,22,FALSE),\"\")","v":""},{"$f":"IFERROR(VLOOKUP($B1199,'Building Data'!$F$4:$AE$2970,26,FALSE),\"\")","v":""}]
[null,null,{"$f":"IFERROR(VLOOKUP($B1200,'Building Data'!$F:$H,3,FALSE),\"\")","v":""},{"$f":"IFERROR(VLOOKUP($B1200,'Building Data'!$F:$AA,22,FALSE),\"\")","v":""},{"$f":"IFERROR(VLOOKUP($B1200,'Building Data'!$F$4:$AE$2970,26,FALSE),\"\")","v":""}]
[null,null,{"$f":"IFERROR(VLOOKUP($B1201,'Building Data'!$F:$H,3,FALSE),\"\")","v":""},{"$f":"IFERROR(VLOOKUP($B1201,'Building Data'!$F:$AA,22,FALSE),\"\")","v":""},{"$f":"IFERROR(VLOOKUP($B1201,'Building Data'!$F$4:$AE$2970,26,FALSE),\"\")","v":""}]
[null,null,{"$f":"IFERROR(VLOOKUP($B1202,'Building Data'!$F:$H,3,FALSE),\"\")","v":""},{"$f":"IFERROR(VLOOKUP($B1202,'Building Data'!$F:$AA,22,FALSE),\"\")","v":""},{"$f":"IFERROR(VLOOKUP($B1202,'Building Data'!$F$4:$AE$2970,26,FALSE),\"\")","v":""}]
[null,null,{"$f":"IFERROR(VLOOKUP($B1203,'Building Data'!$F:$H,3,FALSE),\"\")","v":""},{"$f":"IFERROR(VLOOKUP($B1203,'Building Data'!$F:$AA,22,FALSE),\"\")","v":""},{"$f":"IFERROR(VLOOKUP($B1203,'Building Data'!$F$4:$AE$2970,26,FALSE),\"\")","v":""}]
[null,null,{"$f":"IFERROR(VLOOKUP($B1204,'Building Data'!$F:$H,3,FALSE),\"\")","v":""},{"$f":"IFERROR(VLOOKUP($B1204,'Building Data'!$F:$AA,22,FALSE),\"\")","v":""},{"$f":"IFERROR(VLOOKUP($B1204,'Building Data'!$F$4:$AE$2970,26,FALSE),\"\")","v":""}]
[null,null,{"$f":"IFERROR(VLOOKUP($B1205,'Building Data'!$F:$H,3,FALSE),\"\")","v":""},{"$f":"IFERROR(VLOOKUP($B1205,'Building Data'!$F:$AA,22,FALSE),\"\")","v":""},{"$f":"IFERROR(VLOOKUP($B1205,'Building Data'!$F$4:$AE$2970,26,FALSE),\"\")","v":""}]
[null,null,{"$f":"IFERROR(VLOOKUP($B1206,'Building Data'!$F:$H,3,FALSE),\"\")","v":""},{"$f":"IFERROR(VLOOKUP($B1206,'Building Data'!$F:$AA,22,FALSE),\"\")","v":""},{"$f":"IFERROR(VLOOKUP($B1206,'Building Data'!$F$4:$AE$2970,26,FALSE),\"\")","v":""}]
[null,null,{"$f":"IFERROR(VLOOKUP($B1207,'Building Data'!$F:$H,3,FALSE),\"\")","v":""},{"$f":"IFERROR(VLOOKUP($B1207,'Building Data'!$F:$AA,22,FALSE),\"\")","v":""},{"$f":"IFERROR(VLOOKUP($B1207,'Building Data'!$F$4:$AE$2970,26,FALSE),\"\")","v":""}]
[null,null,{"$f":"IFERROR(VLOOKUP($B1208,'Building Data'!$F:$H,3,FALSE),\"\")","v":""},{"$f":"IFERROR(VLOOKUP($B1208,'Building Data'!$F:$AA,22,FALSE),\"\")","v":""},{"$f":"IFERROR(VLOOKUP($B1208,'Building Data'!$F$4:$AE$2970,26,FALSE),\"\")","v":""}]
[null,null,{"$f":"IFERROR(VLOOKUP($B1209,'Building Data'!$F:$H,3,FALSE),\"\")","v":""},{"$f":"IFERROR(VLOOKUP($B1209,'Building Data'!$F:$AA,22,FALSE),\"\")","v":""},{"$f":"IFERROR(VLOOKUP($B1209,'Building Data'!$F$4:$AE$2970,26,FALSE),\"\")","v":""}]
[null,null,{"$f":"IFERROR(VLOOKUP($B1210,'Building Data'!$F:$H,3,FALSE),\"\")","v":""},{"$f":"IFERROR(VLOOKUP($B1210,'Building Data'!$F:$AA,22,FALSE),\"\")","v":""},{"$f":"IFERROR(VLOOKUP($B1210,'Building Data'!$F$4:$AE$2970,26,FALSE),\"\")","v":""}]
[null,null,{"$f":"IFERROR(VLOOKUP($B1211,'Building Data'!$F:$H,3,FALSE),\"\")","v":""},{"$f":"IFERROR(VLOOKUP($B1211,'Building Data'!$F:$AA,22,FALSE),\"\")","v":""},{"$f":"IFERROR(VLOOKUP($B1211,'Building Data'!$F$4:$AE$2970,26,FALSE),\"\")","v":""}]
[null,null,{"$f":"IFERROR(VLOOKUP($B1212,'Building Data'!$F:$H,3,FALSE),\"\")","v":""},{"$f":"IFERROR(VLOOKUP($B1212,'Building Data'!$F:$AA,22,FALSE),\"\")","v":""},{"$f":"IFERROR(VLOOKUP($B1212,'Building Data'!$F$4:$AE$2970,26,FALSE),\"\")","v":""}]
[null,null,{"$f":"IFERROR(VLOOKUP($B1213,'Building Data'!$F:$H,3,FALSE),\"\")","v":""},{"$f":"IFERROR(VLOOKUP($B1213,'Building Data'!$F:$AA,22,FALSE),\"\")","v":""},{"$f":"IFERROR(VLOOKUP($B1213,'Building Data'!$F$4:$AE$2970,26,FALSE),\"\")","v":""}]
[null,null,{"$f":"IFERROR(VLOOKUP($B1214,'Building Data'!$F:$H,3,FALSE),\"\")","v":""},{"$f":"IFERROR(VLOOKUP($B1214,'Building Data'!$F:$AA,22,FALSE),\"\")","v":""},{"$f":"IFERROR(VLOOKUP($B1214,'Building Data'!$F$4:$AE$2970,26,FALSE),\"\")","v":""}]
[null,null,{"$f":"IFERROR(VLOOKUP($B1215,'Building Data'!$F:$H,3,FALSE),\"\")","v":""},{"$f":"IFERROR(VLOOKUP($B1215,'Building Data'!$F:$AA,22,FALSE),\"\")","v":""},{"$f":"IFERROR(VLOOKUP($B1215,'Building Data'!$F$4:$AE$2970,26,FALSE),\"\")","v":""}]
[null,null,{"$f":"IFERROR(VLOOKUP($B1216,'Building Data'!$F:$H,3,FALSE),\"\")","v":""},{"$f":"IFERROR(VLOOKUP($B1216,'Building Data'!$F:$AA,22,FALSE),\"\")","v":""},{"$f":"IFERROR(VLOOKUP($B1216,'Building Data'!$F$4:$AE$2970,26,FALSE),\"\")","v":""}]
[null,null,{"$f":"IFERROR(VLOOKUP($B1217,'Building Data'!$F:$H,3,FALSE),\"\")","v":""},{"$f":"IFERROR(VLOOKUP($B1217,'Building Data'!$F:$AA,22,FALSE),\"\")","v":""},{"$f":"IFERROR(VLOOKUP($B1217,'Building Data'!$F$4:$AE$2970,26,FALSE),\"\")","v":""}]
[null,null,{"$f":"IFERROR(VLOOKUP($B1218,'Building Data'!$F:$H,3,FALSE),\"\")","v":""},{"$f":"IFERROR(VLOOKUP($B1218,'Building Data'!$F:$AA,22,FALSE),\"\")","v":""},{"$f":"IFERROR(VLOOKUP($B1218,'Building Data'!$F$4:$AE$2970,26,FALSE),\"\")","v":""}]
[null,null,{"$f":"IFERROR(VLOOKUP($B1219,'Building Data'!$F:$H,3,FALSE),\"\")","v":""},{"$f":"IFERROR(VLOOKUP($B1219,'Building Data'!$F:$AA,22,FALSE),\"\")","v":""},{"$f":"IFERROR(VLOOKUP($B1219,'Building Data'!$F$4:$AE$2970,26,FALSE),\"\")","v":""}]
[null,null,{"$f":"IFERROR(VLOOKUP($B1220,'Building Data'!$F:$H,3,FALSE),\"\")","v":""},{"$f":"IFERROR(VLOOKUP($B1220,'Building Data'!$F:$AA,22,FALSE),\"\")","v":""},{"$f":"IFERROR(VLOOKUP($B1220,'Building Data'!$F$4:$AE$2970,26,FALSE),\"\")","v":""}]
[null,null,{"$f":"IFERROR(VLOOKUP($B1221,'Building Data'!$F:$H,3,FALSE),\"\")","v":""},{"$f":"IFERROR(VLOOKUP($B1221,'Building Data'!$F:$AA,22,FALSE),\"\")","v":""},{"$f":"IFERROR(VLOOKUP($B1221,'Building Data'!$F$4:$AE$2970,26,FALSE),\"\")","v":""}]
[null,null,{"$f":"IFERROR(VLOOKUP($B1222,'Building Data'!$F:$H,3,FALSE),\"\")","v":""},{"$f":"IFERROR(VLOOKUP($B1222,'Building Data'!$F:$AA,22,FALSE),\"\")","v":""},{"$f":"IFERROR(VLOOKUP($B1222,'Building Data'!$F$4:$AE$2970,26,FALSE),\"\")","v":""}]
[null,null,{"$f":"IFERROR(VLOOKUP($B1223,'Building Data'!$F:$H,3,FALSE),\"\")","v":""},{"$f":"IFERROR(VLOOKUP($B1223,'Building Data'!$F:$AA,22,FALSE),\"\")","v":""},{"$f":"IFERROR(VLOOKUP($B1223,'Building Data'!$F$4:$AE$2970,26,FALSE),\"\")","v":""}]
[null,null,{"$f":"IFERROR(VLOOKUP($B1224,'Building Data'!$F:$H,3,FALSE),\"\")","v":""},{"$f":"IFERROR(VLOOKUP($B1224,'Building Data'!$F:$AA,22,FALSE),\"\")","v":""},{"$f":"IFERROR(VLOOKUP($B1224,'Building Data'!$F$4:$AE$2970,26,FALSE),\"\")","v":""}]
[null,null,{"$f":"IFERROR(VLOOKUP($B1225,'Building Data'!$F:$H,3,FALSE),\"\")","v":""},{"$f":"IFERROR(VLOOKUP($B1225,'Building Data'!$F:$AA,22,FALSE),\"\")","v":""},{"$f":"IFERROR(VLOOKUP($B1225,'Building Data'!$F$4:$AE$2970,26,FALSE),\"\")","v":""}]
[null,null,{"$f":"IFERROR(VLOOKUP($B1226,'Building Data'!$F:$H,3,FALSE),\"\")","v":""},{"$f":"IFERROR(VLOOKUP($B1226,'Building Data'!$F:$AA,22,FALSE),\"\")","v":""},{"$f":"IFERROR(VLOOKUP($B1226,'Building Data'!$F$4:$AE$2970,26,FALSE),\"\")","v":""}]
[null,null,{"$f":"IFERROR(VLOOKUP($B1227,'Building Data'!$F:$H,3,FALSE),\"\")","v":""},{"$f":"IFERROR(VLOOKUP($B1227,'Building Data'!$F:$AA,22,FALSE),\"\")","v":""},{"$f":"IFERROR(VLOOKUP($B1227,'Building Data'!$F$4:$AE$2970,26,FALSE),\"\")","v":""}]
[null,null,{"$f":"IFERROR(VLOOKUP($B1228,'Building Data'!$F:$H,3,FALSE),\"\")","v":""},{"$f":"IFERROR(VLOOKUP($B1228,'Building Data'!$F:$AA,22,FALSE),\"\")","v":""},{"$f":"IFERROR(VLOOKUP($B1228,'Building Data'!$F$4:$AE$2970,26,FALSE),\"\")","v":""}]
[null,null,{"$f":"IFERROR(VLOOKUP($B1229,'Building Data'!$F:$H,3,FALSE),\"\")","v":""},{"$f":"IFERROR(VLOOKUP($B1229,'Building Data'!$F:$AA,22,FALSE),\"\")","v":""},{"$f":"IFERROR(VLOOKUP($B1229,'Building Data'!$F$4:$AE$2970,26,FALSE),\"\")","v":""}]
[null,null,{"$f":"IFERROR(VLOOKUP($B1230,'Building Data'!$F:$H,3,FALSE),\"\")","v":""},{"$f":"IFERROR(VLOOKUP($B1230,'Building Data'!$F:$AA,22,FALSE),\"\")","v":""},{"$f":"IFERROR(VLOOKUP($B1230,'Building Data'!$F$4:$AE$2970,26,FALSE),\"\")","v":""}]
[null,null,{"$f":"IFERROR(VLOOKUP($B1231,'Building Data'!$F:$H,3,FALSE),\"\")","v":""},{"$f":"IFERROR(VLOOKUP($B1231,'Building Data'!$F:$AA,22,FALSE),\"\")","v":""},{"$f":"IFERROR(VLOOKUP($B1231,'Building Data'!$F$4:$AE$2970,26,FALSE),\"\")","v":""}]
[null,null,{"$f":"IFERROR(VLOOKUP($B1232,'Building Data'!$F:$H,3,FALSE),\"\")","v":""},{"$f":"IFERROR(VLOOKUP($B1232,'Building Data'!$F:$AA,22,FALSE),\"\")","v":""},{"$f":"IFERROR(VLOOKUP($B1232,'Building Data'!$F$4:$AE$2970,26,FALSE),\"\")","v":""}]
[null,null,{"$f":"IFERROR(VLOOKUP($B1233,'Building Data'!$F:$H,3,FALSE),\"\")","v":""},{"$f":"IFERROR(VLOOKUP($B1233,'Building Data'!$F:$AA,22,FALSE),\"\")","v":""},{"$f":"IFERROR(VLOOKUP($B1233,'Building Data'!$F$4:$AE$2970,26,FALSE),\"\")","v":""}]
[null,null,{"$f":"IFERROR(VLOOKUP($B1234,'Building Data'!$F:$H,3,FALSE),\"\")","v":""},{"$f":"IFERROR(VLOOKUP($B1234,'Building Data'!$F:$AA,22,FALSE),\"\")","v":""},{"$f":"IFERROR(VLOOKUP($B1234,'Building Data'!$F$4:$AE$2970,26,FALSE),\"\")","v":""}]
[null,null,{"$f":"IFERROR(VLOOKUP($B1235,'Building Data'!$F:$H,3,FALSE),\"\")","v":""},{"$f":"IFERROR(VLOOKUP($B1235,'Building Data'!$F:$AA,22,FALSE),\"\")","v":""},{"$f":"IFERROR(VLOOKUP($B1235,'Building Data'!$F$4:$AE$2970,26,FALSE),\"\")","v":""}]
[null,null,{"$f":"IFERROR(VLOOKUP($B1236,'Building Data'!$F:$H,3,FALSE),\"\")","v":""},{"$f":"IFERROR(VLOOKUP($B1236,'Building Data'!$F:$AA,22,FALSE),\"\")","v":""},{"$f":"IFERROR(VLOOKUP($B1236,'Building Data'!$F$4:$AE$2970,26,FALSE),\"\")","v":""}]
[null,null,{"$f":"IFERROR(VLOOKUP($B1237,'Building Data'!$F:$H,3,FALSE),\"\")","v":""},{"$f":"IFERROR(VLOOKUP($B1237,'Building Data'!$F:$AA,22,FALSE),\"\")","v":""},{"$f":"IFERROR(VLOOKUP($B1237,'Building Data'!$F$4:$AE$2970,26,FALSE),\"\")","v":""}]
[null,null,{"$f":"IFERROR(VLOOKUP($B1238,'Building Data'!$F:$H,3,FALSE),\"\")","v":""},{"$f":"IFERROR(VLOOKUP($B1238,'Building Data'!$F:$AA,22,FALSE),\"\")","v":""},{"$f":"IFERROR(VLOOKUP($B1238,'Building Data'!$F$4:$AE$2970,26,FALSE),\"\")","v":""}]
[null,null,{"$f":"IFERROR(VLOOKUP($B1239,'Building Data'!$F:$H,3,FALSE),\"\")","v":""},{"$f":"IFERROR(VLOOKUP($B1239,'Building Data'!$F:$AA,22,FALSE),\"\")","v":""},{"$f":"IFERROR(VLOOKUP($B1239,'Building Data'!$F$4:$AE$2970,26,FALSE),\"\")","v":""}]
[null,null,{"$f":"IFERROR(VLOOKUP($B1240,'Building Data'!$F:$H,3,FALSE),\"\")","v":""},{"$f":"IFERROR(VLOOKUP($B1240,'Building Data'!$F:$AA,22,FALSE),\"\")","v":""},{"$f":"IFERROR(VLOOKUP($B1240,'Building Data'!$F$4:$AE$2970,26,FALSE),\"\")","v":""}]
[null,null,{"$f":"IFERROR(VLOOKUP($B1241,'Building Data'!$F:$H,3,FALSE),\"\")","v":""},{"$f":"IFERROR(VLOOKUP($B1241,'Building Data'!$F:$AA,22,FALSE),\"\")","v":""},{"$f":"IFERROR(VLOOKUP($B1241,'Building Data'!$F$4:$AE$2970,26,FALSE),\"\")","v":""}]
[null,null,{"$f":"IFERROR(VLOOKUP($B1242,'Building Data'!$F:$H,3,FALSE),\"\")","v":""},{"$f":"IFERROR(VLOOKUP($B1242,'Building Data'!$F:$AA,22,FALSE),\"\")","v":""},{"$f":"IFERROR(VLOOKUP($B1242,'Building Data'!$F$4:$AE$2970,26,FALSE),\"\")","v":""}]
[null,null,{"$f":"IFERROR(VLOOKUP($B1243,'Building Data'!$F:$H,3,FALSE),\"\")","v":""},{"$f":"IFERROR(VLOOKUP($B1243,'Building Data'!$F:$AA,22,FALSE),\"\")","v":""},{"$f":"IFERROR(VLOOKUP($B1243,'Building Data'!$F$4:$AE$2970,26,FALSE),\"\")","v":""}]
[null,null,{"$f":"IFERROR(VLOOKUP($B1244,'Building Data'!$F:$H,3,FALSE),\"\")","v":""},{"$f":"IFERROR(VLOOKUP($B1244,'Building Data'!$F:$AA,22,FALSE),\"\")","v":""},{"$f":"IFERROR(VLOOKUP($B1244,'Building Data'!$F$4:$AE$2970,26,FALSE),\"\")","v":""}]
[null,null,{"$f":"IFERROR(VLOOKUP($B1245,'Building Data'!$F:$H,3,FALSE),\"\")","v":""},{"$f":"IFERROR(VLOOKUP($B1245,'Building Data'!$F:$AA,22,FALSE),\"\")","v":""},{"$f":"IFERROR(VLOOKUP($B1245,'Building Data'!$F$4:$AE$2970,26,FALSE),\"\")","v":""}]
[null,null,{"$f":"IFERROR(VLOOKUP($B1246,'Building Data'!$F:$H,3,FALSE),\"\")","v":""},{"$f":"IFERROR(VLOOKUP($B1246,'Building Data'!$F:$AA,22,FALSE),\"\")","v":""},{"$f":"IFERROR(VLOOKUP($B1246,'Building Data'!$F$4:$AE$2970,26,FALSE),\"\")","v":""}]
[null,null,{"$f":"IFERROR(VLOOKUP($B1247,'Building Data'!$F:$H,3,FALSE),\"\")","v":""},{"$f":"IFERROR(VLOOKUP($B1247,'Building Data'!$F:$AA,22,FALSE),\"\")","v":""},{"$f":"IFERROR(VLOOKUP($B1247,'Building Data'!$F$4:$AE$2970,26,FALSE),\"\")","v":""}]
[null,null,{"$f":"IFERROR(VLOOKUP($B1248,'Building Data'!$F:$H,3,FALSE),\"\")","v":""},{"$f":"IFERROR(VLOOKUP($B1248,'Building Data'!$F:$AA,22,FALSE),\"\")","v":""},{"$f":"IFERROR(VLOOKUP($B1248,'Building Data'!$F$4:$AE$2970,26,FALSE),\"\")","v":""}]
[null,null,{"$f":"IFERROR(VLOOKUP($B1249,'Building Data'!$F:$H,3,FALSE),\"\")","v":""},{"$f":"IFERROR(VLOOKUP($B1249,'Building Data'!$F:$AA,22,FALSE),\"\")","v":""},{"$f":"IFERROR(VLOOKUP($B1249,'Building Data'!$F$4:$AE$2970,26,FALSE),\"\")","v":""}]
[null,null,{"$f":"IFERROR(VLOOKUP($B1250,'Building Data'!$F:$H,3,FALSE),\"\")","v":""},{"$f":"IFERROR(VLOOKUP($B1250,'Building Data'!$F:$AA,22,FALSE),\"\")","v":""},{"$f":"IFERROR(VLOOKUP($B1250,'Building Data'!$F$4:$AE$2970,26,FALSE),\"\")","v":""}]
[null,null,{"$f":"IFERROR(VLOOKUP($B1251,'Building Data'!$F:$H,3,FALSE),\"\")","v":""},{"$f":"IFERROR(VLOOKUP($B1251,'Building Data'!$F:$AA,22,FALSE),\"\")","v":""},{"$f":"IFERROR(VLOOKUP($B1251,'Building Data'!$F$4:$AE$2970,26,FALSE),\"\")","v":""}]
[null,null,{"$f":"IFERROR(VLOOKUP($B1252,'Building Data'!$F:$H,3,FALSE),\"\")","v":""},{"$f":"IFERROR(VLOOKUP($B1252,'Building Data'!$F:$AA,22,FALSE),\"\")","v":""},{"$f":"IFERROR(VLOOKUP($B1252,'Building Data'!$F$4:$AE$2970,26,FALSE),\"\")","v":""}]
[null,null,{"$f":"IFERROR(VLOOKUP($B1253,'Building Data'!$F:$H,3,FALSE),\"\")","v":""},{"$f":"IFERROR(VLOOKUP($B1253,'Building Data'!$F:$AA,22,FALSE),\"\")","v":""},{"$f":"IFERROR(VLOOKUP($B1253,'Building Data'!$F$4:$AE$2970,26,FALSE),\"\")","v":""}]
[null,null,{"$f":"IFERROR(VLOOKUP($B1254,'Building Data'!$F:$H,3,FALSE),\"\")","v":""},{"$f":"IFERROR(VLOOKUP($B1254,'Building Data'!$F:$AA,22,FALSE),\"\")","v":""},{"$f":"IFERROR(VLOOKUP($B1254,'Building Data'!$F$4:$AE$2970,26,FALSE),\"\")","v":""}]
[null,null,{"$f":"IFERROR(VLOOKUP($B1255,'Building Data'!$F:$H,3,FALSE),\"\")","v":""},{"$f":"IFERROR(VLOOKUP($B1255,'Building Data'!$F:$AA,22,FALSE),\"\")","v":""},{"$f":"IFERROR(VLOOKUP($B1255,'Building Data'!$F$4:$AE$2970,26,FALSE),\"\")","v":""}]
[null,null,{"$f":"IFERROR(VLOOKUP($B1256,'Building Data'!$F:$H,3,FALSE),\"\")","v":""},{"$f":"IFERROR(VLOOKUP($B1256,'Building Data'!$F:$AA,22,FALSE),\"\")","v":""},{"$f":"IFERROR(VLOOKUP($B1256,'Building Data'!$F$4:$AE$2970,26,FALSE),\"\")","v":""}]
[null,null,{"$f":"IFERROR(VLOOKUP($B1257,'Building Data'!$F:$H,3,FALSE),\"\")","v":""},{"$f":"IFERROR(VLOOKUP($B1257,'Building Data'!$F:$AA,22,FALSE),\"\")","v":""},{"$f":"IFERROR(VLOOKUP($B1257,'Building Data'!$F$4:$AE$2970,26,FALSE),\"\")","v":""}]
[null,null,{"$f":"IFERROR(VLOOKUP($B1258,'Building Data'!$F:$H,3,FALSE),\"\")","v":""},{"$f":"IFERROR(VLOOKUP($B1258,'Building Data'!$F:$AA,22,FALSE),\"\")","v":""},{"$f":"IFERROR(VLOOKUP($B1258,'Building Data'!$F$4:$AE$2970,26,FALSE),\"\")","v":""}]
[null,null,{"$f":"IFERROR(VLOOKUP($B1259,'Building Data'!$F:$H,3,FALSE),\"\")","v":""},{"$f":"IFERROR(VLOOKUP($B1259,'Building Data'!$F:$AA,22,FALSE),\"\")","v":""},{"$f":"IFERROR(VLOOKUP($B1259,'Building Data'!$F$4:$AE$2970,26,FALSE),\"\")","v":""}]
[null,null,{"$f":"IFERROR(VLOOKUP($B1260,'Building Data'!$F:$H,3,FALSE),\"\")","v":""},{"$f":"IFERROR(VLOOKUP($B1260,'Building Data'!$F:$AA,22,FALSE),\"\")","v":""},{"$f":"IFERROR(VLOOKUP($B1260,'Building Data'!$F$4:$AE$2970,26,FALSE),\"\")","v":""}]
[null,null,{"$f":"IFERROR(VLOOKUP($B1261,'Building Data'!$F:$H,3,FALSE),\"\")","v":""},{"$f":"IFERROR(VLOOKUP($B1261,'Building Data'!$F:$AA,22,FALSE),\"\")","v":""},{"$f":"IFERROR(VLOOKUP($B1261,'Building Data'!$F$4:$AE$2970,26,FALSE),\"\")","v":""}]
[null,null,{"$f":"IFERROR(VLOOKUP($B1262,'Building Data'!$F:$H,3,FALSE),\"\")","v":""},{"$f":"IFERROR(VLOOKUP($B1262,'Building Data'!$F:$AA,22,FALSE),\"\")","v":""},{"$f":"IFERROR(VLOOKUP($B1262,'Building Data'!$F$4:$AE$2970,26,FALSE),\"\")","v":""}]
[null,null,{"$f":"IFERROR(VLOOKUP($B1263,'Building Data'!$F:$H,3,FALSE),\"\")","v":""},{"$f":"IFERROR(VLOOKUP($B1263,'Building Data'!$F:$AA,22,FALSE),\"\")","v":""},{"$f":"IFERROR(VLOOKUP($B1263,'Building Data'!$F$4:$AE$2970,26,FALSE),\"\")","v":""}]
[null,null,{"$f":"IFERROR(VLOOKUP($B1264,'Building Data'!$F:$H,3,FALSE),\"\")","v":""},{"$f":"IFERROR(VLOOKUP($B1264,'Building Data'!$F:$AA,22,FALSE),\"\")","v":""},{"$f":"IFERROR(VLOOKUP($B1264,'Building Data'!$F$4:$AE$2970,26,FALSE),\"\")","v":""}]
[null,null,{"$f":"IFERROR(VLOOKUP($B1265,'Building Data'!$F:$H,3,FALSE),\"\")","v":""},{"$f":"IFERROR(VLOOKUP($B1265,'Building Data'!$F:$AA,22,FALSE),\"\")","v":""},{"$f":"IFERROR(VLOOKUP($B1265,'Building Data'!$F$4:$AE$2970,26,FALSE),\"\")","v":""}]
[null,null,{"$f":"IFERROR(VLOOKUP($B1266,'Building Data'!$F:$H,3,FALSE),\"\")","v":""},{"$f":"IFERROR(VLOOKUP($B1266,'Building Data'!$F:$AA,22,FALSE),\"\")","v":""},{"$f":"IFERROR(VLOOKUP($B1266,'Building Data'!$F$4:$AE$2970,26,FALSE),\"\")","v":""}]
[null,null,{"$f":"IFERROR(VLOOKUP($B1267,'Building Data'!$F:$H,3,FALSE),\"\")","v":""},{"$f":"IFERROR(VLOOKUP($B1267,'Building Data'!$F:$AA,22,FALSE),\"\")","v":""},{"$f":"IFERROR(VLOOKUP($B1267,'Building Data'!$F$4:$AE$2970,26,FALSE),\"\")","v":""}]
[null,null,{"$f":"IFERROR(VLOOKUP($B1268,'Building Data'!$F:$H,3,FALSE),\"\")","v":""},{"$f":"IFERROR(VLOOKUP($B1268,'Building Data'!$F:$AA,22,FALSE),\"\")","v":""},{"$f":"IFERROR(VLOOKUP($B1268,'Building Data'!$F$4:$AE$2970,26,FALSE),\"\")","v":""}]
[null,null,{"$f":"IFERROR(VLOOKUP($B1269,'Building Data'!$F:$H,3,FALSE),\"\")","v":""},{"$f":"IFERROR(VLOOKUP($B1269,'Building Data'!$F:$AA,22,FALSE),\"\")","v":""},{"$f":"IFERROR(VLOOKUP($B1269,'Building Data'!$F$4:$AE$2970,26,FALSE),\"\")","v":""}]
[null,null,{"$f":"IFERROR(VLOOKUP($B1270,'Building Data'!$F:$H,3,FALSE),\"\")","v":""},{"$f":"IFERROR(VLOOKUP($B1270,'Building Data'!$F:$AA,22,FALSE),\"\")","v":""},{"$f":"IFERROR(VLOOKUP($B1270,'Building Data'!$F$4:$AE$2970,26,FALSE),\"\")","v":""}]
[null,null,{"$f":"IFERROR(VLOOKUP($B1271,'Building Data'!$F:$H,3,FALSE),\"\")","v":""},{"$f":"IFERROR(VLOOKUP($B1271,'Building Data'!$F:$AA,22,FALSE),\"\")","v":""},{"$f":"IFERROR(VLOOKUP($B1271,'Building Data'!$F$4:$AE$2970,26,FALSE),\"\")","v":""}]
[null,null,{"$f":"IFERROR(VLOOKUP($B1272,'Building Data'!$F:$H,3,FALSE),\"\")","v":""},{"$f":"IFERROR(VLOOKUP($B1272,'Building Data'!$F:$AA,22,FALSE),\"\")","v":""},{"$f":"IFERROR(VLOOKUP($B1272,'Building Data'!$F$4:$AE$2970,26,FALSE),\"\")","v":""}]
[null,null,{"$f":"IFERROR(VLOOKUP($B1273,'Building Data'!$F:$H,3,FALSE),\"\")","v":""},{"$f":"IFERROR(VLOOKUP($B1273,'Building Data'!$F:$AA,22,FALSE),\"\")","v":""},{"$f":"IFERROR(VLOOKUP($B1273,'Building Data'!$F$4:$AE$2970,26,FALSE),\"\")","v":""}]
[null,null,{"$f":"IFERROR(VLOOKUP($B1274,'Building Data'!$F:$H,3,FALSE),\"\")","v":""},{"$f":"IFERROR(VLOOKUP($B1274,'Building Data'!$F:$AA,22,FALSE),\"\")","v":""},{"$f":"IFERROR(VLOOKUP($B1274,'Building Data'!$F$4:$AE$2970,26,FALSE),\"\")","v":""}]
[null,null,{"$f":"IFERROR(VLOOKUP($B1275,'Building Data'!$F:$H,3,FALSE),\"\")","v":""},{"$f":"IFERROR(VLOOKUP($B1275,'Building Data'!$F:$AA,22,FALSE),\"\")","v":""},{"$f":"IFERROR(VLOOKUP($B1275,'Building Data'!$F$4:$AE$2970,26,FALSE),\"\")","v":""}]
[null,null,{"$f":"IFERROR(VLOOKUP($B1276,'Building Data'!$F:$H,3,FALSE),\"\")","v":""},{"$f":"IFERROR(VLOOKUP($B1276,'Building Data'!$F:$AA,22,FALSE),\"\")","v":""},{"$f":"IFERROR(VLOOKUP($B1276,'Building Data'!$F$4:$AE$2970,26,FALSE),\"\")","v":""}]
[null,null,{"$f":"IFERROR(VLOOKUP($B1277,'Building Data'!$F:$H,3,FALSE),\"\")","v":""},{"$f":"IFERROR(VLOOKUP($B1277,'Building Data'!$F:$AA,22,FALSE),\"\")","v":""},{"$f":"IFERROR(VLOOKUP($B1277,'Building Data'!$F$4:$AE$2970,26,FALSE),\"\")","v":""}]
[null,null,{"$f":"IFERROR(VLOOKUP($B1278,'Building Data'!$F:$H,3,FALSE),\"\")","v":""},{"$f":"IFERROR(VLOOKUP($B1278,'Building Data'!$F:$AA,22,FALSE),\"\")","v":""},{"$f":"IFERROR(VLOOKUP($B1278,'Building Data'!$F$4:$AE$2970,26,FALSE),\"\")","v":""}]
[null,null,{"$f":"IFERROR(VLOOKUP($B1279,'Building Data'!$F:$H,3,FALSE),\"\")","v":""},{"$f":"IFERROR(VLOOKUP($B1279,'Building Data'!$F:$AA,22,FALSE),\"\")","v":""},{"$f":"IFERROR(VLOOKUP($B1279,'Building Data'!$F$4:$AE$2970,26,FALSE),\"\")","v":""}]
[null,null,{"$f":"IFERROR(VLOOKUP($B1280,'Building Data'!$F:$H,3,FALSE),\"\")","v":""},{"$f":"IFERROR(VLOOKUP($B1280,'Building Data'!$F:$AA,22,FALSE),\"\")","v":""},{"$f":"IFERROR(VLOOKUP($B1280,'Building Data'!$F$4:$AE$2970,26,FALSE),\"\")","v":""}]
[null,null,{"$f":"IFERROR(VLOOKUP($B1281,'Building Data'!$F:$H,3,FALSE),\"\")","v":""},{"$f":"IFERROR(VLOOKUP($B1281,'Building Data'!$F:$AA,22,FALSE),\"\")","v":""},{"$f":"IFERROR(VLOOKUP($B1281,'Building Data'!$F$4:$AE$2970,26,FALSE),\"\")","v":""}]
[null,null,{"$f":"IFERROR(VLOOKUP($B1282,'Building Data'!$F:$H,3,FALSE),\"\")","v":""},{"$f":"IFERROR(VLOOKUP($B1282,'Building Data'!$F:$AA,22,FALSE),\"\")","v":""},{"$f":"IFERROR(VLOOKUP($B1282,'Building Data'!$F$4:$AE$2970,26,FALSE),\"\")","v":""}]
[null,null,{"$f":"IFERROR(VLOOKUP($B1283,'Building Data'!$F:$H,3,FALSE),\"\")","v":""},{"$f":"IFERROR(VLOOKUP($B1283,'Building Data'!$F:$AA,22,FALSE),\"\")","v":""},{"$f":"IFERROR(VLOOKUP($B1283,'Building Data'!$F$4:$AE$2970,26,FALSE),\"\")","v":""}]
[null,null,{"$f":"IFERROR(VLOOKUP($B1284,'Building Data'!$F:$H,3,FALSE),\"\")","v":""},{"$f":"IFERROR(VLOOKUP($B1284,'Building Data'!$F:$AA,22,FALSE),\"\")","v":""},{"$f":"IFERROR(VLOOKUP($B1284,'Building Data'!$F$4:$AE$2970,26,FALSE),\"\")","v":""}]
[null,null,{"$f":"IFERROR(VLOOKUP($B1285,'Building Data'!$F:$H,3,FALSE),\"\")","v":""},{"$f":"IFERROR(VLOOKUP($B1285,'Building Data'!$F:$AA,22,FALSE),\"\")","v":""},{"$f":"IFERROR(VLOOKUP($B1285,'Building Data'!$F$4:$AE$2970,26,FALSE),\"\")","v":""}]
[null,null,{"$f":"IFERROR(VLOOKUP($B1286,'Building Data'!$F:$H,3,FALSE),\"\")","v":""},{"$f":"IFERROR(VLOOKUP($B1286,'Building Data'!$F:$AA,22,FALSE),\"\")","v":""},{"$f":"IFERROR(VLOOKUP($B1286,'Building Data'!$F$4:$AE$2970,26,FALSE),\"\")","v":""}]
[null,null,{"$f":"IFERROR(VLOOKUP($B1287,'Building Data'!$F:$H,3,FALSE),\"\")","v":""},{"$f":"IFERROR(VLOOKUP($B1287,'Building Data'!$F:$AA,22,FALSE),\"\")","v":""},{"$f":"IFERROR(VLOOKUP($B1287,'Building Data'!$F$4:$AE$2970,26,FALSE),\"\")","v":""}]
[null,null,{"$f":"IFERROR(VLOOKUP($B1288,'Building Data'!$F:$H,3,FALSE),\"\")","v":""},{"$f":"IFERROR(VLOOKUP($B1288,'Building Data'!$F:$AA,22,FALSE),\"\")","v":""},{"$f":"IFERROR(VLOOKUP($B1288,'Building Data'!$F$4:$AE$2970,26,FALSE),\"\")","v":""}]
[null,null,{"$f":"IFERROR(VLOOKUP($B1289,'Building Data'!$F:$H,3,FALSE),\"\")","v":""},{"$f":"IFERROR(VLOOKUP($B1289,'Building Data'!$F:$AA,22,FALSE),\"\")","v":""},{"$f":"IFERROR(VLOOKUP($B1289,'Building Data'!$F$4:$AE$2970,26,FALSE),\"\")","v":""}]
[null,null,{"$f":"IFERROR(VLOOKUP($B1290,'Building Data'!$F:$H,3,FALSE),\"\")","v":""},{"$f":"IFERROR(VLOOKUP($B1290,'Building Data'!$F:$AA,22,FALSE),\"\")","v":""},{"$f":"IFERROR(VLOOKUP($B1290,'Building Data'!$F$4:$AE$2970,26,FALSE),\"\")","v":""}]
[null,null,{"$f":"IFERROR(VLOOKUP($B1291,'Building Data'!$F:$H,3,FALSE),\"\")","v":""},{"$f":"IFERROR(VLOOKUP($B1291,'Building Data'!$F:$AA,22,FALSE),\"\")","v":""},{"$f":"IFERROR(VLOOKUP($B1291,'Building Data'!$F$4:$AE$2970,26,FALSE),\"\")","v":""}]
[null,null,{"$f":"IFERROR(VLOOKUP($B1292,'Building Data'!$F:$H,3,FALSE),\"\")","v":""},{"$f":"IFERROR(VLOOKUP($B1292,'Building Data'!$F:$AA,22,FALSE),\"\")","v":""},{"$f":"IFERROR(VLOOKUP($B1292,'Building Data'!$F$4:$AE$2970,26,FALSE),\"\")","v":""}]
[null,null,{"$f":"IFERROR(VLOOKUP($B1293,'Building Data'!$F:$H,3,FALSE),\"\")","v":""},{"$f":"IFERROR(VLOOKUP($B1293,'Building Data'!$F:$AA,22,FALSE),\"\")","v":""},{"$f":"IFERROR(VLOOKUP($B1293,'Building Data'!$F$4:$AE$2970,26,FALSE),\"\")","v":""}]
[null,null,{"$f":"IFERROR(VLOOKUP($B1294,'Building Data'!$F:$H,3,FALSE),\"\")","v":""},{"$f":"IFERROR(VLOOKUP($B1294,'Building Data'!$F:$AA,22,FALSE),\"\")","v":""},{"$f":"IFERROR(VLOOKUP($B1294,'Building Data'!$F$4:$AE$2970,26,FALSE),\"\")","v":""}]
[null,null,{"$f":"IFERROR(VLOOKUP($B1295,'Building Data'!$F:$H,3,FALSE),\"\")","v":""},{"$f":"IFERROR(VLOOKUP($B1295,'Building Data'!$F:$AA,22,FALSE),\"\")","v":""},{"$f":"IFERROR(VLOOKUP($B1295,'Building Data'!$F$4:$AE$2970,26,FALSE),\"\")","v":""}]
[null,null,{"$f":"IFERROR(VLOOKUP($B1296,'Building Data'!$F:$H,3,FALSE),\"\")","v":""},{"$f":"IFERROR(VLOOKUP($B1296,'Building Data'!$F:$AA,22,FALSE),\"\")","v":""},{"$f":"IFERROR(VLOOKUP($B1296,'Building Data'!$F$4:$AE$2970,26,FALSE),\"\")","v":""}]
[null,null,{"$f":"IFERROR(VLOOKUP($B1297,'Building Data'!$F:$H,3,FALSE),\"\")","v":""},{"$f":"IFERROR(VLOOKUP($B1297,'Building Data'!$F:$AA,22,FALSE),\"\")","v":""},{"$f":"IFERROR(VLOOKUP($B1297,'Building Data'!$F$4:$AE$2970,26,FALSE),\"\")","v":""}]
[null,null,{"$f":"IFERROR(VLOOKUP($B1298,'Building Data'!$F:$H,3,FALSE),\"\")","v":""},{"$f":"IFERROR(VLOOKUP($B1298,'Building Data'!$F:$AA,22,FALSE),\"\")","v":""},{"$f":"IFERROR(VLOOKUP($B1298,'Building Data'!$F$4:$AE$2970,26,FALSE),\"\")","v":""}]
[null,null,{"$f":"IFERROR(VLOOKUP($B1299,'Building Data'!$F:$H,3,FALSE),\"\")","v":""},{"$f":"IFERROR(VLOOKUP($B1299,'Building Data'!$F:$AA,22,FALSE),\"\")","v":""},{"$f":"IFERROR(VLOOKUP($B1299,'Building Data'!$F$4:$AE$2970,26,FALSE),\"\")","v":""}]
[null,null,{"$f":"IFERROR(VLOOKUP($B1300,'Building Data'!$F:$H,3,FALSE),\"\")","v":""},{"$f":"IFERROR(VLOOKUP($B1300,'Building Data'!$F:$AA,22,FALSE),\"\")","v":""},{"$f":"IFERROR(VLOOKUP($B1300,'Building Data'!$F$4:$AE$2970,26,FALSE),\"\")","v":""}]
[null,null,{"$f":"IFERROR(VLOOKUP($B1301,'Building Data'!$F:$H,3,FALSE),\"\")","v":""},{"$f":"IFERROR(VLOOKUP($B1301,'Building Data'!$F:$AA,22,FALSE),\"\")","v":""},{"$f":"IFERROR(VLOOKUP($B1301,'Building Data'!$F$4:$AE$2970,26,FALSE),\"\")","v":""}]
[null,null,{"$f":"IFERROR(VLOOKUP($B1302,'Building Data'!$F:$H,3,FALSE),\"\")","v":""},{"$f":"IFERROR(VLOOKUP($B1302,'Building Data'!$F:$AA,22,FALSE),\"\")","v":""},{"$f":"IFERROR(VLOOKUP($B1302,'Building Data'!$F$4:$AE$2970,26,FALSE),\"\")","v":""}]
[null,null,{"$f":"IFERROR(VLOOKUP($B1303,'Building Data'!$F:$H,3,FALSE),\"\")","v":""},{"$f":"IFERROR(VLOOKUP($B1303,'Building Data'!$F:$AA,22,FALSE),\"\")","v":""},{"$f":"IFERROR(VLOOKUP($B1303,'Building Data'!$F$4:$AE$2970,26,FALSE),\"\")","v":""}]
[null,null,{"$f":"IFERROR(VLOOKUP($B1304,'Building Data'!$F:$H,3,FALSE),\"\")","v":""},{"$f":"IFERROR(VLOOKUP($B1304,'Building Data'!$F:$AA,22,FALSE),\"\")","v":""},{"$f":"IFERROR(VLOOKUP($B1304,'Building Data'!$F$4:$AE$2970,26,FALSE),\"\")","v":""}]
[null,null,{"$f":"IFERROR(VLOOKUP($B1305,'Building Data'!$F:$H,3,FALSE),\"\")","v":""},{"$f":"IFERROR(VLOOKUP($B1305,'Building Data'!$F:$AA,22,FALSE),\"\")","v":""},{"$f":"IFERROR(VLOOKUP($B1305,'Building Data'!$F$4:$AE$2970,26,FALSE),\"\")","v":""}]
[null,null,{"$f":"IFERROR(VLOOKUP($B1306,'Building Data'!$F:$H,3,FALSE),\"\")","v":""},{"$f":"IFERROR(VLOOKUP($B1306,'Building Data'!$F:$AA,22,FALSE),\"\")","v":""},{"$f":"IFERROR(VLOOKUP($B1306,'Building Data'!$F$4:$AE$2970,26,FALSE),\"\")","v":""}]
[null,null,{"$f":"IFERROR(VLOOKUP($B1307,'Building Data'!$F:$H,3,FALSE),\"\")","v":""},{"$f":"IFERROR(VLOOKUP($B1307,'Building Data'!$F:$AA,22,FALSE),\"\")","v":""},{"$f":"IFERROR(VLOOKUP($B1307,'Building Data'!$F$4:$AE$2970,26,FALSE),\"\")","v":""}]
[null,null,{"$f":"IFERROR(VLOOKUP($B1308,'Building Data'!$F:$H,3,FALSE),\"\")","v":""},{"$f":"IFERROR(VLOOKUP($B1308,'Building Data'!$F:$AA,22,FALSE),\"\")","v":""},{"$f":"IFERROR(VLOOKUP($B1308,'Building Data'!$F$4:$AE$2970,26,FALSE),\"\")","v":""}]
[null,null,{"$f":"IFERROR(VLOOKUP($B1309,'Building Data'!$F:$H,3,FALSE),\"\")","v":""},{"$f":"IFERROR(VLOOKUP($B1309,'Building Data'!$F:$AA,22,FALSE),\"\")","v":""},{"$f":"IFERROR(VLOOKUP($B1309,'Building Data'!$F$4:$AE$2970,26,FALSE),\"\")","v":""}]
[null,null,{"$f":"IFERROR(VLOOKUP($B1310,'Building Data'!$F:$H,3,FALSE),\"\")","v":""},{"$f":"IFERROR(VLOOKUP($B1310,'Building Data'!$F:$AA,22,FALSE),\"\")","v":""},{"$f":"IFERROR(VLOOKUP($B1310,'Building Data'!$F$4:$AE$2970,26,FALSE),\"\")","v":""}]
[null,null,{"$f":"IFERROR(VLOOKUP($B1311,'Building Data'!$F:$H,3,FALSE),\"\")","v":""},{"$f":"IFERROR(VLOOKUP($B1311,'Building Data'!$F:$AA,22,FALSE),\"\")","v":""},{"$f":"IFERROR(VLOOKUP($B1311,'Building Data'!$F$4:$AE$2970,26,FALSE),\"\")","v":""}]
[null,null,{"$f":"IFERROR(VLOOKUP($B1312,'Building Data'!$F:$H,3,FALSE),\"\")","v":""},{"$f":"IFERROR(VLOOKUP($B1312,'Building Data'!$F:$AA,22,FALSE),\"\")","v":""},{"$f":"IFERROR(VLOOKUP($B1312,'Building Data'!$F$4:$AE$2970,26,FALSE),\"\")","v":""}]
[null,null,{"$f":"IFERROR(VLOOKUP($B1313,'Building Data'!$F:$H,3,FALSE),\"\")","v":""},{"$f":"IFERROR(VLOOKUP($B1313,'Building Data'!$F:$AA,22,FALSE),\"\")","v":""},{"$f":"IFERROR(VLOOKUP($B1313,'Building Data'!$F$4:$AE$2970,26,FALSE),\"\")","v":""}]
[null,null,{"$f":"IFERROR(VLOOKUP($B1314,'Building Data'!$F:$H,3,FALSE),\"\")","v":""},{"$f":"IFERROR(VLOOKUP($B1314,'Building Data'!$F:$AA,22,FALSE),\"\")","v":""},{"$f":"IFERROR(VLOOKUP($B1314,'Building Data'!$F$4:$AE$2970,26,FALSE),\"\")","v":""}]
[null,null,{"$f":"IFERROR(VLOOKUP($B1315,'Building Data'!$F:$H,3,FALSE),\"\")","v":""},{"$f":"IFERROR(VLOOKUP($B1315,'Building Data'!$F:$AA,22,FALSE),\"\")","v":""},{"$f":"IFERROR(VLOOKUP($B1315,'Building Data'!$F$4:$AE$2970,26,FALSE),\"\")","v":""}]
[null,null,{"$f":"IFERROR(VLOOKUP($B1316,'Building Data'!$F:$H,3,FALSE),\"\")","v":""},{"$f":"IFERROR(VLOOKUP($B1316,'Building Data'!$F:$AA,22,FALSE),\"\")","v":""},{"$f":"IFERROR(VLOOKUP($B1316,'Building Data'!$F$4:$AE$2970,26,FALSE),\"\")","v":""}]
[null,null,{"$f":"IFERROR(VLOOKUP($B1317,'Building Data'!$F:$H,3,FALSE),\"\")","v":""},{"$f":"IFERROR(VLOOKUP($B1317,'Building Data'!$F:$AA,22,FALSE),\"\")","v":""},{"$f":"IFERROR(VLOOKUP($B1317,'Building Data'!$F$4:$AE$2970,26,FALSE),\"\")","v":""}]
[null,null,{"$f":"IFERROR(VLOOKUP($B1318,'Building Data'!$F:$H,3,FALSE),\"\")","v":""},{"$f":"IFERROR(VLOOKUP($B1318,'Building Data'!$F:$AA,22,FALSE),\"\")","v":""},{"$f":"IFERROR(VLOOKUP($B1318,'Building Data'!$F$4:$AE$2970,26,FALSE),\"\")","v":""}]
[null,null,{"$f":"IFERROR(VLOOKUP($B1319,'Building Data'!$F:$H,3,FALSE),\"\")","v":""},{"$f":"IFERROR(VLOOKUP($B1319,'Building Data'!$F:$AA,22,FALSE),\"\")","v":""},{"$f":"IFERROR(VLOOKUP($B1319,'Building Data'!$F$4:$AE$2970,26,FALSE),\"\")","v":""}]
[null,null,{"$f":"IFERROR(VLOOKUP($B1320,'Building Data'!$F:$H,3,FALSE),\"\")","v":""},{"$f":"IFERROR(VLOOKUP($B1320,'Building Data'!$F:$AA,22,FALSE),\"\")","v":""},{"$f":"IFERROR(VLOOKUP($B1320,'Building Data'!$F$4:$AE$2970,26,FALSE),\"\")","v":""}]
[null,null,{"$f":"IFERROR(VLOOKUP($B1321,'Building Data'!$F:$H,3,FALSE),\"\")","v":""},{"$f":"IFERROR(VLOOKUP($B1321,'Building Data'!$F:$AA,22,FALSE),\"\")","v":""},{"$f":"IFERROR(VLOOKUP($B1321,'Building Data'!$F$4:$AE$2970,26,FALSE),\"\")","v":""}]
[null,null,{"$f":"IFERROR(VLOOKUP($B1322,'Building Data'!$F:$H,3,FALSE),\"\")","v":""},{"$f":"IFERROR(VLOOKUP($B1322,'Building Data'!$F:$AA,22,FALSE),\"\")","v":""},{"$f":"IFERROR(VLOOKUP($B1322,'Building Data'!$F$4:$AE$2970,26,FALSE),\"\")","v":""}]
[null,null,{"$f":"IFERROR(VLOOKUP($B1323,'Building Data'!$F:$H,3,FALSE),\"\")","v":""},{"$f":"IFERROR(VLOOKUP($B1323,'Building Data'!$F:$AA,22,FALSE),\"\")","v":""},{"$f":"IFERROR(VLOOKUP($B1323,'Building Data'!$F$4:$AE$2970,26,FALSE),\"\")","v":""}]
[null,null,{"$f":"IFERROR(VLOOKUP($B1324,'Building Data'!$F:$H,3,FALSE),\"\")","v":""},{"$f":"IFERROR(VLOOKUP($B1324,'Building Data'!$F:$AA,22,FALSE),\"\")","v":""},{"$f":"IFERROR(VLOOKUP($B1324,'Building Data'!$F$4:$AE$2970,26,FALSE),\"\")","v":""}]
[null,null,{"$f":"IFERROR(VLOOKUP($B1325,'Building Data'!$F:$H,3,FALSE),\"\")","v":""},{"$f":"IFERROR(VLOOKUP($B1325,'Building Data'!$F:$AA,22,FALSE),\"\")","v":""},{"$f":"IFERROR(VLOOKUP($B1325,'Building Data'!$F$4:$AE$2970,26,FALSE),\"\")","v":""}]
[null,null,{"$f":"IFERROR(VLOOKUP($B1326,'Building Data'!$F:$H,3,FALSE),\"\")","v":""},{"$f":"IFERROR(VLOOKUP($B1326,'Building Data'!$F:$AA,22,FALSE),\"\")","v":""},{"$f":"IFERROR(VLOOKUP($B1326,'Building Data'!$F$4:$AE$2970,26,FALSE),\"\")","v":""}]
[null,null,{"$f":"IFERROR(VLOOKUP($B1327,'Building Data'!$F:$H,3,FALSE),\"\")","v":""},{"$f":"IFERROR(VLOOKUP($B1327,'Building Data'!$F:$AA,22,FALSE),\"\")","v":""},{"$f":"IFERROR(VLOOKUP($B1327,'Building Data'!$F$4:$AE$2970,26,FALSE),\"\")","v":""}]
[null,null,{"$f":"IFERROR(VLOOKUP($B1328,'Building Data'!$F:$H,3,FALSE),\"\")","v":""},{"$f":"IFERROR(VLOOKUP($B1328,'Building Data'!$F:$AA,22,FALSE),\"\")","v":""},{"$f":"IFERROR(VLOOKUP($B1328,'Building Data'!$F$4:$AE$2970,26,FALSE),\"\")","v":""}]
[null,null,{"$f":"IFERROR(VLOOKUP($B1329,'Building Data'!$F:$H,3,FALSE),\"\")","v":""},{"$f":"IFERROR(VLOOKUP($B1329,'Building Data'!$F:$AA,22,FALSE),\"\")","v":""},{"$f":"IFERROR(VLOOKUP($B1329,'Building Data'!$F$4:$AE$2970,26,FALSE),\"\")","v":""}]
[null,null,{"$f":"IFERROR(VLOOKUP($B1330,'Building Data'!$F:$H,3,FALSE),\"\")","v":""},{"$f":"IFERROR(VLOOKUP($B1330,'Building Data'!$F:$AA,22,FALSE),\"\")","v":""},{"$f":"IFERROR(VLOOKUP($B1330,'Building Data'!$F$4:$AE$2970,26,FALSE),\"\")","v":""}]
[null,null,{"$f":"IFERROR(VLOOKUP($B1331,'Building Data'!$F:$H,3,FALSE),\"\")","v":""},{"$f":"IFERROR(VLOOKUP($B1331,'Building Data'!$F:$AA,22,FALSE),\"\")","v":""},{"$f":"IFERROR(VLOOKUP($B1331,'Building Data'!$F$4:$AE$2970,26,FALSE),\"\")","v":""}]
[null,null,{"$f":"IFERROR(VLOOKUP($B1332,'Building Data'!$F:$H,3,FALSE),\"\")","v":""},{"$f":"IFERROR(VLOOKUP($B1332,'Building Data'!$F:$AA,22,FALSE),\"\")","v":""},{"$f":"IFERROR(VLOOKUP($B1332,'Building Data'!$F$4:$AE$2970,26,FALSE),\"\")","v":""}]
[null,null,{"$f":"IFERROR(VLOOKUP($B1333,'Building Data'!$F:$H,3,FALSE),\"\")","v":""},{"$f":"IFERROR(VLOOKUP($B1333,'Building Data'!$F:$AA,22,FALSE),\"\")","v":""},{"$f":"IFERROR(VLOOKUP($B1333,'Building Data'!$F$4:$AE$2970,26,FALSE),\"\")","v":""}]
[null,null,{"$f":"IFERROR(VLOOKUP($B1334,'Building Data'!$F:$H,3,FALSE),\"\")","v":""},{"$f":"IFERROR(VLOOKUP($B1334,'Building Data'!$F:$AA,22,FALSE),\"\")","v":""},{"$f":"IFERROR(VLOOKUP($B1334,'Building Data'!$F$4:$AE$2970,26,FALSE),\"\")","v":""}]
[null,null,{"$f":"IFERROR(VLOOKUP($B1335,'Building Data'!$F:$H,3,FALSE),\"\")","v":""},{"$f":"IFERROR(VLOOKUP($B1335,'Building Data'!$F:$AA,22,FALSE),\"\")","v":""},{"$f":"IFERROR(VLOOKUP($B1335,'Building Data'!$F$4:$AE$2970,26,FALSE),\"\")","v":""}]
[null,null,{"$f":"IFERROR(VLOOKUP($B1336,'Building Data'!$F:$H,3,FALSE),\"\")","v":""},{"$f":"IFERROR(VLOOKUP($B1336,'Building Data'!$F:$AA,22,FALSE),\"\")","v":""},{"$f":"IFERROR(VLOOKUP($B1336,'Building Data'!$F$4:$AE$2970,26,FALSE),\"\")","v":""}]
[null,null,{"$f":"IFERROR(VLOOKUP($B1337,'Building Data'!$F:$H,3,FALSE),\"\")","v":""},{"$f":"IFERROR(VLOOKUP($B1337,'Building Data'!$F:$AA,22,FALSE),\"\")","v":""},{"$f":"IFERROR(VLOOKUP($B1337,'Building Data'!$F$4:$AE$2970,26,FALSE),\"\")","v":""}]
[null,null,{"$f":"IFERROR(VLOOKUP($B1338,'Building Data'!$F:$H,3,FALSE),\"\")","v":""},{"$f":"IFERROR(VLOOKUP($B1338,'Building Data'!$F:$AA,22,FALSE),\"\")","v":""},{"$f":"IFERROR(VLOOKUP($B1338,'Building Data'!$F$4:$AE$2970,26,FALSE),\"\")","v":""}]
[null,null,{"$f":"IFERROR(VLOOKUP($B1339,'Building Data'!$F:$H,3,FALSE),\"\")","v":""},{"$f":"IFERROR(VLOOKUP($B1339,'Building Data'!$F:$AA,22,FALSE),\"\")","v":""},{"$f":"IFERROR(VLOOKUP($B1339,'Building Data'!$F$4:$AE$2970,26,FALSE),\"\")","v":""}]
[null,null,{"$f":"IFERROR(VLOOKUP($B1340,'Building Data'!$F:$H,3,FALSE),\"\")","v":""},{"$f":"IFERROR(VLOOKUP($B1340,'Building Data'!$F:$AA,22,FALSE),\"\")","v":""},{"$f":"IFERROR(VLOOKUP($B1340,'Building Data'!$F$4:$AE$2970,26,FALSE),\"\")","v":""}]
[null,null,{"$f":"IFERROR(VLOOKUP($B1341,'Building Data'!$F:$H,3,FALSE),\"\")","v":""},{"$f":"IFERROR(VLOOKUP($B1341,'Building Data'!$F:$AA,22,FALSE),\"\")","v":""},{"$f":"IFERROR(VLOOKUP($B1341,'Building Data'!$F$4:$AE$2970,26,FALSE),\"\")","v":""}]
[null,null,{"$f":"IFERROR(VLOOKUP($B1342,'Building Data'!$F:$H,3,FALSE),\"\")","v":""},{"$f":"IFERROR(VLOOKUP($B1342,'Building Data'!$F:$AA,22,FALSE),\"\")","v":""},{"$f":"IFERROR(VLOOKUP($B1342,'Building Data'!$F$4:$AE$2970,26,FALSE),\"\")","v":""}]
[null,null,{"$f":"IFERROR(VLOOKUP($B1343,'Building Data'!$F:$H,3,FALSE),\"\")","v":""},{"$f":"IFERROR(VLOOKUP($B1343,'Building Data'!$F:$AA,22,FALSE),\"\")","v":""},{"$f":"IFERROR(VLOOKUP($B1343,'Building Data'!$F$4:$AE$2970,26,FALSE),\"\")","v":""}]
[null,null,{"$f":"IFERROR(VLOOKUP($B1344,'Building Data'!$F:$H,3,FALSE),\"\")","v":""},{"$f":"IFERROR(VLOOKUP($B1344,'Building Data'!$F:$AA,22,FALSE),\"\")","v":""},{"$f":"IFERROR(VLOOKUP($B1344,'Building Data'!$F$4:$AE$2970,26,FALSE),\"\")","v":""}]
[null,null,{"$f":"IFERROR(VLOOKUP($B1345,'Building Data'!$F:$H,3,FALSE),\"\")","v":""},{"$f":"IFERROR(VLOOKUP($B1345,'Building Data'!$F:$AA,22,FALSE),\"\")","v":""},{"$f":"IFERROR(VLOOKUP($B1345,'Building Data'!$F$4:$AE$2970,26,FALSE),\"\")","v":""}]
[null,null,{"$f":"IFERROR(VLOOKUP($B1346,'Building Data'!$F:$H,3,FALSE),\"\")","v":""},{"$f":"IFERROR(VLOOKUP($B1346,'Building Data'!$F:$AA,22,FALSE),\"\")","v":""},{"$f":"IFERROR(VLOOKUP($B1346,'Building Data'!$F$4:$AE$2970,26,FALSE),\"\")","v":""}]
[null,null,{"$f":"IFERROR(VLOOKUP($B1347,'Building Data'!$F:$H,3,FALSE),\"\")","v":""},{"$f":"IFERROR(VLOOKUP($B1347,'Building Data'!$F:$AA,22,FALSE),\"\")","v":""},{"$f":"IFERROR(VLOOKUP($B1347,'Building Data'!$F$4:$AE$2970,26,FALSE),\"\")","v":""}]
[null,null,{"$f":"IFERROR(VLOOKUP($B1348,'Building Data'!$F:$H,3,FALSE),\"\")","v":""},{"$f":"IFERROR(VLOOKUP($B1348,'Building Data'!$F:$AA,22,FALSE),\"\")","v":""},{"$f":"IFERROR(VLOOKUP($B1348,'Building Data'!$F$4:$AE$2970,26,FALSE),\"\")","v":""}]
[null,null,{"$f":"IFERROR(VLOOKUP($B1349,'Building Data'!$F:$H,3,FALSE),\"\")","v":""},{"$f":"IFERROR(VLOOKUP($B1349,'Building Data'!$F:$AA,22,FALSE),\"\")","v":""},{"$f":"IFERROR(VLOOKUP($B1349,'Building Data'!$F$4:$AE$2970,26,FALSE),\"\")","v":""}]
[null,null,{"$f":"IFERROR(VLOOKUP($B1350,'Building Data'!$F:$H,3,FALSE),\"\")","v":""},{"$f":"IFERROR(VLOOKUP($B1350,'Building Data'!$F:$AA,22,FALSE),\"\")","v":""},{"$f":"IFERROR(VLOOKUP($B1350,'Building Data'!$F$4:$AE$2970,26,FALSE),\"\")","v":""}]
[null,null,{"$f":"IFERROR(VLOOKUP($B1351,'Building Data'!$F:$H,3,FALSE),\"\")","v":""},{"$f":"IFERROR(VLOOKUP($B1351,'Building Data'!$F:$AA,22,FALSE),\"\")","v":""},{"$f":"IFERROR(VLOOKUP($B1351,'Building Data'!$F$4:$AE$2970,26,FALSE),\"\")","v":""}]
[null,null,{"$f":"IFERROR(VLOOKUP($B1352,'Building Data'!$F:$H,3,FALSE),\"\")","v":""},{"$f":"IFERROR(VLOOKUP($B1352,'Building Data'!$F:$AA,22,FALSE),\"\")","v":""},{"$f":"IFERROR(VLOOKUP($B1352,'Building Data'!$F$4:$AE$2970,26,FALSE),\"\")","v":""}]
[null,null,{"$f":"IFERROR(VLOOKUP($B1353,'Building Data'!$F:$H,3,FALSE),\"\")","v":""},{"$f":"IFERROR(VLOOKUP($B1353,'Building Data'!$F:$AA,22,FALSE),\"\")","v":""},{"$f":"IFERROR(VLOOKUP($B1353,'Building Data'!$F$4:$AE$2970,26,FALSE),\"\")","v":""}]
[null,null,{"$f":"IFERROR(VLOOKUP($B1354,'Building Data'!$F:$H,3,FALSE),\"\")","v":""},{"$f":"IFERROR(VLOOKUP($B1354,'Building Data'!$F:$AA,22,FALSE),\"\")","v":""},{"$f":"IFERROR(VLOOKUP($B1354,'Building Data'!$F$4:$AE$2970,26,FALSE),\"\")","v":""}]
[null,null,{"$f":"IFERROR(VLOOKUP($B1355,'Building Data'!$F:$H,3,FALSE),\"\")","v":""},{"$f":"IFERROR(VLOOKUP($B1355,'Building Data'!$F:$AA,22,FALSE),\"\")","v":""},{"$f":"IFERROR(VLOOKUP($B1355,'Building Data'!$F$4:$AE$2970,26,FALSE),\"\")","v":""}]
[null,null,{"$f":"IFERROR(VLOOKUP($B1356,'Building Data'!$F:$H,3,FALSE),\"\")","v":""},{"$f":"IFERROR(VLOOKUP($B1356,'Building Data'!$F:$AA,22,FALSE),\"\")","v":""},{"$f":"IFERROR(VLOOKUP($B1356,'Building Data'!$F$4:$AE$2970,26,FALSE),\"\")","v":""}]

{"sheet":"Assurances","index":5,"n_rows":23,"n_cols":15,"rows_kept":23,"cut":false,"hidden":false,"merged":[[22,0,22,1],[22,3,22,10],[21,3,21,10],[19,3,19,10],[11,0,11,10],[16,3,16,10],[15,3,15,10],[12,0,12,10],[15,0,15,1],[16,0,16,1],[13,0,13,10],[18,0,18,1],[19,0,19,1],[21,0,21,1],[18,3,18,10],[0,2,0,10],[1,2,1,10],[4,11,4,13],[6,0,6,10],[7,0,7,10],[9,0,9,10],[4,14,4,15],[4,6,4,7],[4,8,4,10],[4,0,4,5]]}
[null,null,"Mental Health Intervention Team"]
[null,null,{"$f":"Application!$M$1-1&\"-\"&Application!$M$1&\" Grant Application\"","v":"2023-2024 Grant Application"}]
[]
[]
[{"$f":"IFERROR(\"USD \"&Application!$A$13&\" \"&VLOOKUP(Application!$A$13,'District Data'!$A$3:$B$288,2,FALSE),\"\")","v":""},null,null,null,null,null,"Submit by:",null,{"$f":"CEILING(DATE(Application!M1-1,6,1)-DAY(DATE(Application!M1-1,6,1))+1-6,7)+13","v":"2023-06-09"},null,null,{"$f":"IF(OR(A19=\"\",D19=\"\",A22=\"\",D22=\"\"),\"Please input all\",\"Edit any\")","v":"Please input all"},null,null,"Aqua cells."]
[]
["Assurances"]
["The signature page signed by the Superintendent and MHIT Program Coordinator/Director certifies the applicant’s agreement to the following sets of assurances.  Typing your name below is considered your electronic signature.  Your signature is certifying the data as accurated when submitted to KSDE."]
[]
["Please read completely before signing."]
[]
[{"$f":"\"For the duration of the \"&Application!M1-1&\"-\"&Application!M1&\" performance period, the district shall:\"","v":"For the duration of the 2023-2024 performance period, the district shall:"}]
["•  Use fiscal control and accounting procedures to ensure proper disbursement of, and \n    accounting for, state funds paid to such applicants under this program.\n•  Submit reports as specified by KSDE and require School Liaisons to be trained on the MHITS \n    Portal (online student data system).\n•  Maintain records to substantiate program and funding compliance and afford access to such \n    records as needed by KSDE."]
["I hereby certify this information is accurate to the best of my knowledge.\nTyping your name below is considered your electronic signature."]
[]
[{"$f":"IF(Application!A13=\"\",\"\",Application!A13)","v":""},null,null,{"$f":"Application!C13","v":""}]
["USD Number",null,null,"USD Name"]
[]
[]
["Date",null,null,"Signature of Superintendent"]
[]
[]
["Date",null,null,"Signature of MHIT Coordinator/Director"]

{"sheet":"Collaborative Agreement","index":6,"n_rows":30,"n_cols":17,"rows_kept":30,"cut":false,"hidden":false,"merged":[[0,0,1,10],[3,0,3,10],[17,0,17,10],[20,3,20,10],[20,0,20,1],[19,0,19,1],[5,0,5,10],[4,0,4,10],[6,0,6,10],[8,0,8,10],[10,0,10,10],[2,15,2,16],[25,0,25,10],[26,0,26,10],[28,3,28,10],[29,3,29,10],[2,12,2,14],[12,0,12,10],[14,0,14,10],[16,0,16,10],[28,0,28,1],[29,0,29,1],[22,3,22,10],[23,3,23,10],[23,0,23,1],[22,0,22,1],[19,3,19,10]]}
["Collaborative Agreement",null,null,null,null,null,null,null,null,null,null,null,null,null,{"$f":"IF(OR(P3=\"\",A23=\"\",D23=\"\",A26=\"\",A29=\"\",D29=\"\"),\"Please enter all \",\"Edit any\")","v":"Please enter all "},"aqua","cells in column O & at the bottom of the"]
[null,null,null,null,null,null,null,null,null,null,null,null,null,null,"collaborative agreement to populate the names & dates within the agreement."]
[null,null,null,null,null,null,null,null,null,null,null,null,"Date agreement will start: ",null,null,"2023-07-01"]
["Purpose of Agreement"]
[{"$f":"\"USD \"&Application!A13&\" \"&Application!C13&\" and \"&A26&\" have agreed to work together to provide treatment and track the behavioral health needs of youth enrolled in USD #\"&Application!A13&\".  This agreement describes their understanding of and commitment to this collaborative effort.\"","v":"USD   and  have agreed to work together to provide treatment and track the behavioral health needs of youth enrolled in USD #.  This agreement describes their understanding of and commitment to this collaborative effort."}]
["Scope & Duration"]
[{"$f":"\"This agreement will guide the collaboration for the period beginning \"&TEXT(P3,\"mmmmmmmm d, yyyy\")&\" and ending June 30, \"&Application!M1&\".  USD \"&Application!A13&\" will hire or assign employees to the School Liaison position to fulfill the roles and responsibilities outlined in the MHIT Program and School Liaison guidance Document for School Districts.\"","v":"This agreement will guide the collaboration for the period beginning July 1, 2023 and ending June 30, 2024.  USD  will hire or assign employees to the School Liaison position to fulfill the roles and responsibilities outlined in the MHIT Program and School Liaison guidance Document for School Districts."}]
[]
[{"$f":"A26&\" will hire or assign employees to the Clinical Therapist positions to fulfill the roles and responsibilities outlined in the MHIT Program and School Liaison Guidance Document for School Districts.\"","v":" will hire or assign employees to the Clinical Therapist positions to fulfill the roles and responsibilities outlined in the MHIT Program and School Liaison Guidance Document for School Districts."}]
[]
[{"$f":"A26&\" will hire and/or assign employees to the Case Manager positions to fulfill the roles and responsibilities outlined in the MHIT Program and School Liaison Guidance Document for School Districts.  \"&\"In addition, the mental health provider will develop a 24/7 crisis plan to serve students.\"","v":" will hire and/or assign employees to the Case Manager positions to fulfill the roles and responsibilities outlined in the MHIT Program and School Liaison Guidance Document for School Districts.  In addition, the mental health provider will develop a 24/7 crisis plan to serve students."}]
[]
[{"$f":"\"USD \"&Application!A13&\" \"&Application!C13&\" and \"&A26&\" will work together to meet the requirements of KSDE, including uploading student data in the database system and other reporting requirements as outlined in the guidance tool.  USD \"&Application!A13&\" \"&Application!C13&\" and \"&A26&\" agree to execute a Memorandum of Understanding (MOU) to establish an official partnership once the application has been approved by KSDE.\"","v":"USD   and  will work together to meet the requirements of KSDE, including uploading student data in the database system and other reporting requirements as outlined in the guidance tool.  USD   and  agree to execute a Memorandum of Understanding (MOU) to establish an official partnership once the application has been approved by KSDE."}]
[]
["Each participating organization has agreed to commit resources for the collaboration and support of those employees hired to fulfill their requirements as outlined in the Guidance Document."]
[]
[{"$f":"\"This agreement was adopted by designated representatives from \"&Application!A13&\" \"&Application!C13&\" and \"&A26&\" on \"&TEXT(MAX(A23,A29),\"mmmmmmmm d, yyyy\")&\".  The signatures of the Superintendent of the USD and Executive Director of the Community Mental Health Center, \"&\"or other approved Mental Health Provider, below represent the interest and full commitment of their organizations to participate actively in the Mental Health Intervention Team Program.\"","v":"This agreement was adopted by designated representatives from   and  on January 0, 1900.  The signatures of the Superintendent of the USD and Executive Director of the Community Mental Health Center, or other approved Mental Health Provider, below represent the interest and full commitment of their organizations to participate actively in the Mental Health Intervention Team Program."}]
["I hereby certify this information is accurate to the best of my knowledge.\nTyping your name below is considered your electronic signature."]
[]
[{"$f":"IF(Application!A13=\"\",\"\",Application!A13)","v":""},null,null,{"$f":"Application!C13","v":""}]
["USD Number",null,null,"USD Name"]
[]
[]
["Date",null,null,"USD Superintendent (signature)"]
[]
[{"$f":"IF('Explanation of Services'!$A$11=\"\",\"\",'Explanation of Services'!$A$11)","v":""}]
["Mental Health Provider"]
[]
[]
["Date",null,null,"Mental Health Provider Executive Director (signature)"]

{"sheet":"Collaborative Agreement (2)","index":7,"n_rows":30,"n_cols":17,"rows_kept":30,"cut":false,"hidden":false,"merged":[[4,0,4,10],[0,0,1,10],[2,13,2,14],[3,0,3,10],[2,15,2,16],[22,0,22,1],[22,3,22,10],[5,0,5,10],[6,0,6,10],[8,0,8,10],[10,0,10,10],[12,0,12,10],[14,0,14,10],[16,0,16,10],[19,0,19,1],[19,3,19,10],[20,0,20,1],[20,3,20,10],[17,0,17,10],[29,0,29,1],[29,3,29,10],[23,0,23,1],[23,3,23,10],[25,0,25,10],[26,0,26,10],[28,0,28,1],[28,3,28,10]]}
["Collaborative Agreement",null,null,null,null,null,null,null,null,null,null,null,null,null,{"$f":"IF(OR(P3=\"\",A23=\"\",D23=\"\",A26=\"\",A29=\"\",D29=\"\"),\"Please enter all \",\"Edit any\")","v":"Please enter all "},"aqua","cells in column O & at the bottom of the"]
[null,null,null,null,null,null,null,null,null,null,null,null,null,null,"collaborative agreement to populate the names & dates within the agreement."]
[null,null,null,null,null,null,null,null,null,null,null,null,null,"Date agreement will start: "]
["Purpose of Agreement"]
[{"$f":"\"USD \"&Application!A13&\" \"&Application!C13&\" and \"&A26&\" have agreed to work together to provide treatment and track the behavioral health needs of youth enrolled in USD #\"&Application!A13&\".  This agreement describes their understanding of and commitment to this collaborative effort.\"","v":"USD   and  have agreed to work together to provide treatment and track the behavioral health needs of youth enrolled in USD #.  This agreement describes their understanding of and commitment to this collaborative effort."}]
["Scope & Duration"]
[{"$f":"\"This agreement will guide the collaboration for the period beginning \"&TEXT(P3,\"mmmmmmmm d, yyyy\")&\" and ending June 30, \"&Application!M1&\".  USD \"&Application!A13&\" will hire or assign employees to the School Liaison position to fulfill the roles and responsibilities outlined in the MHIT Program and School Liaison guidance Document for School Districts.\"","v":"This agreement will guide the collaboration for the period beginning January 0, 1900 and ending June 30, 2024.  USD  will hire or assign employees to the School Liaison position to fulfill the roles and responsibilities outlined in the MHIT Program and School Liaison guidance Document for School Districts."}]
[]
[{"$f":"A26&\" will hire or assign employees to the Clinical Therapist positions to fulfill the roles and responsibilities outlined in the MHIT Program and School Liaison Guidance Document for School Districts.\"","v":" will hire or assign employees to the Clinical Therapist positions to fulfill the roles and responsibilities outlined in the MHIT Program and School Liaison Guidance Document for School Districts."}]
[]
[{"$f":"A26&\" will hire and/or assign employees to the Case Manager positions to fulfill the roles and responsibilities outlined in the MHIT Program and School Liaison Guidance Document for School Districts.  \"&\"In addition, the mental health provider will develop a 24/7 crisis plan to serve students.\"","v":" will hire and/or assign employees to the Case Manager positions to fulfill the roles and responsibilities outlined in the MHIT Program and School Liaison Guidance Document for School Districts.  In addition, the mental health provider will develop a 24/7 crisis plan to serve students."}]
[]
[{"$f":"\"USD \"&Application!A13&\" \"&Application!C13&\" and \"&A26&\" will work together to meet the requirements of KSDE, including uploading student data in the database system and other reporting requirements as outlined in the guidance tool.  USD \"&Application!A13&\" \"&Application!C13&\" and \"&A26&\" agree to execute a Memorandum of Understanding (MOU) to establish an official partnership once the application has been approved by KSDE.\"","v":"USD   and  will work together to meet the requirements of KSDE, including uploading student data in the database system and other reporting requirements as outlined in the guidance tool.  USD   and  agree to execute a Memorandum of Understanding (MOU) to establish an official partnership once the application has been approved by KSDE."}]
[]
["Each participating organization has agreed to commit resources for the collaboration and support of those employees hired to fulfill their requirements as outlined in the Guidance Document."]
[]
[{"$f":"\"This agreement was adopted by designated representatives from \"&Application!A13&\" \"&Application!C13&\" and \"&A26&\" on \"&TEXT(MAX(A23,A29),\"mmmmmmmm d, yyyy\")&\".  The signatures of the Superintendent of the USD and Executive Director of the Community Mental Health Center, \"&\"or other approved Mental Health Provider, below represent the interest and full commitment of their organizations to participate actively in the Mental Health Intervention Team Program.\"","v":"This agreement was adopted by designated representatives from   and  on January 0, 1900.  The signatures of the Superintendent of the USD and Executive Director of the Community Mental Health Center, or other approved Mental Health Provider, below represent the interest and full commitment of their organizations to participate actively in the Mental Health Intervention Team Program."}]
["I hereby certify this information is accurate to the best of my knowledge.\nTyping your name below is considered your electronic signature."]
[]
[{"$f":"IF(Application!A13=\"\",\"\",Application!A13)","v":""},null,null,{"$f":"Application!C13","v":""}]
["USD Number",null,null,"USD Name"]
[]
[]
["Date",null,null,"USD Superintendent (signature)"]
[]
[{"$f":"IF('Explanation of Services'!$A$14=\"\",\"\",'Explanation of Services'!$A$14)","v":""}]
["Mental Health Provider"]
[]
[]
["Date",null,null,"Mental Health Provider Executive Director (signature)"]

{"sheet":"Collaborative Agreement (3)","index":8,"n_rows":30,"n_cols":17,"rows_kept":30,"cut":false,"hidden":false,"merged":[[5,0,5,10],[0,0,1,10],[2,13,2,14],[2,15,2,16],[3,0,3,10],[4,0,4,10],[22,0,22,1],[22,3,22,10],[6,0,6,10],[8,0,8,10],[10,0,10,10],[12,0,12,10],[14,0,14,10],[16,0,16,10],[17,0,17,10],[19,0,19,1],[19,3,19,10],[20,0,20,1],[20,3,20,10],[29,0,29,1],[29,3,29,10],[23,0,23,1],[23,3,23,10],[25,0,25,10],[26,0,26,10],[28,0,28,1],[28,3,28,10]]}
["Collaborative Agreement",null,null,null,null,null,null,null,null,null,null,null,null,null,{"$f":"IF(OR(P3=\"\",A23=\"\",D23=\"\",A26=\"\",A29=\"\",D29=\"\"),\"Please enter all \",\"Edit any\")","v":"Please enter all "},"aqua","cells in column O & at the bottom of the"]
[null,null,null,null,null,null,null,null,null,null,null,null,null,null,"collaborative agreement to populate the names & dates within the agreement."]
[null,null,null,null,null,null,null,null,null,null,null,null,null,"Date agreement will start: "]
["Purpose of Agreement"]
[{"$f":"\"USD \"&Application!A13&\" \"&Application!C13&\" and \"&A26&\" have agreed to work together to provide treatment and track the behavioral health needs of youth enrolled in USD #\"&Application!A13&\".  This agreement describes their understanding of and commitment to this collaborative effort.\"","v":"USD   and  have agreed to work together to provide treatment and track the behavioral health needs of youth enrolled in USD #.  This agreement describes their understanding of and commitment to this collaborative effort."}]
["Scope & Duration"]
[{"$f":"\"This agreement will guide the collaboration for the period beginning \"&TEXT(P3,\"mmmmmmmm d, yyyy\")&\" and ending June 30, \"&Application!M1&\".  USD \"&Application!A13&\" will hire or assign employees to the School Liaison position to fulfill the roles and responsibilities outlined in the MHIT Program and School Liaison guidance Document for School Districts.\"","v":"This agreement will guide the collaboration for the period beginning January 0, 1900 and ending June 30, 2024.  USD  will hire or assign employees to the School Liaison position to fulfill the roles and responsibilities outlined in the MHIT Program and School Liaison guidance Document for School Districts."}]
[]
[{"$f":"A26&\" will hire or assign employees to the Clinical Therapist positions to fulfill the roles and responsibilities outlined in the MHIT Program and School Liaison Guidance Document for School Districts.\"","v":" will hire or assign employees to the Clinical Therapist positions to fulfill the roles and responsibilities outlined in the MHIT Program and School Liaison Guidance Document for School Districts."}]
[]
[{"$f":"A26&\" will hire and/or assign employees to the Case Manager positions to fulfill the roles and responsibilities outlined in the MHIT Program and School Liaison Guidance Document for School Districts.  \"&\"In addition, the mental health provider will develop a 24/7 crisis plan to serve students.\"","v":" will hire and/or assign employees to the Case Manager positions to fulfill the roles and responsibilities outlined in the MHIT Program and School Liaison Guidance Document for School Districts.  In addition, the mental health provider will develop a 24/7 crisis plan to serve students."}]
[]
[{"$f":"\"USD \"&Application!A13&\" \"&Application!C13&\" and \"&A26&\" will work together to meet the requirements of KSDE, including uploading student data in the database system and other reporting requirements as outlined in the guidance tool.  USD \"&Application!A13&\" \"&Application!C13&\" and \"&A26&\" agree to execute a Memorandum of Understanding (MOU) to establish an official partnership once the application has been approved by KSDE.\"","v":"USD   and  will work together to meet the requirements of KSDE, including uploading student data in the database system and other reporting requirements as outlined in the guidance tool.  USD   and  agree to execute a Memorandum of Understanding (MOU) to establish an official partnership once the application has been approved by KSDE."}]
[]
["Each participating organization has agreed to commit resources for the collaboration and support of those employees hired to fulfill their requirements as outlined in the Guidance Document."]
[]
[{"$f":"\"This agreement was adopted by designated representatives from \"&Application!A13&\" \"&Application!C13&\" and \"&A26&\" on \"&TEXT(MAX(A23,A29),\"mmmmmmmm d, yyyy\")&\".  The signatures of the Superintendent of the USD and Executive Director of the Community Mental Health Center, \"&\"or other approved Mental Health Provider, below represent the interest and full commitment of their organizations to participate actively in the Mental Health Intervention Team Program.\"","v":"This agreement was adopted by designated representatives from   and  on January 0, 1900.  The signatures of the Superintendent of the USD and Executive Director of the Community Mental Health Center, or other approved Mental Health Provider, below represent the interest and full commitment of their organizations to participate actively in the Mental Health Intervention Team Program."}]
["I hereby certify this information is accurate to the best of my knowledge.\nTyping your name below is considered your electronic signature."]
[]
[{"$f":"IF(Application!A13=\"\",\"\",Application!A13)","v":""},null,null,{"$f":"Application!C13","v":""}]
["USD Number",null,null,"USD Name"]
[]
[]
["Date",null,null,"USD Superintendent (signature)"]
[]
[{"$f":"IF('Explanation of Services'!$A$14=\"\",\"\",'Explanation of Services'!$A$14)","v":""}]
["Mental Health Provider"]
[]
[]
["Date",null,null,"Mental Health Provider Executive Director (signature)"]

{"sheet":"Building Data","index":9,"n_rows":2793,"n_cols":31,"rows_kept":2793,"cut":false,"hidden":false,"merged":[]}
[null,null,null,null,null,1,2,3,4,5,6,7,8,9,10,11,12,13,14,15,16,17,18,19,20,21,22,23,24,25,26]
[null,null,"Click on the down arrow in the column heading to sort or filter by that column.  It's suggested to filter just your USD in the \"USD #\" column in order to only see the buildings in your USD."]
["Ref",null,"USD #","Organization Name","Building County","Bldg #",null,"Building Name","Building Level","PK (with IEP)","4 YR AT-RISK","3 YR AT-RISK","K","1ST","2ND","3RD","4TH","5TH","6TH","7TH","8TH","9TH","10TH","11TH","12TH","Not Graded (Adults)",{"$f":"\"9/20/\"&Application!M1-2&\" Student Headcount\"","v":"9/20/2022 Student Headcount"},"PK (w/o IEP)","Grand Total",{"$f":"\"9/20/\"&Application!M1-2&\" Free Lunch Headcount\"","v":"9/20/2022 Free Lunch Headcount"},{"$f":"\"9/20/\"&Application!M1-2&\" Free Lunch Percent\"","v":"9/20/2022 Free Lunch Percent"}]
[1,"$B$4",101,"Erie-Galesburg","Neosho",101,{"$f":"IFERROR(IF(OR(AND(Application!$A$9=\"Yes\",IFERROR(MATCH(C4,Application!$K$11:$K$297,0)>0,\"\")),AND(Application!$A$9=\"No\",C4=Application!$A$13)),F4,\"\"),\"\")","v":""},"USD 101 - Off Site Non Public Buildings","Special Ed Program - Off Site Community Based",null,null,null,null,null,null,null,null,null,null,null,null,null,null,null,null,null,"N/A",null,null,"N/A","N/A"]
[2,"$B$4",101,"Erie-Galesburg","Wilson",107,{"$f":"IFERROR(IF(OR(AND(Application!$A$9=\"Yes\",IFERROR(MATCH(C5,Application!$K$11:$K$297,0)>0,\"\")),AND(Application!$A$9=\"No\",C5=Application!$A$13)),F5,\"\"),\"\")","v":""},"USD 101 - Home","Special Ed Program - Home",null,null,null,null,null,null,null,null,null,null,null,null,null,null,null,null,null,"N/A",null,null,"N/A","N/A"]
[3,"$B$4",101,"Erie-Galesburg","Neosho",109,{"$f":"IFERROR(IF(OR(AND(Application!$A$9=\"Yes\",IFERROR(MATCH(C6,Application!$K$11:$K$297,0)>0,\"\")),AND(Application!$A$9=\"No\",C6=Application!$A$13)),F6,\"\"),\"\")","v":""},"USD 101 - Community-Based Preschool","Special Ed Program - Community Based Preschool",null,null,null,null,null,null,null,null,null,null,null,null,null,null,null,null,null,"N/A",null,null,"N/A","N/A"]
[4,"$B$4",101,"Erie-Galesburg","Neosho",110,{"$f":"IFERROR(IF(OR(AND(Application!$A$9=\"Yes\",IFERROR(MATCH(C7,Application!$K$11:$K$297,0)>0,\"\")),AND(Application!$A$9=\"No\",C7=Application!$A$13)),F7,\"\"),\"\")","v":""},"USD 101 - K Time Program W/O SPED","Early Childhood Program - General",null,null,null,null,null,null,null,null,null,null,null,null,null,null,null,null,null,"N/A",null,null,"N/A","N/A"]
[5,"$B$4",101,"Erie-Galesburg","Neosho",111,{"$f":"IFERROR(IF(OR(AND(Application!$A$9=\"Yes\",IFERROR(MATCH(C8,Application!$K$11:$K$297,0)>0,\"\")),AND(Application!$A$9=\"No\",C8=Application!$A$13)),F8,\"\"),\"\")","v":""},"Erie Elementary","Elementary",null,null,null,null,null,null,null,null,null,null,null,null,null,null,null,null,null,181,null,null,96,0.53039999999999998]
[490,"$B$4",101,"Erie-Galesburg","Neosho",112,{"$f":"IFERROR(IF(OR(AND(Application!$A$9=\"Yes\",IFERROR(MATCH(C9,Application!$K$11:$K$297,0)>0,\"\")),AND(Application!$A$9=\"No\",C9=Application!$A$13)),F9,\"\"),\"\")","v":""},"Galesburg Middle School","Middle School",null,null,null,null,null,null,null,null,null,null,null,null,null,null,null,null,null,92,null,null,57,0.61960000000000004]
[578,"$B$4",101,"Erie-Galesburg","Neosho",113,{"$f":"IFERROR(IF(OR(AND(Application!$A$9=\"Yes\",IFERROR(MATCH(C10,Application!$K$11:$K$297,0)>0,\"\")),AND(Application!$A$9=\"No\",C10=Application!$A$13)),F10,\"\"),\"\")","v":""},"Erie High School","High School",null,null,null,null,null,null,null,null,null,null,null,null,null,null,null,null,null,143,null,null,57,0.39860000000000001]
[576,"$B$4",102,"Cimarron-Ensign","Gray",124,{"$f":"IFERROR(IF(OR(AND(Application!$A$9=\"Yes\",IFERROR(MATCH(C11,Application!$K$11:$K$297,0)>0,\"\")),AND(Application!$A$9=\"No\",C11=Application!$A$13)),F11,\"\"),\"\")","v":""},"Cimarron Elem","Elementary",null,null,null,null,null,null,null,null,null,null,null,null,null,null,null,null,null,313,null,null,119,0.38019999999999998]
[577,"$B$4",102,"Cimarron-Ensign","Gray",125,{"$f":"IFERROR(IF(OR(AND(Application!$A$9=\"Yes\",IFERROR(MATCH(C12,Application!$K$11:$K$297,0)>0,\"\")),AND(Application!$A$9=\"No\",C12=Application!$A$13)),F12,\"\"),\"\")","v":""},"Cimarron High","High School",null,null,null,null,null,null,null,null,null,null,null,null,null,null,null,null,null,291,null,null,84,0.28870000000000001]
[509,"$B$4",102,"Cimarron-Ensign","Gray",128,{"$f":"IFERROR(IF(OR(AND(Application!$A$9=\"Yes\",IFERROR(MATCH(C13,Application!$K$11:$K$297,0)>0,\"\")),AND(Application!$A$9=\"No\",C13=Application!$A$13)),F13,\"\"),\"\")","v":""},"USD 102 - Off Site Non Public Buildings","Special Ed Program - Off Site Community Based",null,null,null,null,null,null,null,null,null,null,null,null,null,null,null,null,null,"N/A",null,null,"N/A","N/A"]
[510,"$B$4",102,"Cimarron-Ensign","Gray",129,{"$f":"IFERROR(IF(OR(AND(Application!$A$9=\"Yes\",IFERROR(MATCH(C14,Application!$K$11:$K$297,0)>0,\"\")),AND(Application!$A$9=\"No\",C14=Application!$A$13)),F14,\"\"),\"\")","v":""},"USD 102 - Home","Special Ed Program - Home",null,null,null,null,null,null,null,null,null,null,null,null,null,null,null,null,null,"N/A",null,null,"N/A","N/A"]
[84,"$B$4",200,"Greeley County Schools","Greeley",131,{"$f":"IFERROR(IF(OR(AND(Application!$A$9=\"Yes\",IFERROR(MATCH(C15,Application!$K$11:$K$297,0)>0,\"\")),AND(Application!$A$9=\"No\",C15=Application!$A$13)),F15,\"\"),\"\")","v":""},"USD 200 - Off Site Non Public Buildings","Special Ed Program - Off Site Community Based",null,null,null,null,null,null,null,null,null,null,null,null,null,null,null,null,null,"N/A",null,null,"N/A","N/A"]
[85,"$B$4",200,"Greeley County Schools","Greeley",132,{"$f":"IFERROR(IF(OR(AND(Application!$A$9=\"Yes\",IFERROR(MATCH(C16,Application!$K$11:$K$297,0)>0,\"\")),AND(Application!$A$9=\"No\",C16=Application!$A$13)),F16,\"\"),\"\")","v":""},"Greeley County Elem School","Elementary",null,null,null,null,null,null,null,null,null,null,null,null,null,null,null,null,null,107,null,null,44,0.41120000000000001]
[86,"$B$4",200,"Greeley County Schools","Greeley",133,{"$f":"IFERROR(IF(OR(AND(Application!$A$9=\"Yes\",IFERROR(MATCH(C17,Application!$K$11:$K$297,0)>0,\"\")),AND(Application!$A$9=\"No\",C17=Application!$A$13)),F17,\"\"),\"\")","v":""},"USD 200 - Home","Special Ed Program - Home",null,null,null,null,null,null,null,null,null,null,null,null,null,null,null,null,null,"N/A",null,null,"N/A","N/A"]
[87,"$B$4",200,"Greeley County Schools","Greeley",134,{"$f":"IFERROR(IF(OR(AND(Application!$A$9=\"Yes\",IFERROR(MATCH(C18,Application!$K$11:$K$297,0)>0,\"\")),AND(Application!$A$9=\"No\",C18=Application!$A$13)),F18,\"\"),\"\")","v":""},"Greeley County Jr./Sr. High","High School",null,null,null,null,null,null,null,null,null,null,null,null,null,null,null,null,null,123,null,null,42,0.34150000000000003]
[513,"$B$4",102,"Cimarron-Ensign","Gray",135,{"$f":"IFERROR(IF(OR(AND(Application!$A$9=\"Yes\",IFERROR(MATCH(C19,Application!$K$11:$K$297,0)>0,\"\")),AND(Application!$A$9=\"No\",C19=Application!$A$13)),F19,\"\"),\"\")","v":""},"USD 102 - K Time Program W/O SPED","Early Childhood Program - General",null,null,null,null,null,null,null,null,null,null,null,null,null,null,null,null,null,"N/A",null,null,"N/A","N/A"]
[88,"$B$4",200,"Greeley County Schools","Greeley",137,{"$f":"IFERROR(IF(OR(AND(Application!$A$9=\"Yes\",IFERROR(MATCH(C20,Application!$K$11:$K$297,0)>0,\"\")),AND(Application!$A$9=\"No\",C20=Application!$A$13)),F20,\"\"),\"\")","v":""},"USD 200 - K Time Program W/O SPED","Early Childhood Program - General",null,null,null,null,null,null,null,null,null,null,null,null,null,null,null,null,null,"N/A",null,null,"N/A","N/A"]
[89,"$B$4",202,"Turner-Kansas City","Wyandotte",148,{"$f":"IFERROR(IF(OR(AND(Application!$A$9=\"Yes\",IFERROR(MATCH(C21,Application!$K$11:$K$297,0)>0,\"\")),AND(Application!$A$9=\"No\",C21=Application!$A$13)),F21,\"\"),\"\")","v":""},"Turner Dist Wyandotte Co","Central Office",null,null,null,null,null,null,null,null,null,null,null,null,null,null,null,null,null,"N/A",null,null,"N/A","N/A"]
[90,"$B$4",202,"Turner-Kansas City","Wyandotte",149,{"$f":"IFERROR(IF(OR(AND(Application!$A$9=\"Yes\",IFERROR(MATCH(C22,Application!$K$11:$K$297,0)>0,\"\")),AND(Application!$A$9=\"No\",C22=Application!$A$13)),F22,\"\"),\"\")","v":""},"USD 202 - Off Site Non Public Buildings","Special Ed Program - Off Site Community Based",null,null,null,null,null,null,null,null,null,null,null,null,null,null,null,null,null,"N/A",null,null,"N/A","N/A"]
[91,"$B$4",202,"Turner-Kansas City","Wyandotte",153,{"$f":"IFERROR(IF(OR(AND(Application!$A$9=\"Yes\",IFERROR(MATCH(C23,Application!$K$11:$K$297,0)>0,\"\")),AND(Application!$A$9=\"No\",C23=Application!$A$13)),F23,\"\"),\"\")","v":""},"USD 202 - Home","Special Ed Program - Home",null,null,null,null,null,null,null,null,null,null,null,null,null,null,null,null,null,"N/A",null,null,"N/A","N/A"]
[92,"$B$4",202,"Turner-Kansas City","Wyandotte",154,{"$f":"IFERROR(IF(OR(AND(Application!$A$9=\"Yes\",IFERROR(MATCH(C24,Application!$K$11:$K$297,0)>0,\"\")),AND(Application!$A$9=\"No\",C24=Application!$A$13)),F24,\"\"),\"\")","v":""},"Junction Elementary","Elementary",null,null,null,null,null,null,null,null,null,null,null,null,null,null,null,null,null,245,null,null,148,0.60409999999999997]
[93,"$B$4",202,"Turner-Kansas City","Wyandotte",155,{"$f":"IFERROR(IF(OR(AND(Application!$A$9=\"Yes\",IFERROR(MATCH(C25,Application!$K$11:$K$297,0)>0,\"\")),AND(Application!$A$9=\"No\",C25=Application!$A$13)),F25,\"\"),\"\")","v":""},"Turner Sixth Grade Academy","Elementary",null,null,null,null,null,null,null,null,null,null,null,null,null,null,null,null,null,302,null,null,203,0.67220000000000002]
[94,"$B$4",202,"Turner-Kansas City","Wyandotte",157,{"$f":"IFERROR(IF(OR(AND(Application!$A$9=\"Yes\",IFERROR(MATCH(C26,Application!$K$11:$K$297,0)>0,\"\")),AND(Application!$A$9=\"No\",C26=Application!$A$13)),F26,\"\"),\"\")","v":""},"Midland Trail","Elementary",null,null,null,null,null,null,null,null,null,null,null,null,null,null,null,null,null,495,null,null,374,0.75560000000000005]
[95,"$B$4",202,"Turner-Kansas City","Wyandotte",160,{"$f":"IFERROR(IF(OR(AND(Application!$A$9=\"Yes\",IFERROR(MATCH(C27,Application!$K$11:$K$297,0)>0,\"\")),AND(Application!$A$9=\"No\",C27=Application!$A$13)),F27,\"\"),\"\")","v":""},"Oak Grove Elem","Elementary",null,null,null,null,null,null,null,null,null,null,null,null,null,null,null,null,null,526,null,null,344,0.65400000000000003]
[96,"$B$4",202,"Turner-Kansas City","Wyandotte",164,{"$f":"IFERROR(IF(OR(AND(Application!$A$9=\"Yes\",IFERROR(MATCH(C28,Application!$K$11:$K$297,0)>0,\"\")),AND(Application!$A$9=\"No\",C28=Application!$A$13)),F28,\"\"),\"\")","v":""},"Turner Elem","Elementary",null,null,null,null,null,null,null,null,null,null,null,null,null,null,null,null,null,565,null,null,401,0.7097]
[97,"$B$4",202,"Turner-Kansas City","Wyandotte",165,{"$f":"IFERROR(IF(OR(AND(Application!$A$9=\"Yes\",IFERROR(MATCH(C29,Application!$K$11:$K$297,0)>0,\"\")),AND(Application!$A$9=\"No\",C29=Application!$A$13)),F29,\"\"),\"\")","v":""},"USD 202 - Public Off Campus","Special Ed Program - Public School Administered",null,null,null,null,null,null,null,null,null,null,null,null,null,null,null,null,null,"N/A",null,null,"N/A","N/A"]
[98,"$B$4",202,"Turner-Kansas City","Wyandotte",167,{"$f":"IFERROR(IF(OR(AND(Application!$A$9=\"Yes\",IFERROR(MATCH(C30,Application!$K$11:$K$297,0)>0,\"\")),AND(Application!$A$9=\"No\",C30=Application!$A$13)),F30,\"\"),\"\")","v":""},"Turner Middle School","Middle School",null,null,null,null,null,null,null,null,null,null,null,null,null,null,null,null,null,573,null,null,375,0.65449999999999997]
[99,"$B$4",202,"Turner-Kansas City","Wyandotte",168,{"$f":"IFERROR(IF(OR(AND(Application!$A$9=\"Yes\",IFERROR(MATCH(C31,Application!$K$11:$K$297,0)>0,\"\")),AND(Application!$A$9=\"No\",C31=Application!$A$13)),F31,\"\"),\"\")","v":""},"Turner High","High School",null,null,null,null,null,null,null,null,null,null,null,null,null,null,null,null,null,1176,null,null,740,0.62929999999999997]
[100,"$B$4",202,"Turner-Kansas City","Wyandotte",169,{"$f":"IFERROR(IF(OR(AND(Application!$A$9=\"Yes\",IFERROR(MATCH(C32,Application!$K$11:$K$297,0)>0,\"\")),AND(Application!$A$9=\"No\",C32=Application!$A$13)),F32,\"\"),\"\")","v":""},"USD 202 - K Time Program W/O SPED","Early Childhood Program - General",null,null,null,null,null,null,null,null,null,null,null,null,null,null,null,null,null,"N/A",null,null,"N/A","N/A"]
[102,"$B$4",203,"Piper-Kansas City","Wyandotte",178,{"$f":"IFERROR(IF(OR(AND(Application!$A$9=\"Yes\",IFERROR(MATCH(C33,Application!$K$11:$K$297,0)>0,\"\")),AND(Application!$A$9=\"No\",C33=Application!$A$13)),F33,\"\"),\"\")","v":""},"Piper Dist Wyandotte Co","Central Office",null,null,null,null,null,null,null,null,null,null,null,null,null,null,null,null,null,"N/A",null,null,"N/A","N/A"]
[103,"$B$4",203,"Piper-Kansas City","Wyandotte",179,{"$f":"IFERROR(IF(OR(AND(Application!$A$9=\"Yes\",IFERROR(MATCH(C34,Application!$K$11:$K$297,0)>0,\"\")),AND(Application!$A$9=\"No\",C34=Application!$A$13)),F34,\"\"),\"\")","v":""},"USD 203 - Off Site Non Public Buildings","Special Ed Program - Off Site Community Based",null,null,null,null,null,null,null,null,null,null,null,null,null,null,null,null,null,"N/A",null,null,"N/A","N/A"]
[104,"$B$4",203,"Piper-Kansas City","Wyandotte",181,{"$f":"IFERROR(IF(OR(AND(Application!$A$9=\"Yes\",IFERROR(MATCH(C35,Application!$K$11:$K$297,0)>0,\"\")),AND(Application!$A$9=\"No\",C35=Application!$A$13)),F35,\"\"),\"\")","v":""},"Piper Prairie Elementary","Elementary",null,null,null,null,null,null,null,null,null,null,null,null,null,null,null,null,null,541,null,null,114,0.2107]
[105,"$B$4",203,"Piper-Kansas City","Wyandotte",182,{"$f":"IFERROR(IF(OR(AND(Application!$A$9=\"Yes\",IFERROR(MATCH(C36,Application!$K$11:$K$297,0)>0,\"\")),AND(Application!$A$9=\"No\",C36=Application!$A$13)),F36,\"\"),\"\")","v":""},"Piper Pre-School","Early Childhood Program - Other",null,null,null,null,null,null,null,null,null,null,null,null,null,null,null,null,null,"N/A",null,null,"N/A","N/A"]
[106,"$B$4",203,"Piper-Kansas City","Wyandotte",183,{"$f":"IFERROR(IF(OR(AND(Application!$A$9=\"Yes\",IFERROR(MATCH(C37,Application!$K$11:$K$297,0)>0,\"\")),AND(Application!$A$9=\"No\",C37=Application!$A$13)),F37,\"\"),\"\")","v":""},"USD 203 - Home","Special Ed Program - Home",null,null,null,null,null,null,null,null,null,null,null,null,null,null,null,null,null,"N/A",null,null,"N/A","N/A"]
[107,"$B$4",203,"Piper-Kansas City","Wyandotte",186,{"$f":"IFERROR(IF(OR(AND(Application!$A$9=\"Yes\",IFERROR(MATCH(C38,Application!$K$11:$K$297,0)>0,\"\")),AND(Application!$A$9=\"No\",C38=Application!$A$13)),F38,\"\"),\"\")","v":""},"USD 203 - K Time Program W/O SPED","Early Childhood Program - General",null,null,null,null,null,null,null,null,null,null,null,null,null,null,null,null,null,"N/A",null,null,"N/A","N/A"]
[108,"$B$4",203,"Piper-Kansas City","Wyandotte",187,{"$f":"IFERROR(IF(OR(AND(Application!$A$9=\"Yes\",IFERROR(MATCH(C39,Application!$K$11:$K$297,0)>0,\"\")),AND(Application!$A$9=\"No\",C39=Application!$A$13)),F39,\"\"),\"\")","v":""},"Piper Creek Elementary","Elementary",null,null,null,null,null,null,null,null,null,null,null,null,null,null,null,null,null,608,null,null,126,0.2072]
[109,"$B$4",203,"Piper-Kansas City","Wyandotte",189,{"$f":"IFERROR(IF(OR(AND(Application!$A$9=\"Yes\",IFERROR(MATCH(C40,Application!$K$11:$K$297,0)>0,\"\")),AND(Application!$A$9=\"No\",C40=Application!$A$13)),F40,\"\"),\"\")","v":""},"Piper Middle","Middle School",null,null,null,null,null,null,null,null,null,null,null,null,null,null,null,null,null,709,null,null,147,0.20730000000000001]
[110,"$B$4",203,"Piper-Kansas City","Wyandotte",190,{"$f":"IFERROR(IF(OR(AND(Application!$A$9=\"Yes\",IFERROR(MATCH(C41,Application!$K$11:$K$297,0)>0,\"\")),AND(Application!$A$9=\"No\",C41=Application!$A$13)),F41,\"\"),\"\")","v":""},"Piper High","High School",null,null,null,null,null,null,null,null,null,null,null,null,null,null,null,null,null,780,null,null,139,0.1782]
[205,"$B$4",110,"Thunder Ridge Schools","Smith",192,{"$f":"IFERROR(IF(OR(AND(Application!$A$9=\"Yes\",IFERROR(MATCH(C42,Application!$K$11:$K$297,0)>0,\"\")),AND(Application!$A$9=\"No\",C42=Application!$A$13)),F42,\"\"),\"\")","v":""},"Thunder Ridge Elementary","Elementary",null,null,null,null,null,null,null,null,null,null,null,null,null,null,null,null,null,46,null,null,14,0.30430000000000001]
[15,"$B$4",110,"Thunder Ridge Schools","Smith",193,{"$f":"IFERROR(IF(OR(AND(Application!$A$9=\"Yes\",IFERROR(MATCH(C43,Application!$K$11:$K$297,0)>0,\"\")),AND(Application!$A$9=\"No\",C43=Application!$A$13)),F43,\"\"),\"\")","v":""},"Thunder Ridge High School","High School",null,null,null,null,null,null,null,null,null,null,null,null,null,null,null,null,null,67,null,null,30,0.44779999999999998]
[16,"$B$4",110,"Thunder Ridge Schools","Phillips",194,{"$f":"IFERROR(IF(OR(AND(Application!$A$9=\"Yes\",IFERROR(MATCH(C44,Application!$K$11:$K$297,0)>0,\"\")),AND(Application!$A$9=\"No\",C44=Application!$A$13)),F44,\"\"),\"\")","v":""},"Thunder Ridge Middle School","Middle School",null,null,null,null,null,null,null,null,null,null,null,null,null,null,null,null,null,64,null,null,25,0.3906]
[17,"$B$4",110,"Thunder Ridge Schools","Phillips",195,{"$f":"IFERROR(IF(OR(AND(Application!$A$9=\"Yes\",IFERROR(MATCH(C45,Application!$K$11:$K$297,0)>0,\"\")),AND(Application!$A$9=\"No\",C45=Application!$A$13)),F45,\"\"),\"\")","v":""},"USD 110 K time Program","Early Childhood Program - General",null,null,null,null,null,null,null,null,null,null,null,null,null,null,null,null,null,"N/A",null,null,"N/A","N/A"]
[18,"$B$4",110,"Thunder Ridge Schools","Phillips",196,{"$f":"IFERROR(IF(OR(AND(Application!$A$9=\"Yes\",IFERROR(MATCH(C46,Application!$K$11:$K$297,0)>0,\"\")),AND(Application!$A$9=\"No\",C46=Application!$A$13)),F46,\"\"),\"\")","v":""},"110Home","Special Ed Program - Home",null,null,null,null,null,null,null,null,null,null,null,null,null,null,null,null,null,"N/A",null,null,"N/A","N/A"]
[24,"$B$4",110,"Thunder Ridge Schools","Smith",197,{"$f":"IFERROR(IF(OR(AND(Application!$A$9=\"Yes\",IFERROR(MATCH(C47,Application!$K$11:$K$297,0)>0,\"\")),AND(Application!$A$9=\"No\",C47=Application!$A$13)),F47,\"\"),\"\")","v":""},"USD 110 Off site non public building","Special Ed Program - Off Site Community Based",null,null,null,null,null,null,null,null,null,null,null,null,null,null,null,null,null,"N/A",null,null,"N/A","N/A"]
[25,"$B$4",111,"Doniphan West Schools","Doniphan",200,{"$f":"IFERROR(IF(OR(AND(Application!$A$9=\"Yes\",IFERROR(MATCH(C48,Application!$K$11:$K$297,0)>0,\"\")),AND(Application!$A$9=\"No\",C48=Application!$A$13)),F48,\"\"),\"\")","v":""},"Doniphan West JR/SR High School","High School",null,null,null,null,null,null,null,null,null,null,null,null,null,null,null,null,null,152,null,null,48,0.31580000000000003]
[26,"$B$4",111,"Doniphan West Schools","Doniphan",201,{"$f":"IFERROR(IF(OR(AND(Application!$A$9=\"Yes\",IFERROR(MATCH(C49,Application!$K$11:$K$297,0)>0,\"\")),AND(Application!$A$9=\"No\",C49=Application!$A$13)),F49,\"\"),\"\")","v":""},"Doniphan West Elementary School","Elementary",null,null,null,null,null,null,null,null,null,null,null,null,null,null,null,null,null,213,null,null,85,0.39910000000000001]
[27,"$B$4",111,"Doniphan West Schools","Doniphan",203,{"$f":"IFERROR(IF(OR(AND(Application!$A$9=\"Yes\",IFERROR(MATCH(C50,Application!$K$11:$K$297,0)>0,\"\")),AND(Application!$A$9=\"No\",C50=Application!$A$13)),F50,\"\"),\"\")","v":""},"Home Building","Special Ed Program - Home",null,null,null,null,null,null,null,null,null,null,null,null,null,null,null,null,null,"N/A",null,null,"N/A","N/A"]
[111,"$B$4",204,"Bonner Springs","Wyandotte",204,{"$f":"IFERROR(IF(OR(AND(Application!$A$9=\"Yes\",IFERROR(MATCH(C51,Application!$K$11:$K$297,0)>0,\"\")),AND(Application!$A$9=\"No\",C51=Application!$A$13)),F51,\"\"),\"\")","v":""},"Bonner Springs Dist Wyan Co","Central Office",null,null,null,null,null,null,null,null,null,null,null,null,null,null,null,null,null,"N/A",null,null,"N/A","N/A"]
[112,"$B$4",204,"Bonner Springs","Wyandotte",208,{"$f":"IFERROR(IF(OR(AND(Application!$A$9=\"Yes\",IFERROR(MATCH(C52,Application!$K$11:$K$297,0)>0,\"\")),AND(Application!$A$9=\"No\",C52=Application!$A$13)),F52,\"\"),\"\")","v":""},"Mcdanield North Headstart","Early Childhood Program - Head Start",null,null,null,null,null,null,null,null,null,null,null,null,null,null,null,null,null,"N/A",null,null,"N/A","N/A"]
[113,"$B$4",204,"Bonner Springs","Wyandotte",209,{"$f":"IFERROR(IF(OR(AND(Application!$A$9=\"Yes\",IFERROR(MATCH(C53,Application!$K$11:$K$297,0)>0,\"\")),AND(Application!$A$9=\"No\",C53=Application!$A$13)),F53,\"\"),\"\")","v":""},"USD 204 - Home","Special Ed Program - Home",null,null,null,null,null,null,null,null,null,null,null,null,null,null,null,null,null,"N/A",null,null,"N/A","N/A"]
[114,"$B$4",204,"Bonner Springs","Wyandotte",210,{"$f":"IFERROR(IF(OR(AND(Application!$A$9=\"Yes\",IFERROR(MATCH(C54,Application!$K$11:$K$297,0)>0,\"\")),AND(Application!$A$9=\"No\",C54=Application!$A$13)),F54,\"\"),\"\")","v":""},"Bonner Springs Elementary","Elementary",null,null,null,null,null,null,null,null,null,null,null,null,null,null,null,null,null,362,null,null,192,0.53039999999999998]
[115,"$B$4",204,"Bonner Springs","Wyandotte",213,{"$f":"IFERROR(IF(OR(AND(Application!$A$9=\"Yes\",IFERROR(MATCH(C55,Application!$K$11:$K$297,0)>0,\"\")),AND(Application!$A$9=\"No\",C55=Application!$A$13)),F55,\"\"),\"\")","v":""},"USD 204 - K Time Program W/O SPED","Early Childhood Program - General",null,null,null,null,null,null,null,null,null,null,null,null,null,null,null,null,null,"N/A",null,null,"N/A","N/A"]
[116,"$B$4",204,"Bonner Springs","Wyandotte",214,{"$f":"IFERROR(IF(OR(AND(Application!$A$9=\"Yes\",IFERROR(MATCH(C56,Application!$K$11:$K$297,0)>0,\"\")),AND(Application!$A$9=\"No\",C56=Application!$A$13)),F56,\"\"),\"\")","v":""},"Bonner Springs High","High School",null,null,null,null,null,null,null,null,null,null,null,null,null,null,null,null,null,778,null,null,304,0.39069999999999999]
[28,"$B$4",111,"Doniphan West Schools","Doniphan",215,{"$f":"IFERROR(IF(OR(AND(Application!$A$9=\"Yes\",IFERROR(MATCH(C57,Application!$K$11:$K$297,0)>0,\"\")),AND(Application!$A$9=\"No\",C57=Application!$A$13)),F57,\"\"),\"\")","v":""},"K-Time Program","Early Childhood Program - General",null,null,null,null,null,null,null,null,null,null,null,null,null,null,null,null,null,"N/A",null,null,"N/A","N/A"]
[117,"$B$4",204,"Bonner Springs","Wyandotte",216,{"$f":"IFERROR(IF(OR(AND(Application!$A$9=\"Yes\",IFERROR(MATCH(C58,Application!$K$11:$K$297,0)>0,\"\")),AND(Application!$A$9=\"No\",C58=Application!$A$13)),F58,\"\"),\"\")","v":""},"Edwardsville Elem","Elementary",null,null,null,null,null,null,null,null,null,null,null,null,null,null,null,null,null,341,null,null,181,0.53080000000000005]
[29,"$B$4",111,"Doniphan West Schools","Doniphan",217,{"$f":"IFERROR(IF(OR(AND(Application!$A$9=\"Yes\",IFERROR(MATCH(C59,Application!$K$11:$K$297,0)>0,\"\")),AND(Application!$A$9=\"No\",C59=Application!$A$13)),F59,\"\"),\"\")","v":""},"Off Site non-public Building","Special Ed Program - Off Site Community Based",null,null,null,null,null,null,null,null,null,null,null,null,null,null,null,null,null,"N/A",null,null,"N/A","N/A"]
[118,"$B$4",204,"Bonner Springs","Wyandotte",218,{"$f":"IFERROR(IF(OR(AND(Application!$A$9=\"Yes\",IFERROR(MATCH(C60,Application!$K$11:$K$297,0)>0,\"\")),AND(Application!$A$9=\"No\",C60=Application!$A$13)),F60,\"\"),\"\")","v":""},"Off-Site non-public buildings","Special Ed Program - Off Site Community Based",null,null,null,null,null,null,null,null,null,null,null,null,null,null,null,null,null,"N/A",null,null,"N/A","N/A"]
[119,"$B$4",204,"Bonner Springs","Wyandotte",219,{"$f":"IFERROR(IF(OR(AND(Application!$A$9=\"Yes\",IFERROR(MATCH(C61,Application!$K$11:$K$297,0)>0,\"\")),AND(Application!$A$9=\"No\",C61=Application!$A$13)),F61,\"\"),\"\")","v":""},"Public Off Campus","Special Ed Program - Public School Administered",null,null,null,null,null,null,null,null,null,null,null,null,null,null,null,null,null,"N/A",null,null,"N/A","N/A"]
[120,"$B$4",204,"Bonner Springs","Wyandotte",220,{"$f":"IFERROR(IF(OR(AND(Application!$A$9=\"Yes\",IFERROR(MATCH(C62,Application!$K$11:$K$297,0)>0,\"\")),AND(Application!$A$9=\"No\",C62=Application!$A$13)),F62,\"\"),\"\")","v":""},"McDanield PreSchool Center","Early Childhood Program - Other",null,null,null,null,null,null,null,null,null,null,null,null,null,null,null,null,null,"N/A",null,null,"N/A","N/A"]
[121,"$B$4",204,"Bonner Springs","Wyandotte",221,{"$f":"IFERROR(IF(OR(AND(Application!$A$9=\"Yes\",IFERROR(MATCH(C63,Application!$K$11:$K$297,0)>0,\"\")),AND(Application!$A$9=\"No\",C63=Application!$A$13)),F63,\"\"),\"\")","v":""},"Robert E Clark Middle","Middle School",null,null,null,null,null,null,null,null,null,null,null,null,null,null,null,null,null,563,null,null,248,0.4405]
[122,"$B$4",204,"Bonner Springs","Wyandotte",228,{"$f":"IFERROR(IF(OR(AND(Application!$A$9=\"Yes\",IFERROR(MATCH(C64,Application!$K$11:$K$297,0)>0,\"\")),AND(Application!$A$9=\"No\",C64=Application!$A$13)),F64,\"\"),\"\")","v":""},"Delaware Ridge Elementary","Elementary",null,null,null,null,null,null,null,null,null,null,null,null,null,null,null,null,null,372,null,null,184,0.49459999999999998]
[124,"$B$4",205,"Bluestem","Butler",237,{"$f":"IFERROR(IF(OR(AND(Application!$A$9=\"Yes\",IFERROR(MATCH(C65,Application!$K$11:$K$297,0)>0,\"\")),AND(Application!$A$9=\"No\",C65=Application!$A$13)),F65,\"\"),\"\")","v":""},"USD 205 - Off Site Non Public Buildings","Special Ed Program - Off Site Community Based",null,null,null,null,null,null,null,null,null,null,null,null,null,null,null,null,null,"N/A",null,null,"N/A","N/A"]
[125,"$B$4",205,"Bluestem","Butler",238,{"$f":"IFERROR(IF(OR(AND(Application!$A$9=\"Yes\",IFERROR(MATCH(C66,Application!$K$11:$K$297,0)>0,\"\")),AND(Application!$A$9=\"No\",C66=Application!$A$13)),F66,\"\"),\"\")","v":""},"Bluestem Elementary School","Elementary",null,null,null,null,null,null,null,null,null,null,null,null,null,null,null,null,null,281,null,null,102,0.36299999999999999]
[126,"$B$4",205,"Bluestem","Butler",240,{"$f":"IFERROR(IF(OR(AND(Application!$A$9=\"Yes\",IFERROR(MATCH(C67,Application!$K$11:$K$297,0)>0,\"\")),AND(Application!$A$9=\"No\",C67=Application!$A$13)),F67,\"\"),\"\")","v":""},"Bluestem Jr/Sr High","High School",null,null,null,null,null,null,null,null,null,null,null,null,null,null,null,null,null,246,null,null,105,0.42680000000000001]
[127,"$B$4",205,"Bluestem","Butler",241,{"$f":"IFERROR(IF(OR(AND(Application!$A$9=\"Yes\",IFERROR(MATCH(C68,Application!$K$11:$K$297,0)>0,\"\")),AND(Application!$A$9=\"No\",C68=Application!$A$13)),F68,\"\"),\"\")","v":""},"USD 205 - Public Off-Site Preschools","Special Ed Program - Off Site Preschool",null,null,null,null,null,null,null,null,null,null,null,null,null,null,null,null,null,"N/A",null,null,"N/A","N/A"]
[142,"$B$4",205,"Bluestem","Butler",242,{"$f":"IFERROR(IF(OR(AND(Application!$A$9=\"Yes\",IFERROR(MATCH(C69,Application!$K$11:$K$297,0)>0,\"\")),AND(Application!$A$9=\"No\",C69=Application!$A$13)),F69,\"\"),\"\")","v":""},"USD 205 - Home","Special Ed Program - Home",null,null,null,null,null,null,null,null,null,null,null,null,null,null,null,null,null,"N/A",null,null,"N/A","N/A"]
[143,"$B$4",205,"Bluestem","Butler",245,{"$f":"IFERROR(IF(OR(AND(Application!$A$9=\"Yes\",IFERROR(MATCH(C70,Application!$K$11:$K$297,0)>0,\"\")),AND(Application!$A$9=\"No\",C70=Application!$A$13)),F70,\"\"),\"\")","v":""},"USD 205 - Community-Based Preschool","Special Ed Program - Community Based Preschool",null,null,null,null,null,null,null,null,null,null,null,null,null,null,null,null,null,"N/A",null,null,"N/A","N/A"]
[195,"$B$4",205,"Bluestem","Butler",247,{"$f":"IFERROR(IF(OR(AND(Application!$A$9=\"Yes\",IFERROR(MATCH(C71,Application!$K$11:$K$297,0)>0,\"\")),AND(Application!$A$9=\"No\",C71=Application!$A$13)),F71,\"\"),\"\")","v":""},"USD 205 - Public Off Campus","Special Ed Program - Public School Administered",null,null,null,null,null,null,null,null,null,null,null,null,null,null,null,null,null,"N/A",null,null,"N/A","N/A"]
[1117,"$B$4",205,"Bluestem","Butler",249,{"$f":"IFERROR(IF(OR(AND(Application!$A$9=\"Yes\",IFERROR(MATCH(C72,Application!$K$11:$K$297,0)>0,\"\")),AND(Application!$A$9=\"No\",C72=Application!$A$13)),F72,\"\"),\"\")","v":""},"USD 205 - K Time Program W/O SPED","Early Childhood Program - General",null,null,null,null,null,null,null,null,null,null,null,null,null,null,null,null,null,"N/A",null,null,"N/A","N/A"]
[1118,"$B$4",206,"Remington-Whitewater","Butler",259,{"$f":"IFERROR(IF(OR(AND(Application!$A$9=\"Yes\",IFERROR(MATCH(C73,Application!$K$11:$K$297,0)>0,\"\")),AND(Application!$A$9=\"No\",C73=Application!$A$13)),F73,\"\"),\"\")","v":""},"USD 206 - Off Site Non Public Buildings","Special Ed Program - Off Site Community Based",null,null,null,null,null,null,null,null,null,null,null,null,null,null,null,null,null,"N/A",null,null,"N/A","N/A"]
[1119,"$B$4",206,"Remington-Whitewater","Butler",260,{"$f":"IFERROR(IF(OR(AND(Application!$A$9=\"Yes\",IFERROR(MATCH(C74,Application!$K$11:$K$297,0)>0,\"\")),AND(Application!$A$9=\"No\",C74=Application!$A$13)),F74,\"\"),\"\")","v":""},"Frederic Remington High","High School",null,null,null,null,null,null,null,null,null,null,null,null,null,null,null,null,null,148,null,null,30,0.20269999999999999]
[1120,"$B$4",206,"Remington-Whitewater","Butler",262,{"$f":"IFERROR(IF(OR(AND(Application!$A$9=\"Yes\",IFERROR(MATCH(C75,Application!$K$11:$K$297,0)>0,\"\")),AND(Application!$A$9=\"No\",C75=Application!$A$13)),F75,\"\"),\"\")","v":""},"USD 206 - Public Off-Site Preschools","Special Ed Program - Off Site Preschool",null,null,null,null,null,null,null,null,null,null,null,null,null,null,null,null,null,"N/A",null,null,"N/A","N/A"]
[1121,"$B$4",206,"Remington-Whitewater","Butler",263,{"$f":"IFERROR(IF(OR(AND(Application!$A$9=\"Yes\",IFERROR(MATCH(C76,Application!$K$11:$K$297,0)>0,\"\")),AND(Application!$A$9=\"No\",C76=Application!$A$13)),F76,\"\"),\"\")","v":""},"USD 206 - Home","Special Ed Program - Home",null,null,null,null,null,null,null,null,null,null,null,null,null,null,null,null,null,"N/A",null,null,"N/A","N/A"]
[1124,"$B$4",206,"Remington-Whitewater","Butler",266,{"$f":"IFERROR(IF(OR(AND(Application!$A$9=\"Yes\",IFERROR(MATCH(C77,Application!$K$11:$K$297,0)>0,\"\")),AND(Application!$A$9=\"No\",C77=Application!$A$13)),F77,\"\"),\"\")","v":""},"USD 206 - Community-Based Preschool","Special Ed Program - Community Based Preschool",null,null,null,null,null,null,null,null,null,null,null,null,null,null,null,null,null,"N/A",null,null,"N/A","N/A"]
[1125,"$B$4",206,"Remington-Whitewater","Butler",268,{"$f":"IFERROR(IF(OR(AND(Application!$A$9=\"Yes\",IFERROR(MATCH(C78,Application!$K$11:$K$297,0)>0,\"\")),AND(Application!$A$9=\"No\",C78=Application!$A$13)),F78,\"\"),\"\")","v":""},"USD 206 - K Time Program W/O SPED","Early Childhood Program - General",null,null,null,null,null,null,null,null,null,null,null,null,null,null,null,null,null,"N/A",null,null,"N/A","N/A"]
[1126,"$B$4",206,"Remington-Whitewater","Butler",272,{"$f":"IFERROR(IF(OR(AND(Application!$A$9=\"Yes\",IFERROR(MATCH(C79,Application!$K$11:$K$297,0)>0,\"\")),AND(Application!$A$9=\"No\",C79=Application!$A$13)),F79,\"\"),\"\")","v":""},"Remington Elementary at Potwin","Elementary",null,null,null,null,null,null,null,null,null,null,null,null,null,null,null,null,null,182,null,null,50,0.2747]
[1127,"$B$4",206,"Remington-Whitewater","Butler",274,{"$f":"IFERROR(IF(OR(AND(Application!$A$9=\"Yes\",IFERROR(MATCH(C80,Application!$K$11:$K$297,0)>0,\"\")),AND(Application!$A$9=\"No\",C80=Application!$A$13)),F80,\"\"),\"\")","v":""},"Remington Middle School","Middle School",null,null,null,null,null,null,null,null,null,null,null,null,null,null,null,null,null,142,null,null,48,0.33800000000000002]
[77,"$B$4",115,"Nemaha Central","Nemaha",280,{"$f":"IFERROR(IF(OR(AND(Application!$A$9=\"Yes\",IFERROR(MATCH(C81,Application!$K$11:$K$297,0)>0,\"\")),AND(Application!$A$9=\"No\",C81=Application!$A$13)),F81,\"\"),\"\")","v":""},"Nemaha Central Elementary and Middle School","Elementary",null,null,null,null,null,null,null,null,null,null,null,null,null,null,null,null,null,516,null,null,138,0.26740000000000003]
[78,"$B$4",115,"Nemaha Central","Nemaha",281,{"$f":"IFERROR(IF(OR(AND(Application!$A$9=\"Yes\",IFERROR(MATCH(C82,Application!$K$11:$K$297,0)>0,\"\")),AND(Application!$A$9=\"No\",C82=Application!$A$13)),F82,\"\"),\"\")","v":""},"Nemaha Central High School","High School",null,null,null,null,null,null,null,null,null,null,null,null,null,null,null,null,null,221,null,null,31,0.14030000000000001]
[79,"$B$4",115,"Nemaha Central","Nemaha",283,{"$f":"IFERROR(IF(OR(AND(Application!$A$9=\"Yes\",IFERROR(MATCH(C83,Application!$K$11:$K$297,0)>0,\"\")),AND(Application!$A$9=\"No\",C83=Application!$A$13)),F83,\"\"),\"\")","v":""},"USD 115 - Community-Based Preschool","Special Ed Program - Community Based Preschool",null,null,null,null,null,null,null,null,null,null,null,null,null,null,null,null,null,"N/A",null,null,"N/A","N/A"]
[128,"$B$4",207,"Fort Leavenworth","Leavenworth",285,{"$f":"IFERROR(IF(OR(AND(Application!$A$9=\"Yes\",IFERROR(MATCH(C84,Application!$K$11:$K$297,0)>0,\"\")),AND(Application!$A$9=\"No\",C84=Application!$A$13)),F84,\"\"),\"\")","v":""},"USD 207 - Off Site Non Public Buildings","Special Ed Program - Off Site Community Based",null,null,null,null,null,null,null,null,null,null,null,null,null,null,null,null,null,"N/A",null,null,"N/A","N/A"]
[129,"$B$4",207,"Fort Leavenworth","Leavenworth",286,{"$f":"IFERROR(IF(OR(AND(Application!$A$9=\"Yes\",IFERROR(MATCH(C85,Application!$K$11:$K$297,0)>0,\"\")),AND(Application!$A$9=\"No\",C85=Application!$A$13)),F85,\"\"),\"\")","v":""},"Bradley Elem","Elementary",null,null,null,null,null,null,null,null,null,null,null,null,null,null,null,null,null,395,null,null,8,2.0299999999999999E-2]
[130,"$B$4",207,"Fort Leavenworth","Leavenworth",287,{"$f":"IFERROR(IF(OR(AND(Application!$A$9=\"Yes\",IFERROR(MATCH(C86,Application!$K$11:$K$297,0)>0,\"\")),AND(Application!$A$9=\"No\",C86=Application!$A$13)),F86,\"\"),\"\")","v":""},"USD 207 - Home","Special Ed Program - Home",null,null,null,null,null,null,null,null,null,null,null,null,null,null,null,null,null,"N/A",null,null,"N/A","N/A"]
[131,"$B$4",207,"Fort Leavenworth","Leavenworth",288,{"$f":"IFERROR(IF(OR(AND(Application!$A$9=\"Yes\",IFERROR(MATCH(C87,Application!$K$11:$K$297,0)>0,\"\")),AND(Application!$A$9=\"No\",C87=Application!$A$13)),F87,\"\"),\"\")","v":""},"Eisenhower Elem","Elementary",null,null,null,null,null,null,null,null,null,null,null,null,null,null,null,null,null,313,null,null,10,3.1899999999999998E-2]
[132,"$B$4",207,"Fort Leavenworth","Leavenworth",290,{"$f":"IFERROR(IF(OR(AND(Application!$A$9=\"Yes\",IFERROR(MATCH(C88,Application!$K$11:$K$297,0)>0,\"\")),AND(Application!$A$9=\"No\",C88=Application!$A$13)),F88,\"\"),\"\")","v":""},"MacArthur Elem","Elementary",null,null,null,null,null,null,null,null,null,null,null,null,null,null,null,null,null,377,null,null,4,1.06E-2]
[191,"$B$4",207,"Fort Leavenworth","Leavenworth",291,{"$f":"IFERROR(IF(OR(AND(Application!$A$9=\"Yes\",IFERROR(MATCH(C89,Application!$K$11:$K$297,0)>0,\"\")),AND(Application!$A$9=\"No\",C89=Application!$A$13)),F89,\"\"),\"\")","v":""},"USD 207 - Community-Based Preschool","Special Ed Program - Community Based Preschool",null,null,null,null,null,null,null,null,null,null,null,null,null,null,null,null,null,"N/A",null,null,"N/A","N/A"]
[192,"$B$4",207,"Fort Leavenworth","Leavenworth",292,{"$f":"IFERROR(IF(OR(AND(Application!$A$9=\"Yes\",IFERROR(MATCH(C90,Application!$K$11:$K$297,0)>0,\"\")),AND(Application!$A$9=\"No\",C90=Application!$A$13)),F90,\"\"),\"\")","v":""},"USD 207 - K Time Program W/O SPED","Early Childhood Program - General",null,null,null,null,null,null,null,null,null,null,null,null,null,null,null,null,null,"N/A",null,null,"N/A","N/A"]
[80,"$B$4",115,"Nemaha Central","Nemaha",293,{"$f":"IFERROR(IF(OR(AND(Application!$A$9=\"Yes\",IFERROR(MATCH(C91,Application!$K$11:$K$297,0)>0,\"\")),AND(Application!$A$9=\"No\",C91=Application!$A$13)),F91,\"\"),\"\")","v":""},"USD 115 - K Time Program W/O SpEd","Early Childhood Program - General",null,null,null,null,null,null,null,null,null,null,null,null,null,null,null,null,null,"N/A",null,null,"N/A","N/A"]
[198,"$B$4",207,"Fort Leavenworth","Leavenworth",294,{"$f":"IFERROR(IF(OR(AND(Application!$A$9=\"Yes\",IFERROR(MATCH(C92,Application!$K$11:$K$297,0)>0,\"\")),AND(Application!$A$9=\"No\",C92=Application!$A$13)),F92,\"\"),\"\")","v":""},"Patton Jr High","Junior High School",null,null,null,null,null,null,null,null,null,null,null,null,null,null,null,null,null,441,null,null,15,3.4000000000000002E-2]
[81,"$B$4",115,"Nemaha Central","Nemaha",295,{"$f":"IFERROR(IF(OR(AND(Application!$A$9=\"Yes\",IFERROR(MATCH(C93,Application!$K$11:$K$297,0)>0,\"\")),AND(Application!$A$9=\"No\",C93=Application!$A$13)),F93,\"\"),\"\")","v":""},"USD 115 - Off Site Non Public Buildings","Special Ed Program - Off Site Community Based",null,null,null,null,null,null,null,null,null,null,null,null,null,null,null,null,null,"N/A",null,null,"N/A","N/A"]
[82,"$B$4",115,"Nemaha Central","Nemaha",296,{"$f":"IFERROR(IF(OR(AND(Application!$A$9=\"Yes\",IFERROR(MATCH(C94,Application!$K$11:$K$297,0)>0,\"\")),AND(Application!$A$9=\"No\",C94=Application!$A$13)),F94,\"\"),\"\")","v":""},"USD #115- Home","Special Ed Program - Home",null,null,null,null,null,null,null,null,null,null,null,null,null,null,null,null,null,"N/A",null,null,"N/A","N/A"]
[83,"$B$4",115,"Nemaha Central","Nemaha",297,{"$f":"IFERROR(IF(OR(AND(Application!$A$9=\"Yes\",IFERROR(MATCH(C95,Application!$K$11:$K$297,0)>0,\"\")),AND(Application!$A$9=\"No\",C95=Application!$A$13)),F95,\"\"),\"\")","v":""},"Headstart","Early Childhood Program - Head Start",null,null,null,null,null,null,null,null,null,null,null,null,null,null,null,null,null,"N/A",null,null,"N/A","N/A"]
[200,"$B$4",208,"Wakeeney","Trego",305,{"$f":"IFERROR(IF(OR(AND(Application!$A$9=\"Yes\",IFERROR(MATCH(C96,Application!$K$11:$K$297,0)>0,\"\")),AND(Application!$A$9=\"No\",C96=Application!$A$13)),F96,\"\"),\"\")","v":""},"USD 208 - Off Site Non Public Buildings","Special Ed Program - Off Site Community Based",null,null,null,null,null,null,null,null,null,null,null,null,null,null,null,null,null,"N/A",null,null,"N/A","N/A"]
[201,"$B$4",208,"Wakeeney","Trego",306,{"$f":"IFERROR(IF(OR(AND(Application!$A$9=\"Yes\",IFERROR(MATCH(C97,Application!$K$11:$K$297,0)>0,\"\")),AND(Application!$A$9=\"No\",C97=Application!$A$13)),F97,\"\"),\"\")","v":""},"Trego Grade School","Elementary",null,null,null,null,null,null,null,null,null,null,null,null,null,null,null,null,null,265,null,null,84,0.317]
[133,"$B$4",208,"Wakeeney","Trego",307,{"$f":"IFERROR(IF(OR(AND(Application!$A$9=\"Yes\",IFERROR(MATCH(C98,Application!$K$11:$K$297,0)>0,\"\")),AND(Application!$A$9=\"No\",C98=Application!$A$13)),F98,\"\"),\"\")","v":""},"USD 208 - Home","Special Ed Program - Home",null,null,null,null,null,null,null,null,null,null,null,null,null,null,null,null,null,"N/A",null,null,"N/A","N/A"]
[134,"$B$4",208,"Wakeeney","Trego",308,{"$f":"IFERROR(IF(OR(AND(Application!$A$9=\"Yes\",IFERROR(MATCH(C99,Application!$K$11:$K$297,0)>0,\"\")),AND(Application!$A$9=\"No\",C99=Application!$A$13)),F99,\"\"),\"\")","v":""},"Trego Community High","High School",null,null,null,null,null,null,null,null,null,null,null,null,null,null,null,null,null,112,null,null,40,0.35709999999999997]
[135,"$B$4",208,"Wakeeney","Trego",311,{"$f":"IFERROR(IF(OR(AND(Application!$A$9=\"Yes\",IFERROR(MATCH(C100,Application!$K$11:$K$297,0)>0,\"\")),AND(Application!$A$9=\"No\",C100=Application!$A$13)),F100,\"\"),\"\")","v":""},"USD 208 - Community-Based Preschool","Special Ed Program - Community Based Preschool",null,null,null,null,null,null,null,null,null,null,null,null,null,null,null,null,null,"N/A",null,null,"N/A","N/A"]
[136,"$B$4",208,"Wakeeney","Trego",312,{"$f":"IFERROR(IF(OR(AND(Application!$A$9=\"Yes\",IFERROR(MATCH(C101,Application!$K$11:$K$297,0)>0,\"\")),AND(Application!$A$9=\"No\",C101=Application!$A$13)),F101,\"\"),\"\")","v":""},"USD 208 - K Time Program W/O SPED","Early Childhood Program - General",null,null,null,null,null,null,null,null,null,null,null,null,null,null,null,null,null,"N/A",null,null,"N/A","N/A"]
[137,"$B$4",209,"Moscow Public Schools","Stevens",341,{"$f":"IFERROR(IF(OR(AND(Application!$A$9=\"Yes\",IFERROR(MATCH(C102,Application!$K$11:$K$297,0)>0,\"\")),AND(Application!$A$9=\"No\",C102=Application!$A$13)),F102,\"\"),\"\")","v":""},"USD 209 - Off Site Non Public Buildings","Special Ed Program - Off Site Community Based",null,null,null,null,null,null,null,null,null,null,null,null,null,null,null,null,null,"N/A",null,null,"N/A","N/A"]
[138,"$B$4",209,"Moscow Public Schools","Stevens",342,{"$f":"IFERROR(IF(OR(AND(Application!$A$9=\"Yes\",IFERROR(MATCH(C103,Application!$K$11:$K$297,0)>0,\"\")),AND(Application!$A$9=\"No\",C103=Application!$A$13)),F103,\"\"),\"\")","v":""},"Moscow Elem","Elementary",null,null,null,null,null,null,null,null,null,null,null,null,null,null,null,null,null,58,null,null,34,0.58620000000000005]
[139,"$B$4",209,"Moscow Public Schools","Stevens",343,{"$f":"IFERROR(IF(OR(AND(Application!$A$9=\"Yes\",IFERROR(MATCH(C104,Application!$K$11:$K$297,0)>0,\"\")),AND(Application!$A$9=\"No\",C104=Application!$A$13)),F104,\"\"),\"\")","v":""},"USD 209 - Public Off-Site Preschools","Special Ed Program - Off Site Preschool",null,null,null,null,null,null,null,null,null,null,null,null,null,null,null,null,null,"N/A",null,null,"N/A","N/A"]
[140,"$B$4",209,"Moscow Public Schools","Stevens",344,{"$f":"IFERROR(IF(OR(AND(Application!$A$9=\"Yes\",IFERROR(MATCH(C105,Application!$K$11:$K$297,0)>0,\"\")),AND(Application!$A$9=\"No\",C105=Application!$A$13)),F105,\"\"),\"\")","v":""},"Moscow High","High School",null,null,null,null,null,null,null,null,null,null,null,null,null,null,null,null,null,80,null,null,35,0.4375]
[141,"$B$4",209,"Moscow Public Schools","Stevens",345,{"$f":"IFERROR(IF(OR(AND(Application!$A$9=\"Yes\",IFERROR(MATCH(C106,Application!$K$11:$K$297,0)>0,\"\")),AND(Application!$A$9=\"No\",C106=Application!$A$13)),F106,\"\"),\"\")","v":""},"USD 209 - Home","Special Ed Program - Home",null,null,null,null,null,null,null,null,null,null,null,null,null,null,null,null,null,"N/A",null,null,"N/A","N/A"]
[190,"$B$4",209,"Moscow Public Schools","Stevens",346,{"$f":"IFERROR(IF(OR(AND(Application!$A$9=\"Yes\",IFERROR(MATCH(C107,Application!$K$11:$K$297,0)>0,\"\")),AND(Application!$A$9=\"No\",C107=Application!$A$13)),F107,\"\"),\"\")","v":""},"USD 209 - K Time Program W/O SPED","Early Childhood Program - General",null,null,null,null,null,null,null,null,null,null,null,null,null,null,null,null,null,"N/A",null,null,"N/A","N/A"]
[194,"$B$4",210,"Hugoton Public Schools","Stevens",355,{"$f":"IFERROR(IF(OR(AND(Application!$A$9=\"Yes\",IFERROR(MATCH(C108,Application!$K$11:$K$297,0)>0,\"\")),AND(Application!$A$9=\"No\",C108=Application!$A$13)),F108,\"\"),\"\")","v":""},"USD 210 - Off Site Non Public Buildings","Special Ed Program - Off Site Community Based",null,null,null,null,null,null,null,null,null,null,null,null,null,null,null,null,null,"N/A",null,null,"N/A","N/A"]
[144,"$B$4",210,"Hugoton Public Schools","Stevens",356,{"$f":"IFERROR(IF(OR(AND(Application!$A$9=\"Yes\",IFERROR(MATCH(C109,Application!$K$11:$K$297,0)>0,\"\")),AND(Application!$A$9=\"No\",C109=Application!$A$13)),F109,\"\"),\"\")","v":""},"Hugoton Elem","Elementary",null,null,null,null,null,null,null,null,null,null,null,null,null,null,null,null,null,522,null,null,300,0.57469999999999999]
[145,"$B$4",210,"Hugoton Public Schools","Stevens",357,{"$f":"IFERROR(IF(OR(AND(Application!$A$9=\"Yes\",IFERROR(MATCH(C110,Application!$K$11:$K$297,0)>0,\"\")),AND(Application!$A$9=\"No\",C110=Application!$A$13)),F110,\"\"),\"\")","v":""},"Hugoton Middle","Middle School",null,null,null,null,null,null,null,null,null,null,null,null,null,null,null,null,null,154,null,null,76,0.49349999999999999]
[146,"$B$4",210,"Hugoton Public Schools","Stevens",358,{"$f":"IFERROR(IF(OR(AND(Application!$A$9=\"Yes\",IFERROR(MATCH(C111,Application!$K$11:$K$297,0)>0,\"\")),AND(Application!$A$9=\"No\",C111=Application!$A$13)),F111,\"\"),\"\")","v":""},"Hugoton High","High School",null,null,null,null,null,null,null,null,null,null,null,null,null,null,null,null,null,327,null,null,139,0.42509999999999998]
[147,"$B$4",210,"Hugoton Public Schools","Stevens",359,{"$f":"IFERROR(IF(OR(AND(Application!$A$9=\"Yes\",IFERROR(MATCH(C112,Application!$K$11:$K$297,0)>0,\"\")),AND(Application!$A$9=\"No\",C112=Application!$A$13)),F112,\"\"),\"\")","v":""},"USD 210 - Home","Special Ed Program - Home",null,null,null,null,null,null,null,null,null,null,null,null,null,null,null,null,null,"N/A",null,null,"N/A","N/A"]
[148,"$B$4",210,"Hugoton Public Schools","Stevens",365,{"$f":"IFERROR(IF(OR(AND(Application!$A$9=\"Yes\",IFERROR(MATCH(C113,Application!$K$11:$K$297,0)>0,\"\")),AND(Application!$A$9=\"No\",C113=Application!$A$13)),F113,\"\"),\"\")","v":""},"USD 210 - Public Off Campus","Special Ed Program - Public School Administered",null,null,null,null,null,null,null,null,null,null,null,null,null,null,null,null,null,"N/A",null,null,"N/A","N/A"]
[149,"$B$4",210,"Hugoton Public Schools","Stevens",366,{"$f":"IFERROR(IF(OR(AND(Application!$A$9=\"Yes\",IFERROR(MATCH(C114,Application!$K$11:$K$297,0)>0,\"\")),AND(Application!$A$9=\"No\",C114=Application!$A$13)),F114,\"\"),\"\")","v":""},"USD 210 - K Time Program W/O SPED","Early Childhood Program - General",null,null,null,null,null,null,null,null,null,null,null,null,null,null,null,null,null,"N/A",null,null,"N/A","N/A"]
[150,"$B$4",210,"Hugoton Public Schools","Stevens",367,{"$f":"IFERROR(IF(OR(AND(Application!$A$9=\"Yes\",IFERROR(MATCH(C115,Application!$K$11:$K$297,0)>0,\"\")),AND(Application!$A$9=\"No\",C115=Application!$A$13)),F115,\"\"),\"\")","v":""},"Hugoton Learning Academy","High School",null,null,null,null,null,null,null,null,null,null,null,null,null,null,null,null,null,16,null,null,8,0.5]
[151,"$B$4",211,"Norton Community Schools","Norton",372,{"$f":"IFERROR(IF(OR(AND(Application!$A$9=\"Yes\",IFERROR(MATCH(C116,Application!$K$11:$K$297,0)>0,\"\")),AND(Application!$A$9=\"No\",C116=Application!$A$13)),F116,\"\"),\"\")","v":""},"Norton Dist Norton Co","Central Office",null,null,null,null,null,null,null,null,null,null,null,null,null,null,null,null,null,"N/A",null,null,"N/A","N/A"]
[152,"$B$4",211,"Norton Community Schools","Norton",373,{"$f":"IFERROR(IF(OR(AND(Application!$A$9=\"Yes\",IFERROR(MATCH(C117,Application!$K$11:$K$297,0)>0,\"\")),AND(Application!$A$9=\"No\",C117=Application!$A$13)),F117,\"\"),\"\")","v":""},"USD 211 - Off Site Non Public Buildings","Special Ed Program - Off Site Community Based",null,null,null,null,null,null,null,null,null,null,null,null,null,null,null,null,null,"N/A",null,null,"N/A","N/A"]
[153,"$B$4",211,"Norton Community Schools","Norton",374,{"$f":"IFERROR(IF(OR(AND(Application!$A$9=\"Yes\",IFERROR(MATCH(C118,Application!$K$11:$K$297,0)>0,\"\")),AND(Application!$A$9=\"No\",C118=Application!$A$13)),F118,\"\"),\"\")","v":""},"Eisenhower Elem","Elementary",null,null,null,null,null,null,null,null,null,null,null,null,null,null,null,null,null,390,null,null,192,0.49230000000000002]
[154,"$B$4",211,"Norton Community Schools","Norton",375,{"$f":"IFERROR(IF(OR(AND(Application!$A$9=\"Yes\",IFERROR(MATCH(C119,Application!$K$11:$K$297,0)>0,\"\")),AND(Application!$A$9=\"No\",C119=Application!$A$13)),F119,\"\"),\"\")","v":""},"USD 211 - Home","Special Ed Program - Home",null,null,null,null,null,null,null,null,null,null,null,null,null,null,null,null,null,"N/A",null,null,"N/A","N/A"]
[188,"$B$4",211,"Norton Community Schools","Norton",377,{"$f":"IFERROR(IF(OR(AND(Application!$A$9=\"Yes\",IFERROR(MATCH(C120,Application!$K$11:$K$297,0)>0,\"\")),AND(Application!$A$9=\"No\",C120=Application!$A$13)),F120,\"\"),\"\")","v":""},"USD 211 - Community-Based Preschool","Special Ed Program - Community Based Preschool",null,null,null,null,null,null,null,null,null,null,null,null,null,null,null,null,null,"N/A",null,null,"N/A","N/A"]
[207,"$B$4",211,"Norton Community Schools","Norton",378,{"$f":"IFERROR(IF(OR(AND(Application!$A$9=\"Yes\",IFERROR(MATCH(C121,Application!$K$11:$K$297,0)>0,\"\")),AND(Application!$A$9=\"No\",C121=Application!$A$13)),F121,\"\"),\"\")","v":""},"Norton Jr High","Junior High School",null,null,null,null,null,null,null,null,null,null,null,null,null,null,null,null,null,93,null,null,33,0.3548]
[155,"$B$4",211,"Norton Community Schools","Norton",379,{"$f":"IFERROR(IF(OR(AND(Application!$A$9=\"Yes\",IFERROR(MATCH(C122,Application!$K$11:$K$297,0)>0,\"\")),AND(Application!$A$9=\"No\",C122=Application!$A$13)),F122,\"\"),\"\")","v":""},"USD 211 - K Time Program W/O SPED","Early Childhood Program - General",null,null,null,null,null,null,null,null,null,null,null,null,null,null,null,null,null,"N/A",null,null,"N/A","N/A"]
[156,"$B$4",211,"Norton Community Schools","Norton",380,{"$f":"IFERROR(IF(OR(AND(Application!$A$9=\"Yes\",IFERROR(MATCH(C123,Application!$K$11:$K$297,0)>0,\"\")),AND(Application!$A$9=\"No\",C123=Application!$A$13)),F123,\"\"),\"\")","v":""},"Norton High","High School",null,null,null,null,null,null,null,null,null,null,null,null,null,null,null,null,null,202,null,null,72,0.35639999999999999]
[30,"$B$4",112,"Central Plains","Ellsworth",392,{"$f":"IFERROR(IF(OR(AND(Application!$A$9=\"Yes\",IFERROR(MATCH(C124,Application!$K$11:$K$297,0)>0,\"\")),AND(Application!$A$9=\"No\",C124=Application!$A$13)),F124,\"\"),\"\")","v":""},"Central Plains Central Office","Central Office",null,null,null,null,null,null,null,null,null,null,null,null,null,null,null,null,null,"N/A",null,null,"N/A","N/A"]
[31,"$B$4",112,"Central Plains","Ellsworth",393,{"$f":"IFERROR(IF(OR(AND(Application!$A$9=\"Yes\",IFERROR(MATCH(C125,Application!$K$11:$K$297,0)>0,\"\")),AND(Application!$A$9=\"No\",C125=Application!$A$13)),F125,\"\"),\"\")","v":""},"Wilson Junior/Senior High School","High School",null,null,null,null,null,null,null,null,null,null,null,null,null,null,null,null,null,73,null,null,33,0.4521]
[41,"$B$4",113,"Prairie Hills","Marshall",399,{"$f":"IFERROR(IF(OR(AND(Application!$A$9=\"Yes\",IFERROR(MATCH(C126,Application!$K$11:$K$297,0)>0,\"\")),AND(Application!$A$9=\"No\",C126=Application!$A$13)),F126,\"\"),\"\")","v":""},"Axtell High","High School",null,null,null,null,null,null,null,null,null,null,null,null,null,null,null,null,null,44,null,null,6,0.13639999999999999]
[157,"$B$4",212,"Northern Valley","Norton",403,{"$f":"IFERROR(IF(OR(AND(Application!$A$9=\"Yes\",IFERROR(MATCH(C127,Application!$K$11:$K$297,0)>0,\"\")),AND(Application!$A$9=\"No\",C127=Application!$A$13)),F127,\"\"),\"\")","v":""},"USD 212 - Off Site Non Public Buildings","Special Ed Program - Off Site Community Based",null,null,null,null,null,null,null,null,null,null,null,null,null,null,null,null,null,"N/A",null,null,"N/A","N/A"]
[158,"$B$4",212,"Northern Valley","Norton",404,{"$f":"IFERROR(IF(OR(AND(Application!$A$9=\"Yes\",IFERROR(MATCH(C128,Application!$K$11:$K$297,0)>0,\"\")),AND(Application!$A$9=\"No\",C128=Application!$A$13)),F128,\"\"),\"\")","v":""},"Almena Elem","Elementary",null,null,null,null,null,null,null,null,null,null,null,null,null,null,null,null,null,71,null,null,35,0.49299999999999999]
[159,"$B$4",212,"Northern Valley","Norton",405,{"$f":"IFERROR(IF(OR(AND(Application!$A$9=\"Yes\",IFERROR(MATCH(C129,Application!$K$11:$K$297,0)>0,\"\")),AND(Application!$A$9=\"No\",C129=Application!$A$13)),F129,\"\"),\"\")","v":""},"USD 212 - Home","Special Ed Program - Home",null,null,null,null,null,null,null,null,null,null,null,null,null,null,null,null,null,"N/A",null,null,"N/A","N/A"]
[160,"$B$4",212,"Northern Valley","Norton",406,{"$f":"IFERROR(IF(OR(AND(Application!$A$9=\"Yes\",IFERROR(MATCH(C130,Application!$K$11:$K$297,0)>0,\"\")),AND(Application!$A$9=\"No\",C130=Application!$A$13)),F130,\"\"),\"\")","v":""},"Northern Valley High","High School",null,null,null,null,null,null,null,null,null,null,null,null,null,null,null,null,null,49,null,null,11,0.22450000000000001]
[161,"$B$4",212,"Northern Valley","Norton",407,{"$f":"IFERROR(IF(OR(AND(Application!$A$9=\"Yes\",IFERROR(MATCH(C131,Application!$K$11:$K$297,0)>0,\"\")),AND(Application!$A$9=\"No\",C131=Application!$A$13)),F131,\"\"),\"\")","v":""},"USD 212 - K Time Program W/O SPED","Early Childhood Program - General",null,null,null,null,null,null,null,null,null,null,null,null,null,null,null,null,null,"N/A",null,null,"N/A","N/A"]
[162,"$B$4",212,"Northern Valley","Norton",408,{"$f":"IFERROR(IF(OR(AND(Application!$A$9=\"Yes\",IFERROR(MATCH(C132,Application!$K$11:$K$297,0)>0,\"\")),AND(Application!$A$9=\"No\",C132=Application!$A$13)),F132,\"\"),\"\")","v":""},"Long Island Middle School","Middle School",null,null,null,null,null,null,null,null,null,null,null,null,null,null,null,null,null,36,null,null,17,0.47220000000000001]
[42,"$B$4",113,"Prairie Hills","Nemaha",409,{"$f":"IFERROR(IF(OR(AND(Application!$A$9=\"Yes\",IFERROR(MATCH(C133,Application!$K$11:$K$297,0)>0,\"\")),AND(Application!$A$9=\"No\",C133=Application!$A$13)),F133,\"\"),\"\")","v":""},"Sabetha Elementary School","Elementary",null,null,null,null,null,null,null,null,null,null,null,null,null,null,null,null,null,393,null,null,127,0.32319999999999999]
[43,"$B$4",113,"Prairie Hills","Nemaha",410,{"$f":"IFERROR(IF(OR(AND(Application!$A$9=\"Yes\",IFERROR(MATCH(C134,Application!$K$11:$K$297,0)>0,\"\")),AND(Application!$A$9=\"No\",C134=Application!$A$13)),F134,\"\"),\"\")","v":""},"Sabetha High School","High School",null,null,null,null,null,null,null,null,null,null,null,null,null,null,null,null,null,232,null,null,53,0.22839999999999999]
[44,"$B$4",113,"Prairie Hills","Nemaha",411,{"$f":"IFERROR(IF(OR(AND(Application!$A$9=\"Yes\",IFERROR(MATCH(C135,Application!$K$11:$K$297,0)>0,\"\")),AND(Application!$A$9=\"No\",C135=Application!$A$13)),F135,\"\"),\"\")","v":""},"Sabetha Middle School","Middle School",null,null,null,null,null,null,null,null,null,null,null,null,null,null,null,null,null,166,null,null,46,0.27710000000000001]
[45,"$B$4",113,"Prairie Hills","Nemaha",413,{"$f":"IFERROR(IF(OR(AND(Application!$A$9=\"Yes\",IFERROR(MATCH(C136,Application!$K$11:$K$297,0)>0,\"\")),AND(Application!$A$9=\"No\",C136=Application!$A$13)),F136,\"\"),\"\")","v":""},"Wetmore Elementary","Elementary",null,null,null,null,null,null,null,null,null,null,null,null,null,null,null,null,null,89,null,null,45,0.50560000000000005]
[46,"$B$4",113,"Prairie Hills","Nemaha",414,{"$f":"IFERROR(IF(OR(AND(Application!$A$9=\"Yes\",IFERROR(MATCH(C137,Application!$K$11:$K$297,0)>0,\"\")),AND(Application!$A$9=\"No\",C137=Application!$A$13)),F137,\"\"),\"\")","v":""},"Wetmore High","High School",null,null,null,null,null,null,null,null,null,null,null,null,null,null,null,null,null,34,null,null,9,0.26469999999999999]
[32,"$B$4",112,"Central Plains","Ellsworth",415,{"$f":"IFERROR(IF(OR(AND(Application!$A$9=\"Yes\",IFERROR(MATCH(C138,Application!$K$11:$K$297,0)>0,\"\")),AND(Application!$A$9=\"No\",C138=Application!$A$13)),F138,\"\"),\"\")","v":""},"Wilson Elementary School","Elementary",null,null,null,null,null,null,null,null,null,null,null,null,null,null,null,null,null,87,null,null,42,0.48280000000000001]
[33,"$B$4",112,"Central Plains","Ellsworth",416,{"$f":"IFERROR(IF(OR(AND(Application!$A$9=\"Yes\",IFERROR(MATCH(C139,Application!$K$11:$K$297,0)>0,\"\")),AND(Application!$A$9=\"No\",C139=Application!$A$13)),F139,\"\"),\"\")","v":""},"Central Plains Elementary School - Holyrood","Elementary",null,null,null,null,null,null,null,null,null,null,null,null,null,null,null,null,null,203,null,null,88,0.4335]
[36,"$B$4",112,"Central Plains","Barton",417,{"$f":"IFERROR(IF(OR(AND(Application!$A$9=\"Yes\",IFERROR(MATCH(C140,Application!$K$11:$K$297,0)>0,\"\")),AND(Application!$A$9=\"No\",C140=Application!$A$13)),F140,\"\"),\"\")","v":""},"Central Plains Jr. Sr. High School","High School",null,null,null,null,null,null,null,null,null,null,null,null,null,null,null,null,null,140,null,null,50,0.35709999999999997]
[47,"$B$4",113,"Prairie Hills","Jackson",419,{"$f":"IFERROR(IF(OR(AND(Application!$A$9=\"Yes\",IFERROR(MATCH(C141,Application!$K$11:$K$297,0)>0,\"\")),AND(Application!$A$9=\"No\",C141=Application!$A$13)),F141,\"\"),\"\")","v":""},"Community-Based Preschool","Special Ed Program - Community Based Preschool",null,null,null,null,null,null,null,null,null,null,null,null,null,null,null,null,null,"N/A",null,null,"N/A","N/A"]
[48,"$B$4",113,"Prairie Hills","Jackson",420,{"$f":"IFERROR(IF(OR(AND(Application!$A$9=\"Yes\",IFERROR(MATCH(C142,Application!$K$11:$K$297,0)>0,\"\")),AND(Application!$A$9=\"No\",C142=Application!$A$13)),F142,\"\"),\"\")","v":""},"Home","Special Ed Program - Home",null,null,null,null,null,null,null,null,null,null,null,null,null,null,null,null,null,"N/A",null,null,"N/A","N/A"]
[49,"$B$4",113,"Prairie Hills","Jackson",421,{"$f":"IFERROR(IF(OR(AND(Application!$A$9=\"Yes\",IFERROR(MATCH(C143,Application!$K$11:$K$297,0)>0,\"\")),AND(Application!$A$9=\"No\",C143=Application!$A$13)),F143,\"\"),\"\")","v":""},"K Time Program W/O SPED - USD 113","Early Childhood Program - General",null,null,null,null,null,null,null,null,null,null,null,null,null,null,null,null,null,"N/A",null,null,"N/A","N/A"]
[50,"$B$4",113,"Prairie Hills","Jackson",428,{"$f":"IFERROR(IF(OR(AND(Application!$A$9=\"Yes\",IFERROR(MATCH(C144,Application!$K$11:$K$297,0)>0,\"\")),AND(Application!$A$9=\"No\",C144=Application!$A$13)),F144,\"\"),\"\")","v":""},"Off Site Non Public Buildings","Special Ed Program - Off Site Community Based",null,null,null,null,null,null,null,null,null,null,null,null,null,null,null,null,null,"N/A",null,null,"N/A","N/A"]
[37,"$B$4",112,"Central Plains","Ellsworth",429,{"$f":"IFERROR(IF(OR(AND(Application!$A$9=\"Yes\",IFERROR(MATCH(C145,Application!$K$11:$K$297,0)>0,\"\")),AND(Application!$A$9=\"No\",C145=Application!$A$13)),F145,\"\"),\"\")","v":""},"USD 112 Home","Special Ed Program - Home",null,null,null,null,null,null,null,null,null,null,null,null,null,null,null,null,null,"N/A",null,null,"N/A","N/A"]
[38,"$B$4",112,"Central Plains","Ellsworth",430,{"$f":"IFERROR(IF(OR(AND(Application!$A$9=\"Yes\",IFERROR(MATCH(C146,Application!$K$11:$K$297,0)>0,\"\")),AND(Application!$A$9=\"No\",C146=Application!$A$13)),F146,\"\"),\"\")","v":""},"USD 112-K Time Program W/O SPED","Early Childhood Program - General",null,null,null,null,null,null,null,null,null,null,null,null,null,null,null,null,null,"N/A",null,null,"N/A","N/A"]
[39,"$B$4",112,"Central Plains","Ellsworth",431,{"$f":"IFERROR(IF(OR(AND(Application!$A$9=\"Yes\",IFERROR(MATCH(C147,Application!$K$11:$K$297,0)>0,\"\")),AND(Application!$A$9=\"No\",C147=Application!$A$13)),F147,\"\"),\"\")","v":""},"USD 112-Off Site Non Public Bldg","Special Ed Program - Off Site Community Based",null,null,null,null,null,null,null,null,null,null,null,null,null,null,null,null,null,"N/A",null,null,"N/A","N/A"]
[54,"$B$4",114,"Riverside","Doniphan",433,{"$f":"IFERROR(IF(OR(AND(Application!$A$9=\"Yes\",IFERROR(MATCH(C148,Application!$K$11:$K$297,0)>0,\"\")),AND(Application!$A$9=\"No\",C148=Application!$A$13)),F148,\"\"),\"\")","v":""},"Riverside Intermediate","Elementary",null,null,null,null,null,null,null,null,null,null,null,null,null,null,null,null,null,143,null,null,58,0.40560000000000002]
[55,"$B$4",114,"Riverside","Doniphan",434,{"$f":"IFERROR(IF(OR(AND(Application!$A$9=\"Yes\",IFERROR(MATCH(C149,Application!$K$11:$K$297,0)>0,\"\")),AND(Application!$A$9=\"No\",C149=Application!$A$13)),F149,\"\"),\"\")","v":""},"Riverside Middle School","Middle School",null,null,null,null,null,null,null,null,null,null,null,null,null,null,null,null,null,152,null,null,61,0.40129999999999999]
[69,"$B$4",114,"Riverside","Doniphan",435,{"$f":"IFERROR(IF(OR(AND(Application!$A$9=\"Yes\",IFERROR(MATCH(C150,Application!$K$11:$K$297,0)>0,\"\")),AND(Application!$A$9=\"No\",C150=Application!$A$13)),F150,\"\"),\"\")","v":""},"Riverside Primary School","Elementary",null,null,null,null,null,null,null,null,null,null,null,null,null,null,null,null,null,185,null,null,90,0.48649999999999999]
[70,"$B$4",114,"Riverside","Doniphan",436,{"$f":"IFERROR(IF(OR(AND(Application!$A$9=\"Yes\",IFERROR(MATCH(C151,Application!$K$11:$K$297,0)>0,\"\")),AND(Application!$A$9=\"No\",C151=Application!$A$13)),F151,\"\"),\"\")","v":""},"Riverside High School","High School",null,null,null,null,null,null,null,null,null,null,null,null,null,null,null,null,null,157,null,null,74,0.4713]
[71,"$B$4",114,"Riverside","Doniphan",437,{"$f":"IFERROR(IF(OR(AND(Application!$A$9=\"Yes\",IFERROR(MATCH(C152,Application!$K$11:$K$297,0)>0,\"\")),AND(Application!$A$9=\"No\",C152=Application!$A$13)),F152,\"\"),\"\")","v":""},"Riverside Virtual High School","High School",null,null,null,null,null,null,null,null,null,null,null,null,null,null,null,null,null,6,null,null,1,0.16669999999999999]
[72,"$B$4",114,"Riverside","Doniphan",438,{"$f":"IFERROR(IF(OR(AND(Application!$A$9=\"Yes\",IFERROR(MATCH(C153,Application!$K$11:$K$297,0)>0,\"\")),AND(Application!$A$9=\"No\",C153=Application!$A$13)),F153,\"\"),\"\")","v":""},"Home","Special Ed Program - Home",null,null,null,null,null,null,null,null,null,null,null,null,null,null,null,null,null,"N/A",null,null,"N/A","N/A"]
[218,"$B$4",114,"Riverside","Doniphan",439,{"$f":"IFERROR(IF(OR(AND(Application!$A$9=\"Yes\",IFERROR(MATCH(C154,Application!$K$11:$K$297,0)>0,\"\")),AND(Application!$A$9=\"No\",C154=Application!$A$13)),F154,\"\"),\"\")","v":""},"K time program w/o SPED","Early Childhood Program - General",null,null,null,null,null,null,null,null,null,null,null,null,null,null,null,null,null,"N/A",null,null,"N/A","N/A"]
[163,"$B$4",214,"Ulysses","Grant",441,{"$f":"IFERROR(IF(OR(AND(Application!$A$9=\"Yes\",IFERROR(MATCH(C155,Application!$K$11:$K$297,0)>0,\"\")),AND(Application!$A$9=\"No\",C155=Application!$A$13)),F155,\"\"),\"\")","v":""},"USD 214 - Off Site Non Public Buildings","Special Ed Program - Off Site Community Based",null,null,null,null,null,null,null,null,null,null,null,null,null,null,null,null,null,"N/A",null,null,"N/A","N/A"]
[164,"$B$4",214,"Ulysses","Grant",443,{"$f":"IFERROR(IF(OR(AND(Application!$A$9=\"Yes\",IFERROR(MATCH(C156,Application!$K$11:$K$297,0)>0,\"\")),AND(Application!$A$9=\"No\",C156=Application!$A$13)),F156,\"\"),\"\")","v":""},"Kepley Middle School","Middle School",null,null,null,null,null,null,null,null,null,null,null,null,null,null,null,null,null,336,null,null,202,0.60119999999999996]
[165,"$B$4",214,"Ulysses","Grant",444,{"$f":"IFERROR(IF(OR(AND(Application!$A$9=\"Yes\",IFERROR(MATCH(C157,Application!$K$11:$K$297,0)>0,\"\")),AND(Application!$A$9=\"No\",C157=Application!$A$13)),F157,\"\"),\"\")","v":""},"Sullivan Elem","Elementary",null,null,null,null,null,null,null,null,null,null,null,null,null,null,null,null,null,318,null,null,198,0.62260000000000004]
[166,"$B$4",214,"Ulysses","Grant",446,{"$f":"IFERROR(IF(OR(AND(Application!$A$9=\"Yes\",IFERROR(MATCH(C158,Application!$K$11:$K$297,0)>0,\"\")),AND(Application!$A$9=\"No\",C158=Application!$A$13)),F158,\"\"),\"\")","v":""},"Ulysses High","High School",null,null,null,null,null,null,null,null,null,null,null,null,null,null,null,null,null,435,null,null,232,0.5333]
[167,"$B$4",214,"Ulysses","Grant",448,{"$f":"IFERROR(IF(OR(AND(Application!$A$9=\"Yes\",IFERROR(MATCH(C159,Application!$K$11:$K$297,0)>0,\"\")),AND(Application!$A$9=\"No\",C159=Application!$A$13)),F159,\"\"),\"\")","v":""},"USD 214 - Home","Special Ed Program - Home",null,null,null,null,null,null,null,null,null,null,null,null,null,null,null,null,null,"N/A",null,null,"N/A","N/A"]
[168,"$B$4",214,"Ulysses","Grant",450,{"$f":"IFERROR(IF(OR(AND(Application!$A$9=\"Yes\",IFERROR(MATCH(C160,Application!$K$11:$K$297,0)>0,\"\")),AND(Application!$A$9=\"No\",C160=Application!$A$13)),F160,\"\"),\"\")","v":""},"Hickok Elem","Elementary",null,null,null,null,null,null,null,null,null,null,null,null,null,null,null,null,null,366,null,null,239,0.65300000000000002]
[169,"$B$4",214,"Ulysses","Grant",451,{"$f":"IFERROR(IF(OR(AND(Application!$A$9=\"Yes\",IFERROR(MATCH(C161,Application!$K$11:$K$297,0)>0,\"\")),AND(Application!$A$9=\"No\",C161=Application!$A$13)),F161,\"\"),\"\")","v":""},"USD 214 - Community-Based Preschool","Special Ed Program - Community Based Preschool",null,null,null,null,null,null,null,null,null,null,null,null,null,null,null,null,null,"N/A",null,null,"N/A","N/A"]
[170,"$B$4",214,"Ulysses","Grant",453,{"$f":"IFERROR(IF(OR(AND(Application!$A$9=\"Yes\",IFERROR(MATCH(C162,Application!$K$11:$K$297,0)>0,\"\")),AND(Application!$A$9=\"No\",C162=Application!$A$13)),F162,\"\"),\"\")","v":""},"USD 214 - Community-Based Preschool","Special Ed Program - Community Based Preschool",null,null,null,null,null,null,null,null,null,null,null,null,null,null,null,null,null,"N/A",null,null,"N/A","N/A"]
[171,"$B$4",214,"Ulysses","Grant",455,{"$f":"IFERROR(IF(OR(AND(Application!$A$9=\"Yes\",IFERROR(MATCH(C163,Application!$K$11:$K$297,0)>0,\"\")),AND(Application!$A$9=\"No\",C163=Application!$A$13)),F163,\"\"),\"\")","v":""},"USD 214 - K Time Program W/O SPED","Early Childhood Program - General",null,null,null,null,null,null,null,null,null,null,null,null,null,null,null,null,null,"N/A",null,null,"N/A","N/A"]
[74,"$B$4",114,"Riverside","Doniphan",456,{"$f":"IFERROR(IF(OR(AND(Application!$A$9=\"Yes\",IFERROR(MATCH(C164,Application!$K$11:$K$297,0)>0,\"\")),AND(Application!$A$9=\"No\",C164=Application!$A$13)),F164,\"\"),\"\")","v":""},"Off-site non public","Special Ed Program - Off Site Community Based",null,null,null,null,null,null,null,null,null,null,null,null,null,null,null,null,null,"N/A",null,null,"N/A","N/A"]
[75,"$B$4",114,"Riverside","Doniphan",459,{"$f":"IFERROR(IF(OR(AND(Application!$A$9=\"Yes\",IFERROR(MATCH(C165,Application!$K$11:$K$297,0)>0,\"\")),AND(Application!$A$9=\"No\",C165=Application!$A$13)),F165,\"\"),\"\")","v":""},"Riverside Alternative School","Special Ed Program - Public School Administered",null,null,null,null,null,null,null,null,null,null,null,null,null,null,null,null,null,"N/A",null,null,"N/A","N/A"]
[53,"$B$4",113,"Prairie Hills","Marshall",462,{"$f":"IFERROR(IF(OR(AND(Application!$A$9=\"Yes\",IFERROR(MATCH(C166,Application!$K$11:$K$297,0)>0,\"\")),AND(Application!$A$9=\"No\",C166=Application!$A$13)),F166,\"\"),\"\")","v":""},"Axtell Elementary School","Elementary",null,null,null,null,null,null,null,null,null,null,null,null,null,null,null,null,null,106,null,null,18,0.16980000000000001]
[76,"$B$4",114,"Riverside","Doniphan",463,{"$f":"IFERROR(IF(OR(AND(Application!$A$9=\"Yes\",IFERROR(MATCH(C167,Application!$K$11:$K$297,0)>0,\"\")),AND(Application!$A$9=\"No\",C167=Application!$A$13)),F167,\"\"),\"\")","v":""},"Riverside Special Day School","Special School",null,null,null,null,null,null,null,null,null,null,null,null,null,null,null,null,null,"N/A",null,null,"N/A","N/A"]
[173,"$B$4",215,"Lakin","Kearny",465,{"$f":"IFERROR(IF(OR(AND(Application!$A$9=\"Yes\",IFERROR(MATCH(C168,Application!$K$11:$K$297,0)>0,\"\")),AND(Application!$A$9=\"No\",C168=Application!$A$13)),F168,\"\"),\"\")","v":""},"USD 215 - Off Site Non Public Buildings","Special Ed Program - Off Site Community Based",null,null,null,null,null,null,null,null,null,null,null,null,null,null,null,null,null,"N/A",null,null,"N/A","N/A"]
[174,"$B$4",215,"Lakin","Kearny",466,{"$f":"IFERROR(IF(OR(AND(Application!$A$9=\"Yes\",IFERROR(MATCH(C169,Application!$K$11:$K$297,0)>0,\"\")),AND(Application!$A$9=\"No\",C169=Application!$A$13)),F169,\"\"),\"\")","v":""},"Lakin Elem","Elementary",null,null,null,null,null,null,null,null,null,null,null,null,null,null,null,null,null,224,null,null,105,0.46879999999999999]
[175,"$B$4",215,"Lakin","Kearny",467,{"$f":"IFERROR(IF(OR(AND(Application!$A$9=\"Yes\",IFERROR(MATCH(C170,Application!$K$11:$K$297,0)>0,\"\")),AND(Application!$A$9=\"No\",C170=Application!$A$13)),F170,\"\"),\"\")","v":""},"Lakin Middle","Middle School",null,null,null,null,null,null,null,null,null,null,null,null,null,null,null,null,null,199,null,null,103,0.51759999999999995]
[176,"$B$4",215,"Lakin","Kearny",468,{"$f":"IFERROR(IF(OR(AND(Application!$A$9=\"Yes\",IFERROR(MATCH(C171,Application!$K$11:$K$297,0)>0,\"\")),AND(Application!$A$9=\"No\",C171=Application!$A$13)),F171,\"\"),\"\")","v":""},"Lakin High","High School",null,null,null,null,null,null,null,null,null,null,null,null,null,null,null,null,null,199,null,null,94,0.47239999999999999]
[177,"$B$4",215,"Lakin","Kearny",469,{"$f":"IFERROR(IF(OR(AND(Application!$A$9=\"Yes\",IFERROR(MATCH(C172,Application!$K$11:$K$297,0)>0,\"\")),AND(Application!$A$9=\"No\",C172=Application!$A$13)),F172,\"\"),\"\")","v":""},"USD 215 - Home","Special Ed Program - Home",null,null,null,null,null,null,null,null,null,null,null,null,null,null,null,null,null,"N/A",null,null,"N/A","N/A"]
[178,"$B$4",215,"Lakin","Kearny",470,{"$f":"IFERROR(IF(OR(AND(Application!$A$9=\"Yes\",IFERROR(MATCH(C173,Application!$K$11:$K$297,0)>0,\"\")),AND(Application!$A$9=\"No\",C173=Application!$A$13)),F173,\"\"),\"\")","v":""},"USD 215 - Community-Based Preschool","Special Ed Program - Community Based Preschool",null,null,null,null,null,null,null,null,null,null,null,null,null,null,null,null,null,"N/A",null,null,"N/A","N/A"]
[179,"$B$4",215,"Lakin","Kearny",471,{"$f":"IFERROR(IF(OR(AND(Application!$A$9=\"Yes\",IFERROR(MATCH(C174,Application!$K$11:$K$297,0)>0,\"\")),AND(Application!$A$9=\"No\",C174=Application!$A$13)),F174,\"\"),\"\")","v":""},"USD 215 - K Time Program W/O SPED","Early Childhood Program - General",null,null,null,null,null,null,null,null,null,null,null,null,null,null,null,null,null,"N/A",null,null,"N/A","N/A"]
[180,"$B$4",216,"Deerfield","Kearny",481,{"$f":"IFERROR(IF(OR(AND(Application!$A$9=\"Yes\",IFERROR(MATCH(C175,Application!$K$11:$K$297,0)>0,\"\")),AND(Application!$A$9=\"No\",C175=Application!$A$13)),F175,\"\"),\"\")","v":""},"USD 216 - Off Site Non Public Buildings","Special Ed Program - Off Site Community Based",null,null,null,null,null,null,null,null,null,null,null,null,null,null,null,null,null,"N/A",null,null,"N/A","N/A"]
[181,"$B$4",216,"Deerfield","Kearny",482,{"$f":"IFERROR(IF(OR(AND(Application!$A$9=\"Yes\",IFERROR(MATCH(C176,Application!$K$11:$K$297,0)>0,\"\")),AND(Application!$A$9=\"No\",C176=Application!$A$13)),F176,\"\"),\"\")","v":""},"Deerfield Elem","Elementary",null,null,null,null,null,null,null,null,null,null,null,null,null,null,null,null,null,130,null,null,83,0.63849999999999996]
[182,"$B$4",216,"Deerfield","Kearny",483,{"$f":"IFERROR(IF(OR(AND(Application!$A$9=\"Yes\",IFERROR(MATCH(C177,Application!$K$11:$K$297,0)>0,\"\")),AND(Application!$A$9=\"No\",C177=Application!$A$13)),F177,\"\"),\"\")","v":""},"Deerfield Middle School","Middle School",null,null,null,null,null,null,null,null,null,null,null,null,null,null,null,null,null,50,null,null,27,0.54]
[183,"$B$4",216,"Deerfield","Kearny",484,{"$f":"IFERROR(IF(OR(AND(Application!$A$9=\"Yes\",IFERROR(MATCH(C178,Application!$K$11:$K$297,0)>0,\"\")),AND(Application!$A$9=\"No\",C178=Application!$A$13)),F178,\"\"),\"\")","v":""},"Deerfield High","High School",null,null,null,null,null,null,null,null,null,null,null,null,null,null,null,null,null,63,null,null,35,0.55559999999999998]
[189,"$B$4",216,"Deerfield","Kearny",485,{"$f":"IFERROR(IF(OR(AND(Application!$A$9=\"Yes\",IFERROR(MATCH(C179,Application!$K$11:$K$297,0)>0,\"\")),AND(Application!$A$9=\"No\",C179=Application!$A$13)),F179,\"\"),\"\")","v":""},"USD 216 - Home","Special Ed Program - Home",null,null,null,null,null,null,null,null,null,null,null,null,null,null,null,null,null,"N/A",null,null,"N/A","N/A"]
[193,"$B$4",216,"Deerfield","Kearny",486,{"$f":"IFERROR(IF(OR(AND(Application!$A$9=\"Yes\",IFERROR(MATCH(C180,Application!$K$11:$K$297,0)>0,\"\")),AND(Application!$A$9=\"No\",C180=Application!$A$13)),F180,\"\"),\"\")","v":""},"USD 216 - Community-Based Preschool","Special Ed Program - Community Based Preschool",null,null,null,null,null,null,null,null,null,null,null,null,null,null,null,null,null,"N/A",null,null,"N/A","N/A"]
[196,"$B$4",216,"Deerfield","Kearny",487,{"$f":"IFERROR(IF(OR(AND(Application!$A$9=\"Yes\",IFERROR(MATCH(C181,Application!$K$11:$K$297,0)>0,\"\")),AND(Application!$A$9=\"No\",C181=Application!$A$13)),F181,\"\"),\"\")","v":""},"USD 216 - K Time Program W/O SPED","Early Childhood Program - General",null,null,null,null,null,null,null,null,null,null,null,null,null,null,null,null,null,"N/A",null,null,"N/A","N/A"]
[197,"$B$4",217,"Rolla","Morton",495,{"$f":"IFERROR(IF(OR(AND(Application!$A$9=\"Yes\",IFERROR(MATCH(C182,Application!$K$11:$K$297,0)>0,\"\")),AND(Application!$A$9=\"No\",C182=Application!$A$13)),F182,\"\"),\"\")","v":""},"USD 217 - Off Site Non Public Buildings","Special Ed Program - Off Site Community Based",null,null,null,null,null,null,null,null,null,null,null,null,null,null,null,null,null,"N/A",null,null,"N/A","N/A"]
[199,"$B$4",217,"Rolla","Morton",496,{"$f":"IFERROR(IF(OR(AND(Application!$A$9=\"Yes\",IFERROR(MATCH(C183,Application!$K$11:$K$297,0)>0,\"\")),AND(Application!$A$9=\"No\",C183=Application!$A$13)),F183,\"\"),\"\")","v":""},"Rolla Elem (PreK-5)","Elementary",null,null,null,null,null,null,null,null,null,null,null,null,null,null,null,null,null,49,null,null,30,0.61219999999999997]
[202,"$B$4",217,"Rolla","Morton",497,{"$f":"IFERROR(IF(OR(AND(Application!$A$9=\"Yes\",IFERROR(MATCH(C184,Application!$K$11:$K$297,0)>0,\"\")),AND(Application!$A$9=\"No\",C184=Application!$A$13)),F184,\"\"),\"\")","v":""},"USD 217 - Home","Special Ed Program - Home",null,null,null,null,null,null,null,null,null,null,null,null,null,null,null,null,null,"N/A",null,null,"N/A","N/A"]
[491,"$B$4",217,"Rolla","Morton",498,{"$f":"IFERROR(IF(OR(AND(Application!$A$9=\"Yes\",IFERROR(MATCH(C185,Application!$K$11:$K$297,0)>0,\"\")),AND(Application!$A$9=\"No\",C185=Application!$A$13)),F185,\"\"),\"\")","v":""},"Rolla JH/HS (6-12)","High School",null,null,null,null,null,null,null,null,null,null,null,null,null,null,null,null,null,47,null,null,23,0.4894]
[492,"$B$4",217,"Rolla","Morton",499,{"$f":"IFERROR(IF(OR(AND(Application!$A$9=\"Yes\",IFERROR(MATCH(C186,Application!$K$11:$K$297,0)>0,\"\")),AND(Application!$A$9=\"No\",C186=Application!$A$13)),F186,\"\"),\"\")","v":""},"USD 217 - K Time Program W/O SPED","Early Childhood Program - General",null,null,null,null,null,null,null,null,null,null,null,null,null,null,null,null,null,"N/A",null,null,"N/A","N/A"]
[493,"$B$4",218,"Elkhart","Morton",513,{"$f":"IFERROR(IF(OR(AND(Application!$A$9=\"Yes\",IFERROR(MATCH(C187,Application!$K$11:$K$297,0)>0,\"\")),AND(Application!$A$9=\"No\",C187=Application!$A$13)),F187,\"\"),\"\")","v":""},"USD 218 - Off Site Non Public Buildings","Special Ed Program - Off Site Community Based",null,null,null,null,null,null,null,null,null,null,null,null,null,null,null,null,null,"N/A",null,null,"N/A","N/A"]
[494,"$B$4",218,"Elkhart","Morton",514,{"$f":"IFERROR(IF(OR(AND(Application!$A$9=\"Yes\",IFERROR(MATCH(C188,Application!$K$11:$K$297,0)>0,\"\")),AND(Application!$A$9=\"No\",C188=Application!$A$13)),F188,\"\"),\"\")","v":""},"Elkhart Middle School","Middle School",null,null,null,null,null,null,null,null,null,null,null,null,null,null,null,null,null,121,null,null,55,0.45450000000000002]
[495,"$B$4",218,"Elkhart","Morton",515,{"$f":"IFERROR(IF(OR(AND(Application!$A$9=\"Yes\",IFERROR(MATCH(C189,Application!$K$11:$K$297,0)>0,\"\")),AND(Application!$A$9=\"No\",C189=Application!$A$13)),F189,\"\"),\"\")","v":""},"USD 218 - Public Off-Site Preschools","Special Ed Program - Off Site Preschool",null,null,null,null,null,null,null,null,null,null,null,null,null,null,null,null,null,"N/A",null,null,"N/A","N/A"]
[496,"$B$4",218,"Elkhart","Morton",516,{"$f":"IFERROR(IF(OR(AND(Application!$A$9=\"Yes\",IFERROR(MATCH(C190,Application!$K$11:$K$297,0)>0,\"\")),AND(Application!$A$9=\"No\",C190=Application!$A$13)),F190,\"\"),\"\")","v":""},"Elkhart Elem","Elementary",null,null,null,null,null,null,null,null,null,null,null,null,null,null,null,null,null,146,null,null,75,0.51370000000000005]
[497,"$B$4",218,"Elkhart","Morton",517,{"$f":"IFERROR(IF(OR(AND(Application!$A$9=\"Yes\",IFERROR(MATCH(C191,Application!$K$11:$K$297,0)>0,\"\")),AND(Application!$A$9=\"No\",C191=Application!$A$13)),F191,\"\"),\"\")","v":""},"USD 218 - Home","Special Ed Program - Home",null,null,null,null,null,null,null,null,null,null,null,null,null,null,null,null,null,"N/A",null,null,"N/A","N/A"]
[498,"$B$4",218,"Elkhart","Morton",519,{"$f":"IFERROR(IF(OR(AND(Application!$A$9=\"Yes\",IFERROR(MATCH(C192,Application!$K$11:$K$297,0)>0,\"\")),AND(Application!$A$9=\"No\",C192=Application!$A$13)),F192,\"\"),\"\")","v":""},"USD 218 - K Time Program W/O SPED","Early Childhood Program - General",null,null,null,null,null,null,null,null,null,null,null,null,null,null,null,null,null,"N/A",null,null,"N/A","N/A"]
[499,"$B$4",218,"Elkhart","Morton",520,{"$f":"IFERROR(IF(OR(AND(Application!$A$9=\"Yes\",IFERROR(MATCH(C193,Application!$K$11:$K$297,0)>0,\"\")),AND(Application!$A$9=\"No\",C193=Application!$A$13)),F193,\"\"),\"\")","v":""},"Elkhart High","High School",null,null,null,null,null,null,null,null,null,null,null,null,null,null,null,null,null,112,null,null,44,0.39290000000000003]
[1340,"$B$4",218,"Elkhart","Morton",523,{"$f":"IFERROR(IF(OR(AND(Application!$A$9=\"Yes\",IFERROR(MATCH(C194,Application!$K$11:$K$297,0)>0,\"\")),AND(Application!$A$9=\"No\",C194=Application!$A$13)),F194,\"\"),\"\")","v":""},"Kansas Connections Academy","Elementary",null,null,null,null,null,null,null,null,null,null,null,null,null,null,null,null,null,1254,null,null,393,0.31340000000000001]
[1341,"$B$4",218,"Elkhart","Morton",525,{"$f":"IFERROR(IF(OR(AND(Application!$A$9=\"Yes\",IFERROR(MATCH(C195,Application!$K$11:$K$297,0)>0,\"\")),AND(Application!$A$9=\"No\",C195=Application!$A$13)),F195,\"\"),\"\")","v":""},"Point Rock Alternative","High School",null,null,null,null,null,null,null,null,null,null,null,null,null,null,null,null,null,30,null,null,2,6.6699999999999995E-2]
[1342,"$B$4",219,"Minneola","Clark",535,{"$f":"IFERROR(IF(OR(AND(Application!$A$9=\"Yes\",IFERROR(MATCH(C196,Application!$K$11:$K$297,0)>0,\"\")),AND(Application!$A$9=\"No\",C196=Application!$A$13)),F196,\"\"),\"\")","v":""},"USD 219 - Off Site Non Public Buildings","Special Ed Program - Off Site Community Based",null,null,null,null,null,null,null,null,null,null,null,null,null,null,null,null,null,"N/A",null,null,"N/A","N/A"]
[1343,"$B$4",219,"Minneola","Clark",536,{"$f":"IFERROR(IF(OR(AND(Application!$A$9=\"Yes\",IFERROR(MATCH(C197,Application!$K$11:$K$297,0)>0,\"\")),AND(Application!$A$9=\"No\",C197=Application!$A$13)),F197,\"\"),\"\")","v":""},"Minneola Elem","Elementary",null,null,null,null,null,null,null,null,null,null,null,null,null,null,null,null,null,177,null,null,94,0.53110000000000002]
[1344,"$B$4",219,"Minneola","Clark",537,{"$f":"IFERROR(IF(OR(AND(Application!$A$9=\"Yes\",IFERROR(MATCH(C198,Application!$K$11:$K$297,0)>0,\"\")),AND(Application!$A$9=\"No\",C198=Application!$A$13)),F198,\"\"),\"\")","v":""},"USD 219 - Home","Special Ed Program - Home",null,null,null,null,null,null,null,null,null,null,null,null,null,null,null,null,null,"N/A",null,null,"N/A","N/A"]
[1345,"$B$4",219,"Minneola","Clark",538,{"$f":"IFERROR(IF(OR(AND(Application!$A$9=\"Yes\",IFERROR(MATCH(C199,Application!$K$11:$K$297,0)>0,\"\")),AND(Application!$A$9=\"No\",C199=Application!$A$13)),F199,\"\"),\"\")","v":""},"Minneola High","High School",null,null,null,null,null,null,null,null,null,null,null,null,null,null,null,null,null,75,null,null,40,0.5333]
[1346,"$B$4",219,"Minneola","Clark",539,{"$f":"IFERROR(IF(OR(AND(Application!$A$9=\"Yes\",IFERROR(MATCH(C200,Application!$K$11:$K$297,0)>0,\"\")),AND(Application!$A$9=\"No\",C200=Application!$A$13)),F200,\"\"),\"\")","v":""},"USD 219 - K Time Program W/O SPED","Early Childhood Program - General",null,null,null,null,null,null,null,null,null,null,null,null,null,null,null,null,null,"N/A",null,null,"N/A","N/A"]
[1347,"$B$4",220,"Ashland","Clark",551,{"$f":"IFERROR(IF(OR(AND(Application!$A$9=\"Yes\",IFERROR(MATCH(C201,Application!$K$11:$K$297,0)>0,\"\")),AND(Application!$A$9=\"No\",C201=Application!$A$13)),F201,\"\"),\"\")","v":""},"USD 220 - Off Site Non Public Buildings","Special Ed Program - Off Site Community Based",null,null,null,null,null,null,null,null,null,null,null,null,null,null,null,null,null,"N/A",null,null,"N/A","N/A"]
[184,"$B$4",220,"Ashland","Clark",552,{"$f":"IFERROR(IF(OR(AND(Application!$A$9=\"Yes\",IFERROR(MATCH(C202,Application!$K$11:$K$297,0)>0,\"\")),AND(Application!$A$9=\"No\",C202=Application!$A$13)),F202,\"\"),\"\")","v":""},"Ashland Elem","Elementary",null,null,null,null,null,null,null,null,null,null,null,null,null,null,null,null,null,74,null,null,17,0.22969999999999999]
[185,"$B$4",220,"Ashland","Clark",553,{"$f":"IFERROR(IF(OR(AND(Application!$A$9=\"Yes\",IFERROR(MATCH(C203,Application!$K$11:$K$297,0)>0,\"\")),AND(Application!$A$9=\"No\",C203=Application!$A$13)),F203,\"\"),\"\")","v":""},"Ashland Junior High School","Junior High School",null,null,null,null,null,null,null,null,null,null,null,null,null,null,null,null,null,53,null,null,16,0.3019]
[186,"$B$4",220,"Ashland","Clark",554,{"$f":"IFERROR(IF(OR(AND(Application!$A$9=\"Yes\",IFERROR(MATCH(C204,Application!$K$11:$K$297,0)>0,\"\")),AND(Application!$A$9=\"No\",C204=Application!$A$13)),F204,\"\"),\"\")","v":""},"Ashland High","High School",null,null,null,null,null,null,null,null,null,null,null,null,null,null,null,null,null,64,null,null,19,0.2969]
[187,"$B$4",220,"Ashland","Clark",555,{"$f":"IFERROR(IF(OR(AND(Application!$A$9=\"Yes\",IFERROR(MATCH(C205,Application!$K$11:$K$297,0)>0,\"\")),AND(Application!$A$9=\"No\",C205=Application!$A$13)),F205,\"\"),\"\")","v":""},"USD 220 Special Ed Program – Home","Special Ed Program - Home",null,null,null,null,null,null,null,null,null,null,null,null,null,null,null,null,null,"N/A",null,null,"N/A","N/A"]
[206,"$B$4",220,"Ashland","Clark",556,{"$f":"IFERROR(IF(OR(AND(Application!$A$9=\"Yes\",IFERROR(MATCH(C206,Application!$K$11:$K$297,0)>0,\"\")),AND(Application!$A$9=\"No\",C206=Application!$A$13)),F206,\"\"),\"\")","v":""},"USD 220 - K Time Program W/O SPED","Early Childhood Program - General",null,null,null,null,null,null,null,null,null,null,null,null,null,null,null,null,null,"N/A",null,null,"N/A","N/A"]
[203,"$B$4",223,"Barnes","Washington",613,{"$f":"IFERROR(IF(OR(AND(Application!$A$9=\"Yes\",IFERROR(MATCH(C207,Application!$K$11:$K$297,0)>0,\"\")),AND(Application!$A$9=\"No\",C207=Application!$A$13)),F207,\"\"),\"\")","v":""},"USD 223 - Off Site Non Public Buildings","Special Ed Program - Off Site Community Based",null,null,null,null,null,null,null,null,null,null,null,null,null,null,null,null,null,"N/A",null,null,"N/A","N/A"]
[204,"$B$4",223,"Barnes","Washington",615,{"$f":"IFERROR(IF(OR(AND(Application!$A$9=\"Yes\",IFERROR(MATCH(C208,Application!$K$11:$K$297,0)>0,\"\")),AND(Application!$A$9=\"No\",C208=Application!$A$13)),F208,\"\"),\"\")","v":""},"USD 223 - Home","Special Ed Program - Home",null,null,null,null,null,null,null,null,null,null,null,null,null,null,null,null,null,"N/A",null,null,"N/A","N/A"]
[208,"$B$4",223,"Barnes","Washington",616,{"$f":"IFERROR(IF(OR(AND(Application!$A$9=\"Yes\",IFERROR(MATCH(C209,Application!$K$11:$K$297,0)>0,\"\")),AND(Application!$A$9=\"No\",C209=Application!$A$13)),F209,\"\"),\"\")","v":""},"USD 223 - K Time Program W/O SPED","Early Childhood Program - General",null,null,null,null,null,null,null,null,null,null,null,null,null,null,null,null,null,"N/A",null,null,"N/A","N/A"]
[209,"$B$4",223,"Barnes","Washington",620,{"$f":"IFERROR(IF(OR(AND(Application!$A$9=\"Yes\",IFERROR(MATCH(C210,Application!$K$11:$K$297,0)>0,\"\")),AND(Application!$A$9=\"No\",C210=Application!$A$13)),F210,\"\"),\"\")","v":""},"Hanover Elem","Elementary",null,null,null,null,null,null,null,null,null,null,null,null,null,null,null,null,null,203,null,null,24,0.1182]
[210,"$B$4",223,"Barnes","Washington",622,{"$f":"IFERROR(IF(OR(AND(Application!$A$9=\"Yes\",IFERROR(MATCH(C211,Application!$K$11:$K$297,0)>0,\"\")),AND(Application!$A$9=\"No\",C211=Application!$A$13)),F211,\"\"),\"\")","v":""},"Hanover High","High School",null,null,null,null,null,null,null,null,null,null,null,null,null,null,null,null,null,62,null,null,13,0.2097]
[211,"$B$4",223,"Barnes","Washington",628,{"$f":"IFERROR(IF(OR(AND(Application!$A$9=\"Yes\",IFERROR(MATCH(C212,Application!$K$11:$K$297,0)>0,\"\")),AND(Application!$A$9=\"No\",C212=Application!$A$13)),F212,\"\"),\"\")","v":""},"Linn Elem","Elementary",null,null,null,null,null,null,null,null,null,null,null,null,null,null,null,null,null,156,null,null,49,0.31409999999999999]
[212,"$B$4",223,"Barnes","Washington",630,{"$f":"IFERROR(IF(OR(AND(Application!$A$9=\"Yes\",IFERROR(MATCH(C213,Application!$K$11:$K$297,0)>0,\"\")),AND(Application!$A$9=\"No\",C213=Application!$A$13)),F213,\"\"),\"\")","v":""},"Linn High","High School",null,null,null,null,null,null,null,null,null,null,null,null,null,null,null,null,null,60,null,null,16,0.26669999999999999]
[213,"$B$4",224,"Clifton-Clyde","Washington",657,{"$f":"IFERROR(IF(OR(AND(Application!$A$9=\"Yes\",IFERROR(MATCH(C214,Application!$K$11:$K$297,0)>0,\"\")),AND(Application!$A$9=\"No\",C214=Application!$A$13)),F214,\"\"),\"\")","v":""},"USD 224 - Off Site Non Public Buildings","Special Ed Program - Off Site Community Based",null,null,null,null,null,null,null,null,null,null,null,null,null,null,null,null,null,"N/A",null,null,"N/A","N/A"]
[214,"$B$4",224,"Clifton-Clyde","Washington",658,{"$f":"IFERROR(IF(OR(AND(Application!$A$9=\"Yes\",IFERROR(MATCH(C215,Application!$K$11:$K$297,0)>0,\"\")),AND(Application!$A$9=\"No\",C215=Application!$A$13)),F215,\"\"),\"\")","v":""},"Clifton-Clyde Grade School K-3","Elementary",null,null,null,null,null,null,null,null,null,null,null,null,null,null,null,null,null,88,null,null,28,0.31819999999999998]
[215,"$B$4",224,"Clifton-Clyde","Washington",659,{"$f":"IFERROR(IF(OR(AND(Application!$A$9=\"Yes\",IFERROR(MATCH(C216,Application!$K$11:$K$297,0)>0,\"\")),AND(Application!$A$9=\"No\",C216=Application!$A$13)),F216,\"\"),\"\")","v":""},"USD 224 - Home","Special Ed Program - Home",null,null,null,null,null,null,null,null,null,null,null,null,null,null,null,null,null,"N/A",null,null,"N/A","N/A"]
[216,"$B$4",224,"Clifton-Clyde","Washington",660,{"$f":"IFERROR(IF(OR(AND(Application!$A$9=\"Yes\",IFERROR(MATCH(C217,Application!$K$11:$K$297,0)>0,\"\")),AND(Application!$A$9=\"No\",C217=Application!$A$13)),F217,\"\"),\"\")","v":""},"Clifton-Clyde Middle School","Middle School",null,null,null,null,null,null,null,null,null,null,null,null,null,null,null,null,null,112,null,null,35,0.3125]
[217,"$B$4",224,"Clifton-Clyde","Washington",661,{"$f":"IFERROR(IF(OR(AND(Application!$A$9=\"Yes\",IFERROR(MATCH(C218,Application!$K$11:$K$297,0)>0,\"\")),AND(Application!$A$9=\"No\",C218=Application!$A$13)),F218,\"\"),\"\")","v":""},"USD 224 - K Time Program W/O SPED","Early Childhood Program - General",null,null,null,null,null,null,null,null,null,null,null,null,null,null,null,null,null,"N/A",null,null,"N/A","N/A"]
[219,"$B$4",224,"Clifton-Clyde","Washington",668,{"$f":"IFERROR(IF(OR(AND(Application!$A$9=\"Yes\",IFERROR(MATCH(C219,Application!$K$11:$K$297,0)>0,\"\")),AND(Application!$A$9=\"No\",C219=Application!$A$13)),F219,\"\"),\"\")","v":""},"Clifton-Clyde Sr High","High School",null,null,null,null,null,null,null,null,null,null,null,null,null,null,null,null,null,98,null,null,24,0.24490000000000001]
[220,"$B$4",225,"Fowler","Meade",683,{"$f":"IFERROR(IF(OR(AND(Application!$A$9=\"Yes\",IFERROR(MATCH(C220,Application!$K$11:$K$297,0)>0,\"\")),AND(Application!$A$9=\"No\",C220=Application!$A$13)),F220,\"\"),\"\")","v":""},"USD 225 - Off Site Non Public Buildings","Special Ed Program - Off Site Community Based",null,null,null,null,null,null,null,null,null,null,null,null,null,null,null,null,null,"N/A",null,null,"N/A","N/A"]
[222,"$B$4",225,"Fowler","Meade",684,{"$f":"IFERROR(IF(OR(AND(Application!$A$9=\"Yes\",IFERROR(MATCH(C221,Application!$K$11:$K$297,0)>0,\"\")),AND(Application!$A$9=\"No\",C221=Application!$A$13)),F221,\"\"),\"\")","v":""},"Fowler Elem","Elementary",null,null,null,null,null,null,null,null,null,null,null,null,null,null,null,null,null,39,null,null,25,0.64100000000000001]
[223,"$B$4",225,"Fowler","Meade",685,{"$f":"IFERROR(IF(OR(AND(Application!$A$9=\"Yes\",IFERROR(MATCH(C222,Application!$K$11:$K$297,0)>0,\"\")),AND(Application!$A$9=\"No\",C222=Application!$A$13)),F222,\"\"),\"\")","v":""},"USD 225 - Home","Special Ed Program - Home",null,null,null,null,null,null,null,null,null,null,null,null,null,null,null,null,null,"N/A",null,null,"N/A","N/A"]
[224,"$B$4",225,"Fowler","Meade",686,{"$f":"IFERROR(IF(OR(AND(Application!$A$9=\"Yes\",IFERROR(MATCH(C223,Application!$K$11:$K$297,0)>0,\"\")),AND(Application!$A$9=\"No\",C223=Application!$A$13)),F223,\"\"),\"\")","v":""},"Fowler High","High School",null,null,null,null,null,null,null,null,null,null,null,null,null,null,null,null,null,30,null,null,13,0.43330000000000002]
[225,"$B$4",225,"Fowler","Meade",687,{"$f":"IFERROR(IF(OR(AND(Application!$A$9=\"Yes\",IFERROR(MATCH(C224,Application!$K$11:$K$297,0)>0,\"\")),AND(Application!$A$9=\"No\",C224=Application!$A$13)),F224,\"\"),\"\")","v":""},"USD 225 - K Time Program W/O SPED","Early Childhood Program - General",null,null,null,null,null,null,null,null,null,null,null,null,null,null,null,null,null,"N/A",null,null,"N/A","N/A"]
[226,"$B$4",226,"Meade","Meade",699,{"$f":"IFERROR(IF(OR(AND(Application!$A$9=\"Yes\",IFERROR(MATCH(C225,Application!$K$11:$K$297,0)>0,\"\")),AND(Application!$A$9=\"No\",C225=Application!$A$13)),F225,\"\"),\"\")","v":""},"USD 226 - Off Site Non Public Buildings","Special Ed Program - Off Site Community Based",null,null,null,null,null,null,null,null,null,null,null,null,null,null,null,null,null,"N/A",null,null,"N/A","N/A"]
[227,"$B$4",226,"Meade","Meade",700,{"$f":"IFERROR(IF(OR(AND(Application!$A$9=\"Yes\",IFERROR(MATCH(C226,Application!$K$11:$K$297,0)>0,\"\")),AND(Application!$A$9=\"No\",C226=Application!$A$13)),F226,\"\"),\"\")","v":""},"Meade Elem","Elementary",null,null,null,null,null,null,null,null,null,null,null,null,null,null,null,null,null,270,null,null,128,0.47410000000000002]
[228,"$B$4",226,"Meade","Meade",701,{"$f":"IFERROR(IF(OR(AND(Application!$A$9=\"Yes\",IFERROR(MATCH(C227,Application!$K$11:$K$297,0)>0,\"\")),AND(Application!$A$9=\"No\",C227=Application!$A$13)),F227,\"\"),\"\")","v":""},"USD 226 - Home","Special Ed Program - Home",null,null,null,null,null,null,null,null,null,null,null,null,null,null,null,null,null,"N/A",null,null,"N/A","N/A"]
[229,"$B$4",226,"Meade","Meade",702,{"$f":"IFERROR(IF(OR(AND(Application!$A$9=\"Yes\",IFERROR(MATCH(C228,Application!$K$11:$K$297,0)>0,\"\")),AND(Application!$A$9=\"No\",C228=Application!$A$13)),F228,\"\"),\"\")","v":""},"Meade High","High School",null,null,null,null,null,null,null,null,null,null,null,null,null,null,null,null,null,94,null,null,34,0.36170000000000002]
[230,"$B$4",226,"Meade","Meade",703,{"$f":"IFERROR(IF(OR(AND(Application!$A$9=\"Yes\",IFERROR(MATCH(C229,Application!$K$11:$K$297,0)>0,\"\")),AND(Application!$A$9=\"No\",C229=Application!$A$13)),F229,\"\"),\"\")","v":""},"USD 226 - K Time Program W/O SPED","Early Childhood Program - General",null,null,null,null,null,null,null,null,null,null,null,null,null,null,null,null,null,"N/A",null,null,"N/A","N/A"]
[231,"$B$4",227,"Hodgeman County Schools","Hodgeman",721,{"$f":"IFERROR(IF(OR(AND(Application!$A$9=\"Yes\",IFERROR(MATCH(C230,Application!$K$11:$K$297,0)>0,\"\")),AND(Application!$A$9=\"No\",C230=Application!$A$13)),F230,\"\"),\"\")","v":""},"USD 227 - Off Site Non Public Buildings","Special Ed Program - Off Site Community Based",null,null,null,null,null,null,null,null,null,null,null,null,null,null,null,null,null,"N/A",null,null,"N/A","N/A"]
[232,"$B$4",227,"Hodgeman County Schools","Hodgeman",722,{"$f":"IFERROR(IF(OR(AND(Application!$A$9=\"Yes\",IFERROR(MATCH(C231,Application!$K$11:$K$297,0)>0,\"\")),AND(Application!$A$9=\"No\",C231=Application!$A$13)),F231,\"\"),\"\")","v":""},"Hodgeman County Elementary","Elementary",null,null,null,null,null,null,null,null,null,null,null,null,null,null,null,null,null,173,null,null,63,0.36420000000000002]
[233,"$B$4",227,"Hodgeman County Schools","Hodgeman",723,{"$f":"IFERROR(IF(OR(AND(Application!$A$9=\"Yes\",IFERROR(MATCH(C232,Application!$K$11:$K$297,0)>0,\"\")),AND(Application!$A$9=\"No\",C232=Application!$A$13)),F232,\"\"),\"\")","v":""},"USD 227 - Home","Special Ed Program - Home",null,null,null,null,null,null,null,null,null,null,null,null,null,null,null,null,null,"N/A",null,null,"N/A","N/A"]
[234,"$B$4",227,"Hodgeman County Schools","Hodgeman",724,{"$f":"IFERROR(IF(OR(AND(Application!$A$9=\"Yes\",IFERROR(MATCH(C233,Application!$K$11:$K$297,0)>0,\"\")),AND(Application!$A$9=\"No\",C233=Application!$A$13)),F233,\"\"),\"\")","v":""},"Hodgeman County High","High School",null,null,null,null,null,null,null,null,null,null,null,null,null,null,null,null,null,117,null,null,39,0.33329999999999999]
[235,"$B$4",227,"Hodgeman County Schools","Hodgeman",725,{"$f":"IFERROR(IF(OR(AND(Application!$A$9=\"Yes\",IFERROR(MATCH(C234,Application!$K$11:$K$297,0)>0,\"\")),AND(Application!$A$9=\"No\",C234=Application!$A$13)),F234,\"\"),\"\")","v":""},"USD 227 - K Time Program W/O SPED","Early Childhood Program - General",null,null,null,null,null,null,null,null,null,null,null,null,null,null,null,null,null,"N/A",null,null,"N/A","N/A"]
[236,"$B$4",229,"Blue Valley","Johnson",756,{"$f":"IFERROR(IF(OR(AND(Application!$A$9=\"Yes\",IFERROR(MATCH(C235,Application!$K$11:$K$297,0)>0,\"\")),AND(Application!$A$9=\"No\",C235=Application!$A$13)),F235,\"\"),\"\")","v":""},"Lakewood Elementary","Elementary",null,null,null,null,null,null,null,null,null,null,null,null,null,null,null,null,null,543,null,null,50,9.2100000000000001E-2]
[237,"$B$4",229,"Blue Valley","Johnson",757,{"$f":"IFERROR(IF(OR(AND(Application!$A$9=\"Yes\",IFERROR(MATCH(C236,Application!$K$11:$K$297,0)>0,\"\")),AND(Application!$A$9=\"No\",C236=Application!$A$13)),F236,\"\"),\"\")","v":""},"Lakewood Middle ","Middle School",null,null,null,null,null,null,null,null,null,null,null,null,null,null,null,null,null,585,null,null,50,8.5500000000000007E-2]
[238,"$B$4",229,"Blue Valley","Johnson",758,{"$f":"IFERROR(IF(OR(AND(Application!$A$9=\"Yes\",IFERROR(MATCH(C237,Application!$K$11:$K$297,0)>0,\"\")),AND(Application!$A$9=\"No\",C237=Application!$A$13)),F237,\"\"),\"\")","v":""},"Cedar Hills Elementary","Elementary",null,null,null,null,null,null,null,null,null,null,null,null,null,null,null,null,null,612,null,null,44,7.1900000000000006E-2]
[239,"$B$4",229,"Blue Valley","Johnson",759,{"$f":"IFERROR(IF(OR(AND(Application!$A$9=\"Yes\",IFERROR(MATCH(C238,Application!$K$11:$K$297,0)>0,\"\")),AND(Application!$A$9=\"No\",C238=Application!$A$13)),F238,\"\"),\"\")","v":""},"Timber Creek Elementary School","Elementary",null,null,null,null,null,null,null,null,null,null,null,null,null,null,null,null,null,576,null,null,13,2.2599999999999999E-2]
[240,"$B$4",229,"Blue Valley","Johnson",760,{"$f":"IFERROR(IF(OR(AND(Application!$A$9=\"Yes\",IFERROR(MATCH(C239,Application!$K$11:$K$297,0)>0,\"\")),AND(Application!$A$9=\"No\",C239=Application!$A$13)),F239,\"\"),\"\")","v":""},"USD 229 - Off Site Non Public Buildings","Special Ed Program - Off Site Community Based",null,null,null,null,null,null,null,null,null,null,null,null,null,null,null,null,null,"N/A",null,null,"N/A","N/A"]
[241,"$B$4",229,"Blue Valley","Johnson",761,{"$f":"IFERROR(IF(OR(AND(Application!$A$9=\"Yes\",IFERROR(MATCH(C240,Application!$K$11:$K$297,0)>0,\"\")),AND(Application!$A$9=\"No\",C240=Application!$A$13)),F240,\"\"),\"\")","v":""},"USD 229 - Home","Special Ed Program - Home",null,null,null,null,null,null,null,null,null,null,null,null,null,null,null,null,null,"N/A",null,null,"N/A","N/A"]
[242,"$B$4",229,"Blue Valley","Johnson",764,{"$f":"IFERROR(IF(OR(AND(Application!$A$9=\"Yes\",IFERROR(MATCH(C241,Application!$K$11:$K$297,0)>0,\"\")),AND(Application!$A$9=\"No\",C241=Application!$A$13)),F241,\"\"),\"\")","v":""},"USD 229 - Community-Based Preschool","Special Ed Program - Community Based Preschool",null,null,null,null,null,null,null,null,null,null,null,null,null,null,null,null,null,"N/A",null,null,"N/A","N/A"]
[243,"$B$4",229,"Blue Valley","Johnson",765,{"$f":"IFERROR(IF(OR(AND(Application!$A$9=\"Yes\",IFERROR(MATCH(C242,Application!$K$11:$K$297,0)>0,\"\")),AND(Application!$A$9=\"No\",C242=Application!$A$13)),F242,\"\"),\"\")","v":""},"Liberty View Elementary","Elementary",null,null,null,null,null,null,null,null,null,null,null,null,null,null,null,null,null,426,null,null,41,9.6199999999999994E-2]
[244,"$B$4",229,"Blue Valley","Johnson",767,{"$f":"IFERROR(IF(OR(AND(Application!$A$9=\"Yes\",IFERROR(MATCH(C243,Application!$K$11:$K$297,0)>0,\"\")),AND(Application!$A$9=\"No\",C243=Application!$A$13)),F243,\"\"),\"\")","v":""},"Oxford Middle","Middle School",null,null,null,null,null,null,null,null,null,null,null,null,null,null,null,null,null,614,null,null,70,0.114]
[245,"$B$4",229,"Blue Valley","Johnson",768,{"$f":"IFERROR(IF(OR(AND(Application!$A$9=\"Yes\",IFERROR(MATCH(C244,Application!$K$11:$K$297,0)>0,\"\")),AND(Application!$A$9=\"No\",C244=Application!$A$13)),F244,\"\"),\"\")","v":""},"Stanley Elementary","Elementary",null,null,null,null,null,null,null,null,null,null,null,null,null,null,null,null,null,502,null,null,67,0.13350000000000001]
[246,"$B$4",229,"Blue Valley","Johnson",769,{"$f":"IFERROR(IF(OR(AND(Application!$A$9=\"Yes\",IFERROR(MATCH(C245,Application!$K$11:$K$297,0)>0,\"\")),AND(Application!$A$9=\"No\",C245=Application!$A$13)),F245,\"\"),\"\")","v":""},"Blue Valley North High","High School",null,null,null,null,null,null,null,null,null,null,null,null,null,null,null,null,null,1509,null,null,174,0.1153]
[247,"$B$4",229,"Blue Valley","Johnson",770,{"$f":"IFERROR(IF(OR(AND(Application!$A$9=\"Yes\",IFERROR(MATCH(C246,Application!$K$11:$K$297,0)>0,\"\")),AND(Application!$A$9=\"No\",C246=Application!$A$13)),F246,\"\"),\"\")","v":""},"Blue Valley High","High School",null,null,null,null,null,null,null,null,null,null,null,null,null,null,null,null,null,1482,null,null,122,8.2299999999999998E-2]
[248,"$B$4",229,"Blue Valley","Johnson",771,{"$f":"IFERROR(IF(OR(AND(Application!$A$9=\"Yes\",IFERROR(MATCH(C247,Application!$K$11:$K$297,0)>0,\"\")),AND(Application!$A$9=\"No\",C247=Application!$A$13)),F247,\"\"),\"\")","v":""},"Morse Elementary","Elementary",null,null,null,null,null,null,null,null,null,null,null,null,null,null,null,null,null,346,null,null,30,8.6699999999999999E-2]
[249,"$B$4",229,"Blue Valley","Johnson",772,{"$f":"IFERROR(IF(OR(AND(Application!$A$9=\"Yes\",IFERROR(MATCH(C248,Application!$K$11:$K$297,0)>0,\"\")),AND(Application!$A$9=\"No\",C248=Application!$A$13)),F248,\"\"),\"\")","v":""},"Valley Park Elementary","Elementary",null,null,null,null,null,null,null,null,null,null,null,null,null,null,null,null,null,650,null,null,81,0.1246]
[250,"$B$4",229,"Blue Valley","Johnson",773,{"$f":"IFERROR(IF(OR(AND(Application!$A$9=\"Yes\",IFERROR(MATCH(C249,Application!$K$11:$K$297,0)>0,\"\")),AND(Application!$A$9=\"No\",C249=Application!$A$13)),F249,\"\"),\"\")","v":""},"Leawood Elementary","Elementary",null,null,null,null,null,null,null,null,null,null,null,null,null,null,null,null,null,567,null,null,29,5.11E-2]
[251,"$B$4",229,"Blue Valley","Johnson",774,{"$f":"IFERROR(IF(OR(AND(Application!$A$9=\"Yes\",IFERROR(MATCH(C250,Application!$K$11:$K$297,0)>0,\"\")),AND(Application!$A$9=\"No\",C250=Application!$A$13)),F250,\"\"),\"\")","v":""},"Stilwell Elementary","Elementary",null,null,null,null,null,null,null,null,null,null,null,null,null,null,null,null,null,256,null,null,26,0.1016]
[252,"$B$4",229,"Blue Valley","Johnson",776,{"$f":"IFERROR(IF(OR(AND(Application!$A$9=\"Yes\",IFERROR(MATCH(C251,Application!$K$11:$K$297,0)>0,\"\")),AND(Application!$A$9=\"No\",C251=Application!$A$13)),F251,\"\"),\"\")","v":""},"Blue Valley Middle","Middle School",null,null,null,null,null,null,null,null,null,null,null,null,null,null,null,null,null,562,null,null,68,0.121]
[253,"$B$4",229,"Blue Valley","Johnson",777,{"$f":"IFERROR(IF(OR(AND(Application!$A$9=\"Yes\",IFERROR(MATCH(C252,Application!$K$11:$K$297,0)>0,\"\")),AND(Application!$A$9=\"No\",C252=Application!$A$13)),F252,\"\"),\"\")","v":""},"Mission Trail Elementary","Elementary",null,null,null,null,null,null,null,null,null,null,null,null,null,null,null,null,null,391,null,null,29,7.4200000000000002E-2]
[254,"$B$4",229,"Blue Valley","Johnson",778,{"$f":"IFERROR(IF(OR(AND(Application!$A$9=\"Yes\",IFERROR(MATCH(C253,Application!$K$11:$K$297,0)>0,\"\")),AND(Application!$A$9=\"No\",C253=Application!$A$13)),F253,\"\"),\"\")","v":""},"Leawood Middle","Middle School",null,null,null,null,null,null,null,null,null,null,null,null,null,null,null,null,null,459,null,null,37,8.0600000000000005E-2]
[255,"$B$4",229,"Blue Valley","Johnson",779,{"$f":"IFERROR(IF(OR(AND(Application!$A$9=\"Yes\",IFERROR(MATCH(C254,Application!$K$11:$K$297,0)>0,\"\")),AND(Application!$A$9=\"No\",C254=Application!$A$13)),F254,\"\"),\"\")","v":""},"Overland Trail Elementary","Elementary",null,null,null,null,null,null,null,null,null,null,null,null,null,null,null,null,null,588,null,null,90,0.15310000000000001]
[256,"$B$4",229,"Blue Valley","Johnson",780,{"$f":"IFERROR(IF(OR(AND(Application!$A$9=\"Yes\",IFERROR(MATCH(C255,Application!$K$11:$K$297,0)>0,\"\")),AND(Application!$A$9=\"No\",C255=Application!$A$13)),F255,\"\"),\"\")","v":""},"Indian Valley Elementary","Elementary",null,null,null,null,null,null,null,null,null,null,null,null,null,null,null,null,null,359,null,null,66,0.18379999999999999]
[257,"$B$4",229,"Blue Valley","Johnson",781,{"$f":"IFERROR(IF(OR(AND(Application!$A$9=\"Yes\",IFERROR(MATCH(C256,Application!$K$11:$K$297,0)>0,\"\")),AND(Application!$A$9=\"No\",C256=Application!$A$13)),F256,\"\"),\"\")","v":""},"Overland Trail Middle","Middle School",null,null,null,null,null,null,null,null,null,null,null,null,null,null,null,null,null,547,null,null,80,0.14630000000000001]
[258,"$B$4",229,"Blue Valley","Johnson",782,{"$f":"IFERROR(IF(OR(AND(Application!$A$9=\"Yes\",IFERROR(MATCH(C257,Application!$K$11:$K$297,0)>0,\"\")),AND(Application!$A$9=\"No\",C257=Application!$A$13)),F257,\"\"),\"\")","v":""},"Oak Hill Elementary","Elementary",null,null,null,null,null,null,null,null,null,null,null,null,null,null,null,null,null,466,null,null,43,9.2299999999999993E-2]
[259,"$B$4",229,"Blue Valley","Johnson",783,{"$f":"IFERROR(IF(OR(AND(Application!$A$9=\"Yes\",IFERROR(MATCH(C258,Application!$K$11:$K$297,0)>0,\"\")),AND(Application!$A$9=\"No\",C258=Application!$A$13)),F258,\"\"),\"\")","v":""},"Cottonwood Point Elementary","Elementary",null,null,null,null,null,null,null,null,null,null,null,null,null,null,null,null,null,374,null,null,30,8.0199999999999994E-2]
[260,"$B$4",229,"Blue Valley","Johnson",784,{"$f":"IFERROR(IF(OR(AND(Application!$A$9=\"Yes\",IFERROR(MATCH(C259,Application!$K$11:$K$297,0)>0,\"\")),AND(Application!$A$9=\"No\",C259=Application!$A$13)),F259,\"\"),\"\")","v":""},"Harmony Middle","Middle School",null,null,null,null,null,null,null,null,null,null,null,null,null,null,null,null,null,521,null,null,42,8.0600000000000005E-2]
[261,"$B$4",229,"Blue Valley","Johnson",785,{"$f":"IFERROR(IF(OR(AND(Application!$A$9=\"Yes\",IFERROR(MATCH(C260,Application!$K$11:$K$297,0)>0,\"\")),AND(Application!$A$9=\"No\",C260=Application!$A$13)),F260,\"\"),\"\")","v":""},"Harmony Elementary","Elementary",null,null,null,null,null,null,null,null,null,null,null,null,null,null,null,null,null,514,null,null,41,7.9799999999999996E-2]
[281,"$B$4",230,"Spring Hill","Johnson",787,{"$f":"IFERROR(IF(OR(AND(Application!$A$9=\"Yes\",IFERROR(MATCH(C261,Application!$K$11:$K$297,0)>0,\"\")),AND(Application!$A$9=\"No\",C261=Application!$A$13)),F261,\"\"),\"\")","v":""},"Spring Hill Elementary School","Elementary",null,null,null,null,null,null,null,null,null,null,null,null,null,null,null,null,null,554,null,null,135,0.2437]
[282,"$B$4",230,"Spring Hill","Johnson",790,{"$f":"IFERROR(IF(OR(AND(Application!$A$9=\"Yes\",IFERROR(MATCH(C262,Application!$K$11:$K$297,0)>0,\"\")),AND(Application!$A$9=\"No\",C262=Application!$A$13)),F262,\"\"),\"\")","v":""},"Spring Hill High School","High School",null,null,null,null,null,null,null,null,null,null,null,null,null,null,null,null,null,988,null,null,140,0.14169999999999999]
[283,"$B$4",230,"Spring Hill","Johnson",792,{"$f":"IFERROR(IF(OR(AND(Application!$A$9=\"Yes\",IFERROR(MATCH(C263,Application!$K$11:$K$297,0)>0,\"\")),AND(Application!$A$9=\"No\",C263=Application!$A$13)),F263,\"\"),\"\")","v":""},"Spring Hill Middle School","Middle School",null,null,null,null,null,null,null,null,null,null,null,null,null,null,null,null,null,471,null,null,84,0.17829999999999999]
[284,"$B$4",230,"Spring Hill","Johnson",793,{"$f":"IFERROR(IF(OR(AND(Application!$A$9=\"Yes\",IFERROR(MATCH(C264,Application!$K$11:$K$297,0)>0,\"\")),AND(Application!$A$9=\"No\",C264=Application!$A$13)),F264,\"\"),\"\")","v":""},"Prairie Creek Elementary","Elementary",null,null,null,null,null,null,null,null,null,null,null,null,null,null,null,null,null,439,null,null,18,4.1000000000000002E-2]
[285,"$B$4",230,"Spring Hill","Johnson",794,{"$f":"IFERROR(IF(OR(AND(Application!$A$9=\"Yes\",IFERROR(MATCH(C265,Application!$K$11:$K$297,0)>0,\"\")),AND(Application!$A$9=\"No\",C265=Application!$A$13)),F265,\"\"),\"\")","v":""},"Insight School of Kansas","High School",null,null,null,null,null,null,null,null,null,null,null,null,null,null,null,null,null,1038,null,null,288,0.27750000000000002]
[286,"$B$4",230,"Spring Hill","Johnson",795,{"$f":"IFERROR(IF(OR(AND(Application!$A$9=\"Yes\",IFERROR(MATCH(C266,Application!$K$11:$K$297,0)>0,\"\")),AND(Application!$A$9=\"No\",C266=Application!$A$13)),F266,\"\"),\"\")","v":""},"USD 230 - Off Site Non Public Buildings","Special Ed Program - Off Site Community Based",null,null,null,null,null,null,null,null,null,null,null,null,null,null,null,null,null,"N/A",null,null,"N/A","N/A"]
[287,"$B$4",230,"Spring Hill","Johnson",797,{"$f":"IFERROR(IF(OR(AND(Application!$A$9=\"Yes\",IFERROR(MATCH(C267,Application!$K$11:$K$297,0)>0,\"\")),AND(Application!$A$9=\"No\",C267=Application!$A$13)),F267,\"\"),\"\")","v":""},"USD 230 - Home","Special Ed Program - Home",null,null,null,null,null,null,null,null,null,null,null,null,null,null,null,null,null,"N/A",null,null,"N/A","N/A"]
[288,"$B$4",230,"Spring Hill","Johnson",799,{"$f":"IFERROR(IF(OR(AND(Application!$A$9=\"Yes\",IFERROR(MATCH(C268,Application!$K$11:$K$297,0)>0,\"\")),AND(Application!$A$9=\"No\",C268=Application!$A$13)),F268,\"\"),\"\")","v":""},"USD 230 - Community-Based Preschool","Special Ed Program - Community Based Preschool",null,null,null,null,null,null,null,null,null,null,null,null,null,null,null,null,null,"N/A",null,null,"N/A","N/A"]
[289,"$B$4",230,"Spring Hill","Johnson",801,{"$f":"IFERROR(IF(OR(AND(Application!$A$9=\"Yes\",IFERROR(MATCH(C269,Application!$K$11:$K$297,0)>0,\"\")),AND(Application!$A$9=\"No\",C269=Application!$A$13)),F269,\"\"),\"\")","v":""},"USD 230 - K Time Program W/O SPED","Early Childhood Program - General",null,null,null,null,null,null,null,null,null,null,null,null,null,null,null,null,null,"N/A",null,null,"N/A","N/A"]
[295,"$B$4",231,"Gardner Edgerton","Johnson",802,{"$f":"IFERROR(IF(OR(AND(Application!$A$9=\"Yes\",IFERROR(MATCH(C270,Application!$K$11:$K$297,0)>0,\"\")),AND(Application!$A$9=\"No\",C270=Application!$A$13)),F270,\"\"),\"\")","v":""},"Gardner Dist Johnson Co","Central Office",null,null,null,null,null,null,null,null,null,null,null,null,null,null,null,null,null,"N/A",null,null,"N/A","N/A"]
[296,"$B$4",231,"Gardner Edgerton","Johnson",803,{"$f":"IFERROR(IF(OR(AND(Application!$A$9=\"Yes\",IFERROR(MATCH(C271,Application!$K$11:$K$297,0)>0,\"\")),AND(Application!$A$9=\"No\",C271=Application!$A$13)),F271,\"\"),\"\")","v":""},"USD 231 - Off Site Non Public Buildings","Special Ed Program - Off Site Community Based",null,null,null,null,null,null,null,null,null,null,null,null,null,null,null,null,null,"N/A",null,null,"N/A","N/A"]
[297,"$B$4",231,"Gardner Edgerton","Johnson",804,{"$f":"IFERROR(IF(OR(AND(Application!$A$9=\"Yes\",IFERROR(MATCH(C272,Application!$K$11:$K$297,0)>0,\"\")),AND(Application!$A$9=\"No\",C272=Application!$A$13)),F272,\"\"),\"\")","v":""},"Gardner Elem","Elementary",null,null,null,null,null,null,null,null,null,null,null,null,null,null,null,null,null,283,null,null,107,0.37809999999999999]
[298,"$B$4",231,"Gardner Edgerton","Johnson",805,{"$f":"IFERROR(IF(OR(AND(Application!$A$9=\"Yes\",IFERROR(MATCH(C273,Application!$K$11:$K$297,0)>0,\"\")),AND(Application!$A$9=\"No\",C273=Application!$A$13)),F273,\"\"),\"\")","v":""},"USD 231 - Home","Special Ed Program - Home",null,null,null,null,null,null,null,null,null,null,null,null,null,null,null,null,null,"N/A",null,null,"N/A","N/A"]
[299,"$B$4",231,"Gardner Edgerton","Johnson",807,{"$f":"IFERROR(IF(OR(AND(Application!$A$9=\"Yes\",IFERROR(MATCH(C274,Application!$K$11:$K$297,0)>0,\"\")),AND(Application!$A$9=\"No\",C274=Application!$A$13)),F274,\"\"),\"\")","v":""},"USD 231 - Incarceration","Special Ed Program - Incarcerated",null,null,null,null,null,null,null,null,null,null,null,null,null,null,null,null,null,"N/A",null,null,"N/A","N/A"]
[300,"$B$4",231,"Gardner Edgerton","Johnson",808,{"$f":"IFERROR(IF(OR(AND(Application!$A$9=\"Yes\",IFERROR(MATCH(C275,Application!$K$11:$K$297,0)>0,\"\")),AND(Application!$A$9=\"No\",C275=Application!$A$13)),F275,\"\"),\"\")","v":""},"Gardner Edgerton High","High School",null,null,null,null,null,null,null,null,null,null,null,null,null,null,null,null,null,1789,null,null,499,0.27889999999999998]
[301,"$B$4",231,"Gardner Edgerton","Johnson",809,{"$f":"IFERROR(IF(OR(AND(Application!$A$9=\"Yes\",IFERROR(MATCH(C276,Application!$K$11:$K$297,0)>0,\"\")),AND(Application!$A$9=\"No\",C276=Application!$A$13)),F276,\"\"),\"\")","v":""},"USD 231 - Community-Based Preschool","Special Ed Program - Community Based Preschool",null,null,null,null,null,null,null,null,null,null,null,null,null,null,null,null,null,"N/A",null,null,"N/A","N/A"]
[302,"$B$4",231,"Gardner Edgerton","Johnson",811,{"$f":"IFERROR(IF(OR(AND(Application!$A$9=\"Yes\",IFERROR(MATCH(C277,Application!$K$11:$K$297,0)>0,\"\")),AND(Application!$A$9=\"No\",C277=Application!$A$13)),F277,\"\"),\"\")","v":""},"USD 231 - Public Off Campus","Special Ed Program - Public School Administered",null,null,null,null,null,null,null,null,null,null,null,null,null,null,null,null,null,"N/A",null,null,"N/A","N/A"]
[303,"$B$4",231,"Gardner Edgerton","Johnson",812,{"$f":"IFERROR(IF(OR(AND(Application!$A$9=\"Yes\",IFERROR(MATCH(C278,Application!$K$11:$K$297,0)>0,\"\")),AND(Application!$A$9=\"No\",C278=Application!$A$13)),F278,\"\"),\"\")","v":""},"Edgerton Elem","Elementary",null,null,null,null,null,null,null,null,null,null,null,null,null,null,null,null,null,158,null,null,49,0.31009999999999999]
[304,"$B$4",231,"Gardner Edgerton","Johnson",813,{"$f":"IFERROR(IF(OR(AND(Application!$A$9=\"Yes\",IFERROR(MATCH(C279,Application!$K$11:$K$297,0)>0,\"\")),AND(Application!$A$9=\"No\",C279=Application!$A$13)),F279,\"\"),\"\")","v":""},"USD 231 - K Time Program W/O SPED","Early Childhood Program - General",null,null,null,null,null,null,null,null,null,null,null,null,null,null,null,null,null,"N/A",null,null,"N/A","N/A"]
[305,"$B$4",231,"Gardner Edgerton","Johnson",814,{"$f":"IFERROR(IF(OR(AND(Application!$A$9=\"Yes\",IFERROR(MATCH(C280,Application!$K$11:$K$297,0)>0,\"\")),AND(Application!$A$9=\"No\",C280=Application!$A$13)),F280,\"\"),\"\")","v":""},"Sunflower Elementary","Elementary",null,null,null,null,null,null,null,null,null,null,null,null,null,null,null,null,null,317,null,null,73,0.2303]
[306,"$B$4",231,"Gardner Edgerton","Johnson",815,{"$f":"IFERROR(IF(OR(AND(Application!$A$9=\"Yes\",IFERROR(MATCH(C281,Application!$K$11:$K$297,0)>0,\"\")),AND(Application!$A$9=\"No\",C281=Application!$A$13)),F281,\"\"),\"\")","v":""},"Moonlight Elementary School","Elementary",null,null,null,null,null,null,null,null,null,null,null,null,null,null,null,null,null,314,null,null,133,0.42359999999999998]
[307,"$B$4",231,"Gardner Edgerton","Johnson",816,{"$f":"IFERROR(IF(OR(AND(Application!$A$9=\"Yes\",IFERROR(MATCH(C282,Application!$K$11:$K$297,0)>0,\"\")),AND(Application!$A$9=\"No\",C282=Application!$A$13)),F282,\"\"),\"\")","v":""},"Madison Elementary","Elementary",null,null,null,null,null,null,null,null,null,null,null,null,null,null,null,null,null,495,null,null,105,0.21210000000000001]
[308,"$B$4",231,"Gardner Edgerton","Johnson",817,{"$f":"IFERROR(IF(OR(AND(Application!$A$9=\"Yes\",IFERROR(MATCH(C283,Application!$K$11:$K$297,0)>0,\"\")),AND(Application!$A$9=\"No\",C283=Application!$A$13)),F283,\"\"),\"\")","v":""},"Pioneer Ridge Middle School","Middle School",null,null,null,null,null,null,null,null,null,null,null,null,null,null,null,null,null,558,null,null,118,0.21149999999999999]
[309,"$B$4",231,"Gardner Edgerton","Johnson",818,{"$f":"IFERROR(IF(OR(AND(Application!$A$9=\"Yes\",IFERROR(MATCH(C284,Application!$K$11:$K$297,0)>0,\"\")),AND(Application!$A$9=\"No\",C284=Application!$A$13)),F284,\"\"),\"\")","v":""},"Nike Elementary","Elementary",null,null,null,null,null,null,null,null,null,null,null,null,null,null,null,null,null,359,null,null,100,0.27860000000000001]
[310,"$B$4",231,"Gardner Edgerton","Johnson",819,{"$f":"IFERROR(IF(OR(AND(Application!$A$9=\"Yes\",IFERROR(MATCH(C285,Application!$K$11:$K$297,0)>0,\"\")),AND(Application!$A$9=\"No\",C285=Application!$A$13)),F285,\"\"),\"\")","v":""},"Wheatridge Middle School","Middle School",null,null,null,null,null,null,null,null,null,null,null,null,null,null,null,null,null,541,null,null,187,0.34570000000000001]
[262,"$B$4",229,"Blue Valley","Johnson",820,{"$f":"IFERROR(IF(OR(AND(Application!$A$9=\"Yes\",IFERROR(MATCH(C286,Application!$K$11:$K$297,0)>0,\"\")),AND(Application!$A$9=\"No\",C286=Application!$A$13)),F286,\"\"),\"\")","v":""},"Blue Valley Southwest High School","High School",null,null,null,null,null,null,null,null,null,null,null,null,null,null,null,null,null,1064,null,null,66,6.2E-2]
[263,"$B$4",229,"Blue Valley","Johnson",821,{"$f":"IFERROR(IF(OR(AND(Application!$A$9=\"Yes\",IFERROR(MATCH(C287,Application!$K$11:$K$297,0)>0,\"\")),AND(Application!$A$9=\"No\",C287=Application!$A$13)),F287,\"\"),\"\")","v":""},"Center for Advanced Professional Studies","High School",null,null,null,null,null,null,null,null,null,null,null,null,null,null,null,null,null,"N/A",null,null,"N/A","N/A"]
[264,"$B$4",229,"Blue Valley","Johnson",823,{"$f":"IFERROR(IF(OR(AND(Application!$A$9=\"Yes\",IFERROR(MATCH(C288,Application!$K$11:$K$297,0)>0,\"\")),AND(Application!$A$9=\"No\",C288=Application!$A$13)),F288,\"\"),\"\")","v":""},"Aubry Bend Middle School","Middle School",null,null,null,null,null,null,null,null,null,null,null,null,null,null,null,null,null,819,null,null,38,4.6399999999999997E-2]
[314,"$B$4",232,"De Soto","Johnson",824,{"$f":"IFERROR(IF(OR(AND(Application!$A$9=\"Yes\",IFERROR(MATCH(C289,Application!$K$11:$K$297,0)>0,\"\")),AND(Application!$A$9=\"No\",C289=Application!$A$13)),F289,\"\"),\"\")","v":""},"De Soto Dist Johnson Co","Central Office",null,null,null,null,null,null,null,null,null,null,null,null,null,null,null,null,null,"N/A",null,null,"N/A","N/A"]
[315,"$B$4",232,"De Soto","Johnson",825,{"$f":"IFERROR(IF(OR(AND(Application!$A$9=\"Yes\",IFERROR(MATCH(C290,Application!$K$11:$K$297,0)>0,\"\")),AND(Application!$A$9=\"No\",C290=Application!$A$13)),F290,\"\"),\"\")","v":""},"Clear Creek Elem","Elementary",null,null,null,null,null,null,null,null,null,null,null,null,null,null,null,null,null,537,null,null,46,8.5699999999999998E-2]
[316,"$B$4",232,"De Soto","Johnson",827,{"$f":"IFERROR(IF(OR(AND(Application!$A$9=\"Yes\",IFERROR(MATCH(C291,Application!$K$11:$K$297,0)>0,\"\")),AND(Application!$A$9=\"No\",C291=Application!$A$13)),F291,\"\"),\"\")","v":""},"USD 232 - Off Site Non Public Buildings","Special Ed Program - Off Site Community Based",null,null,null,null,null,null,null,null,null,null,null,null,null,null,null,null,null,"N/A",null,null,"N/A","N/A"]
[317,"$B$4",232,"De Soto","Johnson",829,{"$f":"IFERROR(IF(OR(AND(Application!$A$9=\"Yes\",IFERROR(MATCH(C292,Application!$K$11:$K$297,0)>0,\"\")),AND(Application!$A$9=\"No\",C292=Application!$A$13)),F292,\"\"),\"\")","v":""},"Horizon Elementary","Elementary",null,null,null,null,null,null,null,null,null,null,null,null,null,null,null,null,null,372,null,null,42,0.1129]
[318,"$B$4",232,"De Soto","Johnson",830,{"$f":"IFERROR(IF(OR(AND(Application!$A$9=\"Yes\",IFERROR(MATCH(C293,Application!$K$11:$K$297,0)>0,\"\")),AND(Application!$A$9=\"No\",C293=Application!$A$13)),F293,\"\"),\"\")","v":""},"USD 232 - Public Off-Site Preschools","Special Ed Program - Off Site Preschool",null,null,null,null,null,null,null,null,null,null,null,null,null,null,null,null,null,"N/A",null,null,"N/A","N/A"]
[319,"$B$4",232,"De Soto","Johnson",832,{"$f":"IFERROR(IF(OR(AND(Application!$A$9=\"Yes\",IFERROR(MATCH(C294,Application!$K$11:$K$297,0)>0,\"\")),AND(Application!$A$9=\"No\",C294=Application!$A$13)),F294,\"\"),\"\")","v":""},"De Soto  High  School","High School",null,null,null,null,null,null,null,null,null,null,null,null,null,null,null,null,null,999,null,null,153,0.1532]
[320,"$B$4",232,"De Soto","Johnson",833,{"$f":"IFERROR(IF(OR(AND(Application!$A$9=\"Yes\",IFERROR(MATCH(C295,Application!$K$11:$K$297,0)>0,\"\")),AND(Application!$A$9=\"No\",C295=Application!$A$13)),F295,\"\"),\"\")","v":""},"Mill Valley High School","High School",null,null,null,null,null,null,null,null,null,null,null,null,null,null,null,null,null,1357,null,null,77,5.67E-2]
[321,"$B$4",232,"De Soto","Johnson",835,{"$f":"IFERROR(IF(OR(AND(Application!$A$9=\"Yes\",IFERROR(MATCH(C296,Application!$K$11:$K$297,0)>0,\"\")),AND(Application!$A$9=\"No\",C296=Application!$A$13)),F296,\"\"),\"\")","v":""},"Monticello Trails Middle School","Middle School",null,null,null,null,null,null,null,null,null,null,null,null,null,null,null,null,null,699,null,null,44,6.2899999999999998E-2]
[322,"$B$4",232,"De Soto","Johnson",836,{"$f":"IFERROR(IF(OR(AND(Application!$A$9=\"Yes\",IFERROR(MATCH(C297,Application!$K$11:$K$297,0)>0,\"\")),AND(Application!$A$9=\"No\",C297=Application!$A$13)),F297,\"\"),\"\")","v":""},"Lexington Trails Middle School","Middle School",null,null,null,null,null,null,null,null,null,null,null,null,null,null,null,null,null,378,null,null,85,0.22489999999999999]
[323,"$B$4",232,"De Soto","Johnson",837,{"$f":"IFERROR(IF(OR(AND(Application!$A$9=\"Yes\",IFERROR(MATCH(C298,Application!$K$11:$K$297,0)>0,\"\")),AND(Application!$A$9=\"No\",C298=Application!$A$13)),F298,\"\"),\"\")","v":""},"Starside Elem","Elementary",null,null,null,null,null,null,null,null,null,null,null,null,null,null,null,null,null,445,null,null,171,0.38429999999999997]
[324,"$B$4",232,"De Soto","Johnson",839,{"$f":"IFERROR(IF(OR(AND(Application!$A$9=\"Yes\",IFERROR(MATCH(C299,Application!$K$11:$K$297,0)>0,\"\")),AND(Application!$A$9=\"No\",C299=Application!$A$13)),F299,\"\"),\"\")","v":""},"USD 232 - Home","Special Ed Program - Home",null,null,null,null,null,null,null,null,null,null,null,null,null,null,null,null,null,"N/A",null,null,"N/A","N/A"]
[325,"$B$4",232,"De Soto","Johnson",841,{"$f":"IFERROR(IF(OR(AND(Application!$A$9=\"Yes\",IFERROR(MATCH(C300,Application!$K$11:$K$297,0)>0,\"\")),AND(Application!$A$9=\"No\",C300=Application!$A$13)),F300,\"\"),\"\")","v":""},"Prairie Ridge Elementary School","Elementary",null,null,null,null,null,null,null,null,null,null,null,null,null,null,null,null,null,472,null,null,19,4.0300000000000002E-2]
[326,"$B$4",232,"De Soto","Johnson",842,{"$f":"IFERROR(IF(OR(AND(Application!$A$9=\"Yes\",IFERROR(MATCH(C301,Application!$K$11:$K$297,0)>0,\"\")),AND(Application!$A$9=\"No\",C301=Application!$A$13)),F301,\"\"),\"\")","v":""},"Mize Elementary School","Elementary",null,null,null,null,null,null,null,null,null,null,null,null,null,null,null,null,null,459,null,null,37,8.0600000000000005E-2]
[327,"$B$4",232,"De Soto","Johnson",843,{"$f":"IFERROR(IF(OR(AND(Application!$A$9=\"Yes\",IFERROR(MATCH(C302,Application!$K$11:$K$297,0)>0,\"\")),AND(Application!$A$9=\"No\",C302=Application!$A$13)),F302,\"\"),\"\")","v":""},"Riverview Elementary","Elementary",null,null,null,null,null,null,null,null,null,null,null,null,null,null,null,null,null,480,null,null,31,6.4600000000000005E-2]
[328,"$B$4",232,"De Soto","Johnson",844,{"$f":"IFERROR(IF(OR(AND(Application!$A$9=\"Yes\",IFERROR(MATCH(C303,Application!$K$11:$K$297,0)>0,\"\")),AND(Application!$A$9=\"No\",C303=Application!$A$13)),F303,\"\"),\"\")","v":""},"Mill Creek Middle School","Middle School",null,null,null,null,null,null,null,null,null,null,null,null,null,null,null,null,null,629,null,null,44,7.0000000000000007E-2]
[336,"$B$4",233,"Olathe","Johnson",845,{"$f":"IFERROR(IF(OR(AND(Application!$A$9=\"Yes\",IFERROR(MATCH(C304,Application!$K$11:$K$297,0)>0,\"\")),AND(Application!$A$9=\"No\",C304=Application!$A$13)),F304,\"\"),\"\")","v":""},"Olathe Northwest High School","High School",null,null,null,null,null,null,null,null,null,null,null,null,null,null,null,null,null,1952,null,null,273,0.1399]
[337,"$B$4",233,"Olathe","Johnson",846,{"$f":"IFERROR(IF(OR(AND(Application!$A$9=\"Yes\",IFERROR(MATCH(C305,Application!$K$11:$K$297,0)>0,\"\")),AND(Application!$A$9=\"No\",C305=Application!$A$13)),F305,\"\"),\"\")","v":""},"Regency Place Elementary","Elementary",null,null,null,null,null,null,null,null,null,null,null,null,null,null,null,null,null,419,null,null,47,0.11219999999999999]
[338,"$B$4",233,"Olathe","Johnson",847,{"$f":"IFERROR(IF(OR(AND(Application!$A$9=\"Yes\",IFERROR(MATCH(C306,Application!$K$11:$K$297,0)>0,\"\")),AND(Application!$A$9=\"No\",C306=Application!$A$13)),F306,\"\"),\"\")","v":""},"Frontier Trail Middle School","Middle School",null,null,null,null,null,null,null,null,null,null,null,null,null,null,null,null,null,677,null,null,135,0.19939999999999999]
[339,"$B$4",233,"Olathe","Johnson",849,{"$f":"IFERROR(IF(OR(AND(Application!$A$9=\"Yes\",IFERROR(MATCH(C307,Application!$K$11:$K$297,0)>0,\"\")),AND(Application!$A$9=\"No\",C307=Application!$A$13)),F307,\"\"),\"\")","v":""},"Brougham Elem","Elementary",null,null,null,null,null,null,null,null,null,null,null,null,null,null,null,null,null,309,null,null,37,0.1197]
[340,"$B$4",233,"Olathe","Johnson",850,{"$f":"IFERROR(IF(OR(AND(Application!$A$9=\"Yes\",IFERROR(MATCH(C308,Application!$K$11:$K$297,0)>0,\"\")),AND(Application!$A$9=\"No\",C308=Application!$A$13)),F308,\"\"),\"\")","v":""},"Central Elem","Elementary",null,null,null,null,null,null,null,null,null,null,null,null,null,null,null,null,null,219,null,null,146,0.66669999999999996]
[341,"$B$4",233,"Olathe","Johnson",851,{"$f":"IFERROR(IF(OR(AND(Application!$A$9=\"Yes\",IFERROR(MATCH(C309,Application!$K$11:$K$297,0)>0,\"\")),AND(Application!$A$9=\"No\",C309=Application!$A$13)),F309,\"\"),\"\")","v":""},"Indian Creek Elem","Elementary",null,null,null,null,null,null,null,null,null,null,null,null,null,null,null,null,null,364,null,null,195,0.53569999999999995]
[342,"$B$4",233,"Olathe","Johnson",852,{"$f":"IFERROR(IF(OR(AND(Application!$A$9=\"Yes\",IFERROR(MATCH(C310,Application!$K$11:$K$297,0)>0,\"\")),AND(Application!$A$9=\"No\",C310=Application!$A$13)),F310,\"\"),\"\")","v":""},"Fairview Elem","Elementary",null,null,null,null,null,null,null,null,null,null,null,null,null,null,null,null,null,238,null,null,130,0.54620000000000002]
[343,"$B$4",233,"Olathe","Johnson",853,{"$f":"IFERROR(IF(OR(AND(Application!$A$9=\"Yes\",IFERROR(MATCH(C311,Application!$K$11:$K$297,0)>0,\"\")),AND(Application!$A$9=\"No\",C311=Application!$A$13)),F311,\"\"),\"\")","v":""},"Briarwood Elem","Elementary",null,null,null,null,null,null,null,null,null,null,null,null,null,null,null,null,null,323,null,null,76,0.23530000000000001]
[344,"$B$4",233,"Olathe","Johnson",854,{"$f":"IFERROR(IF(OR(AND(Application!$A$9=\"Yes\",IFERROR(MATCH(C312,Application!$K$11:$K$297,0)>0,\"\")),AND(Application!$A$9=\"No\",C312=Application!$A$13)),F312,\"\"),\"\")","v":""},"Ridgeview Elem","Elementary",null,null,null,null,null,null,null,null,null,null,null,null,null,null,null,null,null,244,null,null,171,0.70079999999999998]
[345,"$B$4",233,"Olathe","Johnson",855,{"$f":"IFERROR(IF(OR(AND(Application!$A$9=\"Yes\",IFERROR(MATCH(C313,Application!$K$11:$K$297,0)>0,\"\")),AND(Application!$A$9=\"No\",C313=Application!$A$13)),F313,\"\"),\"\")","v":""},"Walnut Grove Elem","Elementary",null,null,null,null,null,null,null,null,null,null,null,null,null,null,null,null,null,409,null,null,117,0.28610000000000002]
[346,"$B$4",233,"Olathe","Johnson",856,{"$f":"IFERROR(IF(OR(AND(Application!$A$9=\"Yes\",IFERROR(MATCH(C314,Application!$K$11:$K$297,0)>0,\"\")),AND(Application!$A$9=\"No\",C314=Application!$A$13)),F314,\"\"),\"\")","v":""},"Prairie Center Elem","Elementary",null,null,null,null,null,null,null,null,null,null,null,null,null,null,null,null,null,388,null,null,59,0.15210000000000001]
[347,"$B$4",233,"Olathe","Johnson",857,{"$f":"IFERROR(IF(OR(AND(Application!$A$9=\"Yes\",IFERROR(MATCH(C315,Application!$K$11:$K$297,0)>0,\"\")),AND(Application!$A$9=\"No\",C315=Application!$A$13)),F315,\"\"),\"\")","v":""},"Pioneer Trail Middle School","Middle School",null,null,null,null,null,null,null,null,null,null,null,null,null,null,null,null,null,606,null,null,266,0.43890000000000001]
[348,"$B$4",233,"Olathe","Johnson",858,{"$f":"IFERROR(IF(OR(AND(Application!$A$9=\"Yes\",IFERROR(MATCH(C316,Application!$K$11:$K$297,0)>0,\"\")),AND(Application!$A$9=\"No\",C316=Application!$A$13)),F316,\"\"),\"\")","v":""},"Washington Elem","Elementary",null,null,null,null,null,null,null,null,null,null,null,null,null,null,null,null,null,356,null,null,265,0.74439999999999995]
[349,"$B$4",233,"Olathe","Johnson",859,{"$f":"IFERROR(IF(OR(AND(Application!$A$9=\"Yes\",IFERROR(MATCH(C317,Application!$K$11:$K$297,0)>0,\"\")),AND(Application!$A$9=\"No\",C317=Application!$A$13)),F317,\"\"),\"\")","v":""},"Countryside Elementary","Elementary",null,null,null,null,null,null,null,null,null,null,null,null,null,null,null,null,null,313,null,null,147,0.46960000000000002]
[350,"$B$4",233,"Olathe","Johnson",860,{"$f":"IFERROR(IF(OR(AND(Application!$A$9=\"Yes\",IFERROR(MATCH(C318,Application!$K$11:$K$297,0)>0,\"\")),AND(Application!$A$9=\"No\",C318=Application!$A$13)),F318,\"\"),\"\")","v":""},"Westview Elem","Elementary",null,null,null,null,null,null,null,null,null,null,null,null,null,null,null,null,null,163,null,null,107,0.65639999999999998]
[351,"$B$4",233,"Olathe","Johnson",861,{"$f":"IFERROR(IF(OR(AND(Application!$A$9=\"Yes\",IFERROR(MATCH(C319,Application!$K$11:$K$297,0)>0,\"\")),AND(Application!$A$9=\"No\",C319=Application!$A$13)),F319,\"\"),\"\")","v":""},"Santa Fe Trail Middle School","Middle School",null,null,null,null,null,null,null,null,null,null,null,null,null,null,null,null,null,635,null,null,314,0.4945]
[352,"$B$4",233,"Olathe","Johnson",862,{"$f":"IFERROR(IF(OR(AND(Application!$A$9=\"Yes\",IFERROR(MATCH(C320,Application!$K$11:$K$297,0)>0,\"\")),AND(Application!$A$9=\"No\",C320=Application!$A$13)),F320,\"\"),\"\")","v":""},"Oregon Trail Middle School","Middle School",null,null,null,null,null,null,null,null,null,null,null,null,null,null,null,null,null,658,null,null,272,0.41339999999999999]
[353,"$B$4",233,"Olathe","Johnson",863,{"$f":"IFERROR(IF(OR(AND(Application!$A$9=\"Yes\",IFERROR(MATCH(C321,Application!$K$11:$K$297,0)>0,\"\")),AND(Application!$A$9=\"No\",C321=Application!$A$13)),F321,\"\"),\"\")","v":""},"Indian Trail Middle School","Middle School",null,null,null,null,null,null,null,null,null,null,null,null,null,null,null,null,null,609,null,null,280,0.45979999999999999]
[354,"$B$4",233,"Olathe","Johnson",864,{"$f":"IFERROR(IF(OR(AND(Application!$A$9=\"Yes\",IFERROR(MATCH(C322,Application!$K$11:$K$297,0)>0,\"\")),AND(Application!$A$9=\"No\",C322=Application!$A$13)),F322,\"\"),\"\")","v":""},"Olathe North Sr High","High School",null,null,null,null,null,null,null,null,null,null,null,null,null,null,null,null,null,2232,null,null,789,0.35349999999999998]
[355,"$B$4",233,"Olathe","Johnson",865,{"$f":"IFERROR(IF(OR(AND(Application!$A$9=\"Yes\",IFERROR(MATCH(C323,Application!$K$11:$K$297,0)>0,\"\")),AND(Application!$A$9=\"No\",C323=Application!$A$13)),F323,\"\"),\"\")","v":""},"Olathe South Sr High","High School",null,null,null,null,null,null,null,null,null,null,null,null,null,null,null,null,null,1841,null,null,294,0.15970000000000001]
[356,"$B$4",233,"Olathe","Johnson",867,{"$f":"IFERROR(IF(OR(AND(Application!$A$9=\"Yes\",IFERROR(MATCH(C324,Application!$K$11:$K$297,0)>0,\"\")),AND(Application!$A$9=\"No\",C324=Application!$A$13)),F324,\"\"),\"\")","v":""},"Heartland Early Childhood Center","Special School",null,null,null,null,null,null,null,null,null,null,null,null,null,null,null,null,null,"N/A",null,null,"N/A","N/A"]
[357,"$B$4",233,"Olathe","Johnson",868,{"$f":"IFERROR(IF(OR(AND(Application!$A$9=\"Yes\",IFERROR(MATCH(C325,Application!$K$11:$K$297,0)>0,\"\")),AND(Application!$A$9=\"No\",C325=Application!$A$13)),F325,\"\"),\"\")","v":""},"Meadow Lane Elem","Elementary",null,null,null,null,null,null,null,null,null,null,null,null,null,null,null,null,null,385,null,null,20,5.1900000000000002E-2]
[358,"$B$4",233,"Olathe","Johnson",870,{"$f":"IFERROR(IF(OR(AND(Application!$A$9=\"Yes\",IFERROR(MATCH(C326,Application!$K$11:$K$297,0)>0,\"\")),AND(Application!$A$9=\"No\",C326=Application!$A$13)),F326,\"\"),\"\")","v":""},"Rolling Ridge Elem","Elementary",null,null,null,null,null,null,null,null,null,null,null,null,null,null,null,null,null,364,null,null,214,0.58789999999999998]
[359,"$B$4",233,"Olathe","Johnson",871,{"$f":"IFERROR(IF(OR(AND(Application!$A$9=\"Yes\",IFERROR(MATCH(C327,Application!$K$11:$K$297,0)>0,\"\")),AND(Application!$A$9=\"No\",C327=Application!$A$13)),F327,\"\"),\"\")","v":""},"Northview Elem","Elementary",null,null,null,null,null,null,null,null,null,null,null,null,null,null,null,null,null,240,null,null,112,0.4667]
[360,"$B$4",233,"Olathe","Johnson",872,{"$f":"IFERROR(IF(OR(AND(Application!$A$9=\"Yes\",IFERROR(MATCH(C328,Application!$K$11:$K$297,0)>0,\"\")),AND(Application!$A$9=\"No\",C328=Application!$A$13)),F328,\"\"),\"\")","v":""},"Havencroft Elem","Elementary",null,null,null,null,null,null,null,null,null,null,null,null,null,null,null,null,null,254,null,null,130,0.51180000000000003]
[361,"$B$4",233,"Olathe","Johnson",874,{"$f":"IFERROR(IF(OR(AND(Application!$A$9=\"Yes\",IFERROR(MATCH(C329,Application!$K$11:$K$297,0)>0,\"\")),AND(Application!$A$9=\"No\",C329=Application!$A$13)),F329,\"\"),\"\")","v":""},"Scarborough Elem","Elementary",null,null,null,null,null,null,null,null,null,null,null,null,null,null,null,null,null,296,null,null,89,0.30070000000000002]
[362,"$B$4",233,"Olathe","Johnson",875,{"$f":"IFERROR(IF(OR(AND(Application!$A$9=\"Yes\",IFERROR(MATCH(C330,Application!$K$11:$K$297,0)>0,\"\")),AND(Application!$A$9=\"No\",C330=Application!$A$13)),F330,\"\"),\"\")","v":""},"Heritage Elementary","Elementary",null,null,null,null,null,null,null,null,null,null,null,null,null,null,null,null,null,340,null,null,129,0.37940000000000002]
[363,"$B$4",233,"Olathe","Johnson",876,{"$f":"IFERROR(IF(OR(AND(Application!$A$9=\"Yes\",IFERROR(MATCH(C331,Application!$K$11:$K$297,0)>0,\"\")),AND(Application!$A$9=\"No\",C331=Application!$A$13)),F331,\"\"),\"\")","v":""},"Black Bob Elem","Elementary",null,null,null,null,null,null,null,null,null,null,null,null,null,null,null,null,null,338,null,null,54,0.1598]
[364,"$B$4",233,"Olathe","Johnson",877,{"$f":"IFERROR(IF(OR(AND(Application!$A$9=\"Yes\",IFERROR(MATCH(C332,Application!$K$11:$K$297,0)>0,\"\")),AND(Application!$A$9=\"No\",C332=Application!$A$13)),F332,\"\"),\"\")","v":""},"Tomahawk Elem","Elementary",null,null,null,null,null,null,null,null,null,null,null,null,null,null,null,null,null,333,null,null,132,0.39639999999999997]
[365,"$B$4",233,"Olathe","Johnson",885,{"$f":"IFERROR(IF(OR(AND(Application!$A$9=\"Yes\",IFERROR(MATCH(C333,Application!$K$11:$K$297,0)>0,\"\")),AND(Application!$A$9=\"No\",C333=Application!$A$13)),F333,\"\"),\"\")","v":""},"Olathe East Sr High","High School",null,null,null,null,null,null,null,null,null,null,null,null,null,null,null,null,null,1903,null,null,486,0.25540000000000002]
[405,"$B$4",234,"Fort Scott","Bourbon",889,{"$f":"IFERROR(IF(OR(AND(Application!$A$9=\"Yes\",IFERROR(MATCH(C334,Application!$K$11:$K$297,0)>0,\"\")),AND(Application!$A$9=\"No\",C334=Application!$A$13)),F334,\"\"),\"\")","v":""},"USD 234 - Off Site Non Public Buildings","Special Ed Program - Off Site Community Based",null,null,null,null,null,null,null,null,null,null,null,null,null,null,null,null,null,"N/A",null,null,"N/A","N/A"]
[366,"$B$4",233,"Olathe","Johnson",890,{"$f":"IFERROR(IF(OR(AND(Application!$A$9=\"Yes\",IFERROR(MATCH(C335,Application!$K$11:$K$297,0)>0,\"\")),AND(Application!$A$9=\"No\",C335=Application!$A$13)),F335,\"\"),\"\")","v":""},"USD 233 - Public Off-Site Preschools","Special Ed Program - Off Site Preschool",null,null,null,null,null,null,null,null,null,null,null,null,null,null,null,null,null,"N/A",null,null,"N/A","N/A"]
[406,"$B$4",234,"Fort Scott","Bourbon",891,{"$f":"IFERROR(IF(OR(AND(Application!$A$9=\"Yes\",IFERROR(MATCH(C336,Application!$K$11:$K$297,0)>0,\"\")),AND(Application!$A$9=\"No\",C336=Application!$A$13)),F336,\"\"),\"\")","v":""},"USD 234 - Public Off-Site Preschools","Special Ed Program - Off Site Preschool",null,null,null,null,null,null,null,null,null,null,null,null,null,null,null,null,null,"N/A",null,null,"N/A","N/A"]
[367,"$B$4",233,"Olathe","Johnson",892,{"$f":"IFERROR(IF(OR(AND(Application!$A$9=\"Yes\",IFERROR(MATCH(C337,Application!$K$11:$K$297,0)>0,\"\")),AND(Application!$A$9=\"No\",C337=Application!$A$13)),F337,\"\"),\"\")","v":""},"USD 233 - Home","Special Ed Program - Home",null,null,null,null,null,null,null,null,null,null,null,null,null,null,null,null,null,"N/A",null,null,"N/A","N/A"]
[407,"$B$4",234,"Fort Scott","Bourbon",893,{"$f":"IFERROR(IF(OR(AND(Application!$A$9=\"Yes\",IFERROR(MATCH(C338,Application!$K$11:$K$297,0)>0,\"\")),AND(Application!$A$9=\"No\",C338=Application!$A$13)),F338,\"\"),\"\")","v":""},"USD 234 - Home","Special Ed Program - Home",null,null,null,null,null,null,null,null,null,null,null,null,null,null,null,null,null,"N/A",null,null,"N/A","N/A"]
[408,"$B$4",234,"Fort Scott","Bourbon",898,{"$f":"IFERROR(IF(OR(AND(Application!$A$9=\"Yes\",IFERROR(MATCH(C339,Application!$K$11:$K$297,0)>0,\"\")),AND(Application!$A$9=\"No\",C339=Application!$A$13)),F339,\"\"),\"\")","v":""},"Eugene Ware Elem","Elementary",null,null,null,null,null,null,null,null,null,null,null,null,null,null,null,null,null,359,null,null,204,0.56820000000000004]
[409,"$B$4",234,"Fort Scott","Bourbon",900,{"$f":"IFERROR(IF(OR(AND(Application!$A$9=\"Yes\",IFERROR(MATCH(C340,Application!$K$11:$K$297,0)>0,\"\")),AND(Application!$A$9=\"No\",C340=Application!$A$13)),F340,\"\"),\"\")","v":""},"Winfield Scott Elem","Elementary",null,null,null,null,null,null,null,null,null,null,null,null,null,null,null,null,null,457,null,null,310,0.67830000000000001]
[410,"$B$4",234,"Fort Scott","Bourbon",902,{"$f":"IFERROR(IF(OR(AND(Application!$A$9=\"Yes\",IFERROR(MATCH(C341,Application!$K$11:$K$297,0)>0,\"\")),AND(Application!$A$9=\"No\",C341=Application!$A$13)),F341,\"\"),\"\")","v":""},"Fort Scott Middle School","Middle School",null,null,null,null,null,null,null,null,null,null,null,null,null,null,null,null,null,431,null,null,232,0.5383]
[329,"$B$4",232,"De Soto","Johnson",903,{"$f":"IFERROR(IF(OR(AND(Application!$A$9=\"Yes\",IFERROR(MATCH(C342,Application!$K$11:$K$297,0)>0,\"\")),AND(Application!$A$9=\"No\",C342=Application!$A$13)),F342,\"\"),\"\")","v":""},"USD 232 - Community-Based Preschool","Special Ed Program - Community Based Preschool",null,null,null,null,null,null,null,null,null,null,null,null,null,null,null,null,null,"N/A",null,null,"N/A","N/A"]
[411,"$B$4",234,"Fort Scott","Bourbon",904,{"$f":"IFERROR(IF(OR(AND(Application!$A$9=\"Yes\",IFERROR(MATCH(C343,Application!$K$11:$K$297,0)>0,\"\")),AND(Application!$A$9=\"No\",C343=Application!$A$13)),F343,\"\"),\"\")","v":""},"Fort Scott Sr High","High School",null,null,null,null,null,null,null,null,null,null,null,null,null,null,null,null,null,581,null,null,237,0.40789999999999998]
[378,"$B$4",233,"Olathe","Johnson",905,{"$f":"IFERROR(IF(OR(AND(Application!$A$9=\"Yes\",IFERROR(MATCH(C344,Application!$K$11:$K$297,0)>0,\"\")),AND(Application!$A$9=\"No\",C344=Application!$A$13)),F344,\"\"),\"\")","v":""},"USD 233 - Community-Based Preschool","Special Ed Program - Community Based Preschool",null,null,null,null,null,null,null,null,null,null,null,null,null,null,null,null,null,"N/A",null,null,"N/A","N/A"]
[424,"$B$4",234,"Fort Scott","Bourbon",906,{"$f":"IFERROR(IF(OR(AND(Application!$A$9=\"Yes\",IFERROR(MATCH(C345,Application!$K$11:$K$297,0)>0,\"\")),AND(Application!$A$9=\"No\",C345=Application!$A$13)),F345,\"\"),\"\")","v":""},"USD 234 - Community-Based Preschool","Special Ed Program - Community Based Preschool",null,null,null,null,null,null,null,null,null,null,null,null,null,null,null,null,null,"N/A",null,null,"N/A","N/A"]
[427,"$B$4",234,"Fort Scott","Bourbon",907,{"$f":"IFERROR(IF(OR(AND(Application!$A$9=\"Yes\",IFERROR(MATCH(C346,Application!$K$11:$K$297,0)>0,\"\")),AND(Application!$A$9=\"No\",C346=Application!$A$13)),F346,\"\"),\"\")","v":""},"USD 234 - Public Off Campus","Special Ed Program - Public School Administered",null,null,null,null,null,null,null,null,null,null,null,null,null,null,null,null,null,"N/A",null,null,"N/A","N/A"]
[330,"$B$4",232,"De Soto","Johnson",909,{"$f":"IFERROR(IF(OR(AND(Application!$A$9=\"Yes\",IFERROR(MATCH(C347,Application!$K$11:$K$297,0)>0,\"\")),AND(Application!$A$9=\"No\",C347=Application!$A$13)),F347,\"\"),\"\")","v":""},"USD 232 - K Time Program W/O SPED","Early Childhood Program - General",null,null,null,null,null,null,null,null,null,null,null,null,null,null,null,null,null,"N/A",null,null,"N/A","N/A"]
[446,"$B$4",234,"Fort Scott","Bourbon",910,{"$f":"IFERROR(IF(OR(AND(Application!$A$9=\"Yes\",IFERROR(MATCH(C348,Application!$K$11:$K$297,0)>0,\"\")),AND(Application!$A$9=\"No\",C348=Application!$A$13)),F348,\"\"),\"\")","v":""},"USD 234 - K Time Program W/O SPED","Early Childhood Program - General",null,null,null,null,null,null,null,null,null,null,null,null,null,null,null,null,null,"N/A",null,null,"N/A","N/A"]
[412,"$B$4",234,"Fort Scott","Bourbon",911,{"$f":"IFERROR(IF(OR(AND(Application!$A$9=\"Yes\",IFERROR(MATCH(C349,Application!$K$11:$K$297,0)>0,\"\")),AND(Application!$A$9=\"No\",C349=Application!$A$13)),F349,\"\"),\"\")","v":""},"Fort Scott Preschool Center","Special Ed Program - Off Site Preschool",null,null,null,null,null,null,null,null,null,null,null,null,null,null,null,null,null,"N/A",null,null,"N/A","N/A"]
[331,"$B$4",232,"De Soto","Johnson",912,{"$f":"IFERROR(IF(OR(AND(Application!$A$9=\"Yes\",IFERROR(MATCH(C350,Application!$K$11:$K$297,0)>0,\"\")),AND(Application!$A$9=\"No\",C350=Application!$A$13)),F350,\"\"),\"\")","v":""},"Belmont Elementary School","Elementary",null,null,null,null,null,null,null,null,null,null,null,null,null,null,null,null,null,392,null,null,46,0.1173]
[368,"$B$4",233,"Olathe","Johnson",913,{"$f":"IFERROR(IF(OR(AND(Application!$A$9=\"Yes\",IFERROR(MATCH(C351,Application!$K$11:$K$297,0)>0,\"\")),AND(Application!$A$9=\"No\",C351=Application!$A$13)),F351,\"\"),\"\")","v":""},"Mission Trail Middle School","Middle School",null,null,null,null,null,null,null,null,null,null,null,null,null,null,null,null,null,666,null,null,75,0.11260000000000001]
[369,"$B$4",233,"Olathe","Johnson",914,{"$f":"IFERROR(IF(OR(AND(Application!$A$9=\"Yes\",IFERROR(MATCH(C352,Application!$K$11:$K$297,0)>0,\"\")),AND(Application!$A$9=\"No\",C352=Application!$A$13)),F352,\"\"),\"\")","v":""},"Instructional Resource Center","Other",null,null,null,null,null,null,null,null,null,null,null,null,null,null,null,null,null,"N/A",null,null,"N/A","N/A"]
[332,"$B$4",232,"De Soto","Johnson",916,{"$f":"IFERROR(IF(OR(AND(Application!$A$9=\"Yes\",IFERROR(MATCH(C353,Application!$K$11:$K$297,0)>0,\"\")),AND(Application!$A$9=\"No\",C353=Application!$A$13)),F353,\"\"),\"\")","v":""},"The Bridge","Special Ed Program - Public School Administered",null,null,null,null,null,null,null,null,null,null,null,null,null,null,null,null,null,"N/A",null,null,"N/A","N/A"]
[370,"$B$4",233,"Olathe","Johnson",922,{"$f":"IFERROR(IF(OR(AND(Application!$A$9=\"Yes\",IFERROR(MATCH(C354,Application!$K$11:$K$297,0)>0,\"\")),AND(Application!$A$9=\"No\",C354=Application!$A$13)),F354,\"\"),\"\")","v":""},"Claire Learning Center","High School",null,null,null,null,null,null,null,null,null,null,null,null,null,null,null,null,null,"N/A",null,null,"N/A","N/A"]
[371,"$B$4",233,"Olathe","Johnson",923,{"$f":"IFERROR(IF(OR(AND(Application!$A$9=\"Yes\",IFERROR(MATCH(C355,Application!$K$11:$K$297,0)>0,\"\")),AND(Application!$A$9=\"No\",C355=Application!$A$13)),F355,\"\"),\"\")","v":""},"USD233 Parents As Teachers","Early Childhood Program - Parents as Teachers",null,null,null,null,null,null,null,null,null,null,null,null,null,null,null,null,null,"N/A",null,null,"N/A","N/A"]
[372,"$B$4",233,"Olathe","Johnson",924,{"$f":"IFERROR(IF(OR(AND(Application!$A$9=\"Yes\",IFERROR(MATCH(C356,Application!$K$11:$K$297,0)>0,\"\")),AND(Application!$A$9=\"No\",C356=Application!$A$13)),F356,\"\"),\"\")","v":""},"Olathe Drivers Education","High School",null,null,null,null,null,null,null,null,null,null,null,null,null,null,null,null,null,"N/A",null,null,"N/A","N/A"]
[373,"$B$4",233,"Olathe","Johnson",925,{"$f":"IFERROR(IF(OR(AND(Application!$A$9=\"Yes\",IFERROR(MATCH(C357,Application!$K$11:$K$297,0)>0,\"\")),AND(Application!$A$9=\"No\",C357=Application!$A$13)),F357,\"\"),\"\")","v":""},"Olathe Summer School","High School",null,null,null,null,null,null,null,null,null,null,null,null,null,null,null,null,null,"N/A",null,null,"N/A","N/A"]
[311,"$B$4",231,"Gardner Edgerton","Johnson",927,{"$f":"IFERROR(IF(OR(AND(Application!$A$9=\"Yes\",IFERROR(MATCH(C358,Application!$K$11:$K$297,0)>0,\"\")),AND(Application!$A$9=\"No\",C358=Application!$A$13)),F358,\"\"),\"\")","v":""},"Grand Star Elementary","Elementary",null,null,null,null,null,null,null,null,null,null,null,null,null,null,null,null,null,350,null,null,162,0.46289999999999998]
[290,"$B$4",230,"Spring Hill","Johnson",929,{"$f":"IFERROR(IF(OR(AND(Application!$A$9=\"Yes\",IFERROR(MATCH(C359,Application!$K$11:$K$297,0)>0,\"\")),AND(Application!$A$9=\"No\",C359=Application!$A$13)),F359,\"\"),\"\")","v":""},"Wolf Creek Elementary School","Elementary",null,null,null,null,null,null,null,null,null,null,null,null,null,null,null,null,null,303,null,null,31,0.1023]
[291,"$B$4",230,"Spring Hill","Johnson",931,{"$f":"IFERROR(IF(OR(AND(Application!$A$9=\"Yes\",IFERROR(MATCH(C360,Application!$K$11:$K$297,0)>0,\"\")),AND(Application!$A$9=\"No\",C360=Application!$A$13)),F360,\"\"),\"\")","v":""},"Kansas Virtual Academy (KSVA)","Elementary",null,null,null,null,null,null,null,null,null,null,null,null,null,null,null,null,null,556,null,null,216,0.38850000000000001]
[374,"$B$4",233,"Olathe","Johnson",932,{"$f":"IFERROR(IF(OR(AND(Application!$A$9=\"Yes\",IFERROR(MATCH(C361,Application!$K$11:$K$297,0)>0,\"\")),AND(Application!$A$9=\"No\",C361=Application!$A$13)),F361,\"\"),\"\")","v":""},"Olathe Advanced Technical Center","Special Ed Program - Public School Administered",null,null,null,null,null,null,null,null,null,null,null,null,null,null,null,null,null,"N/A",null,null,"N/A","N/A"]
[265,"$B$4",229,"Blue Valley","Johnson",933,{"$f":"IFERROR(IF(OR(AND(Application!$A$9=\"Yes\",IFERROR(MATCH(C362,Application!$K$11:$K$297,0)>0,\"\")),AND(Application!$A$9=\"No\",C362=Application!$A$13)),F362,\"\"),\"\")","v":""},"Hilltop Learning Center","Early Childhood Program - Other",null,null,null,null,null,null,null,null,null,null,null,null,null,null,null,null,null,"N/A",null,null,"N/A","N/A"]
[375,"$B$4",233,"Olathe","Johnson",934,{"$f":"IFERROR(IF(OR(AND(Application!$A$9=\"Yes\",IFERROR(MATCH(C363,Application!$K$11:$K$297,0)>0,\"\")),AND(Application!$A$9=\"No\",C363=Application!$A$13)),F363,\"\"),\"\")","v":""},"Millbrooke Elementary","Elementary",null,null,null,null,null,null,null,null,null,null,null,null,null,null,null,null,null,432,null,null,73,0.16900000000000001]
[312,"$B$4",231,"Gardner Edgerton","Johnson",936,{"$f":"IFERROR(IF(OR(AND(Application!$A$9=\"Yes\",IFERROR(MATCH(C364,Application!$K$11:$K$297,0)>0,\"\")),AND(Application!$A$9=\"No\",C364=Application!$A$13)),F364,\"\"),\"\")","v":""},"Trail Ridge Middle School","Middle School",null,null,null,null,null,null,null,null,null,null,null,null,null,null,null,null,null,693,null,null,209,0.30159999999999998]
[266,"$B$4",229,"Blue Valley","Johnson",937,{"$f":"IFERROR(IF(OR(AND(Application!$A$9=\"Yes\",IFERROR(MATCH(C365,Application!$K$11:$K$297,0)>0,\"\")),AND(Application!$A$9=\"No\",C365=Application!$A$13)),F365,\"\"),\"\")","v":""},"Wolf Springs Elementary School","Elementary",null,null,null,null,null,null,null,null,null,null,null,null,null,null,null,null,null,604,null,null,35,5.79E-2]
[376,"$B$4",233,"Olathe","Johnson",939,{"$f":"IFERROR(IF(OR(AND(Application!$A$9=\"Yes\",IFERROR(MATCH(C366,Application!$K$11:$K$297,0)>0,\"\")),AND(Application!$A$9=\"No\",C366=Application!$A$13)),F366,\"\"),\"\")","v":""},"Olathe West High School","High School",null,null,null,null,null,null,null,null,null,null,null,null,null,null,null,null,null,1662,null,null,365,0.21959999999999999]
[413,"$B$4",235,"Uniontown","Bourbon",945,{"$f":"IFERROR(IF(OR(AND(Application!$A$9=\"Yes\",IFERROR(MATCH(C367,Application!$K$11:$K$297,0)>0,\"\")),AND(Application!$A$9=\"No\",C367=Application!$A$13)),F367,\"\"),\"\")","v":""},"USD 235 - Off Site Non Public Buildings","Special Ed Program - Off Site Community Based",null,null,null,null,null,null,null,null,null,null,null,null,null,null,null,null,null,"N/A",null,null,"N/A","N/A"]
[414,"$B$4",235,"Uniontown","Bourbon",946,{"$f":"IFERROR(IF(OR(AND(Application!$A$9=\"Yes\",IFERROR(MATCH(C368,Application!$K$11:$K$297,0)>0,\"\")),AND(Application!$A$9=\"No\",C368=Application!$A$13)),F368,\"\"),\"\")","v":""},"USD 235 - Home","Special Ed Program - Home",null,null,null,null,null,null,null,null,null,null,null,null,null,null,null,null,null,"N/A",null,null,"N/A","N/A"]
[415,"$B$4",235,"Uniontown","Bourbon",947,{"$f":"IFERROR(IF(OR(AND(Application!$A$9=\"Yes\",IFERROR(MATCH(C369,Application!$K$11:$K$297,0)>0,\"\")),AND(Application!$A$9=\"No\",C369=Application!$A$13)),F369,\"\"),\"\")","v":""},"USD 235 - K Time Program W/O SPED","Early Childhood Program - General",null,null,null,null,null,null,null,null,null,null,null,null,null,null,null,null,null,"N/A",null,null,"N/A","N/A"]
[313,"$B$4",231,"Gardner Edgerton","Johnson",949,{"$f":"IFERROR(IF(OR(AND(Application!$A$9=\"Yes\",IFERROR(MATCH(C370,Application!$K$11:$K$297,0)>0,\"\")),AND(Application!$A$9=\"No\",C370=Application!$A$13)),F370,\"\"),\"\")","v":""},"TRAILS","Special Ed Program - Public School Administered",null,null,null,null,null,null,null,null,null,null,null,null,null,null,null,null,null,"N/A",null,null,"N/A","N/A"]
[377,"$B$4",233,"Olathe","Johnson",950,{"$f":"IFERROR(IF(OR(AND(Application!$A$9=\"Yes\",IFERROR(MATCH(C371,Application!$K$11:$K$297,0)>0,\"\")),AND(Application!$A$9=\"No\",C371=Application!$A$13)),F371,\"\"),\"\")","v":""},"Summit Trail Middle School","Middle School",null,null,null,null,null,null,null,null,null,null,null,null,null,null,null,null,null,592,null,null,155,0.26179999999999998]
[292,"$B$4",230,"Spring Hill","Johnson",951,{"$f":"IFERROR(IF(OR(AND(Application!$A$9=\"Yes\",IFERROR(MATCH(C372,Application!$K$11:$K$297,0)>0,\"\")),AND(Application!$A$9=\"No\",C372=Application!$A$13)),F372,\"\"),\"\")","v":""},"Timber Sage Elementary School","Elementary",null,null,null,null,null,null,null,null,null,null,null,null,null,null,null,null,null,348,null,null,23,6.6100000000000006E-2]
[388,"$B$4",233,"Olathe","Johnson",953,{"$f":"IFERROR(IF(OR(AND(Application!$A$9=\"Yes\",IFERROR(MATCH(C373,Application!$K$11:$K$297,0)>0,\"\")),AND(Application!$A$9=\"No\",C373=Application!$A$13)),F373,\"\"),\"\")","v":""},"Canyon Creek Elementary","Elementary",null,null,null,null,null,null,null,null,null,null,null,null,null,null,null,null,null,426,null,null,16,3.7600000000000001E-2]
[293,"$B$4",230,"Spring Hill","Johnson",954,{"$f":"IFERROR(IF(OR(AND(Application!$A$9=\"Yes\",IFERROR(MATCH(C374,Application!$K$11:$K$297,0)>0,\"\")),AND(Application!$A$9=\"No\",C374=Application!$A$13)),F374,\"\"),\"\")","v":""},"Woodland Spring Middle School","Middle School",null,null,null,null,null,null,null,null,null,null,null,null,null,null,null,null,null,371,null,null,25,6.7400000000000002E-2]
[433,"$B$4",233,"Olathe","Johnson",955,{"$f":"IFERROR(IF(OR(AND(Application!$A$9=\"Yes\",IFERROR(MATCH(C375,Application!$K$11:$K$297,0)>0,\"\")),AND(Application!$A$9=\"No\",C375=Application!$A$13)),F375,\"\"),\"\")","v":""},"Hospital","Special Ed Program - Hospital",null,null,null,null,null,null,null,null,null,null,null,null,null,null,null,null,null,"N/A",null,null,"N/A","N/A"]
[333,"$B$4",232,"De Soto","Johnson",956,{"$f":"IFERROR(IF(OR(AND(Application!$A$9=\"Yes\",IFERROR(MATCH(C376,Application!$K$11:$K$297,0)>0,\"\")),AND(Application!$A$9=\"No\",C376=Application!$A$13)),F376,\"\"),\"\")","v":""},"Cedar Trails Exploration Center","Other",null,null,null,null,null,null,null,null,null,null,null,null,null,null,null,null,null,"N/A",null,null,"N/A","N/A"]
[294,"$B$4",230,"Spring Hill","Johnson",957,{"$f":"IFERROR(IF(OR(AND(Application!$A$9=\"Yes\",IFERROR(MATCH(C377,Application!$K$11:$K$297,0)>0,\"\")),AND(Application!$A$9=\"No\",C377=Application!$A$13)),F377,\"\"),\"\")","v":""},"Dayton Creek Elementary School","Elementary",null,null,null,null,null,null,null,null,null,null,null,null,null,null,null,null,null,240,null,null,30,0.125]
[334,"$B$4",232,"De Soto","Johnson",958,{"$f":"IFERROR(IF(OR(AND(Application!$A$9=\"Yes\",IFERROR(MATCH(C378,Application!$K$11:$K$297,0)>0,\"\")),AND(Application!$A$9=\"No\",C378=Application!$A$13)),F378,\"\"),\"\")","v":""},"Cedar Trails Early Childhood","Early Childhood Program - Other",null,null,null,null,null,null,null,null,null,null,null,null,null,null,null,null,null,"N/A",null,null,"N/A","N/A"]
[416,"$B$4",235,"Uniontown","Bourbon",964,{"$f":"IFERROR(IF(OR(AND(Application!$A$9=\"Yes\",IFERROR(MATCH(C379,Application!$K$11:$K$297,0)>0,\"\")),AND(Application!$A$9=\"No\",C379=Application!$A$13)),F379,\"\"),\"\")","v":""},"Uniontown High School","High School",null,null,null,null,null,null,null,null,null,null,null,null,null,null,null,null,null,194,null,null,104,0.53610000000000002]
[417,"$B$4",235,"Uniontown","Bourbon",966,{"$f":"IFERROR(IF(OR(AND(Application!$A$9=\"Yes\",IFERROR(MATCH(C380,Application!$K$11:$K$297,0)>0,\"\")),AND(Application!$A$9=\"No\",C380=Application!$A$13)),F380,\"\"),\"\")","v":""},"West Bourbon Elementary","Elementary",null,null,null,null,null,null,null,null,null,null,null,null,null,null,null,null,null,277,null,null,174,0.62819999999999998]
[418,"$B$4",237,"Smith Center","Smith",975,{"$f":"IFERROR(IF(OR(AND(Application!$A$9=\"Yes\",IFERROR(MATCH(C381,Application!$K$11:$K$297,0)>0,\"\")),AND(Application!$A$9=\"No\",C381=Application!$A$13)),F381,\"\"),\"\")","v":""},"USD 237 - Off Site Non Public Buildings","Special Ed Program - Off Site Community Based",null,null,null,null,null,null,null,null,null,null,null,null,null,null,null,null,null,"N/A",null,null,"N/A","N/A"]
[419,"$B$4",237,"Smith Center","Smith",976,{"$f":"IFERROR(IF(OR(AND(Application!$A$9=\"Yes\",IFERROR(MATCH(C382,Application!$K$11:$K$297,0)>0,\"\")),AND(Application!$A$9=\"No\",C382=Application!$A$13)),F382,\"\"),\"\")","v":""},"USD 237 - Hospital","Special Ed Program - Hospital",null,null,null,null,null,null,null,null,null,null,null,null,null,null,null,null,null,"N/A",null,null,"N/A","N/A"]
[428,"$B$4",237,"Smith Center","Smith",977,{"$f":"IFERROR(IF(OR(AND(Application!$A$9=\"Yes\",IFERROR(MATCH(C383,Application!$K$11:$K$297,0)>0,\"\")),AND(Application!$A$9=\"No\",C383=Application!$A$13)),F383,\"\"),\"\")","v":""},"USD 237 - Home","Special Ed Program - Home",null,null,null,null,null,null,null,null,null,null,null,null,null,null,null,null,null,"N/A",null,null,"N/A","N/A"]
[429,"$B$4",237,"Smith Center","Smith",978,{"$f":"IFERROR(IF(OR(AND(Application!$A$9=\"Yes\",IFERROR(MATCH(C384,Application!$K$11:$K$297,0)>0,\"\")),AND(Application!$A$9=\"No\",C384=Application!$A$13)),F384,\"\"),\"\")","v":""},"USD 237 - K Time Program W/O SPED","Early Childhood Program - General",null,null,null,null,null,null,null,null,null,null,null,null,null,null,null,null,null,"N/A",null,null,"N/A","N/A"]
[101,"$B$4",202,"Turner-Kansas City","Wyandotte",984,{"$f":"IFERROR(IF(OR(AND(Application!$A$9=\"Yes\",IFERROR(MATCH(C385,Application!$K$11:$K$297,0)>0,\"\")),AND(Application!$A$9=\"No\",C385=Application!$A$13)),F385,\"\"),\"\")","v":""},"Beyond the Bell","High School",null,null,null,null,null,null,null,null,null,null,null,null,null,null,null,null,null,15,null,null,9,0.6]
[335,"$B$4",232,"De Soto","Johnson",997,{"$f":"IFERROR(IF(OR(AND(Application!$A$9=\"Yes\",IFERROR(MATCH(C386,Application!$K$11:$K$297,0)>0,\"\")),AND(Application!$A$9=\"No\",C386=Application!$A$13)),F386,\"\"),\"\")","v":""},"Virtual Education Program","High School",null,null,null,null,null,null,null,null,null,null,null,null,null,null,null,null,null,15,null,null,4,0.26669999999999999]
[441,"$B$4",237,"Smith Center","Smith",1010,{"$f":"IFERROR(IF(OR(AND(Application!$A$9=\"Yes\",IFERROR(MATCH(C387,Application!$K$11:$K$297,0)>0,\"\")),AND(Application!$A$9=\"No\",C387=Application!$A$13)),F387,\"\"),\"\")","v":""},"Smith Center Elem","Elementary",null,null,null,null,null,null,null,null,null,null,null,null,null,null,null,null,null,258,null,null,95,0.36820000000000003]
[442,"$B$4",237,"Smith Center","Smith",1012,{"$f":"IFERROR(IF(OR(AND(Application!$A$9=\"Yes\",IFERROR(MATCH(C388,Application!$K$11:$K$297,0)>0,\"\")),AND(Application!$A$9=\"No\",C388=Application!$A$13)),F388,\"\"),\"\")","v":""},"Smith Center Jr Sr High","High School",null,null,null,null,null,null,null,null,null,null,null,null,null,null,null,null,null,194,null,null,82,0.42270000000000002]
[420,"$B$4",239,"North Ottawa County","Ottawa",1045,{"$f":"IFERROR(IF(OR(AND(Application!$A$9=\"Yes\",IFERROR(MATCH(C389,Application!$K$11:$K$297,0)>0,\"\")),AND(Application!$A$9=\"No\",C389=Application!$A$13)),F389,\"\"),\"\")","v":""},"USD 239 - Off Site Non Public Buildings","Special Ed Program - Off Site Community Based",null,null,null,null,null,null,null,null,null,null,null,null,null,null,null,null,null,"N/A",null,null,"N/A","N/A"]
[421,"$B$4",239,"North Ottawa County","Ottawa",1046,{"$f":"IFERROR(IF(OR(AND(Application!$A$9=\"Yes\",IFERROR(MATCH(C390,Application!$K$11:$K$297,0)>0,\"\")),AND(Application!$A$9=\"No\",C390=Application!$A$13)),F390,\"\"),\"\")","v":""},"USD 239 - Public Off-Site Preschools","Special Ed Program - Off Site Preschool",null,null,null,null,null,null,null,null,null,null,null,null,null,null,null,null,null,"N/A",null,null,"N/A","N/A"]
[422,"$B$4",239,"North Ottawa County","Ottawa",1047,{"$f":"IFERROR(IF(OR(AND(Application!$A$9=\"Yes\",IFERROR(MATCH(C391,Application!$K$11:$K$297,0)>0,\"\")),AND(Application!$A$9=\"No\",C391=Application!$A$13)),F391,\"\"),\"\")","v":""},"USD 239 - Home","Special Ed Program - Home",null,null,null,null,null,null,null,null,null,null,null,null,null,null,null,null,null,"N/A",null,null,"N/A","N/A"]
[423,"$B$4",239,"North Ottawa County","Ottawa",1048,{"$f":"IFERROR(IF(OR(AND(Application!$A$9=\"Yes\",IFERROR(MATCH(C392,Application!$K$11:$K$297,0)>0,\"\")),AND(Application!$A$9=\"No\",C392=Application!$A$13)),F392,\"\"),\"\")","v":""},"USD 239 - K Time Program W/O SPED","Early Childhood Program - General",null,null,null,null,null,null,null,null,null,null,null,null,null,null,null,null,null,"N/A",null,null,"N/A","N/A"]
[425,"$B$4",239,"North Ottawa County","Ottawa",1049,{"$f":"IFERROR(IF(OR(AND(Application!$A$9=\"Yes\",IFERROR(MATCH(C393,Application!$K$11:$K$297,0)>0,\"\")),AND(Application!$A$9=\"No\",C393=Application!$A$13)),F393,\"\"),\"\")","v":""},"Community Based Preschool","Special Ed Program - Community Based Preschool",null,null,null,null,null,null,null,null,null,null,null,null,null,null,null,null,null,"N/A",null,null,"N/A","N/A"]
[426,"$B$4",239,"North Ottawa County","Ottawa",1060,{"$f":"IFERROR(IF(OR(AND(Application!$A$9=\"Yes\",IFERROR(MATCH(C394,Application!$K$11:$K$297,0)>0,\"\")),AND(Application!$A$9=\"No\",C394=Application!$A$13)),F394,\"\"),\"\")","v":""},"Minneapolis Elementary","Elementary",null,null,null,null,null,null,null,null,null,null,null,null,null,null,null,null,null,327,null,null,144,0.44040000000000001]
[430,"$B$4",239,"North Ottawa County","Ottawa",1064,{"$f":"IFERROR(IF(OR(AND(Application!$A$9=\"Yes\",IFERROR(MATCH(C395,Application!$K$11:$K$297,0)>0,\"\")),AND(Application!$A$9=\"No\",C395=Application!$A$13)),F395,\"\"),\"\")","v":""},"Minneapolis Jr-Sr High School","High School",null,null,null,null,null,null,null,null,null,null,null,null,null,null,null,null,null,302,null,null,110,0.36420000000000002]
[431,"$B$4",240,"Twin Valley","Ottawa",1077,{"$f":"IFERROR(IF(OR(AND(Application!$A$9=\"Yes\",IFERROR(MATCH(C396,Application!$K$11:$K$297,0)>0,\"\")),AND(Application!$A$9=\"No\",C396=Application!$A$13)),F396,\"\"),\"\")","v":""},"USD 240 - Off Site Non Public Buildings","Special Ed Program - Off Site Community Based",null,null,null,null,null,null,null,null,null,null,null,null,null,null,null,null,null,"N/A",null,null,"N/A","N/A"]
[432,"$B$4",240,"Twin Valley","Ottawa",1078,{"$f":"IFERROR(IF(OR(AND(Application!$A$9=\"Yes\",IFERROR(MATCH(C397,Application!$K$11:$K$297,0)>0,\"\")),AND(Application!$A$9=\"No\",C397=Application!$A$13)),F397,\"\"),\"\")","v":""},"Bennington Elem","Elementary",null,null,null,null,null,null,null,null,null,null,null,null,null,null,null,null,null,235,null,null,84,0.3574]
[434,"$B$4",240,"Twin Valley","Ottawa",1079,{"$f":"IFERROR(IF(OR(AND(Application!$A$9=\"Yes\",IFERROR(MATCH(C398,Application!$K$11:$K$297,0)>0,\"\")),AND(Application!$A$9=\"No\",C398=Application!$A$13)),F398,\"\"),\"\")","v":""},"USD 240 - Home","Special Ed Program - Home",null,null,null,null,null,null,null,null,null,null,null,null,null,null,null,null,null,"N/A",null,null,"N/A","N/A"]
[435,"$B$4",240,"Twin Valley","Ottawa",1080,{"$f":"IFERROR(IF(OR(AND(Application!$A$9=\"Yes\",IFERROR(MATCH(C399,Application!$K$11:$K$297,0)>0,\"\")),AND(Application!$A$9=\"No\",C399=Application!$A$13)),F399,\"\"),\"\")","v":""},"Bennington Junior High/High School","High School",null,null,null,null,null,null,null,null,null,null,null,null,null,null,null,null,null,205,null,null,83,0.40489999999999998]
[436,"$B$4",240,"Twin Valley","Ottawa",1081,{"$f":"IFERROR(IF(OR(AND(Application!$A$9=\"Yes\",IFERROR(MATCH(C400,Application!$K$11:$K$297,0)>0,\"\")),AND(Application!$A$9=\"No\",C400=Application!$A$13)),F400,\"\"),\"\")","v":""},"USD 240 - K Time Program W/O SPED","Early Childhood Program - General",null,null,null,null,null,null,null,null,null,null,null,null,null,null,null,null,null,"N/A",null,null,"N/A","N/A"]
[437,"$B$4",240,"Twin Valley","Ottawa",1088,{"$f":"IFERROR(IF(OR(AND(Application!$A$9=\"Yes\",IFERROR(MATCH(C401,Application!$K$11:$K$297,0)>0,\"\")),AND(Application!$A$9=\"No\",C401=Application!$A$13)),F401,\"\"),\"\")","v":""},"Tescott Elem","Elementary",null,null,null,null,null,null,null,null,null,null,null,null,null,null,null,null,null,95,null,null,59,0.62109999999999999]
[438,"$B$4",240,"Twin Valley","Ottawa",1090,{"$f":"IFERROR(IF(OR(AND(Application!$A$9=\"Yes\",IFERROR(MATCH(C402,Application!$K$11:$K$297,0)>0,\"\")),AND(Application!$A$9=\"No\",C402=Application!$A$13)),F402,\"\"),\"\")","v":""},"Tescott Junior High/High School","High School",null,null,null,null,null,null,null,null,null,null,null,null,null,null,null,null,null,70,null,null,26,0.37140000000000001]
[439,"$B$4",241,"Wallace County Schools","Wallace",1101,{"$f":"IFERROR(IF(OR(AND(Application!$A$9=\"Yes\",IFERROR(MATCH(C403,Application!$K$11:$K$297,0)>0,\"\")),AND(Application!$A$9=\"No\",C403=Application!$A$13)),F403,\"\"),\"\")","v":""},"USD 241 - Off Site Non Public Buildings","Special Ed Program - Off Site Community Based",null,null,null,null,null,null,null,null,null,null,null,null,null,null,null,null,null,"N/A",null,null,"N/A","N/A"]
[440,"$B$4",241,"Wallace County Schools","Wallace",1102,{"$f":"IFERROR(IF(OR(AND(Application!$A$9=\"Yes\",IFERROR(MATCH(C404,Application!$K$11:$K$297,0)>0,\"\")),AND(Application!$A$9=\"No\",C404=Application!$A$13)),F404,\"\"),\"\")","v":""},"USD 241 - Home","Special Ed Program - Home",null,null,null,null,null,null,null,null,null,null,null,null,null,null,null,null,null,"N/A",null,null,"N/A","N/A"]
[443,"$B$4",241,"Wallace County Schools","Wallace",1103,{"$f":"IFERROR(IF(OR(AND(Application!$A$9=\"Yes\",IFERROR(MATCH(C405,Application!$K$11:$K$297,0)>0,\"\")),AND(Application!$A$9=\"No\",C405=Application!$A$13)),F405,\"\"),\"\")","v":""},"USD 241 - Community-Based Preschool","Special Ed Program - Community Based Preschool",null,null,null,null,null,null,null,null,null,null,null,null,null,null,null,null,null,"N/A",null,null,"N/A","N/A"]
[444,"$B$4",241,"Wallace County Schools","Wallace",1104,{"$f":"IFERROR(IF(OR(AND(Application!$A$9=\"Yes\",IFERROR(MATCH(C406,Application!$K$11:$K$297,0)>0,\"\")),AND(Application!$A$9=\"No\",C406=Application!$A$13)),F406,\"\"),\"\")","v":""},"Sharon Springs Elem","Elementary",null,null,null,null,null,null,null,null,null,null,null,null,null,null,null,null,null,128,null,null,40,0.3125]
[445,"$B$4",241,"Wallace County Schools","Wallace",1105,{"$f":"IFERROR(IF(OR(AND(Application!$A$9=\"Yes\",IFERROR(MATCH(C407,Application!$K$11:$K$297,0)>0,\"\")),AND(Application!$A$9=\"No\",C407=Application!$A$13)),F407,\"\"),\"\")","v":""},"USD 241 - K Time Program W/O SPED","Early Childhood Program - General",null,null,null,null,null,null,null,null,null,null,null,null,null,null,null,null,null,"N/A",null,null,"N/A","N/A"]
[447,"$B$4",241,"Wallace County Schools","Wallace",1106,{"$f":"IFERROR(IF(OR(AND(Application!$A$9=\"Yes\",IFERROR(MATCH(C408,Application!$K$11:$K$297,0)>0,\"\")),AND(Application!$A$9=\"No\",C408=Application!$A$13)),F408,\"\"),\"\")","v":""},"Wallace County High","High School",null,null,null,null,null,null,null,null,null,null,null,null,null,null,null,null,null,58,null,null,11,0.18970000000000001]
[454,"$B$4",233,"Olathe","Johnson",1115,{"$f":"IFERROR(IF(OR(AND(Application!$A$9=\"Yes\",IFERROR(MATCH(C409,Application!$K$11:$K$297,0)>0,\"\")),AND(Application!$A$9=\"No\",C409=Application!$A$13)),F409,\"\"),\"\")","v":""},"Olathe Transition Supports Program","Special Ed Program - Public School Administered",null,null,null,null,null,null,null,null,null,null,null,null,null,null,null,null,null,"N/A",null,null,"N/A","N/A"]
[172,"$B$4",214,"Ulysses","Grant",1116,{"$f":"IFERROR(IF(OR(AND(Application!$A$9=\"Yes\",IFERROR(MATCH(C410,Application!$K$11:$K$297,0)>0,\"\")),AND(Application!$A$9=\"No\",C410=Application!$A$13)),F410,\"\"),\"\")","v":""},"Ulysses Community Learning Center (UCLC)","High School",null,null,null,null,null,null,null,null,null,null,null,null,null,null,null,null,null,83,null,null,0,0]
[448,"$B$4",242,"Weskan","Wallace",1119,{"$f":"IFERROR(IF(OR(AND(Application!$A$9=\"Yes\",IFERROR(MATCH(C411,Application!$K$11:$K$297,0)>0,\"\")),AND(Application!$A$9=\"No\",C411=Application!$A$13)),F411,\"\"),\"\")","v":""},"USD 242 - Off Site Non Public Buildings","Special Ed Program - Off Site Community Based",null,null,null,null,null,null,null,null,null,null,null,null,null,null,null,null,null,"N/A",null,null,"N/A","N/A"]
[449,"$B$4",242,"Weskan","Wallace",1120,{"$f":"IFERROR(IF(OR(AND(Application!$A$9=\"Yes\",IFERROR(MATCH(C412,Application!$K$11:$K$297,0)>0,\"\")),AND(Application!$A$9=\"No\",C412=Application!$A$13)),F412,\"\"),\"\")","v":""},"Weskan Elem","Elementary",null,null,null,null,null,null,null,null,null,null,null,null,null,null,null,null,null,72,null,null,17,0.2361]
[450,"$B$4",242,"Weskan","Wallace",1122,{"$f":"IFERROR(IF(OR(AND(Application!$A$9=\"Yes\",IFERROR(MATCH(C413,Application!$K$11:$K$297,0)>0,\"\")),AND(Application!$A$9=\"No\",C413=Application!$A$13)),F413,\"\"),\"\")","v":""},"Weskan High","High School",null,null,null,null,null,null,null,null,null,null,null,null,null,null,null,null,null,34,null,null,10,0.29409999999999997]
[451,"$B$4",242,"Weskan","Wallace",1123,{"$f":"IFERROR(IF(OR(AND(Application!$A$9=\"Yes\",IFERROR(MATCH(C414,Application!$K$11:$K$297,0)>0,\"\")),AND(Application!$A$9=\"No\",C414=Application!$A$13)),F414,\"\"),\"\")","v":""},"USD 242 - Home","Special Ed Program - Home",null,null,null,null,null,null,null,null,null,null,null,null,null,null,null,null,null,"N/A",null,null,"N/A","N/A"]
[452,"$B$4",242,"Weskan","Wallace",1124,{"$f":"IFERROR(IF(OR(AND(Application!$A$9=\"Yes\",IFERROR(MATCH(C415,Application!$K$11:$K$297,0)>0,\"\")),AND(Application!$A$9=\"No\",C415=Application!$A$13)),F415,\"\"),\"\")","v":""},"USD 242 - Community-Based Preschool","Special Ed Program - Community Based Preschool",null,null,null,null,null,null,null,null,null,null,null,null,null,null,null,null,null,"N/A",null,null,"N/A","N/A"]
[453,"$B$4",242,"Weskan","Wallace",1125,{"$f":"IFERROR(IF(OR(AND(Application!$A$9=\"Yes\",IFERROR(MATCH(C416,Application!$K$11:$K$297,0)>0,\"\")),AND(Application!$A$9=\"No\",C416=Application!$A$13)),F416,\"\"),\"\")","v":""},"USD 242 - K Time Program W/O SPED","Early Childhood Program - General",null,null,null,null,null,null,null,null,null,null,null,null,null,null,null,null,null,"N/A",null,null,"N/A","N/A"]
[40,"$B$4",112,"Central Plains","Ellsworth",1129,{"$f":"IFERROR(IF(OR(AND(Application!$A$9=\"Yes\",IFERROR(MATCH(C417,Application!$K$11:$K$297,0)>0,\"\")),AND(Application!$A$9=\"No\",C417=Application!$A$13)),F417,\"\"),\"\")","v":""},"Central Plains Adult Diploma Program","High School",null,null,null,null,null,null,null,null,null,null,null,null,null,null,null,null,null,1216,null,null,0,0]
[455,"$B$4",243,"Lebo-Waverly","Coffey",1132,{"$f":"IFERROR(IF(OR(AND(Application!$A$9=\"Yes\",IFERROR(MATCH(C418,Application!$K$11:$K$297,0)>0,\"\")),AND(Application!$A$9=\"No\",C418=Application!$A$13)),F418,\"\"),\"\")","v":""},"Waverly Dist Coffey Co","Central Office",null,null,null,null,null,null,null,null,null,null,null,null,null,null,null,null,null,"N/A",null,null,"N/A","N/A"]
[456,"$B$4",243,"Lebo-Waverly","Coffey",1133,{"$f":"IFERROR(IF(OR(AND(Application!$A$9=\"Yes\",IFERROR(MATCH(C419,Application!$K$11:$K$297,0)>0,\"\")),AND(Application!$A$9=\"No\",C419=Application!$A$13)),F419,\"\"),\"\")","v":""},"USD 243 - Off Site Non Public Buildings","Special Ed Program - Off Site Community Based",null,null,null,null,null,null,null,null,null,null,null,null,null,null,null,null,null,"N/A",null,null,"N/A","N/A"]
[457,"$B$4",243,"Lebo-Waverly","Coffey",1134,{"$f":"IFERROR(IF(OR(AND(Application!$A$9=\"Yes\",IFERROR(MATCH(C420,Application!$K$11:$K$297,0)>0,\"\")),AND(Application!$A$9=\"No\",C420=Application!$A$13)),F420,\"\"),\"\")","v":""},"Lebo Elem","Elementary",null,null,null,null,null,null,null,null,null,null,null,null,null,null,null,null,null,124,null,null,33,0.2661]
[458,"$B$4",243,"Lebo-Waverly","Coffey",1136,{"$f":"IFERROR(IF(OR(AND(Application!$A$9=\"Yes\",IFERROR(MATCH(C421,Application!$K$11:$K$297,0)>0,\"\")),AND(Application!$A$9=\"No\",C421=Application!$A$13)),F421,\"\"),\"\")","v":""},"Lebo High","High School",null,null,null,null,null,null,null,null,null,null,null,null,null,null,null,null,null,122,null,null,35,0.28689999999999999]
[459,"$B$4",243,"Lebo-Waverly","Coffey",1137,{"$f":"IFERROR(IF(OR(AND(Application!$A$9=\"Yes\",IFERROR(MATCH(C422,Application!$K$11:$K$297,0)>0,\"\")),AND(Application!$A$9=\"No\",C422=Application!$A$13)),F422,\"\"),\"\")","v":""},"USD 243 - Public Off-Site Preschools","Special Ed Program - Off Site Preschool",null,null,null,null,null,null,null,null,null,null,null,null,null,null,null,null,null,"N/A",null,null,"N/A","N/A"]
[460,"$B$4",243,"Lebo-Waverly","Coffey",1138,{"$f":"IFERROR(IF(OR(AND(Application!$A$9=\"Yes\",IFERROR(MATCH(C423,Application!$K$11:$K$297,0)>0,\"\")),AND(Application!$A$9=\"No\",C423=Application!$A$13)),F423,\"\"),\"\")","v":""},"Waverly Elem","Elementary",null,null,null,null,null,null,null,null,null,null,null,null,null,null,null,null,null,123,null,null,50,0.40649999999999997]
[461,"$B$4",243,"Lebo-Waverly","Coffey",1139,{"$f":"IFERROR(IF(OR(AND(Application!$A$9=\"Yes\",IFERROR(MATCH(C424,Application!$K$11:$K$297,0)>0,\"\")),AND(Application!$A$9=\"No\",C424=Application!$A$13)),F424,\"\"),\"\")","v":""},"USD 243 - Home","Special Ed Program - Home",null,null,null,null,null,null,null,null,null,null,null,null,null,null,null,null,null,"N/A",null,null,"N/A","N/A"]
[462,"$B$4",243,"Lebo-Waverly","Coffey",1140,{"$f":"IFERROR(IF(OR(AND(Application!$A$9=\"Yes\",IFERROR(MATCH(C425,Application!$K$11:$K$297,0)>0,\"\")),AND(Application!$A$9=\"No\",C425=Application!$A$13)),F425,\"\"),\"\")","v":""},"Waverly High","High School",null,null,null,null,null,null,null,null,null,null,null,null,null,null,null,null,null,94,null,null,36,0.38300000000000001]
[463,"$B$4",243,"Lebo-Waverly","Coffey",1142,{"$f":"IFERROR(IF(OR(AND(Application!$A$9=\"Yes\",IFERROR(MATCH(C426,Application!$K$11:$K$297,0)>0,\"\")),AND(Application!$A$9=\"No\",C426=Application!$A$13)),F426,\"\"),\"\")","v":""},"USD 243 - Community-Based Preschool","Special Ed Program - Community Based Preschool",null,null,null,null,null,null,null,null,null,null,null,null,null,null,null,null,null,"N/A",null,null,"N/A","N/A"]
[464,"$B$4",243,"Lebo-Waverly","Coffey",1143,{"$f":"IFERROR(IF(OR(AND(Application!$A$9=\"Yes\",IFERROR(MATCH(C427,Application!$K$11:$K$297,0)>0,\"\")),AND(Application!$A$9=\"No\",C427=Application!$A$13)),F427,\"\"),\"\")","v":""},"USD 243 - K Time Program W/O SPED","Early Childhood Program - General",null,null,null,null,null,null,null,null,null,null,null,null,null,null,null,null,null,"N/A",null,null,"N/A","N/A"]
[465,"$B$4",244,"Burlington","Coffey",1151,{"$f":"IFERROR(IF(OR(AND(Application!$A$9=\"Yes\",IFERROR(MATCH(C428,Application!$K$11:$K$297,0)>0,\"\")),AND(Application!$A$9=\"No\",C428=Application!$A$13)),F428,\"\"),\"\")","v":""},"USD 244 - Off Site Non Public Buildings","Special Ed Program - Off Site Community Based",null,null,null,null,null,null,null,null,null,null,null,null,null,null,null,null,null,"N/A",null,null,"N/A","N/A"]
[466,"$B$4",244,"Burlington","Coffey",1154,{"$f":"IFERROR(IF(OR(AND(Application!$A$9=\"Yes\",IFERROR(MATCH(C429,Application!$K$11:$K$297,0)>0,\"\")),AND(Application!$A$9=\"No\",C429=Application!$A$13)),F429,\"\"),\"\")","v":""},"Burlington High","High School",null,null,null,null,null,null,null,null,null,null,null,null,null,null,null,null,null,262,null,null,81,0.30919999999999997]
[467,"$B$4",244,"Burlington","Coffey",1155,{"$f":"IFERROR(IF(OR(AND(Application!$A$9=\"Yes\",IFERROR(MATCH(C430,Application!$K$11:$K$297,0)>0,\"\")),AND(Application!$A$9=\"No\",C430=Application!$A$13)),F430,\"\"),\"\")","v":""},"USD 244 - Public Off-Site Preschools","Special Ed Program - Off Site Preschool",null,null,null,null,null,null,null,null,null,null,null,null,null,null,null,null,null,"N/A",null,null,"N/A","N/A"]
[468,"$B$4",244,"Burlington","Coffey",1156,{"$f":"IFERROR(IF(OR(AND(Application!$A$9=\"Yes\",IFERROR(MATCH(C431,Application!$K$11:$K$297,0)>0,\"\")),AND(Application!$A$9=\"No\",C431=Application!$A$13)),F431,\"\"),\"\")","v":""},"USD 244 - Home","Special Ed Program - Home",null,null,null,null,null,null,null,null,null,null,null,null,null,null,null,null,null,"N/A",null,null,"N/A","N/A"]
[469,"$B$4",244,"Burlington","Coffey",1159,{"$f":"IFERROR(IF(OR(AND(Application!$A$9=\"Yes\",IFERROR(MATCH(C432,Application!$K$11:$K$297,0)>0,\"\")),AND(Application!$A$9=\"No\",C432=Application!$A$13)),F432,\"\"),\"\")","v":""},"USD 244 - Community-Based Preschool","Special Ed Program - Community Based Preschool",null,null,null,null,null,null,null,null,null,null,null,null,null,null,null,null,null,"N/A",null,null,"N/A","N/A"]
[470,"$B$4",244,"Burlington","Coffey",1161,{"$f":"IFERROR(IF(OR(AND(Application!$A$9=\"Yes\",IFERROR(MATCH(C433,Application!$K$11:$K$297,0)>0,\"\")),AND(Application!$A$9=\"No\",C433=Application!$A$13)),F433,\"\"),\"\")","v":""},"USD 244 - K Time Program W/O SPED","Early Childhood Program - General",null,null,null,null,null,null,null,null,null,null,null,null,null,null,null,null,null,"N/A",null,null,"N/A","N/A"]
[471,"$B$4",244,"Burlington","Coffey",1163,{"$f":"IFERROR(IF(OR(AND(Application!$A$9=\"Yes\",IFERROR(MATCH(C434,Application!$K$11:$K$297,0)>0,\"\")),AND(Application!$A$9=\"No\",C434=Application!$A$13)),F434,\"\"),\"\")","v":""},"Burlington Elementary School","Elementary",null,null,null,null,null,null,null,null,null,null,null,null,null,null,null,null,null,314,null,null,122,0.38850000000000001]
[472,"$B$4",244,"Burlington","Coffey",1165,{"$f":"IFERROR(IF(OR(AND(Application!$A$9=\"Yes\",IFERROR(MATCH(C435,Application!$K$11:$K$297,0)>0,\"\")),AND(Application!$A$9=\"No\",C435=Application!$A$13)),F435,\"\"),\"\")","v":""},"Burlington Middle School 5 - 8","Middle School",null,null,null,null,null,null,null,null,null,null,null,null,null,null,null,null,null,247,null,null,98,0.39679999999999999]
[473,"$B$4",244,"Burlington","Coffey",1166,{"$f":"IFERROR(IF(OR(AND(Application!$A$9=\"Yes\",IFERROR(MATCH(C436,Application!$K$11:$K$297,0)>0,\"\")),AND(Application!$A$9=\"No\",C436=Application!$A$13)),F436,\"\"),\"\")","v":""},"Bridges 18-21 Program","Special Ed Program - Public School Administered",null,null,null,null,null,null,null,null,null,null,null,null,null,null,null,null,null,"N/A",null,null,"N/A","N/A"]
[474,"$B$4",245,"LeRoy-Gridley","Coffey",1171,{"$f":"IFERROR(IF(OR(AND(Application!$A$9=\"Yes\",IFERROR(MATCH(C437,Application!$K$11:$K$297,0)>0,\"\")),AND(Application!$A$9=\"No\",C437=Application!$A$13)),F437,\"\"),\"\")","v":""},"USD 245 - Off Site Non Public Buildings","Special Ed Program - Off Site Community Based",null,null,null,null,null,null,null,null,null,null,null,null,null,null,null,null,null,"N/A",null,null,"N/A","N/A"]
[475,"$B$4",245,"LeRoy-Gridley","Coffey",1173,{"$f":"IFERROR(IF(OR(AND(Application!$A$9=\"Yes\",IFERROR(MATCH(C438,Application!$K$11:$K$297,0)>0,\"\")),AND(Application!$A$9=\"No\",C438=Application!$A$13)),F438,\"\"),\"\")","v":""},"USD 245 - Public Off-Site Preschools","Special Ed Program - Off Site Preschool",null,null,null,null,null,null,null,null,null,null,null,null,null,null,null,null,null,"N/A",null,null,"N/A","N/A"]
[476,"$B$4",245,"LeRoy-Gridley","Coffey",1175,{"$f":"IFERROR(IF(OR(AND(Application!$A$9=\"Yes\",IFERROR(MATCH(C439,Application!$K$11:$K$297,0)>0,\"\")),AND(Application!$A$9=\"No\",C439=Application!$A$13)),F439,\"\"),\"\")","v":""},"USD 245 - Home","Special Ed Program - Home",null,null,null,null,null,null,null,null,null,null,null,null,null,null,null,null,null,"N/A",null,null,"N/A","N/A"]
[477,"$B$4",245,"LeRoy-Gridley","Coffey",1176,{"$f":"IFERROR(IF(OR(AND(Application!$A$9=\"Yes\",IFERROR(MATCH(C440,Application!$K$11:$K$297,0)>0,\"\")),AND(Application!$A$9=\"No\",C440=Application!$A$13)),F440,\"\"),\"\")","v":""},"Southern Coffey County High School","High School",null,null,null,null,null,null,null,null,null,null,null,null,null,null,null,null,null,47,null,null,17,0.36170000000000002]
[478,"$B$4",245,"LeRoy-Gridley","Coffey",1178,{"$f":"IFERROR(IF(OR(AND(Application!$A$9=\"Yes\",IFERROR(MATCH(C441,Application!$K$11:$K$297,0)>0,\"\")),AND(Application!$A$9=\"No\",C441=Application!$A$13)),F441,\"\"),\"\")","v":""},"Southern Coffey County Elementary","Elementary",null,null,null,null,null,null,null,null,null,null,null,null,null,null,null,null,null,83,null,null,49,0.59040000000000004]
[479,"$B$4",245,"LeRoy-Gridley","Coffey",1179,{"$f":"IFERROR(IF(OR(AND(Application!$A$9=\"Yes\",IFERROR(MATCH(C442,Application!$K$11:$K$297,0)>0,\"\")),AND(Application!$A$9=\"No\",C442=Application!$A$13)),F442,\"\"),\"\")","v":""},"USD 245 - Community-Based Preschool","Special Ed Program - Community Based Preschool",null,null,null,null,null,null,null,null,null,null,null,null,null,null,null,null,null,"N/A",null,null,"N/A","N/A"]
[480,"$B$4",245,"LeRoy-Gridley","Coffey",1181,{"$f":"IFERROR(IF(OR(AND(Application!$A$9=\"Yes\",IFERROR(MATCH(C443,Application!$K$11:$K$297,0)>0,\"\")),AND(Application!$A$9=\"No\",C443=Application!$A$13)),F443,\"\"),\"\")","v":""},"USD 245 - K Time Program W/O SPED","Early Childhood Program - General",null,null,null,null,null,null,null,null,null,null,null,null,null,null,null,null,null,"N/A",null,null,"N/A","N/A"]
[481,"$B$4",245,"LeRoy-Gridley","Coffey",1182,{"$f":"IFERROR(IF(OR(AND(Application!$A$9=\"Yes\",IFERROR(MATCH(C444,Application!$K$11:$K$297,0)>0,\"\")),AND(Application!$A$9=\"No\",C444=Application!$A$13)),F444,\"\"),\"\")","v":""},"Southern Coffey County Middle School","Junior High School",null,null,null,null,null,null,null,null,null,null,null,null,null,null,null,null,null,40,null,null,26,0.65]
[482,"$B$4",246,"Northeast","Crawford",1193,{"$f":"IFERROR(IF(OR(AND(Application!$A$9=\"Yes\",IFERROR(MATCH(C445,Application!$K$11:$K$297,0)>0,\"\")),AND(Application!$A$9=\"No\",C445=Application!$A$13)),F445,\"\"),\"\")","v":""},"USD 246 - Off Site Non Public Buildings","Special Ed Program - Off Site Community Based",null,null,null,null,null,null,null,null,null,null,null,null,null,null,null,null,null,"N/A",null,null,"N/A","N/A"]
[483,"$B$4",246,"Northeast","Crawford",1194,{"$f":"IFERROR(IF(OR(AND(Application!$A$9=\"Yes\",IFERROR(MATCH(C446,Application!$K$11:$K$297,0)>0,\"\")),AND(Application!$A$9=\"No\",C446=Application!$A$13)),F446,\"\"),\"\")","v":""},"Northeast Elem","Elementary",null,null,null,null,null,null,null,null,null,null,null,null,null,null,null,null,null,329,null,null,237,0.72040000000000004]
[484,"$B$4",246,"Northeast","Crawford",1195,{"$f":"IFERROR(IF(OR(AND(Application!$A$9=\"Yes\",IFERROR(MATCH(C447,Application!$K$11:$K$297,0)>0,\"\")),AND(Application!$A$9=\"No\",C447=Application!$A$13)),F447,\"\"),\"\")","v":""},"USD 246 - Home","Special Ed Program - Home",null,null,null,null,null,null,null,null,null,null,null,null,null,null,null,null,null,"N/A",null,null,"N/A","N/A"]
[485,"$B$4",246,"Northeast","Crawford",1196,{"$f":"IFERROR(IF(OR(AND(Application!$A$9=\"Yes\",IFERROR(MATCH(C448,Application!$K$11:$K$297,0)>0,\"\")),AND(Application!$A$9=\"No\",C448=Application!$A$13)),F448,\"\"),\"\")","v":""},"USD 246 - K Time Program W/O SPED","Early Childhood Program - General",null,null,null,null,null,null,null,null,null,null,null,null,null,null,null,null,null,"N/A",null,null,"N/A","N/A"]
[486,"$B$4",246,"Northeast","Crawford",1197,{"$f":"IFERROR(IF(OR(AND(Application!$A$9=\"Yes\",IFERROR(MATCH(C449,Application!$K$11:$K$297,0)>0,\"\")),AND(Application!$A$9=\"No\",C449=Application!$A$13)),F449,\"\"),\"\")","v":""},"Northeast Virtual School","High School",null,null,null,null,null,null,null,null,null,null,null,null,null,null,null,null,null,5,null,null,0,0]
[487,"$B$4",246,"Northeast","Crawford",1198,{"$f":"IFERROR(IF(OR(AND(Application!$A$9=\"Yes\",IFERROR(MATCH(C450,Application!$K$11:$K$297,0)>0,\"\")),AND(Application!$A$9=\"No\",C450=Application!$A$13)),F450,\"\"),\"\")","v":""},"North East High","High School",null,null,null,null,null,null,null,null,null,null,null,null,null,null,null,null,null,138,null,null,81,0.58699999999999997]
[488,"$B$4",247,"Cherokee","Crawford",1219,{"$f":"IFERROR(IF(OR(AND(Application!$A$9=\"Yes\",IFERROR(MATCH(C451,Application!$K$11:$K$297,0)>0,\"\")),AND(Application!$A$9=\"No\",C451=Application!$A$13)),F451,\"\"),\"\")","v":""},"USD 247 - Off Site Non Public Buildings","Special Ed Program - Off Site Community Based",null,null,null,null,null,null,null,null,null,null,null,null,null,null,null,null,null,"N/A",null,null,"N/A","N/A"]
[489,"$B$4",247,"Cherokee","Crawford",1220,{"$f":"IFERROR(IF(OR(AND(Application!$A$9=\"Yes\",IFERROR(MATCH(C452,Application!$K$11:$K$297,0)>0,\"\")),AND(Application!$A$9=\"No\",C452=Application!$A$13)),F452,\"\"),\"\")","v":""},"Southeast Middle School","Middle School",null,null,null,null,null,null,null,null,null,null,null,null,null,null,null,null,null,147,null,null,97,0.65990000000000004]
[500,"$B$4",247,"Cherokee","Crawford",1221,{"$f":"IFERROR(IF(OR(AND(Application!$A$9=\"Yes\",IFERROR(MATCH(C453,Application!$K$11:$K$297,0)>0,\"\")),AND(Application!$A$9=\"No\",C453=Application!$A$13)),F453,\"\"),\"\")","v":""},"USD 247 - Home","Special Ed Program - Home",null,null,null,null,null,null,null,null,null,null,null,null,null,null,null,null,null,"N/A",null,null,"N/A","N/A"]
[501,"$B$4",247,"Cherokee","Crawford",1222,{"$f":"IFERROR(IF(OR(AND(Application!$A$9=\"Yes\",IFERROR(MATCH(C454,Application!$K$11:$K$297,0)>0,\"\")),AND(Application!$A$9=\"No\",C454=Application!$A$13)),F454,\"\"),\"\")","v":""},"USD 247 - K Time Program W/O SPED","Early Childhood Program - General",null,null,null,null,null,null,null,null,null,null,null,null,null,null,null,null,null,"N/A",null,null,"N/A","N/A"]
[502,"$B$4",247,"Cherokee","Crawford",1230,{"$f":"IFERROR(IF(OR(AND(Application!$A$9=\"Yes\",IFERROR(MATCH(C455,Application!$K$11:$K$297,0)>0,\"\")),AND(Application!$A$9=\"No\",C455=Application!$A$13)),F455,\"\"),\"\")","v":""},"Southeast High","High School",null,null,null,null,null,null,null,null,null,null,null,null,null,null,null,null,null,153,null,null,87,0.56859999999999999]
[503,"$B$4",247,"Cherokee","Crawford",1232,{"$f":"IFERROR(IF(OR(AND(Application!$A$9=\"Yes\",IFERROR(MATCH(C456,Application!$K$11:$K$297,0)>0,\"\")),AND(Application!$A$9=\"No\",C456=Application!$A$13)),F456,\"\"),\"\")","v":""},"Southeast Elementary School","Elementary",null,null,null,null,null,null,null,null,null,null,null,null,null,null,null,null,null,157,null,null,107,0.68149999999999999]
[504,"$B$4",248,"Girard","Crawford",1245,{"$f":"IFERROR(IF(OR(AND(Application!$A$9=\"Yes\",IFERROR(MATCH(C457,Application!$K$11:$K$297,0)>0,\"\")),AND(Application!$A$9=\"No\",C457=Application!$A$13)),F457,\"\"),\"\")","v":""},"USD 248 - Off Site Non Public Buildings","Special Ed Program - Off Site Community Based",null,null,null,null,null,null,null,null,null,null,null,null,null,null,null,null,null,"N/A",null,null,"N/A","N/A"]
[505,"$B$4",248,"Girard","Crawford",1246,{"$f":"IFERROR(IF(OR(AND(Application!$A$9=\"Yes\",IFERROR(MATCH(C458,Application!$K$11:$K$297,0)>0,\"\")),AND(Application!$A$9=\"No\",C458=Application!$A$13)),F458,\"\"),\"\")","v":""},"USD 248 - Public Off-Site Preschools","Special Ed Program - Off Site Preschool",null,null,null,null,null,null,null,null,null,null,null,null,null,null,null,null,null,"N/A",null,null,"N/A","N/A"]
[506,"$B$4",248,"Girard","Crawford",1247,{"$f":"IFERROR(IF(OR(AND(Application!$A$9=\"Yes\",IFERROR(MATCH(C459,Application!$K$11:$K$297,0)>0,\"\")),AND(Application!$A$9=\"No\",C459=Application!$A$13)),F459,\"\"),\"\")","v":""},"USD 248 - Home","Special Ed Program - Home",null,null,null,null,null,null,null,null,null,null,null,null,null,null,null,null,null,"N/A",null,null,"N/A","N/A"]
[507,"$B$4",248,"Girard","Crawford",1248,{"$f":"IFERROR(IF(OR(AND(Application!$A$9=\"Yes\",IFERROR(MATCH(C460,Application!$K$11:$K$297,0)>0,\"\")),AND(Application!$A$9=\"No\",C460=Application!$A$13)),F460,\"\"),\"\")","v":""},"USD 248 - Community-Based Preschool","Special Ed Program - Community Based Preschool",null,null,null,null,null,null,null,null,null,null,null,null,null,null,null,null,null,"N/A",null,null,"N/A","N/A"]
[508,"$B$4",248,"Girard","Crawford",1249,{"$f":"IFERROR(IF(OR(AND(Application!$A$9=\"Yes\",IFERROR(MATCH(C461,Application!$K$11:$K$297,0)>0,\"\")),AND(Application!$A$9=\"No\",C461=Application!$A$13)),F461,\"\"),\"\")","v":""},"USD 248 - K Time Program W/O SPED","Early Childhood Program - General",null,null,null,null,null,null,null,null,null,null,null,null,null,null,null,null,null,"N/A",null,null,"N/A","N/A"]
[511,"$B$4",248,"Girard","Crawford",1258,{"$f":"IFERROR(IF(OR(AND(Application!$A$9=\"Yes\",IFERROR(MATCH(C462,Application!$K$11:$K$297,0)>0,\"\")),AND(Application!$A$9=\"No\",C462=Application!$A$13)),F462,\"\"),\"\")","v":""},"R V Haderlein Elem","Elementary",null,null,null,null,null,null,null,null,null,null,null,null,null,null,null,null,null,497,null,null,235,0.4728]
[512,"$B$4",248,"Girard","Crawford",1260,{"$f":"IFERROR(IF(OR(AND(Application!$A$9=\"Yes\",IFERROR(MATCH(C463,Application!$K$11:$K$297,0)>0,\"\")),AND(Application!$A$9=\"No\",C463=Application!$A$13)),F463,\"\"),\"\")","v":""},"Girard Middle","Middle School",null,null,null,null,null,null,null,null,null,null,null,null,null,null,null,null,null,230,null,null,99,0.4304]
[519,"$B$4",248,"Girard","Crawford",1262,{"$f":"IFERROR(IF(OR(AND(Application!$A$9=\"Yes\",IFERROR(MATCH(C464,Application!$K$11:$K$297,0)>0,\"\")),AND(Application!$A$9=\"No\",C464=Application!$A$13)),F464,\"\"),\"\")","v":""},"Girard High","High School",null,null,null,null,null,null,null,null,null,null,null,null,null,null,null,null,null,297,null,null,119,0.4007]
[520,"$B$4",248,"Girard","Crawford",1263,{"$f":"IFERROR(IF(OR(AND(Application!$A$9=\"Yes\",IFERROR(MATCH(C465,Application!$K$11:$K$297,0)>0,\"\")),AND(Application!$A$9=\"No\",C465=Application!$A$13)),F465,\"\"),\"\")","v":""},"Girard Juvenile Detention Center","Juvenile Detention Center",null,null,null,null,null,null,null,null,null,null,null,null,null,null,null,null,null,"N/A",null,null,"N/A","N/A"]
[521,"$B$4",249,"Frontenac Public Schools","Crawford",1285,{"$f":"IFERROR(IF(OR(AND(Application!$A$9=\"Yes\",IFERROR(MATCH(C466,Application!$K$11:$K$297,0)>0,\"\")),AND(Application!$A$9=\"No\",C466=Application!$A$13)),F466,\"\"),\"\")","v":""},"USD 249 - Off Site Non Public Buildings","Special Ed Program - Off Site Community Based",null,null,null,null,null,null,null,null,null,null,null,null,null,null,null,null,null,"N/A",null,null,"N/A","N/A"]
[522,"$B$4",249,"Frontenac Public Schools","Crawford",1287,{"$f":"IFERROR(IF(OR(AND(Application!$A$9=\"Yes\",IFERROR(MATCH(C467,Application!$K$11:$K$297,0)>0,\"\")),AND(Application!$A$9=\"No\",C467=Application!$A$13)),F467,\"\"),\"\")","v":""},"Frank Layden Elem","Elementary",null,null,null,null,null,null,null,null,null,null,null,null,null,null,null,null,null,426,null,null,160,0.37559999999999999]
[523,"$B$4",249,"Frontenac Public Schools","Crawford",1289,{"$f":"IFERROR(IF(OR(AND(Application!$A$9=\"Yes\",IFERROR(MATCH(C468,Application!$K$11:$K$297,0)>0,\"\")),AND(Application!$A$9=\"No\",C468=Application!$A$13)),F468,\"\"),\"\")","v":""},"USD 249 - Public Off-Site Preschools","Special Ed Program - Off Site Preschool",null,null,null,null,null,null,null,null,null,null,null,null,null,null,null,null,null,"N/A",null,null,"N/A","N/A"]
[524,"$B$4",249,"Frontenac Public Schools","Crawford",1291,{"$f":"IFERROR(IF(OR(AND(Application!$A$9=\"Yes\",IFERROR(MATCH(C469,Application!$K$11:$K$297,0)>0,\"\")),AND(Application!$A$9=\"No\",C469=Application!$A$13)),F469,\"\"),\"\")","v":""},"Frontenac Jr. High","Junior High School",null,null,null,null,null,null,null,null,null,null,null,null,null,null,null,null,null,219,null,null,60,0.27400000000000002]
[525,"$B$4",249,"Frontenac Public Schools","Crawford",1293,{"$f":"IFERROR(IF(OR(AND(Application!$A$9=\"Yes\",IFERROR(MATCH(C470,Application!$K$11:$K$297,0)>0,\"\")),AND(Application!$A$9=\"No\",C470=Application!$A$13)),F470,\"\"),\"\")","v":""},"Frontenac Sr. High School","High School",null,null,null,null,null,null,null,null,null,null,null,null,null,null,null,null,null,267,null,null,80,0.29959999999999998]
[526,"$B$4",249,"Frontenac Public Schools","Crawford",1295,{"$f":"IFERROR(IF(OR(AND(Application!$A$9=\"Yes\",IFERROR(MATCH(C471,Application!$K$11:$K$297,0)>0,\"\")),AND(Application!$A$9=\"No\",C471=Application!$A$13)),F471,\"\"),\"\")","v":""},"USD 249 - Home","Special Ed Program - Home",null,null,null,null,null,null,null,null,null,null,null,null,null,null,null,null,null,"N/A",null,null,"N/A","N/A"]
[529,"$B$4",250,"Pittsburg","Crawford",1297,{"$f":"IFERROR(IF(OR(AND(Application!$A$9=\"Yes\",IFERROR(MATCH(C472,Application!$K$11:$K$297,0)>0,\"\")),AND(Application!$A$9=\"No\",C472=Application!$A$13)),F472,\"\"),\"\")","v":""},"USD 250 - Off Site Non Public Buildings","Special Ed Program - Off Site Community Based",null,null,null,null,null,null,null,null,null,null,null,null,null,null,null,null,null,"N/A",null,null,"N/A","N/A"]
[530,"$B$4",250,"Pittsburg","Crawford",1298,{"$f":"IFERROR(IF(OR(AND(Application!$A$9=\"Yes\",IFERROR(MATCH(C473,Application!$K$11:$K$297,0)>0,\"\")),AND(Application!$A$9=\"No\",C473=Application!$A$13)),F473,\"\"),\"\")","v":""},"USD 250 - Public Off-Site Preschools","Special Ed Program - Off Site Preschool",null,null,null,null,null,null,null,null,null,null,null,null,null,null,null,null,null,"N/A",null,null,"N/A","N/A"]
[531,"$B$4",250,"Pittsburg","Crawford",1301,{"$f":"IFERROR(IF(OR(AND(Application!$A$9=\"Yes\",IFERROR(MATCH(C474,Application!$K$11:$K$297,0)>0,\"\")),AND(Application!$A$9=\"No\",C474=Application!$A$13)),F474,\"\"),\"\")","v":""},"Center 250","Special Ed Program - Off Site Preschool",null,null,null,null,null,null,null,null,null,null,null,null,null,null,null,null,null,"N/A",null,null,"N/A","N/A"]
[532,"$B$4",250,"Pittsburg","Crawford",1302,{"$f":"IFERROR(IF(OR(AND(Application!$A$9=\"Yes\",IFERROR(MATCH(C475,Application!$K$11:$K$297,0)>0,\"\")),AND(Application!$A$9=\"No\",C475=Application!$A$13)),F475,\"\"),\"\")","v":""},"Geo E Nettels Elem","Elementary",null,null,null,null,null,null,null,null,null,null,null,null,null,null,null,null,null,293,null,null,161,0.54949999999999999]
[533,"$B$4",250,"Pittsburg","Crawford",1303,{"$f":"IFERROR(IF(OR(AND(Application!$A$9=\"Yes\",IFERROR(MATCH(C476,Application!$K$11:$K$297,0)>0,\"\")),AND(Application!$A$9=\"No\",C476=Application!$A$13)),F476,\"\"),\"\")","v":""},"USD 250 - Home","Special Ed Program - Home",null,null,null,null,null,null,null,null,null,null,null,null,null,null,null,null,null,"N/A",null,null,"N/A","N/A"]
[535,"$B$4",250,"Pittsburg","Crawford",1304,{"$f":"IFERROR(IF(OR(AND(Application!$A$9=\"Yes\",IFERROR(MATCH(C477,Application!$K$11:$K$297,0)>0,\"\")),AND(Application!$A$9=\"No\",C477=Application!$A$13)),F477,\"\"),\"\")","v":""},"Lakeside Elem","Elementary",null,null,null,null,null,null,null,null,null,null,null,null,null,null,null,null,null,422,null,null,254,0.60189999999999999]
[536,"$B$4",250,"Pittsburg","Crawford",1307,{"$f":"IFERROR(IF(OR(AND(Application!$A$9=\"Yes\",IFERROR(MATCH(C478,Application!$K$11:$K$297,0)>0,\"\")),AND(Application!$A$9=\"No\",C478=Application!$A$13)),F478,\"\"),\"\")","v":""},"Meadowlark Elementary","Elementary",null,null,null,null,null,null,null,null,null,null,null,null,null,null,null,null,null,412,null,null,305,0.74029999999999996]
[527,"$B$4",249,"Frontenac Public Schools","Crawford",1309,{"$f":"IFERROR(IF(OR(AND(Application!$A$9=\"Yes\",IFERROR(MATCH(C479,Application!$K$11:$K$297,0)>0,\"\")),AND(Application!$A$9=\"No\",C479=Application!$A$13)),F479,\"\"),\"\")","v":""},"USD 249 - Community-Based Preschool","Special Ed Program - Community Based Preschool",null,null,null,null,null,null,null,null,null,null,null,null,null,null,null,null,null,"N/A",null,null,"N/A","N/A"]
[537,"$B$4",250,"Pittsburg","Crawford",1310,{"$f":"IFERROR(IF(OR(AND(Application!$A$9=\"Yes\",IFERROR(MATCH(C480,Application!$K$11:$K$297,0)>0,\"\")),AND(Application!$A$9=\"No\",C480=Application!$A$13)),F480,\"\"),\"\")","v":""},"Westside Elem","Elementary",null,null,null,null,null,null,null,null,null,null,null,null,null,null,null,null,null,491,null,null,228,0.46439999999999998]
[538,"$B$4",250,"Pittsburg","Crawford",1311,{"$f":"IFERROR(IF(OR(AND(Application!$A$9=\"Yes\",IFERROR(MATCH(C481,Application!$K$11:$K$297,0)>0,\"\")),AND(Application!$A$9=\"No\",C481=Application!$A$13)),F481,\"\"),\"\")","v":""},"USD 250 - Community-Based Preschool","Special Ed Program - Community Based Preschool",null,null,null,null,null,null,null,null,null,null,null,null,null,null,null,null,null,"N/A",null,null,"N/A","N/A"]
[528,"$B$4",249,"Frontenac Public Schools","Crawford",1313,{"$f":"IFERROR(IF(OR(AND(Application!$A$9=\"Yes\",IFERROR(MATCH(C482,Application!$K$11:$K$297,0)>0,\"\")),AND(Application!$A$9=\"No\",C482=Application!$A$13)),F482,\"\"),\"\")","v":""},"USD 249 - K Time Program W/O SPED","Early Childhood Program - General",null,null,null,null,null,null,null,null,null,null,null,null,null,null,null,null,null,"N/A",null,null,"N/A","N/A"]
[539,"$B$4",250,"Pittsburg","Crawford",1314,{"$f":"IFERROR(IF(OR(AND(Application!$A$9=\"Yes\",IFERROR(MATCH(C483,Application!$K$11:$K$297,0)>0,\"\")),AND(Application!$A$9=\"No\",C483=Application!$A$13)),F483,\"\"),\"\")","v":""},"Pittsburg Middle School","Middle School",null,null,null,null,null,null,null,null,null,null,null,null,null,null,null,null,null,724,null,null,446,0.61599999999999999]
[540,"$B$4",250,"Pittsburg","Crawford",1315,{"$f":"IFERROR(IF(OR(AND(Application!$A$9=\"Yes\",IFERROR(MATCH(C484,Application!$K$11:$K$297,0)>0,\"\")),AND(Application!$A$9=\"No\",C484=Application!$A$13)),F484,\"\"),\"\")","v":""},"USD 250 - K Time Program W/O SPED","Early Childhood Program - General",null,null,null,null,null,null,null,null,null,null,null,null,null,null,null,null,null,"N/A",null,null,"N/A","N/A"]
[541,"$B$4",250,"Pittsburg","Crawford",1316,{"$f":"IFERROR(IF(OR(AND(Application!$A$9=\"Yes\",IFERROR(MATCH(C485,Application!$K$11:$K$297,0)>0,\"\")),AND(Application!$A$9=\"No\",C485=Application!$A$13)),F485,\"\"),\"\")","v":""},"Pittsburg High","High School",null,null,null,null,null,null,null,null,null,null,null,null,null,null,null,null,null,1022,null,null,553,0.54110000000000003]
[267,"$B$4",229,"Blue Valley","Johnson",1319,{"$f":"IFERROR(IF(OR(AND(Application!$A$9=\"Yes\",IFERROR(MATCH(C486,Application!$K$11:$K$297,0)>0,\"\")),AND(Application!$A$9=\"No\",C486=Application!$A$13)),F486,\"\"),\"\")","v":""},"Blue Valley Virtual Program","High School",null,null,null,null,null,null,null,null,null,null,null,null,null,null,null,null,null,475,null,null,31,6.5299999999999997E-2]
[123,"$B$4",204,"Bonner Springs","Wyandotte",1320,{"$f":"IFERROR(IF(OR(AND(Application!$A$9=\"Yes\",IFERROR(MATCH(C487,Application!$K$11:$K$297,0)>0,\"\")),AND(Application!$A$9=\"No\",C487=Application!$A$13)),F487,\"\"),\"\")","v":""},"USD 204 Parents as Teachers","Early Childhood Program - Parents as Teachers",null,null,null,null,null,null,null,null,null,null,null,null,null,null,null,null,null,"N/A",null,null,"N/A","N/A"]
[542,"$B$4",251,"North Lyon County","Lyon",1345,{"$f":"IFERROR(IF(OR(AND(Application!$A$9=\"Yes\",IFERROR(MATCH(C488,Application!$K$11:$K$297,0)>0,\"\")),AND(Application!$A$9=\"No\",C488=Application!$A$13)),F488,\"\"),\"\")","v":""},"USD 251 - Off Site Non Public Buildings","Special Ed Program - Off Site Community Based",null,null,null,null,null,null,null,null,null,null,null,null,null,null,null,null,null,"N/A",null,null,"N/A","N/A"]
[543,"$B$4",251,"North Lyon County","Lyon",1347,{"$f":"IFERROR(IF(OR(AND(Application!$A$9=\"Yes\",IFERROR(MATCH(C489,Application!$K$11:$K$297,0)>0,\"\")),AND(Application!$A$9=\"No\",C489=Application!$A$13)),F489,\"\"),\"\")","v":""},"USD 251 - Home","Special Ed Program - Home",null,null,null,null,null,null,null,null,null,null,null,null,null,null,null,null,null,"N/A",null,null,"N/A","N/A"]
[544,"$B$4",251,"North Lyon County","Lyon",1348,{"$f":"IFERROR(IF(OR(AND(Application!$A$9=\"Yes\",IFERROR(MATCH(C490,Application!$K$11:$K$297,0)>0,\"\")),AND(Application!$A$9=\"No\",C490=Application!$A$13)),F490,\"\"),\"\")","v":""},"USD 251 - Community-Based Preschool","Special Ed Program - Community Based Preschool",null,null,null,null,null,null,null,null,null,null,null,null,null,null,null,null,null,"N/A",null,null,"N/A","N/A"]
[545,"$B$4",251,"North Lyon County","Lyon",1349,{"$f":"IFERROR(IF(OR(AND(Application!$A$9=\"Yes\",IFERROR(MATCH(C491,Application!$K$11:$K$297,0)>0,\"\")),AND(Application!$A$9=\"No\",C491=Application!$A$13)),F491,\"\"),\"\")","v":""},"USD 251 - K Time Program W/O SPED","Early Childhood Program - General",null,null,null,null,null,null,null,null,null,null,null,null,null,null,null,null,null,"N/A",null,null,"N/A","N/A"]
[546,"$B$4",251,"North Lyon County","Lyon",1350,{"$f":"IFERROR(IF(OR(AND(Application!$A$9=\"Yes\",IFERROR(MATCH(C492,Application!$K$11:$K$297,0)>0,\"\")),AND(Application!$A$9=\"No\",C492=Application!$A$13)),F492,\"\"),\"\")","v":""},"NLC Elementary School","Elementary",null,null,null,null,null,null,null,null,null,null,null,null,null,null,null,null,null,219,null,null,76,0.34699999999999998]
[547,"$B$4",251,"North Lyon County","Lyon",1353,{"$f":"IFERROR(IF(OR(AND(Application!$A$9=\"Yes\",IFERROR(MATCH(C493,Application!$K$11:$K$297,0)>0,\"\")),AND(Application!$A$9=\"No\",C493=Application!$A$13)),F493,\"\"),\"\")","v":""},"NLC Early Learning Center","Early Childhood Program - Other",null,null,null,null,null,null,null,null,null,null,null,null,null,null,null,null,null,"N/A",null,null,"N/A","N/A"]
[548,"$B$4",251,"North Lyon County","Lyon",1358,{"$f":"IFERROR(IF(OR(AND(Application!$A$9=\"Yes\",IFERROR(MATCH(C494,Application!$K$11:$K$297,0)>0,\"\")),AND(Application!$A$9=\"No\",C494=Application!$A$13)),F494,\"\"),\"\")","v":""},"Northern Heights","High School",null,null,null,null,null,null,null,null,null,null,null,null,null,null,null,null,null,125,null,null,43,0.34399999999999997]
[549,"$B$4",252,"Southern Lyon County","Lyon",1373,{"$f":"IFERROR(IF(OR(AND(Application!$A$9=\"Yes\",IFERROR(MATCH(C495,Application!$K$11:$K$297,0)>0,\"\")),AND(Application!$A$9=\"No\",C495=Application!$A$13)),F495,\"\"),\"\")","v":""},"USD 252 - Off Site Non Public Buildings","Special Ed Program - Off Site Community Based",null,null,null,null,null,null,null,null,null,null,null,null,null,null,null,null,null,"N/A",null,null,"N/A","N/A"]
[550,"$B$4",252,"Southern Lyon County","Lyon",1374,{"$f":"IFERROR(IF(OR(AND(Application!$A$9=\"Yes\",IFERROR(MATCH(C496,Application!$K$11:$K$297,0)>0,\"\")),AND(Application!$A$9=\"No\",C496=Application!$A$13)),F496,\"\"),\"\")","v":""},"USD 252 - Home","Special Ed Program - Home",null,null,null,null,null,null,null,null,null,null,null,null,null,null,null,null,null,"N/A",null,null,"N/A","N/A"]
[551,"$B$4",252,"Southern Lyon County","Lyon",1375,{"$f":"IFERROR(IF(OR(AND(Application!$A$9=\"Yes\",IFERROR(MATCH(C497,Application!$K$11:$K$297,0)>0,\"\")),AND(Application!$A$9=\"No\",C497=Application!$A$13)),F497,\"\"),\"\")","v":""},"USD 252 - Community-Based Preschool","Special Ed Program - Community Based Preschool",null,null,null,null,null,null,null,null,null,null,null,null,null,null,null,null,null,"N/A",null,null,"N/A","N/A"]
[552,"$B$4",252,"Southern Lyon County","Lyon",1376,{"$f":"IFERROR(IF(OR(AND(Application!$A$9=\"Yes\",IFERROR(MATCH(C498,Application!$K$11:$K$297,0)>0,\"\")),AND(Application!$A$9=\"No\",C498=Application!$A$13)),F498,\"\"),\"\")","v":""},"USD 252 - K Time Program W/O SPED","Early Childhood Program - General",null,null,null,null,null,null,null,null,null,null,null,null,null,null,null,null,null,"N/A",null,null,"N/A","N/A"]
[553,"$B$4",252,"Southern Lyon County","Lyon",1382,{"$f":"IFERROR(IF(OR(AND(Application!$A$9=\"Yes\",IFERROR(MATCH(C499,Application!$K$11:$K$297,0)>0,\"\")),AND(Application!$A$9=\"No\",C499=Application!$A$13)),F499,\"\"),\"\")","v":""},"Hartford Jr./Sr. High School","High School",null,null,null,null,null,null,null,null,null,null,null,null,null,null,null,null,null,107,null,null,55,0.51400000000000001]
[554,"$B$4",252,"Southern Lyon County","Lyon",1388,{"$f":"IFERROR(IF(OR(AND(Application!$A$9=\"Yes\",IFERROR(MATCH(C500,Application!$K$11:$K$297,0)>0,\"\")),AND(Application!$A$9=\"No\",C500=Application!$A$13)),F500,\"\"),\"\")","v":""},"Neosho Rapids Elementary","Elementary",null,null,null,null,null,null,null,null,null,null,null,null,null,null,null,null,null,111,null,null,43,0.38740000000000002]
[555,"$B$4",252,"Southern Lyon County","Lyon",1392,{"$f":"IFERROR(IF(OR(AND(Application!$A$9=\"Yes\",IFERROR(MATCH(C501,Application!$K$11:$K$297,0)>0,\"\")),AND(Application!$A$9=\"No\",C501=Application!$A$13)),F501,\"\"),\"\")","v":""},"Olpe Elementary","Elementary",null,null,null,null,null,null,null,null,null,null,null,null,null,null,null,null,null,159,null,null,34,0.21379999999999999]
[556,"$B$4",252,"Southern Lyon County","Lyon",1394,{"$f":"IFERROR(IF(OR(AND(Application!$A$9=\"Yes\",IFERROR(MATCH(C502,Application!$K$11:$K$297,0)>0,\"\")),AND(Application!$A$9=\"No\",C502=Application!$A$13)),F502,\"\"),\"\")","v":""},"Olpe Jr./Sr. High School","High School",null,null,null,null,null,null,null,null,null,null,null,null,null,null,null,null,null,147,null,null,23,0.1565]
[557,"$B$4",253,"Emporia","Lyon",1405,{"$f":"IFERROR(IF(OR(AND(Application!$A$9=\"Yes\",IFERROR(MATCH(C503,Application!$K$11:$K$297,0)>0,\"\")),AND(Application!$A$9=\"No\",C503=Application!$A$13)),F503,\"\"),\"\")","v":""},"USD 253 - Off Site Non Public Buildings","Special Ed Program - Off Site Community Based",null,null,null,null,null,null,null,null,null,null,null,null,null,null,null,null,null,"N/A",null,null,"N/A","N/A"]
[558,"$B$4",253,"Emporia","Lyon",1407,{"$f":"IFERROR(IF(OR(AND(Application!$A$9=\"Yes\",IFERROR(MATCH(C504,Application!$K$11:$K$297,0)>0,\"\")),AND(Application!$A$9=\"No\",C504=Application!$A$13)),F504,\"\"),\"\")","v":""},"Jones Early Childhood Development Center","Special Ed Program - Public School Administered",null,null,null,null,null,null,null,null,null,null,null,null,null,null,null,null,null,"N/A",null,null,"N/A","N/A"]
[559,"$B$4",253,"Emporia","Lyon",1409,{"$f":"IFERROR(IF(OR(AND(Application!$A$9=\"Yes\",IFERROR(MATCH(C505,Application!$K$11:$K$297,0)>0,\"\")),AND(Application!$A$9=\"No\",C505=Application!$A$13)),F505,\"\"),\"\")","v":""},"USD 253 - Public Off-Site Preschools","Special Ed Program - Off Site Preschool",null,null,null,null,null,null,null,null,null,null,null,null,null,null,null,null,null,"N/A",null,null,"N/A","N/A"]
[560,"$B$4",253,"Emporia","Lyon",1411,{"$f":"IFERROR(IF(OR(AND(Application!$A$9=\"Yes\",IFERROR(MATCH(C506,Application!$K$11:$K$297,0)>0,\"\")),AND(Application!$A$9=\"No\",C506=Application!$A$13)),F506,\"\"),\"\")","v":""},"USD 253 - Home","Special Ed Program - Home",null,null,null,null,null,null,null,null,null,null,null,null,null,null,null,null,null,"N/A",null,null,"N/A","N/A"]
[565,"$B$4",253,"Emporia","Lyon",1414,{"$f":"IFERROR(IF(OR(AND(Application!$A$9=\"Yes\",IFERROR(MATCH(C507,Application!$K$11:$K$297,0)>0,\"\")),AND(Application!$A$9=\"No\",C507=Application!$A$13)),F507,\"\"),\"\")","v":""},"Village Elem","Elementary",null,null,null,null,null,null,null,null,null,null,null,null,null,null,null,null,null,384,null,null,185,0.48180000000000001]
[561,"$B$4",253,"Emporia","Lyon",1416,{"$f":"IFERROR(IF(OR(AND(Application!$A$9=\"Yes\",IFERROR(MATCH(C508,Application!$K$11:$K$297,0)>0,\"\")),AND(Application!$A$9=\"No\",C508=Application!$A$13)),F508,\"\"),\"\")","v":""},"Walnut Elem","Elementary",null,null,null,null,null,null,null,null,null,null,null,null,null,null,null,null,null,286,null,null,135,0.47199999999999998]
[562,"$B$4",253,"Emporia","Lyon",1417,{"$f":"IFERROR(IF(OR(AND(Application!$A$9=\"Yes\",IFERROR(MATCH(C509,Application!$K$11:$K$297,0)>0,\"\")),AND(Application!$A$9=\"No\",C509=Application!$A$13)),F509,\"\"),\"\")","v":""},"USD 253 - Community-Based Preschool","Special Ed Program - Community Based Preschool",null,null,null,null,null,null,null,null,null,null,null,null,null,null,null,null,null,"N/A",null,null,"N/A","N/A"]
[563,"$B$4",253,"Emporia","Lyon",1418,{"$f":"IFERROR(IF(OR(AND(Application!$A$9=\"Yes\",IFERROR(MATCH(C510,Application!$K$11:$K$297,0)>0,\"\")),AND(Application!$A$9=\"No\",C510=Application!$A$13)),F510,\"\"),\"\")","v":""},"W A White Elem","Elementary",null,null,null,null,null,null,null,null,null,null,null,null,null,null,null,null,null,218,null,null,161,0.73850000000000005]
[564,"$B$4",253,"Emporia","Lyon",1419,{"$f":"IFERROR(IF(OR(AND(Application!$A$9=\"Yes\",IFERROR(MATCH(C511,Application!$K$11:$K$297,0)>0,\"\")),AND(Application!$A$9=\"No\",C511=Application!$A$13)),F511,\"\"),\"\")","v":""},"USD 253 - Public Off Campus","Special Ed Program - Public School Administered",null,null,null,null,null,null,null,null,null,null,null,null,null,null,null,null,null,"N/A",null,null,"N/A","N/A"]
[566,"$B$4",253,"Emporia","Lyon",1420,{"$f":"IFERROR(IF(OR(AND(Application!$A$9=\"Yes\",IFERROR(MATCH(C512,Application!$K$11:$K$297,0)>0,\"\")),AND(Application!$A$9=\"No\",C512=Application!$A$13)),F512,\"\"),\"\")","v":""},"Flint Hills Learning Center","Special School",null,null,null,null,null,null,null,null,null,null,null,null,null,null,null,null,null,"N/A",null,null,"N/A","N/A"]
[567,"$B$4",253,"Emporia","Lyon",1422,{"$f":"IFERROR(IF(OR(AND(Application!$A$9=\"Yes\",IFERROR(MATCH(C513,Application!$K$11:$K$297,0)>0,\"\")),AND(Application!$A$9=\"No\",C513=Application!$A$13)),F513,\"\"),\"\")","v":""},"Emporia Middle School","Middle School",null,null,null,null,null,null,null,null,null,null,null,null,null,null,null,null,null,902,null,null,457,0.50670000000000004]
[568,"$B$4",253,"Emporia","Lyon",1424,{"$f":"IFERROR(IF(OR(AND(Application!$A$9=\"Yes\",IFERROR(MATCH(C514,Application!$K$11:$K$297,0)>0,\"\")),AND(Application!$A$9=\"No\",C514=Application!$A$13)),F514,\"\"),\"\")","v":""},"Emporia High","High School",null,null,null,null,null,null,null,null,null,null,null,null,null,null,null,null,null,1511,null,null,610,0.4037]
[569,"$B$4",253,"Emporia","Lyon",1425,{"$f":"IFERROR(IF(OR(AND(Application!$A$9=\"Yes\",IFERROR(MATCH(C515,Application!$K$11:$K$297,0)>0,\"\")),AND(Application!$A$9=\"No\",C515=Application!$A$13)),F515,\"\"),\"\")","v":""},"USD 253 - K Time Program W/O SPED","Early Childhood Program - General",null,null,null,null,null,null,null,null,null,null,null,null,null,null,null,null,null,"N/A",null,null,"N/A","N/A"]
[570,"$B$4",253,"Emporia","Lyon",1428,{"$f":"IFERROR(IF(OR(AND(Application!$A$9=\"Yes\",IFERROR(MATCH(C516,Application!$K$11:$K$297,0)>0,\"\")),AND(Application!$A$9=\"No\",C516=Application!$A$13)),F516,\"\"),\"\")","v":""},"Logan Ave Elem","Elementary",null,null,null,null,null,null,null,null,null,null,null,null,null,null,null,null,null,235,null,null,142,0.60429999999999995]
[571,"$B$4",253,"Emporia","Lyon",1429,{"$f":"IFERROR(IF(OR(AND(Application!$A$9=\"Yes\",IFERROR(MATCH(C517,Application!$K$11:$K$297,0)>0,\"\")),AND(Application!$A$9=\"No\",C517=Application!$A$13)),F517,\"\"),\"\")","v":""},"Riverside Elementary","Elementary",null,null,null,null,null,null,null,null,null,null,null,null,null,null,null,null,null,422,null,null,270,0.63980000000000004]
[572,"$B$4",253,"Emporia","Lyon",1430,{"$f":"IFERROR(IF(OR(AND(Application!$A$9=\"Yes\",IFERROR(MATCH(C518,Application!$K$11:$K$297,0)>0,\"\")),AND(Application!$A$9=\"No\",C518=Application!$A$13)),F518,\"\"),\"\")","v":""},"Timmerman Elementary","Elementary",null,null,null,null,null,null,null,null,null,null,null,null,null,null,null,null,null,386,null,null,135,0.34970000000000001]
[573,"$B$4",253,"Emporia","Lyon",1449,{"$f":"IFERROR(IF(OR(AND(Application!$A$9=\"Yes\",IFERROR(MATCH(C519,Application!$K$11:$K$297,0)>0,\"\")),AND(Application!$A$9=\"No\",C519=Application!$A$13)),F519,\"\"),\"\")","v":""},"SMH Emporia","Kitchen Unit",null,null,null,null,null,null,null,null,null,null,null,null,null,null,null,null,null,"N/A",null,null,"N/A","N/A"]
[574,"$B$4",254,"Barber County North","Barber",1455,{"$f":"IFERROR(IF(OR(AND(Application!$A$9=\"Yes\",IFERROR(MATCH(C520,Application!$K$11:$K$297,0)>0,\"\")),AND(Application!$A$9=\"No\",C520=Application!$A$13)),F520,\"\"),\"\")","v":""},"USD 254 - Off Site Non Public Buildings","Special Ed Program - Off Site Community Based",null,null,null,null,null,null,null,null,null,null,null,null,null,null,null,null,null,"N/A",null,null,"N/A","N/A"]
[575,"$B$4",254,"Barber County North","Barber",1456,{"$f":"IFERROR(IF(OR(AND(Application!$A$9=\"Yes\",IFERROR(MATCH(C521,Application!$K$11:$K$297,0)>0,\"\")),AND(Application!$A$9=\"No\",C521=Application!$A$13)),F521,\"\"),\"\")","v":""},"USD 254 - Home","Special Ed Program - Home",null,null,null,null,null,null,null,null,null,null,null,null,null,null,null,null,null,"N/A",null,null,"N/A","N/A"]
[579,"$B$4",254,"Barber County North","Barber",1457,{"$f":"IFERROR(IF(OR(AND(Application!$A$9=\"Yes\",IFERROR(MATCH(C522,Application!$K$11:$K$297,0)>0,\"\")),AND(Application!$A$9=\"No\",C522=Application!$A$13)),F522,\"\"),\"\")","v":""},"USD 254 - K Time Program W/O SPED","Early Childhood Program - General",null,null,null,null,null,null,null,null,null,null,null,null,null,null,null,null,null,"N/A",null,null,"N/A","N/A"]
[580,"$B$4",254,"Barber County North","Barber",1472,{"$f":"IFERROR(IF(OR(AND(Application!$A$9=\"Yes\",IFERROR(MATCH(C523,Application!$K$11:$K$297,0)>0,\"\")),AND(Application!$A$9=\"No\",C523=Application!$A$13)),F523,\"\"),\"\")","v":""},"Medicine Lodge Grade School","Elementary",null,null,null,null,null,null,null,null,null,null,null,null,null,null,null,null,null,253,null,null,117,0.46250000000000002]
[581,"$B$4",254,"Barber County North","Barber",1475,{"$f":"IFERROR(IF(OR(AND(Application!$A$9=\"Yes\",IFERROR(MATCH(C524,Application!$K$11:$K$297,0)>0,\"\")),AND(Application!$A$9=\"No\",C524=Application!$A$13)),F524,\"\"),\"\")","v":""},"Medicine Lodge Jr/Sr High School","High School",null,null,null,null,null,null,null,null,null,null,null,null,null,null,null,null,null,218,null,null,86,0.39450000000000002]
[582,"$B$4",255,"South Barber","Barber",1503,{"$f":"IFERROR(IF(OR(AND(Application!$A$9=\"Yes\",IFERROR(MATCH(C525,Application!$K$11:$K$297,0)>0,\"\")),AND(Application!$A$9=\"No\",C525=Application!$A$13)),F525,\"\"),\"\")","v":""},"South Barber Pre-K-6","Elementary",null,null,null,null,null,null,null,null,null,null,null,null,null,null,null,null,null,126,null,null,64,0.50790000000000002]
[583,"$B$4",255,"South Barber","Barber",1504,{"$f":"IFERROR(IF(OR(AND(Application!$A$9=\"Yes\",IFERROR(MATCH(C526,Application!$K$11:$K$297,0)>0,\"\")),AND(Application!$A$9=\"No\",C526=Application!$A$13)),F526,\"\"),\"\")","v":""},"South Barber 7-12","High School",null,null,null,null,null,null,null,null,null,null,null,null,null,null,null,null,null,88,null,null,51,0.57950000000000002]
[584,"$B$4",255,"South Barber","Barber",1505,{"$f":"IFERROR(IF(OR(AND(Application!$A$9=\"Yes\",IFERROR(MATCH(C527,Application!$K$11:$K$297,0)>0,\"\")),AND(Application!$A$9=\"No\",C527=Application!$A$13)),F527,\"\"),\"\")","v":""},"USD 255 - Off Site Non Public Buildings","Special Ed Program - Off Site Community Based",null,null,null,null,null,null,null,null,null,null,null,null,null,null,null,null,null,"N/A",null,null,"N/A","N/A"]
[585,"$B$4",255,"South Barber","Barber",1506,{"$f":"IFERROR(IF(OR(AND(Application!$A$9=\"Yes\",IFERROR(MATCH(C528,Application!$K$11:$K$297,0)>0,\"\")),AND(Application!$A$9=\"No\",C528=Application!$A$13)),F528,\"\"),\"\")","v":""},"USD 255 - Home","Special Ed Program - Home",null,null,null,null,null,null,null,null,null,null,null,null,null,null,null,null,null,"N/A",null,null,"N/A","N/A"]
[586,"$B$4",255,"South Barber","Barber",1507,{"$f":"IFERROR(IF(OR(AND(Application!$A$9=\"Yes\",IFERROR(MATCH(C529,Application!$K$11:$K$297,0)>0,\"\")),AND(Application!$A$9=\"No\",C529=Application!$A$13)),F529,\"\"),\"\")","v":""},"USD 255 - K Time Program W/O SPED","Early Childhood Program - General",null,null,null,null,null,null,null,null,null,null,null,null,null,null,null,null,null,"N/A",null,null,"N/A","N/A"]
[587,"$B$4",256,"Marmaton Valley","Allen",1529,{"$f":"IFERROR(IF(OR(AND(Application!$A$9=\"Yes\",IFERROR(MATCH(C530,Application!$K$11:$K$297,0)>0,\"\")),AND(Application!$A$9=\"No\",C530=Application!$A$13)),F530,\"\"),\"\")","v":""},"USD 256 - Off Site Non Public Buildings","Special Ed Program - Off Site Community Based",null,null,null,null,null,null,null,null,null,null,null,null,null,null,null,null,null,"N/A",null,null,"N/A","N/A"]
[588,"$B$4",256,"Marmaton Valley","Allen",1531,{"$f":"IFERROR(IF(OR(AND(Application!$A$9=\"Yes\",IFERROR(MATCH(C531,Application!$K$11:$K$297,0)>0,\"\")),AND(Application!$A$9=\"No\",C531=Application!$A$13)),F531,\"\"),\"\")","v":""},"USD 256 - Public Off-Site Preschools","Special Ed Program - Off Site Preschool",null,null,null,null,null,null,null,null,null,null,null,null,null,null,null,null,null,"N/A",null,null,"N/A","N/A"]
[589,"$B$4",256,"Marmaton Valley","Allen",1532,{"$f":"IFERROR(IF(OR(AND(Application!$A$9=\"Yes\",IFERROR(MATCH(C532,Application!$K$11:$K$297,0)>0,\"\")),AND(Application!$A$9=\"No\",C532=Application!$A$13)),F532,\"\"),\"\")","v":""},"USD 256 - Home","Special Ed Program - Home",null,null,null,null,null,null,null,null,null,null,null,null,null,null,null,null,null,"N/A",null,null,"N/A","N/A"]
[590,"$B$4",256,"Marmaton Valley","Allen",1533,{"$f":"IFERROR(IF(OR(AND(Application!$A$9=\"Yes\",IFERROR(MATCH(C533,Application!$K$11:$K$297,0)>0,\"\")),AND(Application!$A$9=\"No\",C533=Application!$A$13)),F533,\"\"),\"\")","v":""},"USD 256 - Community-Based Preschool","Special Ed Program - Community Based Preschool",null,null,null,null,null,null,null,null,null,null,null,null,null,null,null,null,null,"N/A",null,null,"N/A","N/A"]
[591,"$B$4",256,"Marmaton Valley","Allen",1534,{"$f":"IFERROR(IF(OR(AND(Application!$A$9=\"Yes\",IFERROR(MATCH(C534,Application!$K$11:$K$297,0)>0,\"\")),AND(Application!$A$9=\"No\",C534=Application!$A$13)),F534,\"\"),\"\")","v":""},"USD 256 - K Time Program W/O SPED","Early Childhood Program - General",null,null,null,null,null,null,null,null,null,null,null,null,null,null,null,null,null,"N/A",null,null,"N/A","N/A"]
[592,"$B$4",256,"Marmaton Valley","Allen",1535,{"$f":"IFERROR(IF(OR(AND(Application!$A$9=\"Yes\",IFERROR(MATCH(C535,Application!$K$11:$K$297,0)>0,\"\")),AND(Application!$A$9=\"No\",C535=Application!$A$13)),F535,\"\"),\"\")","v":""},"Marmaton Valley Virtual School","High School",null,null,null,null,null,null,null,null,null,null,null,null,null,null,null,null,null,5,null,null,2,0.4]
[593,"$B$4",256,"Marmaton Valley","Allen",1536,{"$f":"IFERROR(IF(OR(AND(Application!$A$9=\"Yes\",IFERROR(MATCH(C536,Application!$K$11:$K$297,0)>0,\"\")),AND(Application!$A$9=\"No\",C536=Application!$A$13)),F536,\"\"),\"\")","v":""},"Marmaton Valley Elem","Elementary",null,null,null,null,null,null,null,null,null,null,null,null,null,null,null,null,null,132,null,null,69,0.52270000000000005]
[594,"$B$4",256,"Marmaton Valley","Allen",1538,{"$f":"IFERROR(IF(OR(AND(Application!$A$9=\"Yes\",IFERROR(MATCH(C537,Application!$K$11:$K$297,0)>0,\"\")),AND(Application!$A$9=\"No\",C537=Application!$A$13)),F537,\"\"),\"\")","v":""},"Marmaton Valley High","High School",null,null,null,null,null,null,null,null,null,null,null,null,null,null,null,null,null,135,null,null,54,0.4]
[595,"$B$4",257,"Iola","Allen",1549,{"$f":"IFERROR(IF(OR(AND(Application!$A$9=\"Yes\",IFERROR(MATCH(C538,Application!$K$11:$K$297,0)>0,\"\")),AND(Application!$A$9=\"No\",C538=Application!$A$13)),F538,\"\"),\"\")","v":""},"USD 257 - Off Site Non Public Buildings","Special Ed Program - Off Site Community Based",null,null,null,null,null,null,null,null,null,null,null,null,null,null,null,null,null,"N/A",null,null,"N/A","N/A"]
[596,"$B$4",257,"Iola","Allen",1551,{"$f":"IFERROR(IF(OR(AND(Application!$A$9=\"Yes\",IFERROR(MATCH(C539,Application!$K$11:$K$297,0)>0,\"\")),AND(Application!$A$9=\"No\",C539=Application!$A$13)),F539,\"\"),\"\")","v":""},"USD 257 - Home","Special Ed Program - Home",null,null,null,null,null,null,null,null,null,null,null,null,null,null,null,null,null,"N/A",null,null,"N/A","N/A"]
[597,"$B$4",257,"Iola","Allen",1554,{"$f":"IFERROR(IF(OR(AND(Application!$A$9=\"Yes\",IFERROR(MATCH(C540,Application!$K$11:$K$297,0)>0,\"\")),AND(Application!$A$9=\"No\",C540=Application!$A$13)),F540,\"\"),\"\")","v":""},"USD 257 - Community-Based Preschool","Special Ed Program - Community Based Preschool",null,null,null,null,null,null,null,null,null,null,null,null,null,null,null,null,null,"N/A",null,null,"N/A","N/A"]
[598,"$B$4",257,"Iola","Allen",1555,{"$f":"IFERROR(IF(OR(AND(Application!$A$9=\"Yes\",IFERROR(MATCH(C541,Application!$K$11:$K$297,0)>0,\"\")),AND(Application!$A$9=\"No\",C541=Application!$A$13)),F541,\"\"),\"\")","v":""},"USD 257 - Public Off Campus","Special Ed Program - Public School Administered",null,null,null,null,null,null,null,null,null,null,null,null,null,null,null,null,null,"N/A",null,null,"N/A","N/A"]
[599,"$B$4",257,"Iola","Allen",1557,{"$f":"IFERROR(IF(OR(AND(Application!$A$9=\"Yes\",IFERROR(MATCH(C542,Application!$K$11:$K$297,0)>0,\"\")),AND(Application!$A$9=\"No\",C542=Application!$A$13)),F542,\"\"),\"\")","v":""},"USD 257 - K Time Program W/O SPED","Early Childhood Program - General",null,null,null,null,null,null,null,null,null,null,null,null,null,null,null,null,null,"N/A",null,null,"N/A","N/A"]
[600,"$B$4",257,"Iola","Allen",1559,{"$f":"IFERROR(IF(OR(AND(Application!$A$9=\"Yes\",IFERROR(MATCH(C543,Application!$K$11:$K$297,0)>0,\"\")),AND(Application!$A$9=\"No\",C543=Application!$A$13)),F543,\"\"),\"\")","v":""},"Public off-site Preschool","Special Ed Program - Off Site Preschool",null,null,null,null,null,null,null,null,null,null,null,null,null,null,null,null,null,"N/A",null,null,"N/A","N/A"]
[601,"$B$4",257,"Iola","Allen",1561,{"$f":"IFERROR(IF(OR(AND(Application!$A$9=\"Yes\",IFERROR(MATCH(C544,Application!$K$11:$K$297,0)>0,\"\")),AND(Application!$A$9=\"No\",C544=Application!$A$13)),F544,\"\"),\"\")","v":""},"Iola High School Virtual","High School",null,null,null,null,null,null,null,null,null,null,null,null,null,null,null,null,null,19,null,null,15,0.78949999999999998]
[602,"$B$4",257,"Iola","Allen",1562,{"$f":"IFERROR(IF(OR(AND(Application!$A$9=\"Yes\",IFERROR(MATCH(C545,Application!$K$11:$K$297,0)>0,\"\")),AND(Application!$A$9=\"No\",C545=Application!$A$13)),F545,\"\"),\"\")","v":""},"Iola Middle School","Middle School",null,null,null,null,null,null,null,null,null,null,null,null,null,null,null,null,null,247,null,null,138,0.55869999999999997]
[603,"$B$4",257,"Iola","Allen",1563,{"$f":"IFERROR(IF(OR(AND(Application!$A$9=\"Yes\",IFERROR(MATCH(C546,Application!$K$11:$K$297,0)>0,\"\")),AND(Application!$A$9=\"No\",C546=Application!$A$13)),F546,\"\"),\"\")","v":""},"Iola Elementary School","Elementary",null,null,null,null,null,null,null,null,null,null,null,null,null,null,null,null,null,577,null,null,338,0.58579999999999999]
[604,"$B$4",257,"Iola","Allen",1564,{"$f":"IFERROR(IF(OR(AND(Application!$A$9=\"Yes\",IFERROR(MATCH(C547,Application!$K$11:$K$297,0)>0,\"\")),AND(Application!$A$9=\"No\",C547=Application!$A$13)),F547,\"\"),\"\")","v":""},"Iola Sr High","High School",null,null,null,null,null,null,null,null,null,null,null,null,null,null,null,null,null,317,null,null,139,0.4385]
[605,"$B$4",257,"Iola","Allen",1578,{"$f":"IFERROR(IF(OR(AND(Application!$A$9=\"Yes\",IFERROR(MATCH(C548,Application!$K$11:$K$297,0)>0,\"\")),AND(Application!$A$9=\"No\",C548=Application!$A$13)),F548,\"\"),\"\")","v":""},"Crossroads Alternative School","Special School",null,null,null,null,null,null,null,null,null,null,null,null,null,null,null,null,null,"N/A",null,null,"N/A","N/A"]
[606,"$B$4",258,"Humboldt","Allen",1589,{"$f":"IFERROR(IF(OR(AND(Application!$A$9=\"Yes\",IFERROR(MATCH(C549,Application!$K$11:$K$297,0)>0,\"\")),AND(Application!$A$9=\"No\",C549=Application!$A$13)),F549,\"\"),\"\")","v":""},"USD 258 - Off Site Non Public Buildings","Special Ed Program - Off Site Community Based",null,null,null,null,null,null,null,null,null,null,null,null,null,null,null,null,null,"N/A",null,null,"N/A","N/A"]
[607,"$B$4",258,"Humboldt","Allen",1591,{"$f":"IFERROR(IF(OR(AND(Application!$A$9=\"Yes\",IFERROR(MATCH(C550,Application!$K$11:$K$297,0)>0,\"\")),AND(Application!$A$9=\"No\",C550=Application!$A$13)),F550,\"\"),\"\")","v":""},"USD 258 - Public Off-Site Preschools","Special Ed Program - Off Site Preschool",null,null,null,null,null,null,null,null,null,null,null,null,null,null,null,null,null,"N/A",null,null,"N/A","N/A"]
[608,"$B$4",258,"Humboldt","Allen",1592,{"$f":"IFERROR(IF(OR(AND(Application!$A$9=\"Yes\",IFERROR(MATCH(C551,Application!$K$11:$K$297,0)>0,\"\")),AND(Application!$A$9=\"No\",C551=Application!$A$13)),F551,\"\"),\"\")","v":""},"Humboldt High School","High School",null,null,null,null,null,null,null,null,null,null,null,null,null,null,null,null,null,187,null,null,78,0.41710000000000003]
[609,"$B$4",258,"Humboldt","Allen",1593,{"$f":"IFERROR(IF(OR(AND(Application!$A$9=\"Yes\",IFERROR(MATCH(C552,Application!$K$11:$K$297,0)>0,\"\")),AND(Application!$A$9=\"No\",C552=Application!$A$13)),F552,\"\"),\"\")","v":""},"USD 258 - Home","Special Ed Program - Home",null,null,null,null,null,null,null,null,null,null,null,null,null,null,null,null,null,"N/A",null,null,"N/A","N/A"]
[610,"$B$4",258,"Humboldt","Allen",1594,{"$f":"IFERROR(IF(OR(AND(Application!$A$9=\"Yes\",IFERROR(MATCH(C553,Application!$K$11:$K$297,0)>0,\"\")),AND(Application!$A$9=\"No\",C553=Application!$A$13)),F553,\"\"),\"\")","v":""},"USD 258 - Community-Based Preschool","Special Ed Program - Community Based Preschool",null,null,null,null,null,null,null,null,null,null,null,null,null,null,null,null,null,"N/A",null,null,"N/A","N/A"]
[611,"$B$4",258,"Humboldt","Allen",1595,{"$f":"IFERROR(IF(OR(AND(Application!$A$9=\"Yes\",IFERROR(MATCH(C554,Application!$K$11:$K$297,0)>0,\"\")),AND(Application!$A$9=\"No\",C554=Application!$A$13)),F554,\"\"),\"\")","v":""},"USD 258 - K Time Program W/O SPED","Early Childhood Program - General",null,null,null,null,null,null,null,null,null,null,null,null,null,null,null,null,null,"N/A",null,null,"N/A","N/A"]
[612,"$B$4",258,"Humboldt","Allen",1596,{"$f":"IFERROR(IF(OR(AND(Application!$A$9=\"Yes\",IFERROR(MATCH(C555,Application!$K$11:$K$297,0)>0,\"\")),AND(Application!$A$9=\"No\",C555=Application!$A$13)),F555,\"\"),\"\")","v":""},"Humboldt Elementary School","Elementary",null,null,null,null,null,null,null,null,null,null,null,null,null,null,null,null,null,314,null,null,144,0.45860000000000001]
[613,"$B$4",258,"Humboldt","Allen",1598,{"$f":"IFERROR(IF(OR(AND(Application!$A$9=\"Yes\",IFERROR(MATCH(C556,Application!$K$11:$K$297,0)>0,\"\")),AND(Application!$A$9=\"No\",C556=Application!$A$13)),F556,\"\"),\"\")","v":""},"Humboldt Virtual Education","High School",null,null,null,null,null,null,null,null,null,null,null,null,null,null,null,null,null,326,null,null,2,6.1000000000000004E-3]
[614,"$B$4",258,"Humboldt","Allen",1600,{"$f":"IFERROR(IF(OR(AND(Application!$A$9=\"Yes\",IFERROR(MATCH(C557,Application!$K$11:$K$297,0)>0,\"\")),AND(Application!$A$9=\"No\",C557=Application!$A$13)),F557,\"\"),\"\")","v":""},"Humboldt Middle School","Middle School",null,null,null,null,null,null,null,null,null,null,null,null,null,null,null,null,null,141,null,null,62,0.43969999999999998]
[615,"$B$4",259,"Wichita","Sedgwick",1612,{"$f":"IFERROR(IF(OR(AND(Application!$A$9=\"Yes\",IFERROR(MATCH(C558,Application!$K$11:$K$297,0)>0,\"\")),AND(Application!$A$9=\"No\",C558=Application!$A$13)),F558,\"\"),\"\")","v":""},"Wichita Dist Sedgwick Co","Central Office",null,null,null,null,null,null,null,null,null,null,null,null,null,null,null,null,null,"N/A",null,null,"N/A","N/A"]
[616,"$B$4",259,"Wichita","Sedgwick",1613,{"$f":"IFERROR(IF(OR(AND(Application!$A$9=\"Yes\",IFERROR(MATCH(C559,Application!$K$11:$K$297,0)>0,\"\")),AND(Application!$A$9=\"No\",C559=Application!$A$13)),F559,\"\"),\"\")","v":""},"Education Imagine Academy","Other",null,null,null,null,null,null,null,null,null,null,null,null,null,null,null,null,null,521,null,null,352,0.67559999999999998]
[617,"$B$4",259,"Wichita","Sedgwick",1614,{"$f":"IFERROR(IF(OR(AND(Application!$A$9=\"Yes\",IFERROR(MATCH(C560,Application!$K$11:$K$297,0)>0,\"\")),AND(Application!$A$9=\"No\",C560=Application!$A$13)),F560,\"\"),\"\")","v":""},"Adams Elem","Elementary",null,null,null,null,null,null,null,null,null,null,null,null,null,null,null,null,null,378,null,null,357,0.94440000000000002]
[618,"$B$4",259,"Wichita","Sedgwick",1615,{"$f":"IFERROR(IF(OR(AND(Application!$A$9=\"Yes\",IFERROR(MATCH(C561,Application!$K$11:$K$297,0)>0,\"\")),AND(Application!$A$9=\"No\",C561=Application!$A$13)),F561,\"\"),\"\")","v":""},"USD 259 - Off Site Non Public Buildings","Special Ed Program - Off Site Community Based",null,null,null,null,null,null,null,null,null,null,null,null,null,null,null,null,null,"N/A",null,null,"N/A","N/A"]
[619,"$B$4",259,"Wichita","Sedgwick",1617,{"$f":"IFERROR(IF(OR(AND(Application!$A$9=\"Yes\",IFERROR(MATCH(C562,Application!$K$11:$K$297,0)>0,\"\")),AND(Application!$A$9=\"No\",C562=Application!$A$13)),F562,\"\"),\"\")","v":""},"Marshall Middle School","Middle School",null,null,null,null,null,null,null,null,null,null,null,null,null,null,null,null,null,491,null,null,409,0.83299999999999996]
[620,"$B$4",259,"Wichita","Sedgwick",1618,{"$f":"IFERROR(IF(OR(AND(Application!$A$9=\"Yes\",IFERROR(MATCH(C563,Application!$K$11:$K$297,0)>0,\"\")),AND(Application!$A$9=\"No\",C563=Application!$A$13)),F563,\"\"),\"\")","v":""},"Allen Elem","Elementary",null,null,null,null,null,null,null,null,null,null,null,null,null,null,null,null,null,472,null,null,400,0.84750000000000003]
[621,"$B$4",259,"Wichita","Sedgwick",1622,{"$f":"IFERROR(IF(OR(AND(Application!$A$9=\"Yes\",IFERROR(MATCH(C564,Application!$K$11:$K$297,0)>0,\"\")),AND(Application!$A$9=\"No\",C564=Application!$A$13)),F564,\"\"),\"\")","v":""},"Benton Elem","Elementary",null,null,null,null,null,null,null,null,null,null,null,null,null,null,null,null,null,291,null,null,194,0.66669999999999996]
[622,"$B$4",259,"Wichita","Sedgwick",1623,{"$f":"IFERROR(IF(OR(AND(Application!$A$9=\"Yes\",IFERROR(MATCH(C565,Application!$K$11:$K$297,0)>0,\"\")),AND(Application!$A$9=\"No\",C565=Application!$A$13)),F565,\"\"),\"\")","v":""},"Beech Elem","Elementary",null,null,null,null,null,null,null,null,null,null,null,null,null,null,null,null,null,481,null,null,369,0.76719999999999999]
[623,"$B$4",259,"Wichita","Sedgwick",1624,{"$f":"IFERROR(IF(OR(AND(Application!$A$9=\"Yes\",IFERROR(MATCH(C566,Application!$K$11:$K$297,0)>0,\"\")),AND(Application!$A$9=\"No\",C566=Application!$A$13)),F566,\"\"),\"\")","v":""},"Black Traditional Magnet Elem","Elementary",null,null,null,null,null,null,null,null,null,null,null,null,null,null,null,null,null,320,null,null,255,0.79690000000000005]
[624,"$B$4",259,"Wichita","Sedgwick",1625,{"$f":"IFERROR(IF(OR(AND(Application!$A$9=\"Yes\",IFERROR(MATCH(C567,Application!$K$11:$K$297,0)>0,\"\")),AND(Application!$A$9=\"No\",C567=Application!$A$13)),F567,\"\"),\"\")","v":""},"Gordon Parks Academy","Elementary",null,null,null,null,null,null,null,null,null,null,null,null,null,null,null,null,null,396,null,null,334,0.84340000000000004]
[625,"$B$4",259,"Wichita","Sedgwick",1627,{"$f":"IFERROR(IF(OR(AND(Application!$A$9=\"Yes\",IFERROR(MATCH(C568,Application!$K$11:$K$297,0)>0,\"\")),AND(Application!$A$9=\"No\",C568=Application!$A$13)),F568,\"\"),\"\")","v":""},"Mead Middle School","Middle School",null,null,null,null,null,null,null,null,null,null,null,null,null,null,null,null,null,543,null,null,468,0.8619]
[626,"$B$4",259,"Wichita","Sedgwick",1628,{"$f":"IFERROR(IF(OR(AND(Application!$A$9=\"Yes\",IFERROR(MATCH(C569,Application!$K$11:$K$297,0)>0,\"\")),AND(Application!$A$9=\"No\",C569=Application!$A$13)),F569,\"\"),\"\")","v":""},"Jackson Elementary","Elementary",null,null,null,null,null,null,null,null,null,null,null,null,null,null,null,null,null,338,null,null,249,0.73670000000000002]
[627,"$B$4",259,"Wichita","Sedgwick",1629,{"$f":"IFERROR(IF(OR(AND(Application!$A$9=\"Yes\",IFERROR(MATCH(C570,Application!$K$11:$K$297,0)>0,\"\")),AND(Application!$A$9=\"No\",C570=Application!$A$13)),F570,\"\"),\"\")","v":""},"USD 259 - Off Site Non Public Buildings","Special Ed Program - Off Site Community Based",null,null,null,null,null,null,null,null,null,null,null,null,null,null,null,null,null,"N/A",null,null,"N/A","N/A"]
[628,"$B$4",259,"Wichita","Sedgwick",1630,{"$f":"IFERROR(IF(OR(AND(Application!$A$9=\"Yes\",IFERROR(MATCH(C571,Application!$K$11:$K$297,0)>0,\"\")),AND(Application!$A$9=\"No\",C571=Application!$A$13)),F571,\"\"),\"\")","v":""},"USD 259 - Off Site Non Public Buildings","Special Ed Program - Off Site Community Based",null,null,null,null,null,null,null,null,null,null,null,null,null,null,null,null,null,"N/A",null,null,"N/A","N/A"]
[629,"$B$4",259,"Wichita","Sedgwick",1631,{"$f":"IFERROR(IF(OR(AND(Application!$A$9=\"Yes\",IFERROR(MATCH(C572,Application!$K$11:$K$297,0)>0,\"\")),AND(Application!$A$9=\"No\",C572=Application!$A$13)),F572,\"\"),\"\")","v":""},"USD 259 - Home","Special Ed Program - Home",null,null,null,null,null,null,null,null,null,null,null,null,null,null,null,null,null,"N/A",null,null,"N/A","N/A"]
[630,"$B$4",259,"Wichita","Sedgwick",1633,{"$f":"IFERROR(IF(OR(AND(Application!$A$9=\"Yes\",IFERROR(MATCH(C573,Application!$K$11:$K$297,0)>0,\"\")),AND(Application!$A$9=\"No\",C573=Application!$A$13)),F573,\"\"),\"\")","v":""},"USD 259 - Incarceration","Special Ed Program - Incarcerated",null,null,null,null,null,null,null,null,null,null,null,null,null,null,null,null,null,"N/A",null,null,"N/A","N/A"]
[631,"$B$4",259,"Wichita","Sedgwick",1634,{"$f":"IFERROR(IF(OR(AND(Application!$A$9=\"Yes\",IFERROR(MATCH(C574,Application!$K$11:$K$297,0)>0,\"\")),AND(Application!$A$9=\"No\",C574=Application!$A$13)),F574,\"\"),\"\")","v":""},"Buckner Performing Arts Magnet Elem","Elementary",null,null,null,null,null,null,null,null,null,null,null,null,null,null,null,null,null,348,null,null,279,0.80169999999999997]
[632,"$B$4",259,"Wichita","Sedgwick",1636,{"$f":"IFERROR(IF(OR(AND(Application!$A$9=\"Yes\",IFERROR(MATCH(C575,Application!$K$11:$K$297,0)>0,\"\")),AND(Application!$A$9=\"No\",C575=Application!$A$13)),F575,\"\"),\"\")","v":""},"Caldwell Elem","Elementary",null,null,null,null,null,null,null,null,null,null,null,null,null,null,null,null,null,412,null,null,352,0.85440000000000005]
[633,"$B$4",259,"Wichita","Sedgwick",1637,{"$f":"IFERROR(IF(OR(AND(Application!$A$9=\"Yes\",IFERROR(MATCH(C576,Application!$K$11:$K$297,0)>0,\"\")),AND(Application!$A$9=\"No\",C576=Application!$A$13)),F576,\"\"),\"\")","v":""},"USD 259 - Community-Based Preschool","Special Ed Program - Community Based Preschool",null,null,null,null,null,null,null,null,null,null,null,null,null,null,null,null,null,"N/A",null,null,"N/A","N/A"]
[634,"$B$4",259,"Wichita","Sedgwick",1639,{"$f":"IFERROR(IF(OR(AND(Application!$A$9=\"Yes\",IFERROR(MATCH(C577,Application!$K$11:$K$297,0)>0,\"\")),AND(Application!$A$9=\"No\",C577=Application!$A$13)),F577,\"\"),\"\")","v":""},"USD 259 - Public Off Campus","Special Ed Program - Public School Administered",null,null,null,null,null,null,null,null,null,null,null,null,null,null,null,null,null,"N/A",null,null,"N/A","N/A"]
[635,"$B$4",259,"Wichita","Sedgwick",1640,{"$f":"IFERROR(IF(OR(AND(Application!$A$9=\"Yes\",IFERROR(MATCH(C578,Application!$K$11:$K$297,0)>0,\"\")),AND(Application!$A$9=\"No\",C578=Application!$A$13)),F578,\"\"),\"\")","v":""},"Cessna Elem","Elementary",null,null,null,null,null,null,null,null,null,null,null,null,null,null,null,null,null,356,null,null,297,0.83430000000000004]
[636,"$B$4",259,"Wichita","Sedgwick",1641,{"$f":"IFERROR(IF(OR(AND(Application!$A$9=\"Yes\",IFERROR(MATCH(C579,Application!$K$11:$K$297,0)>0,\"\")),AND(Application!$A$9=\"No\",C579=Application!$A$13)),F579,\"\"),\"\")","v":""},"USD 259 - Public Off Campus","Special Ed Program - Public School Administered",null,null,null,null,null,null,null,null,null,null,null,null,null,null,null,null,null,"N/A",null,null,"N/A","N/A"]
[637,"$B$4",259,"Wichita","Sedgwick",1643,{"$f":"IFERROR(IF(OR(AND(Application!$A$9=\"Yes\",IFERROR(MATCH(C580,Application!$K$11:$K$297,0)>0,\"\")),AND(Application!$A$9=\"No\",C580=Application!$A$13)),F580,\"\"),\"\")","v":""},"USD 259 - K Time Program W/O SPED","Early Childhood Program - General",null,null,null,null,null,null,null,null,null,null,null,null,null,null,null,null,null,"N/A",null,null,"N/A","N/A"]
[638,"$B$4",259,"Wichita","Sedgwick",1644,{"$f":"IFERROR(IF(OR(AND(Application!$A$9=\"Yes\",IFERROR(MATCH(C581,Application!$K$11:$K$297,0)>0,\"\")),AND(Application!$A$9=\"No\",C581=Application!$A$13)),F581,\"\"),\"\")","v":""},"Chisholm Trail Elem","Elementary",null,null,null,null,null,null,null,null,null,null,null,null,null,null,null,null,null,416,null,null,226,0.54330000000000001]
[639,"$B$4",259,"Wichita","Sedgwick",1646,{"$f":"IFERROR(IF(OR(AND(Application!$A$9=\"Yes\",IFERROR(MATCH(C582,Application!$K$11:$K$297,0)>0,\"\")),AND(Application!$A$9=\"No\",C582=Application!$A$13)),F582,\"\"),\"\")","v":""},"Clark Elem","Elementary",null,null,null,null,null,null,null,null,null,null,null,null,null,null,null,null,null,258,null,null,222,0.86050000000000004]
[640,"$B$4",259,"Wichita","Sedgwick",1647,{"$f":"IFERROR(IF(OR(AND(Application!$A$9=\"Yes\",IFERROR(MATCH(C583,Application!$K$11:$K$297,0)>0,\"\")),AND(Application!$A$9=\"No\",C583=Application!$A$13)),F583,\"\"),\"\")","v":""},"Arkansas Avenue Programs/Gateway","Special School",null,null,null,null,null,null,null,null,null,null,null,null,null,null,null,null,null,"N/A",null,null,"N/A","N/A"]
[641,"$B$4",259,"Wichita","Sedgwick",1648,{"$f":"IFERROR(IF(OR(AND(Application!$A$9=\"Yes\",IFERROR(MATCH(C584,Application!$K$11:$K$297,0)>0,\"\")),AND(Application!$A$9=\"No\",C584=Application!$A$13)),F584,\"\"),\"\")","v":""},"Cleaveland Traditional Magnet Elementary","Elementary",null,null,null,null,null,null,null,null,null,null,null,null,null,null,null,null,null,262,null,null,190,0.72519999999999996]
[642,"$B$4",259,"Wichita","Sedgwick",1649,{"$f":"IFERROR(IF(OR(AND(Application!$A$9=\"Yes\",IFERROR(MATCH(C585,Application!$K$11:$K$297,0)>0,\"\")),AND(Application!$A$9=\"No\",C585=Application!$A$13)),F585,\"\"),\"\")","v":""},"Wichita Learning Center","High School",null,null,null,null,null,null,null,null,null,null,null,null,null,null,null,null,null,185,null,null,1,5.4000000000000003E-3]
[643,"$B$4",259,"Wichita","Sedgwick",1650,{"$f":"IFERROR(IF(OR(AND(Application!$A$9=\"Yes\",IFERROR(MATCH(C586,Application!$K$11:$K$297,0)>0,\"\")),AND(Application!$A$9=\"No\",C586=Application!$A$13)),F586,\"\"),\"\")","v":""},"Cloud Elem","Elementary",null,null,null,null,null,null,null,null,null,null,null,null,null,null,null,null,null,507,null,null,446,0.87970000000000004]
[644,"$B$4",259,"Wichita","Sedgwick",1652,{"$f":"IFERROR(IF(OR(AND(Application!$A$9=\"Yes\",IFERROR(MATCH(C587,Application!$K$11:$K$297,0)>0,\"\")),AND(Application!$A$9=\"No\",C587=Application!$A$13)),F587,\"\"),\"\")","v":""},"College Hill Elem","Elementary",null,null,null,null,null,null,null,null,null,null,null,null,null,null,null,null,null,394,null,null,243,0.61680000000000001]
[645,"$B$4",259,"Wichita","Sedgwick",1653,{"$f":"IFERROR(IF(OR(AND(Application!$A$9=\"Yes\",IFERROR(MATCH(C588,Application!$K$11:$K$297,0)>0,\"\")),AND(Application!$A$9=\"No\",C588=Application!$A$13)),F588,\"\"),\"\")","v":""},"Colvin Elem","Elementary",null,null,null,null,null,null,null,null,null,null,null,null,null,null,null,null,null,602,null,null,547,0.90859999999999996]
[646,"$B$4",259,"Wichita","Sedgwick",1655,{"$f":"IFERROR(IF(OR(AND(Application!$A$9=\"Yes\",IFERROR(MATCH(C589,Application!$K$11:$K$297,0)>0,\"\")),AND(Application!$A$9=\"No\",C589=Application!$A$13)),F589,\"\"),\"\")","v":""},"Information Services and Technology","Other",null,null,null,null,null,null,null,null,null,null,null,null,null,null,null,null,null,"N/A",null,null,"N/A","N/A"]
[647,"$B$4",259,"Wichita","Sedgwick",1658,{"$f":"IFERROR(IF(OR(AND(Application!$A$9=\"Yes\",IFERROR(MATCH(C590,Application!$K$11:$K$297,0)>0,\"\")),AND(Application!$A$9=\"No\",C590=Application!$A$13)),F590,\"\"),\"\")","v":""},"Earhart Environ Magnet Elem","Elementary",null,null,null,null,null,null,null,null,null,null,null,null,null,null,null,null,null,445,null,null,244,0.54830000000000001]
[648,"$B$4",259,"Wichita","Sedgwick",1660,{"$f":"IFERROR(IF(OR(AND(Application!$A$9=\"Yes\",IFERROR(MATCH(C591,Application!$K$11:$K$297,0)>0,\"\")),AND(Application!$A$9=\"No\",C591=Application!$A$13)),F591,\"\"),\"\")","v":""},"Enterprise Elem","Elementary",null,null,null,null,null,null,null,null,null,null,null,null,null,null,null,null,null,419,null,null,369,0.88070000000000004]
[649,"$B$4",259,"Wichita","Sedgwick",1661,{"$f":"IFERROR(IF(OR(AND(Application!$A$9=\"Yes\",IFERROR(MATCH(C592,Application!$K$11:$K$297,0)>0,\"\")),AND(Application!$A$9=\"No\",C592=Application!$A$13)),F592,\"\"),\"\")","v":""},"Non Public PAT","Early Childhood Program - General",null,null,null,null,null,null,null,null,null,null,null,null,null,null,null,null,null,"N/A",null,null,"N/A","N/A"]
[650,"$B$4",259,"Wichita","Sedgwick",1662,{"$f":"IFERROR(IF(OR(AND(Application!$A$9=\"Yes\",IFERROR(MATCH(C593,Application!$K$11:$K$297,0)>0,\"\")),AND(Application!$A$9=\"No\",C593=Application!$A$13)),F593,\"\"),\"\")","v":""},"Dodge Literacy Magnet","Elementary",null,null,null,null,null,null,null,null,null,null,null,null,null,null,null,null,null,512,null,null,385,0.752]
[651,"$B$4",259,"Wichita","Sedgwick",1663,{"$f":"IFERROR(IF(OR(AND(Application!$A$9=\"Yes\",IFERROR(MATCH(C594,Application!$K$11:$K$297,0)>0,\"\")),AND(Application!$A$9=\"No\",C594=Application!$A$13)),F594,\"\"),\"\")","v":""},"Ortiz Elementary School","Elementary",null,null,null,null,null,null,null,null,null,null,null,null,null,null,null,null,null,311,null,null,262,0.84240000000000004]
[652,"$B$4",259,"Wichita","Sedgwick",1664,{"$f":"IFERROR(IF(OR(AND(Application!$A$9=\"Yes\",IFERROR(MATCH(C595,Application!$K$11:$K$297,0)>0,\"\")),AND(Application!$A$9=\"No\",C595=Application!$A$13)),F595,\"\"),\"\")","v":""},"Christa McAuliffe Academy","Elementary",null,null,null,null,null,null,null,null,null,null,null,null,null,null,null,null,null,863,null,null,331,0.38350000000000001]
[653,"$B$4",259,"Wichita","Sedgwick",1665,{"$f":"IFERROR(IF(OR(AND(Application!$A$9=\"Yes\",IFERROR(MATCH(C596,Application!$K$11:$K$297,0)>0,\"\")),AND(Application!$A$9=\"No\",C596=Application!$A$13)),F596,\"\"),\"\")","v":""},"Cornerstone","Special Ed Program - Off Site Community Based",null,null,null,null,null,null,null,null,null,null,null,null,null,null,null,null,null,"N/A",null,null,"N/A","N/A"]
[654,"$B$4",259,"Wichita","Sedgwick",1666,{"$f":"IFERROR(IF(OR(AND(Application!$A$9=\"Yes\",IFERROR(MATCH(C597,Application!$K$11:$K$297,0)>0,\"\")),AND(Application!$A$9=\"No\",C597=Application!$A$13)),F597,\"\"),\"\")","v":""},"Gerard House","Special Ed Program - Off Site Community Based",null,null,null,null,null,null,null,null,null,null,null,null,null,null,null,null,null,"N/A",null,null,"N/A","N/A"]
[655,"$B$4",259,"Wichita","Sedgwick",1667,{"$f":"IFERROR(IF(OR(AND(Application!$A$9=\"Yes\",IFERROR(MATCH(C598,Application!$K$11:$K$297,0)>0,\"\")),AND(Application!$A$9=\"No\",C598=Application!$A$13)),F598,\"\"),\"\")","v":""},"Nuvision","Special Ed Program - Off Site Community Based",null,null,null,null,null,null,null,null,null,null,null,null,null,null,null,null,null,"N/A",null,null,"N/A","N/A"]
[656,"$B$4",259,"Wichita","Sedgwick",1668,{"$f":"IFERROR(IF(OR(AND(Application!$A$9=\"Yes\",IFERROR(MATCH(C599,Application!$K$11:$K$297,0)>0,\"\")),AND(Application!$A$9=\"No\",C599=Application!$A$13)),F599,\"\"),\"\")","v":""},"Juvenile Residential Facility","Special Ed Program - Incarcerated",null,null,null,null,null,null,null,null,null,null,null,null,null,null,null,null,null,"N/A",null,null,"N/A","N/A"]
[657,"$B$4",259,"Wichita","Sedgwick",1669,{"$f":"IFERROR(IF(OR(AND(Application!$A$9=\"Yes\",IFERROR(MATCH(C600,Application!$K$11:$K$297,0)>0,\"\")),AND(Application!$A$9=\"No\",C600=Application!$A$13)),F600,\"\"),\"\")","v":""},"Bryant Opportunity Academy","Elementary",null,null,null,null,null,null,null,null,null,null,null,null,null,null,null,null,null,38,null,null,36,0.94740000000000002]
[658,"$B$4",259,"Wichita","Sedgwick",1671,{"$f":"IFERROR(IF(OR(AND(Application!$A$9=\"Yes\",IFERROR(MATCH(C601,Application!$K$11:$K$297,0)>0,\"\")),AND(Application!$A$9=\"No\",C601=Application!$A$13)),F601,\"\"),\"\")","v":""},"It Takes a Village  (ITAV)","Other",null,null,null,null,null,null,null,null,null,null,null,null,null,null,null,null,null,"N/A",null,null,"N/A","N/A"]
[659,"$B$4",259,"Wichita","Sedgwick",1672,{"$f":"IFERROR(IF(OR(AND(Application!$A$9=\"Yes\",IFERROR(MATCH(C602,Application!$K$11:$K$297,0)>0,\"\")),AND(Application!$A$9=\"No\",C602=Application!$A$13)),F602,\"\"),\"\")","v":""},"LIF Inc","Other",null,null,null,null,null,null,null,null,null,null,null,null,null,null,null,null,null,"N/A",null,null,"N/A","N/A"]
[660,"$B$4",259,"Wichita","Sedgwick",1673,{"$f":"IFERROR(IF(OR(AND(Application!$A$9=\"Yes\",IFERROR(MATCH(C603,Application!$K$11:$K$297,0)>0,\"\")),AND(Application!$A$9=\"No\",C603=Application!$A$13)),F603,\"\"),\"\")","v":""},"Segue","Other",null,null,null,null,null,null,null,null,null,null,null,null,null,null,null,null,null,"N/A",null,null,"N/A","N/A"]
[661,"$B$4",259,"Wichita","Sedgwick",1674,{"$f":"IFERROR(IF(OR(AND(Application!$A$9=\"Yes\",IFERROR(MATCH(C604,Application!$K$11:$K$297,0)>0,\"\")),AND(Application!$A$9=\"No\",C604=Application!$A$13)),F604,\"\"),\"\")","v":""},"Franklin Elem","Elementary",null,null,null,null,null,null,null,null,null,null,null,null,null,null,null,null,null,324,null,null,256,0.79010000000000002]
[662,"$B$4",259,"Wichita","Sedgwick",1677,{"$f":"IFERROR(IF(OR(AND(Application!$A$9=\"Yes\",IFERROR(MATCH(C605,Application!$K$11:$K$297,0)>0,\"\")),AND(Application!$A$9=\"No\",C605=Application!$A$13)),F605,\"\"),\"\")","v":""},"Gammon Elem","Elementary",null,null,null,null,null,null,null,null,null,null,null,null,null,null,null,null,null,428,null,null,333,0.77800000000000002]
[663,"$B$4",259,"Wichita","Sedgwick",1678,{"$f":"IFERROR(IF(OR(AND(Application!$A$9=\"Yes\",IFERROR(MATCH(C606,Application!$K$11:$K$297,0)>0,\"\")),AND(Application!$A$9=\"No\",C606=Application!$A$13)),F606,\"\"),\"\")","v":""},"Gardiner Elem","Elementary",null,null,null,null,null,null,null,null,null,null,null,null,null,null,null,null,null,403,null,null,372,0.92310000000000003]
[664,"$B$4",259,"Wichita","Sedgwick",1684,{"$f":"IFERROR(IF(OR(AND(Application!$A$9=\"Yes\",IFERROR(MATCH(C607,Application!$K$11:$K$297,0)>0,\"\")),AND(Application!$A$9=\"No\",C607=Application!$A$13)),F607,\"\"),\"\")","v":""},"Griffith Elem","Elementary",null,null,null,null,null,null,null,null,null,null,null,null,null,null,null,null,null,420,null,null,339,0.80710000000000004]
[665,"$B$4",259,"Wichita","Sedgwick",1686,{"$f":"IFERROR(IF(OR(AND(Application!$A$9=\"Yes\",IFERROR(MATCH(C608,Application!$K$11:$K$297,0)>0,\"\")),AND(Application!$A$9=\"No\",C608=Application!$A$13)),F608,\"\"),\"\")","v":""},"Price-Harris Communications Magnet","Elementary",null,null,null,null,null,null,null,null,null,null,null,null,null,null,null,null,null,419,null,null,208,0.49640000000000001]
[666,"$B$4",259,"Wichita","Sedgwick",1688,{"$f":"IFERROR(IF(OR(AND(Application!$A$9=\"Yes\",IFERROR(MATCH(C609,Application!$K$11:$K$297,0)>0,\"\")),AND(Application!$A$9=\"No\",C609=Application!$A$13)),F609,\"\"),\"\")","v":""},"Harry Street Elem","Elementary",null,null,null,null,null,null,null,null,null,null,null,null,null,null,null,null,null,339,null,null,298,0.87909999999999999]
[667,"$B$4",259,"Wichita","Sedgwick",1690,{"$f":"IFERROR(IF(OR(AND(Application!$A$9=\"Yes\",IFERROR(MATCH(C610,Application!$K$11:$K$297,0)>0,\"\")),AND(Application!$A$9=\"No\",C610=Application!$A$13)),F610,\"\"),\"\")","v":""},"Hyde Intl Studies/Commun Elem Magnet","Elementary",null,null,null,null,null,null,null,null,null,null,null,null,null,null,null,null,null,270,null,null,82,0.30370000000000003]
[668,"$B$4",259,"Wichita","Sedgwick",1693,{"$f":"IFERROR(IF(OR(AND(Application!$A$9=\"Yes\",IFERROR(MATCH(C611,Application!$K$11:$K$297,0)>0,\"\")),AND(Application!$A$9=\"No\",C611=Application!$A$13)),F611,\"\"),\"\")","v":""},"Spaght Multimedia Magnet","Elementary",null,null,null,null,null,null,null,null,null,null,null,null,null,null,null,null,null,424,null,null,391,0.92220000000000002]
[669,"$B$4",259,"Wichita","Sedgwick",1694,{"$f":"IFERROR(IF(OR(AND(Application!$A$9=\"Yes\",IFERROR(MATCH(C612,Application!$K$11:$K$297,0)>0,\"\")),AND(Application!$A$9=\"No\",C612=Application!$A$13)),F612,\"\"),\"\")","v":""},"Irving Elementary","Elementary",null,null,null,null,null,null,null,null,null,null,null,null,null,null,null,null,null,314,null,null,283,0.90129999999999999]
[670,"$B$4",259,"Wichita","Sedgwick",1695,{"$f":"IFERROR(IF(OR(AND(Application!$A$9=\"Yes\",IFERROR(MATCH(C613,Application!$K$11:$K$297,0)>0,\"\")),AND(Application!$A$9=\"No\",C613=Application!$A$13)),F613,\"\"),\"\")","v":""},"Isely Traditional Magnet Elem","Elementary",null,null,null,null,null,null,null,null,null,null,null,null,null,null,null,null,null,626,null,null,260,0.4153]
[671,"$B$4",259,"Wichita","Sedgwick",1698,{"$f":"IFERROR(IF(OR(AND(Application!$A$9=\"Yes\",IFERROR(MATCH(C614,Application!$K$11:$K$297,0)>0,\"\")),AND(Application!$A$9=\"No\",C614=Application!$A$13)),F614,\"\"),\"\")","v":""},"Jefferson Elem","Elementary",null,null,null,null,null,null,null,null,null,null,null,null,null,null,null,null,null,396,null,null,350,0.88380000000000003]
[672,"$B$4",259,"Wichita","Sedgwick",1704,{"$f":"IFERROR(IF(OR(AND(Application!$A$9=\"Yes\",IFERROR(MATCH(C615,Application!$K$11:$K$297,0)>0,\"\")),AND(Application!$A$9=\"No\",C615=Application!$A$13)),F615,\"\"),\"\")","v":""},"Kelly Liberal Arts Academy","Elementary",null,null,null,null,null,null,null,null,null,null,null,null,null,null,null,null,null,379,null,null,289,0.76249999999999996]
[673,"$B$4",259,"Wichita","Sedgwick",1706,{"$f":"IFERROR(IF(OR(AND(Application!$A$9=\"Yes\",IFERROR(MATCH(C616,Application!$K$11:$K$297,0)>0,\"\")),AND(Application!$A$9=\"No\",C616=Application!$A$13)),F616,\"\"),\"\")","v":""},"Kensler Elem","Elementary",null,null,null,null,null,null,null,null,null,null,null,null,null,null,null,null,null,503,null,null,323,0.6421]
[674,"$B$4",259,"Wichita","Sedgwick",1708,{"$f":"IFERROR(IF(OR(AND(Application!$A$9=\"Yes\",IFERROR(MATCH(C617,Application!$K$11:$K$297,0)>0,\"\")),AND(Application!$A$9=\"No\",C617=Application!$A$13)),F617,\"\"),\"\")","v":""},"Bostic Traditional Magnet Elem","Elementary",null,null,null,null,null,null,null,null,null,null,null,null,null,null,null,null,null,294,null,null,108,0.36730000000000002]
[675,"$B$4",259,"Wichita","Sedgwick",1710,{"$f":"IFERROR(IF(OR(AND(Application!$A$9=\"Yes\",IFERROR(MATCH(C618,Application!$K$11:$K$297,0)>0,\"\")),AND(Application!$A$9=\"No\",C618=Application!$A$13)),F618,\"\"),\"\")","v":""},"Enders STEM and Leadership Magnet","Elementary",null,null,null,null,null,null,null,null,null,null,null,null,null,null,null,null,null,403,null,null,294,0.72950000000000004]
[676,"$B$4",259,"Wichita","Sedgwick",1712,{"$f":"IFERROR(IF(OR(AND(Application!$A$9=\"Yes\",IFERROR(MATCH(C619,Application!$K$11:$K$297,0)>0,\"\")),AND(Application!$A$9=\"No\",C619=Application!$A$13)),F619,\"\"),\"\")","v":""},"Lawrence Elem","Elementary",null,null,null,null,null,null,null,null,null,null,null,null,null,null,null,null,null,368,null,null,276,0.75]
[677,"$B$4",259,"Wichita","Sedgwick",1715,{"$f":"IFERROR(IF(OR(AND(Application!$A$9=\"Yes\",IFERROR(MATCH(C620,Application!$K$11:$K$297,0)>0,\"\")),AND(Application!$A$9=\"No\",C620=Application!$A$13)),F620,\"\"),\"\")","v":""},"Levy Sp Ed Center","Special School",null,null,null,null,null,null,null,null,null,null,null,null,null,null,null,null,null,75,null,null,62,0.82669999999999999]
[678,"$B$4",259,"Wichita","Sedgwick",1718,{"$f":"IFERROR(IF(OR(AND(Application!$A$9=\"Yes\",IFERROR(MATCH(C621,Application!$K$11:$K$297,0)>0,\"\")),AND(Application!$A$9=\"No\",C621=Application!$A$13)),F621,\"\"),\"\")","v":""},"Linwood Elementary","Elementary",null,null,null,null,null,null,null,null,null,null,null,null,null,null,null,null,null,428,null,null,360,0.84109999999999996]
[679,"$B$4",259,"Wichita","Sedgwick",1720,{"$f":"IFERROR(IF(OR(AND(Application!$A$9=\"Yes\",IFERROR(MATCH(C622,Application!$K$11:$K$297,0)>0,\"\")),AND(Application!$A$9=\"No\",C622=Application!$A$13)),F622,\"\"),\"\")","v":""},"Little Early Childhood Ed Ctr","Special Ed Program - Off Site Preschool",null,null,null,null,null,null,null,null,null,null,null,null,null,null,null,null,null,"N/A",null,null,"N/A","N/A"]
[680,"$B$4",259,"Wichita","Sedgwick",1724,{"$f":"IFERROR(IF(OR(AND(Application!$A$9=\"Yes\",IFERROR(MATCH(C623,Application!$K$11:$K$297,0)>0,\"\")),AND(Application!$A$9=\"No\",C623=Application!$A$13)),F623,\"\"),\"\")","v":""},"L'Ouverture Computer Technology Magnet","Elementary",null,null,null,null,null,null,null,null,null,null,null,null,null,null,null,null,null,236,null,null,210,0.88980000000000004]
[681,"$B$4",259,"Wichita","Sedgwick",1736,{"$f":"IFERROR(IF(OR(AND(Application!$A$9=\"Yes\",IFERROR(MATCH(C624,Application!$K$11:$K$297,0)>0,\"\")),AND(Application!$A$9=\"No\",C624=Application!$A$13)),F624,\"\"),\"\")","v":""},"McCollom Elem","Elementary",null,null,null,null,null,null,null,null,null,null,null,null,null,null,null,null,null,321,null,null,153,0.47660000000000002]
[682,"$B$4",259,"Wichita","Sedgwick",1740,{"$f":"IFERROR(IF(OR(AND(Application!$A$9=\"Yes\",IFERROR(MATCH(C625,Application!$K$11:$K$297,0)>0,\"\")),AND(Application!$A$9=\"No\",C625=Application!$A$13)),F625,\"\"),\"\")","v":""},"McLean Science/Tech Magnet Elem","Elementary",null,null,null,null,null,null,null,null,null,null,null,null,null,null,null,null,null,259,null,null,122,0.47099999999999997]
[683,"$B$4",259,"Wichita","Sedgwick",1744,{"$f":"IFERROR(IF(OR(AND(Application!$A$9=\"Yes\",IFERROR(MATCH(C626,Application!$K$11:$K$297,0)>0,\"\")),AND(Application!$A$9=\"No\",C626=Application!$A$13)),F626,\"\"),\"\")","v":""},"Minneha Core Knowledge Elem","Elementary",null,null,null,null,null,null,null,null,null,null,null,null,null,null,null,null,null,577,null,null,372,0.64470000000000005]
[684,"$B$4",259,"Wichita","Sedgwick",1746,{"$f":"IFERROR(IF(OR(AND(Application!$A$9=\"Yes\",IFERROR(MATCH(C627,Application!$K$11:$K$297,0)>0,\"\")),AND(Application!$A$9=\"No\",C627=Application!$A$13)),F627,\"\"),\"\")","v":""},"Mueller Aerospace/Engineering Discovery Magne","Elementary",null,null,null,null,null,null,null,null,null,null,null,null,null,null,null,null,null,301,null,null,280,0.93020000000000003]
[685,"$B$4",259,"Wichita","Sedgwick",1754,{"$f":"IFERROR(IF(OR(AND(Application!$A$9=\"Yes\",IFERROR(MATCH(C628,Application!$K$11:$K$297,0)>0,\"\")),AND(Application!$A$9=\"No\",C628=Application!$A$13)),F628,\"\"),\"\")","v":""},"O K Elem","Elementary",null,null,null,null,null,null,null,null,null,null,null,null,null,null,null,null,null,297,null,null,190,0.63970000000000005]
[686,"$B$4",259,"Wichita","Sedgwick",1756,{"$f":"IFERROR(IF(OR(AND(Application!$A$9=\"Yes\",IFERROR(MATCH(C629,Application!$K$11:$K$297,0)>0,\"\")),AND(Application!$A$9=\"No\",C629=Application!$A$13)),F629,\"\"),\"\")","v":""},"Park Elementary","Elementary",null,null,null,null,null,null,null,null,null,null,null,null,null,null,null,null,null,329,null,null,289,0.87839999999999996]
[687,"$B$4",259,"Wichita","Sedgwick",1758,{"$f":"IFERROR(IF(OR(AND(Application!$A$9=\"Yes\",IFERROR(MATCH(C630,Application!$K$11:$K$297,0)>0,\"\")),AND(Application!$A$9=\"No\",C630=Application!$A$13)),F630,\"\"),\"\")","v":""},"Payne Elem","Elementary",null,null,null,null,null,null,null,null,null,null,null,null,null,null,null,null,null,258,null,null,223,0.86429999999999996]
[688,"$B$4",259,"Wichita","Sedgwick",1760,{"$f":"IFERROR(IF(OR(AND(Application!$A$9=\"Yes\",IFERROR(MATCH(C631,Application!$K$11:$K$297,0)>0,\"\")),AND(Application!$A$9=\"No\",C631=Application!$A$13)),F631,\"\"),\"\")","v":""},"Peterson Elem","Elementary",null,null,null,null,null,null,null,null,null,null,null,null,null,null,null,null,null,354,null,null,168,0.47460000000000002]
[689,"$B$4",259,"Wichita","Sedgwick",1766,{"$f":"IFERROR(IF(OR(AND(Application!$A$9=\"Yes\",IFERROR(MATCH(C632,Application!$K$11:$K$297,0)>0,\"\")),AND(Application!$A$9=\"No\",C632=Application!$A$13)),F632,\"\"),\"\")","v":""},"Riverside Leadership Magnet Elementary","Elementary",null,null,null,null,null,null,null,null,null,null,null,null,null,null,null,null,null,206,null,null,99,0.48060000000000003]
[690,"$B$4",259,"Wichita","Sedgwick",1770,{"$f":"IFERROR(IF(OR(AND(Application!$A$9=\"Yes\",IFERROR(MATCH(C633,Application!$K$11:$K$297,0)>0,\"\")),AND(Application!$A$9=\"No\",C633=Application!$A$13)),F633,\"\"),\"\")","v":""},"School Service Ctr Wichita","Other",null,null,null,null,null,null,null,null,null,null,null,null,null,null,null,null,null,"N/A",null,null,"N/A","N/A"]
[691,"$B$4",259,"Wichita","Sedgwick",1772,{"$f":"IFERROR(IF(OR(AND(Application!$A$9=\"Yes\",IFERROR(MATCH(C634,Application!$K$11:$K$297,0)>0,\"\")),AND(Application!$A$9=\"No\",C634=Application!$A$13)),F634,\"\"),\"\")","v":""},"Seltzer Elem","Elementary",null,null,null,null,null,null,null,null,null,null,null,null,null,null,null,null,null,492,null,null,253,0.51419999999999999]
[692,"$B$4",259,"Wichita","Sedgwick",1778,{"$f":"IFERROR(IF(OR(AND(Application!$A$9=\"Yes\",IFERROR(MATCH(C635,Application!$K$11:$K$297,0)>0,\"\")),AND(Application!$A$9=\"No\",C635=Application!$A$13)),F635,\"\"),\"\")","v":""},"Pleasant Valley Elem","Elementary",null,null,null,null,null,null,null,null,null,null,null,null,null,null,null,null,null,304,null,null,244,0.80259999999999998]
[693,"$B$4",259,"Wichita","Sedgwick",1780,{"$f":"IFERROR(IF(OR(AND(Application!$A$9=\"Yes\",IFERROR(MATCH(C636,Application!$K$11:$K$297,0)>0,\"\")),AND(Application!$A$9=\"No\",C636=Application!$A$13)),F636,\"\"),\"\")","v":""},"Sowers Alternative High School","High School",null,null,null,null,null,null,null,null,null,null,null,null,null,null,null,null,null,75,null,null,66,0.88]
[694,"$B$4",259,"Wichita","Sedgwick",1782,{"$f":"IFERROR(IF(OR(AND(Application!$A$9=\"Yes\",IFERROR(MATCH(C637,Application!$K$11:$K$297,0)>0,\"\")),AND(Application!$A$9=\"No\",C637=Application!$A$13)),F637,\"\"),\"\")","v":""},"Stanley Elem","Elementary",null,null,null,null,null,null,null,null,null,null,null,null,null,null,null,null,null,380,null,null,316,0.83160000000000001]
[695,"$B$4",259,"Wichita","Sedgwick",1785,{"$f":"IFERROR(IF(OR(AND(Application!$A$9=\"Yes\",IFERROR(MATCH(C638,Application!$K$11:$K$297,0)>0,\"\")),AND(Application!$A$9=\"No\",C638=Application!$A$13)),F638,\"\"),\"\")","v":""},"Stucky Middle School","Middle School",null,null,null,null,null,null,null,null,null,null,null,null,null,null,null,null,null,585,null,null,354,0.60509999999999997]
[696,"$B$4",259,"Wichita","Sedgwick",1790,{"$f":"IFERROR(IF(OR(AND(Application!$A$9=\"Yes\",IFERROR(MATCH(C639,Application!$K$11:$K$297,0)>0,\"\")),AND(Application!$A$9=\"No\",C639=Application!$A$13)),F639,\"\"),\"\")","v":""},"Washington Accelerated Learning Elem","Elementary",null,null,null,null,null,null,null,null,null,null,null,null,null,null,null,null,null,455,null,null,415,0.91210000000000002]
[697,"$B$4",259,"Wichita","Sedgwick",1792,{"$f":"IFERROR(IF(OR(AND(Application!$A$9=\"Yes\",IFERROR(MATCH(C640,Application!$K$11:$K$297,0)>0,\"\")),AND(Application!$A$9=\"No\",C640=Application!$A$13)),F640,\"\"),\"\")","v":""},"Wells Alternative Middle School","Middle School",null,null,null,null,null,null,null,null,null,null,null,null,null,null,null,null,null,29,null,null,26,0.89659999999999995]
[698,"$B$4",259,"Wichita","Sedgwick",1796,{"$f":"IFERROR(IF(OR(AND(Application!$A$9=\"Yes\",IFERROR(MATCH(C641,Application!$K$11:$K$297,0)>0,\"\")),AND(Application!$A$9=\"No\",C641=Application!$A$13)),F641,\"\"),\"\")","v":""},"White Elem","Elementary",null,null,null,null,null,null,null,null,null,null,null,null,null,null,null,null,null,417,null,null,343,0.82250000000000001]
[699,"$B$4",259,"Wichita","Sedgwick",1798,{"$f":"IFERROR(IF(OR(AND(Application!$A$9=\"Yes\",IFERROR(MATCH(C642,Application!$K$11:$K$297,0)>0,\"\")),AND(Application!$A$9=\"No\",C642=Application!$A$13)),F642,\"\"),\"\")","v":""},"Anderson Elem","Elementary",null,null,null,null,null,null,null,null,null,null,null,null,null,null,null,null,null,472,null,null,405,0.85809999999999997]
[700,"$B$4",259,"Wichita","Sedgwick",1800,{"$f":"IFERROR(IF(OR(AND(Application!$A$9=\"Yes\",IFERROR(MATCH(C643,Application!$K$11:$K$297,0)>0,\"\")),AND(Application!$A$9=\"No\",C643=Application!$A$13)),F643,\"\"),\"\")","v":""},"Woodland Health / Wellness Magnet Elem","Elementary",null,null,null,null,null,null,null,null,null,null,null,null,null,null,null,null,null,323,null,null,255,0.78949999999999998]
[701,"$B$4",259,"Wichita","Sedgwick",1802,{"$f":"IFERROR(IF(OR(AND(Application!$A$9=\"Yes\",IFERROR(MATCH(C644,Application!$K$11:$K$297,0)>0,\"\")),AND(Application!$A$9=\"No\",C644=Application!$A$13)),F644,\"\"),\"\")","v":""},"Woodman Elem","Elementary",null,null,null,null,null,null,null,null,null,null,null,null,null,null,null,null,null,578,null,null,479,0.82869999999999999]
[702,"$B$4",259,"Wichita","Sedgwick",1804,{"$f":"IFERROR(IF(OR(AND(Application!$A$9=\"Yes\",IFERROR(MATCH(C645,Application!$K$11:$K$297,0)>0,\"\")),AND(Application!$A$9=\"No\",C645=Application!$A$13)),F645,\"\"),\"\")","v":""},"Allison Traditional Magnet Middle","Middle School",null,null,null,null,null,null,null,null,null,null,null,null,null,null,null,null,null,559,null,null,338,0.60470000000000002]
[703,"$B$4",259,"Wichita","Sedgwick",1806,{"$f":"IFERROR(IF(OR(AND(Application!$A$9=\"Yes\",IFERROR(MATCH(C646,Application!$K$11:$K$297,0)>0,\"\")),AND(Application!$A$9=\"No\",C646=Application!$A$13)),F646,\"\"),\"\")","v":""},"Brooks Magnet Middle School","Middle School",null,null,null,null,null,null,null,null,null,null,null,null,null,null,null,null,null,534,null,null,387,0.72470000000000001]
[704,"$B$4",259,"Wichita","Sedgwick",1808,{"$f":"IFERROR(IF(OR(AND(Application!$A$9=\"Yes\",IFERROR(MATCH(C647,Application!$K$11:$K$297,0)>0,\"\")),AND(Application!$A$9=\"No\",C647=Application!$A$13)),F647,\"\"),\"\")","v":""},"Curtis Middle School","Middle School",null,null,null,null,null,null,null,null,null,null,null,null,null,null,null,null,null,828,null,null,722,0.872]
[705,"$B$4",259,"Wichita","Sedgwick",1810,{"$f":"IFERROR(IF(OR(AND(Application!$A$9=\"Yes\",IFERROR(MATCH(C648,Application!$K$11:$K$297,0)>0,\"\")),AND(Application!$A$9=\"No\",C648=Application!$A$13)),F648,\"\"),\"\")","v":""},"Coleman Middle School","Middle School",null,null,null,null,null,null,null,null,null,null,null,null,null,null,null,null,null,404,null,null,330,0.81679999999999997]
[706,"$B$4",259,"Wichita","Sedgwick",1812,{"$f":"IFERROR(IF(OR(AND(Application!$A$9=\"Yes\",IFERROR(MATCH(C649,Application!$K$11:$K$297,0)>0,\"\")),AND(Application!$A$9=\"No\",C649=Application!$A$13)),F649,\"\"),\"\")","v":""},"Hadley Middle School","Middle School",null,null,null,null,null,null,null,null,null,null,null,null,null,null,null,null,null,533,null,null,441,0.82740000000000002]
[707,"$B$4",259,"Wichita","Sedgwick",1814,{"$f":"IFERROR(IF(OR(AND(Application!$A$9=\"Yes\",IFERROR(MATCH(C650,Application!$K$11:$K$297,0)>0,\"\")),AND(Application!$A$9=\"No\",C650=Application!$A$13)),F650,\"\"),\"\")","v":""},"Hamilton Middle School","Middle School",null,null,null,null,null,null,null,null,null,null,null,null,null,null,null,null,null,566,null,null,505,0.89219999999999999]
[708,"$B$4",259,"Wichita","Sedgwick",1817,{"$f":"IFERROR(IF(OR(AND(Application!$A$9=\"Yes\",IFERROR(MATCH(C651,Application!$K$11:$K$297,0)>0,\"\")),AND(Application!$A$9=\"No\",C651=Application!$A$13)),F651,\"\"),\"\")","v":""},"Jardine Technology Middle Magnet","Middle School",null,null,null,null,null,null,null,null,null,null,null,null,null,null,null,null,null,516,null,null,444,0.86050000000000004]
[709,"$B$4",259,"Wichita","Sedgwick",1818,{"$f":"IFERROR(IF(OR(AND(Application!$A$9=\"Yes\",IFERROR(MATCH(C652,Application!$K$11:$K$297,0)>0,\"\")),AND(Application!$A$9=\"No\",C652=Application!$A$13)),F652,\"\"),\"\")","v":""},"Horace Mann Dual Language Magnet","Elementary",null,null,null,null,null,null,null,null,null,null,null,null,null,null,null,null,null,613,null,null,431,0.70309999999999995]
[710,"$B$4",259,"Wichita","Sedgwick",1823,{"$f":"IFERROR(IF(OR(AND(Application!$A$9=\"Yes\",IFERROR(MATCH(C653,Application!$K$11:$K$297,0)>0,\"\")),AND(Application!$A$9=\"No\",C653=Application!$A$13)),F653,\"\"),\"\")","v":""},"Northeast Magnet High School","High School",null,null,null,null,null,null,null,null,null,null,null,null,null,null,null,null,null,630,null,null,313,0.49680000000000002]
[711,"$B$4",259,"Wichita","Sedgwick",1824,{"$f":"IFERROR(IF(OR(AND(Application!$A$9=\"Yes\",IFERROR(MATCH(C654,Application!$K$11:$K$297,0)>0,\"\")),AND(Application!$A$9=\"No\",C654=Application!$A$13)),F654,\"\"),\"\")","v":""},"Mayberry Cultural and Fine Arts Magnet Middle","Middle School",null,null,null,null,null,null,null,null,null,null,null,null,null,null,null,null,null,629,null,null,414,0.65820000000000001]
[712,"$B$4",259,"Wichita","Sedgwick",1828,{"$f":"IFERROR(IF(OR(AND(Application!$A$9=\"Yes\",IFERROR(MATCH(C655,Application!$K$11:$K$297,0)>0,\"\")),AND(Application!$A$9=\"No\",C655=Application!$A$13)),F655,\"\"),\"\")","v":""},"Pleasant Valley Middle School","Middle School",null,null,null,null,null,null,null,null,null,null,null,null,null,null,null,null,null,595,null,null,520,0.87390000000000001]
[713,"$B$4",259,"Wichita","Sedgwick",1830,{"$f":"IFERROR(IF(OR(AND(Application!$A$9=\"Yes\",IFERROR(MATCH(C656,Application!$K$11:$K$297,0)>0,\"\")),AND(Application!$A$9=\"No\",C656=Application!$A$13)),F656,\"\"),\"\")","v":""},"Robinson Middle School","Middle School",null,null,null,null,null,null,null,null,null,null,null,null,null,null,null,null,null,740,null,null,393,0.53110000000000002]
[714,"$B$4",259,"Wichita","Sedgwick",1833,{"$f":"IFERROR(IF(OR(AND(Application!$A$9=\"Yes\",IFERROR(MATCH(C657,Application!$K$11:$K$297,0)>0,\"\")),AND(Application!$A$9=\"No\",C657=Application!$A$13)),F657,\"\"),\"\")","v":""},"Wilbur Middle School","Middle School",null,null,null,null,null,null,null,null,null,null,null,null,null,null,null,null,null,800,null,null,471,0.58879999999999999]
[715,"$B$4",259,"Wichita","Sedgwick",1834,{"$f":"IFERROR(IF(OR(AND(Application!$A$9=\"Yes\",IFERROR(MATCH(C658,Application!$K$11:$K$297,0)>0,\"\")),AND(Application!$A$9=\"No\",C658=Application!$A$13)),F658,\"\"),\"\")","v":""},"Truesdell Middle School","Middle School",null,null,null,null,null,null,null,null,null,null,null,null,null,null,null,null,null,982,null,null,838,0.85340000000000005]
[716,"$B$4",259,"Wichita","Sedgwick",1835,{"$f":"IFERROR(IF(OR(AND(Application!$A$9=\"Yes\",IFERROR(MATCH(C659,Application!$K$11:$K$297,0)>0,\"\")),AND(Application!$A$9=\"No\",C659=Application!$A$13)),F659,\"\"),\"\")","v":""},"Wichita Children's Home","Special School",null,null,null,null,null,null,null,null,null,null,null,null,null,null,null,null,null,"N/A",null,null,"N/A","N/A"]
[717,"$B$4",259,"Wichita","Sedgwick",1836,{"$f":"IFERROR(IF(OR(AND(Application!$A$9=\"Yes\",IFERROR(MATCH(C660,Application!$K$11:$K$297,0)>0,\"\")),AND(Application!$A$9=\"No\",C660=Application!$A$13)),F660,\"\"),\"\")","v":""},"East High","High School",null,null,null,null,null,null,null,null,null,null,null,null,null,null,null,null,null,2296,null,null,1608,0.70030000000000003]
[718,"$B$4",259,"Wichita","Sedgwick",1837,{"$f":"IFERROR(IF(OR(AND(Application!$A$9=\"Yes\",IFERROR(MATCH(C661,Application!$K$11:$K$297,0)>0,\"\")),AND(Application!$A$9=\"No\",C661=Application!$A$13)),F661,\"\"),\"\")","v":""},"Wichita Alternative High","High School",null,null,null,null,null,null,null,null,null,null,null,null,null,null,null,null,null,238,null,null,162,0.68069999999999997]
[719,"$B$4",259,"Wichita","Sedgwick",1838,{"$f":"IFERROR(IF(OR(AND(Application!$A$9=\"Yes\",IFERROR(MATCH(C662,Application!$K$11:$K$297,0)>0,\"\")),AND(Application!$A$9=\"No\",C662=Application!$A$13)),F662,\"\"),\"\")","v":""},"North High","High School",null,null,null,null,null,null,null,null,null,null,null,null,null,null,null,null,null,2074,null,null,1600,0.77149999999999996]
[720,"$B$4",259,"Wichita","Sedgwick",1840,{"$f":"IFERROR(IF(OR(AND(Application!$A$9=\"Yes\",IFERROR(MATCH(C663,Application!$K$11:$K$297,0)>0,\"\")),AND(Application!$A$9=\"No\",C663=Application!$A$13)),F663,\"\"),\"\")","v":""},"South High","High School",null,null,null,null,null,null,null,null,null,null,null,null,null,null,null,null,null,1632,null,null,1296,0.79410000000000003]
[721,"$B$4",259,"Wichita","Sedgwick",1842,{"$f":"IFERROR(IF(OR(AND(Application!$A$9=\"Yes\",IFERROR(MATCH(C664,Application!$K$11:$K$297,0)>0,\"\")),AND(Application!$A$9=\"No\",C664=Application!$A$13)),F664,\"\"),\"\")","v":""},"Southeast High","High School",null,null,null,null,null,null,null,null,null,null,null,null,null,null,null,null,null,2191,null,null,1536,0.70099999999999996]
[722,"$B$4",259,"Wichita","Sedgwick",1844,{"$f":"IFERROR(IF(OR(AND(Application!$A$9=\"Yes\",IFERROR(MATCH(C665,Application!$K$11:$K$297,0)>0,\"\")),AND(Application!$A$9=\"No\",C665=Application!$A$13)),F665,\"\"),\"\")","v":""},"West High","High School",null,null,null,null,null,null,null,null,null,null,null,null,null,null,null,null,null,1370,null,null,1149,0.8387]
[723,"$B$4",259,"Wichita","Sedgwick",1846,{"$f":"IFERROR(IF(OR(AND(Application!$A$9=\"Yes\",IFERROR(MATCH(C666,Application!$K$11:$K$297,0)>0,\"\")),AND(Application!$A$9=\"No\",C666=Application!$A$13)),F666,\"\"),\"\")","v":""},"Heights High","High School",null,null,null,null,null,null,null,null,null,null,null,null,null,null,null,null,null,1294,null,null,790,0.61050000000000004]
[724,"$B$4",259,"Wichita","Sedgwick",1847,{"$f":"IFERROR(IF(OR(AND(Application!$A$9=\"Yes\",IFERROR(MATCH(C667,Application!$K$11:$K$297,0)>0,\"\")),AND(Application!$A$9=\"No\",C667=Application!$A$13)),F667,\"\"),\"\")","v":""},"Northwest High","High School",null,null,null,null,null,null,null,null,null,null,null,null,null,null,null,null,null,1416,null,null,710,0.50139999999999996]
[727,"$B$4",260,"Derby","Sedgwick",1925,{"$f":"IFERROR(IF(OR(AND(Application!$A$9=\"Yes\",IFERROR(MATCH(C668,Application!$K$11:$K$297,0)>0,\"\")),AND(Application!$A$9=\"No\",C668=Application!$A$13)),F668,\"\"),\"\")","v":""},"USD 260 - Off Site Non Public Buildings","Special Ed Program - Off Site Community Based",null,null,null,null,null,null,null,null,null,null,null,null,null,null,null,null,null,"N/A",null,null,"N/A","N/A"]
[728,"$B$4",260,"Derby","Sedgwick",1926,{"$f":"IFERROR(IF(OR(AND(Application!$A$9=\"Yes\",IFERROR(MATCH(C669,Application!$K$11:$K$297,0)>0,\"\")),AND(Application!$A$9=\"No\",C669=Application!$A$13)),F669,\"\"),\"\")","v":""},"Derby Middle Sch","Middle School",null,null,null,null,null,null,null,null,null,null,null,null,null,null,null,null,null,931,null,null,361,0.38779999999999998]
[729,"$B$4",260,"Derby","Sedgwick",1927,{"$f":"IFERROR(IF(OR(AND(Application!$A$9=\"Yes\",IFERROR(MATCH(C670,Application!$K$11:$K$297,0)>0,\"\")),AND(Application!$A$9=\"No\",C670=Application!$A$13)),F670,\"\"),\"\")","v":""},"El Paso Elem","Elementary",null,null,null,null,null,null,null,null,null,null,null,null,null,null,null,null,null,271,null,null,107,0.39479999999999998]
[730,"$B$4",260,"Derby","Sedgwick",1928,{"$f":"IFERROR(IF(OR(AND(Application!$A$9=\"Yes\",IFERROR(MATCH(C671,Application!$K$11:$K$297,0)>0,\"\")),AND(Application!$A$9=\"No\",C671=Application!$A$13)),F671,\"\"),\"\")","v":""},"Oaklawn Elem","Elementary",null,null,null,null,null,null,null,null,null,null,null,null,null,null,null,null,null,216,null,null,185,0.85650000000000004]
[731,"$B$4",260,"Derby","Sedgwick",1930,{"$f":"IFERROR(IF(OR(AND(Application!$A$9=\"Yes\",IFERROR(MATCH(C672,Application!$K$11:$K$297,0)>0,\"\")),AND(Application!$A$9=\"No\",C672=Application!$A$13)),F672,\"\"),\"\")","v":""},"Paul B Cooper Elem","Elementary",null,null,null,null,null,null,null,null,null,null,null,null,null,null,null,null,null,268,null,null,189,0.70520000000000005]
[732,"$B$4",260,"Derby","Sedgwick",1931,{"$f":"IFERROR(IF(OR(AND(Application!$A$9=\"Yes\",IFERROR(MATCH(C673,Application!$K$11:$K$297,0)>0,\"\")),AND(Application!$A$9=\"No\",C673=Application!$A$13)),F673,\"\"),\"\")","v":""},"USD 260 - Home","Special Ed Program - Home",null,null,null,null,null,null,null,null,null,null,null,null,null,null,null,null,null,"N/A",null,null,"N/A","N/A"]
[733,"$B$4",260,"Derby","Sedgwick",1933,{"$f":"IFERROR(IF(OR(AND(Application!$A$9=\"Yes\",IFERROR(MATCH(C674,Application!$K$11:$K$297,0)>0,\"\")),AND(Application!$A$9=\"No\",C674=Application!$A$13)),F674,\"\"),\"\")","v":""},"USD 260 - Community-Based Preschool","Special Ed Program - Community Based Preschool",null,null,null,null,null,null,null,null,null,null,null,null,null,null,null,null,null,"N/A",null,null,"N/A","N/A"]
[734,"$B$4",260,"Derby","Sedgwick",1934,{"$f":"IFERROR(IF(OR(AND(Application!$A$9=\"Yes\",IFERROR(MATCH(C675,Application!$K$11:$K$297,0)>0,\"\")),AND(Application!$A$9=\"No\",C675=Application!$A$13)),F675,\"\"),\"\")","v":""},"Swaney Elem","Elementary",null,null,null,null,null,null,null,null,null,null,null,null,null,null,null,null,null,371,null,null,190,0.5121]
[735,"$B$4",260,"Derby","Sedgwick",1935,{"$f":"IFERROR(IF(OR(AND(Application!$A$9=\"Yes\",IFERROR(MATCH(C676,Application!$K$11:$K$297,0)>0,\"\")),AND(Application!$A$9=\"No\",C676=Application!$A$13)),F676,\"\"),\"\")","v":""},"USD 260 - Public Off Campus","Special Ed Program - Public School Administered",null,null,null,null,null,null,null,null,null,null,null,null,null,null,null,null,null,"N/A",null,null,"N/A","N/A"]
[736,"$B$4",260,"Derby","Sedgwick",1936,{"$f":"IFERROR(IF(OR(AND(Application!$A$9=\"Yes\",IFERROR(MATCH(C677,Application!$K$11:$K$297,0)>0,\"\")),AND(Application!$A$9=\"No\",C677=Application!$A$13)),F677,\"\"),\"\")","v":""},"Wineteer Elem","Elementary",null,null,null,null,null,null,null,null,null,null,null,null,null,null,null,null,null,391,null,null,146,0.37340000000000001]
[737,"$B$4",260,"Derby","Sedgwick",1941,{"$f":"IFERROR(IF(OR(AND(Application!$A$9=\"Yes\",IFERROR(MATCH(C678,Application!$K$11:$K$297,0)>0,\"\")),AND(Application!$A$9=\"No\",C678=Application!$A$13)),F678,\"\"),\"\")","v":""},"Derby Hills Elem","Elementary",null,null,null,null,null,null,null,null,null,null,null,null,null,null,null,null,null,379,null,null,146,0.38519999999999999]
[738,"$B$4",260,"Derby","Sedgwick",1942,{"$f":"IFERROR(IF(OR(AND(Application!$A$9=\"Yes\",IFERROR(MATCH(C679,Application!$K$11:$K$297,0)>0,\"\")),AND(Application!$A$9=\"No\",C679=Application!$A$13)),F679,\"\"),\"\")","v":""},"Derby High School","High School",null,null,null,null,null,null,null,null,null,null,null,null,null,null,null,null,null,2172,null,null,787,0.36230000000000001]
[739,"$B$4",260,"Derby","Sedgwick",1943,{"$f":"IFERROR(IF(OR(AND(Application!$A$9=\"Yes\",IFERROR(MATCH(C680,Application!$K$11:$K$297,0)>0,\"\")),AND(Application!$A$9=\"No\",C680=Application!$A$13)),F680,\"\"),\"\")","v":""},"USD 260 - K Time Program W/O SPED","Early Childhood Program - General",null,null,null,null,null,null,null,null,null,null,null,null,null,null,null,null,null,"N/A",null,null,"N/A","N/A"]
[743,"$B$4",260,"Derby","Sedgwick",1944,{"$f":"IFERROR(IF(OR(AND(Application!$A$9=\"Yes\",IFERROR(MATCH(C681,Application!$K$11:$K$297,0)>0,\"\")),AND(Application!$A$9=\"No\",C681=Application!$A$13)),F681,\"\"),\"\")","v":""},"Tanglewood Elem","Elementary",null,null,null,null,null,null,null,null,null,null,null,null,null,null,null,null,null,619,null,null,118,0.19059999999999999]
[744,"$B$4",260,"Derby","Sedgwick",1945,{"$f":"IFERROR(IF(OR(AND(Application!$A$9=\"Yes\",IFERROR(MATCH(C682,Application!$K$11:$K$297,0)>0,\"\")),AND(Application!$A$9=\"No\",C682=Application!$A$13)),F682,\"\"),\"\")","v":""},"Park Hill Elementary","Elementary",null,null,null,null,null,null,null,null,null,null,null,null,null,null,null,null,null,403,null,null,97,0.2407]
[725,"$B$4",259,"Wichita","Sedgwick",1948,{"$f":"IFERROR(IF(OR(AND(Application!$A$9=\"Yes\",IFERROR(MATCH(C683,Application!$K$11:$K$297,0)>0,\"\")),AND(Application!$A$9=\"No\",C683=Application!$A$13)),F683,\"\"),\"\")","v":""},"Chisholm Life Skills Center","Special School",null,null,null,null,null,null,null,null,null,null,null,null,null,null,null,null,null,71,null,null,55,0.77459999999999996]
[726,"$B$4",259,"Wichita","Sedgwick",1949,{"$f":"IFERROR(IF(OR(AND(Application!$A$9=\"Yes\",IFERROR(MATCH(C684,Application!$K$11:$K$297,0)>0,\"\")),AND(Application!$A$9=\"No\",C684=Application!$A$13)),F684,\"\"),\"\")","v":""},"Wichita Juvenile Detention Center","Juvenile Detention Center",null,null,null,null,null,null,null,null,null,null,null,null,null,null,null,null,null,"N/A",null,null,"N/A","N/A"]
[746,"$B$4",261,"Haysville","Sedgwick",1955,{"$f":"IFERROR(IF(OR(AND(Application!$A$9=\"Yes\",IFERROR(MATCH(C685,Application!$K$11:$K$297,0)>0,\"\")),AND(Application!$A$9=\"No\",C685=Application!$A$13)),F685,\"\"),\"\")","v":""},"Haysville West Middle School","Middle School",null,null,null,null,null,null,null,null,null,null,null,null,null,null,null,null,null,539,null,null,276,0.5121]
[747,"$B$4",261,"Haysville","Sedgwick",1956,{"$f":"IFERROR(IF(OR(AND(Application!$A$9=\"Yes\",IFERROR(MATCH(C686,Application!$K$11:$K$297,0)>0,\"\")),AND(Application!$A$9=\"No\",C686=Application!$A$13)),F686,\"\"),\"\")","v":""},"Campus High Haysville","High School",null,null,null,null,null,null,null,null,null,null,null,null,null,null,null,null,null,1893,null,null,803,0.42420000000000002]
[748,"$B$4",261,"Haysville","Sedgwick",1958,{"$f":"IFERROR(IF(OR(AND(Application!$A$9=\"Yes\",IFERROR(MATCH(C687,Application!$K$11:$K$297,0)>0,\"\")),AND(Application!$A$9=\"No\",C687=Application!$A$13)),F687,\"\"),\"\")","v":""},"Haysville Middle School","Middle School",null,null,null,null,null,null,null,null,null,null,null,null,null,null,null,null,null,761,null,null,381,0.50070000000000003]
[749,"$B$4",261,"Haysville","Sedgwick",1960,{"$f":"IFERROR(IF(OR(AND(Application!$A$9=\"Yes\",IFERROR(MATCH(C688,Application!$K$11:$K$297,0)>0,\"\")),AND(Application!$A$9=\"No\",C688=Application!$A$13)),F688,\"\"),\"\")","v":""},"Freeman Elem","Elementary",null,null,null,null,null,null,null,null,null,null,null,null,null,null,null,null,null,436,null,null,202,0.46329999999999999]
[750,"$B$4",261,"Haysville","Sedgwick",1961,{"$f":"IFERROR(IF(OR(AND(Application!$A$9=\"Yes\",IFERROR(MATCH(C689,Application!$K$11:$K$297,0)>0,\"\")),AND(Application!$A$9=\"No\",C689=Application!$A$13)),F689,\"\"),\"\")","v":""},"Prairie Elementary School","Elementary",null,null,null,null,null,null,null,null,null,null,null,null,null,null,null,null,null,463,null,null,265,0.57240000000000002]
[753,"$B$4",261,"Haysville","Sedgwick",1962,{"$f":"IFERROR(IF(OR(AND(Application!$A$9=\"Yes\",IFERROR(MATCH(C690,Application!$K$11:$K$297,0)>0,\"\")),AND(Application!$A$9=\"No\",C690=Application!$A$13)),F690,\"\"),\"\")","v":""},"Tri City Day At School Alt","High School",null,null,null,null,null,null,null,null,null,null,null,null,null,null,null,null,null,"N/A",null,null,"N/A","N/A"]
[751,"$B$4",261,"Haysville","Sedgwick",1964,{"$f":"IFERROR(IF(OR(AND(Application!$A$9=\"Yes\",IFERROR(MATCH(C691,Application!$K$11:$K$297,0)>0,\"\")),AND(Application!$A$9=\"No\",C691=Application!$A$13)),F691,\"\"),\"\")","v":""},"Nelson Elem","Elementary",null,null,null,null,null,null,null,null,null,null,null,null,null,null,null,null,null,462,null,null,236,0.51080000000000003]
[752,"$B$4",261,"Haysville","Sedgwick",1965,{"$f":"IFERROR(IF(OR(AND(Application!$A$9=\"Yes\",IFERROR(MATCH(C692,Application!$K$11:$K$297,0)>0,\"\")),AND(Application!$A$9=\"No\",C692=Application!$A$13)),F692,\"\"),\"\")","v":""},"Ruth Clark Elementary K-5","Elementary",null,null,null,null,null,null,null,null,null,null,null,null,null,null,null,null,null,345,null,null,182,0.52749999999999997]
[754,"$B$4",261,"Haysville","Sedgwick",1966,{"$f":"IFERROR(IF(OR(AND(Application!$A$9=\"Yes\",IFERROR(MATCH(C693,Application!$K$11:$K$297,0)>0,\"\")),AND(Application!$A$9=\"No\",C693=Application!$A$13)),F693,\"\"),\"\")","v":""},"Oatville Elem","Elementary",null,null,null,null,null,null,null,null,null,null,null,null,null,null,null,null,null,399,null,null,189,0.47370000000000001]
[755,"$B$4",261,"Haysville","Sedgwick",1968,{"$f":"IFERROR(IF(OR(AND(Application!$A$9=\"Yes\",IFERROR(MATCH(C694,Application!$K$11:$K$297,0)>0,\"\")),AND(Application!$A$9=\"No\",C694=Application!$A$13)),F694,\"\"),\"\")","v":""},"Rex Elem","Elementary",null,null,null,null,null,null,null,null,null,null,null,null,null,null,null,null,null,479,null,null,259,0.54069999999999996]
[756,"$B$4",261,"Haysville","Sedgwick",1970,{"$f":"IFERROR(IF(OR(AND(Application!$A$9=\"Yes\",IFERROR(MATCH(C695,Application!$K$11:$K$297,0)>0,\"\")),AND(Application!$A$9=\"No\",C695=Application!$A$13)),F695,\"\"),\"\")","v":""},"USD 261 - Off Site Non Public Buildings","Special Ed Program - Off Site Community Based",null,null,null,null,null,null,null,null,null,null,null,null,null,null,null,null,null,"N/A",null,null,"N/A","N/A"]
[757,"$B$4",261,"Haysville","Sedgwick",1971,{"$f":"IFERROR(IF(OR(AND(Application!$A$9=\"Yes\",IFERROR(MATCH(C696,Application!$K$11:$K$297,0)>0,\"\")),AND(Application!$A$9=\"No\",C696=Application!$A$13)),F696,\"\"),\"\")","v":""},"USD 261 - Home","Special Ed Program - Home",null,null,null,null,null,null,null,null,null,null,null,null,null,null,null,null,null,"N/A",null,null,"N/A","N/A"]
[758,"$B$4",261,"Haysville","Sedgwick",1972,{"$f":"IFERROR(IF(OR(AND(Application!$A$9=\"Yes\",IFERROR(MATCH(C697,Application!$K$11:$K$297,0)>0,\"\")),AND(Application!$A$9=\"No\",C697=Application!$A$13)),F697,\"\"),\"\")","v":""},"USD 261 - K Time Program W/O SPED","Early Childhood Program - General",null,null,null,null,null,null,null,null,null,null,null,null,null,null,null,null,null,"N/A",null,null,"N/A","N/A"]
[759,"$B$4",261,"Haysville","Sedgwick",1973,{"$f":"IFERROR(IF(OR(AND(Application!$A$9=\"Yes\",IFERROR(MATCH(C698,Application!$K$11:$K$297,0)>0,\"\")),AND(Application!$A$9=\"No\",C698=Application!$A$13)),F698,\"\"),\"\")","v":""},"Haysville High School","High School",null,null,null,null,null,null,null,null,null,null,null,null,null,null,null,null,null,"N/A",null,null,"N/A","N/A"]
[null,null,400,"Smoky Valley","McPherson",1974,null,"Community Based Preschool","Special Ed Program - Community Based Preschool",null,null,null,null,null,null,null,null,null,null,null,null,null,null,null,null,null,"N/A",null,null,"N/A","N/A"]
[760,"$B$4",261,"Haysville","Sedgwick",1975,{"$f":"IFERROR(IF(OR(AND(Application!$A$9=\"Yes\",IFERROR(MATCH(C700,Application!$K$11:$K$297,0)>0,\"\")),AND(Application!$A$9=\"No\",C700=Application!$A$13)),F700,\"\"),\"\")","v":""},"Community Based Pre School","Special Ed Program - Community Based Preschool",null,null,null,null,null,null,null,null,null,null,null,null,null,null,null,null,null,"N/A",null,null,"N/A","N/A"]
[745,"$B$4",260,"Derby","Sedgwick",1976,{"$f":"IFERROR(IF(OR(AND(Application!$A$9=\"Yes\",IFERROR(MATCH(C701,Application!$K$11:$K$297,0)>0,\"\")),AND(Application!$A$9=\"No\",C701=Application!$A$13)),F701,\"\"),\"\")","v":""},"Derby North Middle School","Middle School",null,null,null,null,null,null,null,null,null,null,null,null,null,null,null,null,null,828,null,null,337,0.40699999999999997]
[763,"$B$4",262,"Valley Center Pub Sch","Sedgwick",1977,{"$f":"IFERROR(IF(OR(AND(Application!$A$9=\"Yes\",IFERROR(MATCH(C702,Application!$K$11:$K$297,0)>0,\"\")),AND(Application!$A$9=\"No\",C702=Application!$A$13)),F702,\"\"),\"\")","v":""},"Valley Center Intermediate School","Elementary",null,null,null,null,null,null,null,null,null,null,null,null,null,null,null,null,null,480,null,null,166,0.3458]
[764,"$B$4",262,"Valley Center Pub Sch","Sedgwick",1979,{"$f":"IFERROR(IF(OR(AND(Application!$A$9=\"Yes\",IFERROR(MATCH(C703,Application!$K$11:$K$297,0)>0,\"\")),AND(Application!$A$9=\"No\",C703=Application!$A$13)),F703,\"\"),\"\")","v":""},"USD 262 - Off Site Non Public Buildings","Special Ed Program - Off Site Community Based",null,null,null,null,null,null,null,null,null,null,null,null,null,null,null,null,null,"N/A",null,null,"N/A","N/A"]
[765,"$B$4",262,"Valley Center Pub Sch","Sedgwick",1980,{"$f":"IFERROR(IF(OR(AND(Application!$A$9=\"Yes\",IFERROR(MATCH(C704,Application!$K$11:$K$297,0)>0,\"\")),AND(Application!$A$9=\"No\",C704=Application!$A$13)),F704,\"\"),\"\")","v":""},"Abilene Elem","Elementary",null,null,null,null,null,null,null,null,null,null,null,null,null,null,null,null,null,251,null,null,112,0.44619999999999999]
[766,"$B$4",262,"Valley Center Pub Sch","Sedgwick",1981,{"$f":"IFERROR(IF(OR(AND(Application!$A$9=\"Yes\",IFERROR(MATCH(C705,Application!$K$11:$K$297,0)>0,\"\")),AND(Application!$A$9=\"No\",C705=Application!$A$13)),F705,\"\"),\"\")","v":""},"Wheatland Elem","Elementary",null,null,null,null,null,null,null,null,null,null,null,null,null,null,null,null,null,346,null,null,132,0.38150000000000001]
[767,"$B$4",262,"Valley Center Pub Sch","Sedgwick",1982,{"$f":"IFERROR(IF(OR(AND(Application!$A$9=\"Yes\",IFERROR(MATCH(C706,Application!$K$11:$K$297,0)>0,\"\")),AND(Application!$A$9=\"No\",C706=Application!$A$13)),F706,\"\"),\"\")","v":""},"USD 262 - Home","Special Ed Program - Home",null,null,null,null,null,null,null,null,null,null,null,null,null,null,null,null,null,"N/A",null,null,"N/A","N/A"]
[768,"$B$4",262,"Valley Center Pub Sch","Sedgwick",1983,{"$f":"IFERROR(IF(OR(AND(Application!$A$9=\"Yes\",IFERROR(MATCH(C707,Application!$K$11:$K$297,0)>0,\"\")),AND(Application!$A$9=\"No\",C707=Application!$A$13)),F707,\"\"),\"\")","v":""},"USD 262 - Community-Based Preschool","Special Ed Program - Community Based Preschool",null,null,null,null,null,null,null,null,null,null,null,null,null,null,null,null,null,"N/A",null,null,"N/A","N/A"]
[769,"$B$4",262,"Valley Center Pub Sch","Sedgwick",1984,{"$f":"IFERROR(IF(OR(AND(Application!$A$9=\"Yes\",IFERROR(MATCH(C708,Application!$K$11:$K$297,0)>0,\"\")),AND(Application!$A$9=\"No\",C708=Application!$A$13)),F708,\"\"),\"\")","v":""},"West Elem","Elementary",null,null,null,null,null,null,null,null,null,null,null,null,null,null,null,null,null,287,null,null,119,0.41460000000000002]
[770,"$B$4",262,"Valley Center Pub Sch","Sedgwick",1985,{"$f":"IFERROR(IF(OR(AND(Application!$A$9=\"Yes\",IFERROR(MATCH(C709,Application!$K$11:$K$297,0)>0,\"\")),AND(Application!$A$9=\"No\",C709=Application!$A$13)),F709,\"\"),\"\")","v":""},"Valley Center Middle School","Middle School",null,null,null,null,null,null,null,null,null,null,null,null,null,null,null,null,null,762,null,null,272,0.35699999999999998]
[771,"$B$4",262,"Valley Center Pub Sch","Sedgwick",1986,{"$f":"IFERROR(IF(OR(AND(Application!$A$9=\"Yes\",IFERROR(MATCH(C710,Application!$K$11:$K$297,0)>0,\"\")),AND(Application!$A$9=\"No\",C710=Application!$A$13)),F710,\"\"),\"\")","v":""},"Valley Center High","High School",null,null,null,null,null,null,null,null,null,null,null,null,null,null,null,null,null,1001,null,null,294,0.29370000000000002]
[775,"$B$4",263,"Mulvane","Sedgwick",1988,{"$f":"IFERROR(IF(OR(AND(Application!$A$9=\"Yes\",IFERROR(MATCH(C711,Application!$K$11:$K$297,0)>0,\"\")),AND(Application!$A$9=\"No\",C711=Application!$A$13)),F711,\"\"),\"\")","v":""},"Mulvane Dist Sedgwick Co","Central Office",null,null,null,null,null,null,null,null,null,null,null,null,null,null,null,null,null,"N/A",null,null,"N/A","N/A"]
[776,"$B$4",263,"Mulvane","Sedgwick",1991,{"$f":"IFERROR(IF(OR(AND(Application!$A$9=\"Yes\",IFERROR(MATCH(C712,Application!$K$11:$K$297,0)>0,\"\")),AND(Application!$A$9=\"No\",C712=Application!$A$13)),F712,\"\"),\"\")","v":""},"USD 263 - Off Site Non Public Buildings","Special Ed Program - Off Site Community Based",null,null,null,null,null,null,null,null,null,null,null,null,null,null,null,null,null,"N/A",null,null,"N/A","N/A"]
[777,"$B$4",263,"Mulvane","Sedgwick",1992,{"$f":"IFERROR(IF(OR(AND(Application!$A$9=\"Yes\",IFERROR(MATCH(C713,Application!$K$11:$K$297,0)>0,\"\")),AND(Application!$A$9=\"No\",C713=Application!$A$13)),F713,\"\"),\"\")","v":""},"Mulvane Elem W D Munson","Elementary",null,null,null,null,null,null,null,null,null,null,null,null,null,null,null,null,null,405,null,null,155,0.38269999999999998]
[778,"$B$4",263,"Mulvane","Sedgwick",1993,{"$f":"IFERROR(IF(OR(AND(Application!$A$9=\"Yes\",IFERROR(MATCH(C714,Application!$K$11:$K$297,0)>0,\"\")),AND(Application!$A$9=\"No\",C714=Application!$A$13)),F714,\"\"),\"\")","v":""},"USD 263 - Home","Special Ed Program - Home",null,null,null,null,null,null,null,null,null,null,null,null,null,null,null,null,null,"N/A",null,null,"N/A","N/A"]
[772,"$B$4",262,"Valley Center Pub Sch","Sedgwick",1995,{"$f":"IFERROR(IF(OR(AND(Application!$A$9=\"Yes\",IFERROR(MATCH(C715,Application!$K$11:$K$297,0)>0,\"\")),AND(Application!$A$9=\"No\",C715=Application!$A$13)),F715,\"\"),\"\")","v":""},"USD 262 - K Time Program W/O SPED","Early Childhood Program - General",null,null,null,null,null,null,null,null,null,null,null,null,null,null,null,null,null,"N/A",null,null,"N/A","N/A"]
[779,"$B$4",263,"Mulvane","Sedgwick",1996,{"$f":"IFERROR(IF(OR(AND(Application!$A$9=\"Yes\",IFERROR(MATCH(C716,Application!$K$11:$K$297,0)>0,\"\")),AND(Application!$A$9=\"No\",C716=Application!$A$13)),F716,\"\"),\"\")","v":""},"Mulvane High","High School",null,null,null,null,null,null,null,null,null,null,null,null,null,null,null,null,null,556,null,null,162,0.29139999999999999]
[780,"$B$4",263,"Mulvane","Sedgwick",1997,{"$f":"IFERROR(IF(OR(AND(Application!$A$9=\"Yes\",IFERROR(MATCH(C717,Application!$K$11:$K$297,0)>0,\"\")),AND(Application!$A$9=\"No\",C717=Application!$A$13)),F717,\"\"),\"\")","v":""},"Mulvane Middle School","Middle School",null,null,null,null,null,null,null,null,null,null,null,null,null,null,null,null,null,440,null,null,140,0.31819999999999998]
[781,"$B$4",263,"Mulvane","Sedgwick",1998,{"$f":"IFERROR(IF(OR(AND(Application!$A$9=\"Yes\",IFERROR(MATCH(C718,Application!$K$11:$K$297,0)>0,\"\")),AND(Application!$A$9=\"No\",C718=Application!$A$13)),F718,\"\"),\"\")","v":""},"Mulvane Grade School","Elementary",null,null,null,null,null,null,null,null,null,null,null,null,null,null,null,null,null,396,null,null,132,0.33329999999999999]
[782,"$B$4",263,"Mulvane","Sedgwick",1999,{"$f":"IFERROR(IF(OR(AND(Application!$A$9=\"Yes\",IFERROR(MATCH(C719,Application!$K$11:$K$297,0)>0,\"\")),AND(Application!$A$9=\"No\",C719=Application!$A$13)),F719,\"\"),\"\")","v":""},"USD 263 - K Time Program W/O SPED","Early Childhood Program - General",null,null,null,null,null,null,null,null,null,null,null,null,null,null,null,null,null,"N/A",null,null,"N/A","N/A"]
[783,"$B$4",263,"Mulvane","Sedgwick",2000,{"$f":"IFERROR(IF(OR(AND(Application!$A$9=\"Yes\",IFERROR(MATCH(C720,Application!$K$11:$K$297,0)>0,\"\")),AND(Application!$A$9=\"No\",C720=Application!$A$13)),F720,\"\"),\"\")","v":""},"Community Based PreSchool","Special Ed Program - Off Site Community Based",null,null,null,null,null,null,null,null,null,null,null,null,null,null,null,null,null,"N/A",null,null,"N/A","N/A"]
[740,"$B$4",260,"Derby","Sedgwick",2003,{"$f":"IFERROR(IF(OR(AND(Application!$A$9=\"Yes\",IFERROR(MATCH(C721,Application!$K$11:$K$297,0)>0,\"\")),AND(Application!$A$9=\"No\",C721=Application!$A$13)),F721,\"\"),\"\")","v":""},"Derby Public Schools Central Kitchen","Kitchen Unit",null,null,null,null,null,null,null,null,null,null,null,null,null,null,null,null,null,"N/A",null,null,"N/A","N/A"]
[773,"$B$4",262,"Valley Center Pub Sch","Sedgwick",2006,{"$f":"IFERROR(IF(OR(AND(Application!$A$9=\"Yes\",IFERROR(MATCH(C722,Application!$K$11:$K$297,0)>0,\"\")),AND(Application!$A$9=\"No\",C722=Application!$A$13)),F722,\"\"),\"\")","v":""},"Youth Horizons","Special School",null,null,null,null,null,null,null,null,null,null,null,null,null,null,null,null,null,"N/A",null,null,"N/A","N/A"]
[774,"$B$4",262,"Valley Center Pub Sch","Sedgwick",2007,{"$f":"IFERROR(IF(OR(AND(Application!$A$9=\"Yes\",IFERROR(MATCH(C723,Application!$K$11:$K$297,0)>0,\"\")),AND(Application!$A$9=\"No\",C723=Application!$A$13)),F723,\"\"),\"\")","v":""},"The Learning Center","High School",null,null,null,null,null,null,null,null,null,null,null,null,null,null,null,null,null,67,null,null,27,0.40300000000000002]
[784,"$B$4",264,"Clearwater","Sedgwick",2009,{"$f":"IFERROR(IF(OR(AND(Application!$A$9=\"Yes\",IFERROR(MATCH(C724,Application!$K$11:$K$297,0)>0,\"\")),AND(Application!$A$9=\"No\",C724=Application!$A$13)),F724,\"\"),\"\")","v":""},"USD 264 - Off Site Non Public Buildings","Special Ed Program - Off Site Community Based",null,null,null,null,null,null,null,null,null,null,null,null,null,null,null,null,null,"N/A",null,null,"N/A","N/A"]
[785,"$B$4",264,"Clearwater","Sedgwick",2011,{"$f":"IFERROR(IF(OR(AND(Application!$A$9=\"Yes\",IFERROR(MATCH(C725,Application!$K$11:$K$297,0)>0,\"\")),AND(Application!$A$9=\"No\",C725=Application!$A$13)),F725,\"\"),\"\")","v":""},"Clearwater Elementary West","Elementary",null,null,null,null,null,null,null,null,null,null,null,null,null,null,null,null,null,307,null,null,104,0.33879999999999999]
[786,"$B$4",264,"Clearwater","Sedgwick",2012,{"$f":"IFERROR(IF(OR(AND(Application!$A$9=\"Yes\",IFERROR(MATCH(C726,Application!$K$11:$K$297,0)>0,\"\")),AND(Application!$A$9=\"No\",C726=Application!$A$13)),F726,\"\"),\"\")","v":""},"Clearwater Intermediate - Middle School","Middle School",null,null,null,null,null,null,null,null,null,null,null,null,null,null,null,null,null,412,null,null,114,0.2767]
[787,"$B$4",264,"Clearwater","Sedgwick",2014,{"$f":"IFERROR(IF(OR(AND(Application!$A$9=\"Yes\",IFERROR(MATCH(C727,Application!$K$11:$K$297,0)>0,\"\")),AND(Application!$A$9=\"No\",C727=Application!$A$13)),F727,\"\"),\"\")","v":""},"Clearwater High","High School",null,null,null,null,null,null,null,null,null,null,null,null,null,null,null,null,null,370,null,null,84,0.22700000000000001]
[788,"$B$4",264,"Clearwater","Sedgwick",2017,{"$f":"IFERROR(IF(OR(AND(Application!$A$9=\"Yes\",IFERROR(MATCH(C728,Application!$K$11:$K$297,0)>0,\"\")),AND(Application!$A$9=\"No\",C728=Application!$A$13)),F728,\"\"),\"\")","v":""},"USD 264 - Home","Special Ed Program - Home",null,null,null,null,null,null,null,null,null,null,null,null,null,null,null,null,null,"N/A",null,null,"N/A","N/A"]
[789,"$B$4",264,"Clearwater","Sedgwick",2018,{"$f":"IFERROR(IF(OR(AND(Application!$A$9=\"Yes\",IFERROR(MATCH(C729,Application!$K$11:$K$297,0)>0,\"\")),AND(Application!$A$9=\"No\",C729=Application!$A$13)),F729,\"\"),\"\")","v":""},"USD 264 - Community-Based Preschool","Special Ed Program - Community Based Preschool",null,null,null,null,null,null,null,null,null,null,null,null,null,null,null,null,null,"N/A",null,null,"N/A","N/A"]
[790,"$B$4",264,"Clearwater","Sedgwick",2019,{"$f":"IFERROR(IF(OR(AND(Application!$A$9=\"Yes\",IFERROR(MATCH(C730,Application!$K$11:$K$297,0)>0,\"\")),AND(Application!$A$9=\"No\",C730=Application!$A$13)),F730,\"\"),\"\")","v":""},"USD 264 - K Time Program W/O SPED","Early Childhood Program - General",null,null,null,null,null,null,null,null,null,null,null,null,null,null,null,null,null,"N/A",null,null,"N/A","N/A"]
[791,"$B$4",265,"Goddard","Sedgwick",2023,{"$f":"IFERROR(IF(OR(AND(Application!$A$9=\"Yes\",IFERROR(MATCH(C731,Application!$K$11:$K$297,0)>0,\"\")),AND(Application!$A$9=\"No\",C731=Application!$A$13)),F731,\"\"),\"\")","v":""},"USD 265 - K Time Program W/O SPED","Early Childhood Program - General",null,null,null,null,null,null,null,null,null,null,null,null,null,null,null,null,null,"N/A",null,null,"N/A","N/A"]
[792,"$B$4",265,"Goddard","Sedgwick",2025,{"$f":"IFERROR(IF(OR(AND(Application!$A$9=\"Yes\",IFERROR(MATCH(C732,Application!$K$11:$K$297,0)>0,\"\")),AND(Application!$A$9=\"No\",C732=Application!$A$13)),F732,\"\"),\"\")","v":""},"Clark Davidson Elem","Elementary",null,null,null,null,null,null,null,null,null,null,null,null,null,null,null,null,null,424,null,null,128,0.3019]
[793,"$B$4",265,"Goddard","Sedgwick",2026,{"$f":"IFERROR(IF(OR(AND(Application!$A$9=\"Yes\",IFERROR(MATCH(C733,Application!$K$11:$K$297,0)>0,\"\")),AND(Application!$A$9=\"No\",C733=Application!$A$13)),F733,\"\"),\"\")","v":""},"Oak Street Elementary School K-4","Elementary",null,null,null,null,null,null,null,null,null,null,null,null,null,null,null,null,null,378,null,null,94,0.2487]
[794,"$B$4",265,"Goddard","Sedgwick",2027,{"$f":"IFERROR(IF(OR(AND(Application!$A$9=\"Yes\",IFERROR(MATCH(C734,Application!$K$11:$K$297,0)>0,\"\")),AND(Application!$A$9=\"No\",C734=Application!$A$13)),F734,\"\"),\"\")","v":""},"Goddard Middle School","Middle School",null,null,null,null,null,null,null,null,null,null,null,null,null,null,null,null,null,494,null,null,122,0.247]
[795,"$B$4",265,"Goddard","Sedgwick",2028,{"$f":"IFERROR(IF(OR(AND(Application!$A$9=\"Yes\",IFERROR(MATCH(C735,Application!$K$11:$K$297,0)>0,\"\")),AND(Application!$A$9=\"No\",C735=Application!$A$13)),F735,\"\"),\"\")","v":""},"Challenger Intermediate School","Elementary",null,null,null,null,null,null,null,null,null,null,null,null,null,null,null,null,null,442,null,null,123,0.27829999999999999]
[796,"$B$4",265,"Goddard","Sedgwick",2029,{"$f":"IFERROR(IF(OR(AND(Application!$A$9=\"Yes\",IFERROR(MATCH(C736,Application!$K$11:$K$297,0)>0,\"\")),AND(Application!$A$9=\"No\",C736=Application!$A$13)),F736,\"\"),\"\")","v":""},"Dwight D. Eisenhower Middle School","Middle School",null,null,null,null,null,null,null,null,null,null,null,null,null,null,null,null,null,614,null,null,84,0.1368]
[797,"$B$4",265,"Goddard","Sedgwick",2030,{"$f":"IFERROR(IF(OR(AND(Application!$A$9=\"Yes\",IFERROR(MATCH(C737,Application!$K$11:$K$297,0)>0,\"\")),AND(Application!$A$9=\"No\",C737=Application!$A$13)),F737,\"\"),\"\")","v":""},"Goddard High","High School",null,null,null,null,null,null,null,null,null,null,null,null,null,null,null,null,null,948,null,null,245,0.25840000000000002]
[798,"$B$4",265,"Goddard","Sedgwick",2031,{"$f":"IFERROR(IF(OR(AND(Application!$A$9=\"Yes\",IFERROR(MATCH(C738,Application!$K$11:$K$297,0)>0,\"\")),AND(Application!$A$9=\"No\",C738=Application!$A$13)),F738,\"\"),\"\")","v":""},"Goddard Academy","Special Ed Program - Public School Administered",null,null,null,null,null,null,null,null,null,null,null,null,null,null,null,null,null,"N/A",null,null,"N/A","N/A"]
[799,"$B$4",265,"Goddard","Sedgwick",2033,{"$f":"IFERROR(IF(OR(AND(Application!$A$9=\"Yes\",IFERROR(MATCH(C739,Application!$K$11:$K$297,0)>0,\"\")),AND(Application!$A$9=\"No\",C739=Application!$A$13)),F739,\"\"),\"\")","v":""},"Amelia Earhart Elementary School","Elementary",null,null,null,null,null,null,null,null,null,null,null,null,null,null,null,null,null,492,null,null,103,0.20930000000000001]
[800,"$B$4",265,"Goddard","Sedgwick",2034,{"$f":"IFERROR(IF(OR(AND(Application!$A$9=\"Yes\",IFERROR(MATCH(C740,Application!$K$11:$K$297,0)>0,\"\")),AND(Application!$A$9=\"No\",C740=Application!$A$13)),F740,\"\"),\"\")","v":""},"Discovery Intermediate School","Elementary",null,null,null,null,null,null,null,null,null,null,null,null,null,null,null,null,null,485,null,null,104,0.21440000000000001]
[801,"$B$4",265,"Goddard","Sedgwick",2035,{"$f":"IFERROR(IF(OR(AND(Application!$A$9=\"Yes\",IFERROR(MATCH(C741,Application!$K$11:$K$297,0)>0,\"\")),AND(Application!$A$9=\"No\",C741=Application!$A$13)),F741,\"\"),\"\")","v":""},"Explorer Elementary School","Elementary",null,null,null,null,null,null,null,null,null,null,null,null,null,null,null,null,null,473,null,null,113,0.2389]
[804,"$B$4",265,"Goddard","Sedgwick",2036,{"$f":"IFERROR(IF(OR(AND(Application!$A$9=\"Yes\",IFERROR(MATCH(C742,Application!$K$11:$K$297,0)>0,\"\")),AND(Application!$A$9=\"No\",C742=Application!$A$13)),F742,\"\"),\"\")","v":""},"USD 265 - Off Site Non Public Buildings","Special Ed Program - Off Site Community Based",null,null,null,null,null,null,null,null,null,null,null,null,null,null,null,null,null,"N/A",null,null,"N/A","N/A"]
[802,"$B$4",265,"Goddard","Sedgwick",2037,{"$f":"IFERROR(IF(OR(AND(Application!$A$9=\"Yes\",IFERROR(MATCH(C743,Application!$K$11:$K$297,0)>0,\"\")),AND(Application!$A$9=\"No\",C743=Application!$A$13)),F743,\"\"),\"\")","v":""},"USD 265 - Home","Special Ed Program - Home",null,null,null,null,null,null,null,null,null,null,null,null,null,null,null,null,null,"N/A",null,null,"N/A","N/A"]
[809,"$B$4",266,"Maize","Sedgwick",2042,{"$f":"IFERROR(IF(OR(AND(Application!$A$9=\"Yes\",IFERROR(MATCH(C744,Application!$K$11:$K$297,0)>0,\"\")),AND(Application!$A$9=\"No\",C744=Application!$A$13)),F744,\"\"),\"\")","v":""},"Maize Dist Sedgwick Co","Central Office",null,null,null,null,null,null,null,null,null,null,null,null,null,null,null,null,null,"N/A",null,null,"N/A","N/A"]
[810,"$B$4",266,"Maize","Sedgwick",2043,{"$f":"IFERROR(IF(OR(AND(Application!$A$9=\"Yes\",IFERROR(MATCH(C745,Application!$K$11:$K$297,0)>0,\"\")),AND(Application!$A$9=\"No\",C745=Application!$A$13)),F745,\"\"),\"\")","v":""},"Pray-Woodman Elementary","Elementary",null,null,null,null,null,null,null,null,null,null,null,null,null,null,null,null,null,512,null,null,129,0.252]
[811,"$B$4",266,"Maize","Sedgwick",2044,{"$f":"IFERROR(IF(OR(AND(Application!$A$9=\"Yes\",IFERROR(MATCH(C746,Application!$K$11:$K$297,0)>0,\"\")),AND(Application!$A$9=\"No\",C746=Application!$A$13)),F746,\"\"),\"\")","v":""},"Maize Middle School","Middle School",null,null,null,null,null,null,null,null,null,null,null,null,null,null,null,null,null,736,null,null,178,0.24179999999999999]
[812,"$B$4",266,"Maize","Sedgwick",2045,{"$f":"IFERROR(IF(OR(AND(Application!$A$9=\"Yes\",IFERROR(MATCH(C747,Application!$K$11:$K$297,0)>0,\"\")),AND(Application!$A$9=\"No\",C747=Application!$A$13)),F747,\"\"),\"\")","v":""},"Maize South Elementary","Elementary",null,null,null,null,null,null,null,null,null,null,null,null,null,null,null,null,null,529,null,null,133,0.25140000000000001]
[813,"$B$4",266,"Maize","Sedgwick",2046,{"$f":"IFERROR(IF(OR(AND(Application!$A$9=\"Yes\",IFERROR(MATCH(C748,Application!$K$11:$K$297,0)>0,\"\")),AND(Application!$A$9=\"No\",C748=Application!$A$13)),F748,\"\"),\"\")","v":""},"Maize Elementary","Elementary",null,null,null,null,null,null,null,null,null,null,null,null,null,null,null,null,null,425,null,null,106,0.24940000000000001]
[814,"$B$4",266,"Maize","Sedgwick",2047,{"$f":"IFERROR(IF(OR(AND(Application!$A$9=\"Yes\",IFERROR(MATCH(C749,Application!$K$11:$K$297,0)>0,\"\")),AND(Application!$A$9=\"No\",C749=Application!$A$13)),F749,\"\"),\"\")","v":""},"Maize South Middle School","Middle School",null,null,null,null,null,null,null,null,null,null,null,null,null,null,null,null,null,553,null,null,118,0.21340000000000001]
[815,"$B$4",266,"Maize","Sedgwick",2049,{"$f":"IFERROR(IF(OR(AND(Application!$A$9=\"Yes\",IFERROR(MATCH(C750,Application!$K$11:$K$297,0)>0,\"\")),AND(Application!$A$9=\"No\",C750=Application!$A$13)),F750,\"\"),\"\")","v":""},"Complete High School Maize","High School",null,null,null,null,null,null,null,null,null,null,null,null,null,null,null,null,null,"N/A",null,null,"N/A","N/A"]
[816,"$B$4",266,"Maize","Sedgwick",2050,{"$f":"IFERROR(IF(OR(AND(Application!$A$9=\"Yes\",IFERROR(MATCH(C751,Application!$K$11:$K$297,0)>0,\"\")),AND(Application!$A$9=\"No\",C751=Application!$A$13)),F751,\"\"),\"\")","v":""},"Maize Sr High","High School",null,null,null,null,null,null,null,null,null,null,null,null,null,null,null,null,null,1290,null,null,276,0.214]
[817,"$B$4",266,"Maize","Sedgwick",2051,{"$f":"IFERROR(IF(OR(AND(Application!$A$9=\"Yes\",IFERROR(MATCH(C752,Application!$K$11:$K$297,0)>0,\"\")),AND(Application!$A$9=\"No\",C752=Application!$A$13)),F752,\"\"),\"\")","v":""},"Maize Central Elementary","Elementary",null,null,null,null,null,null,null,null,null,null,null,null,null,null,null,null,null,558,null,null,127,0.2276]
[818,"$B$4",266,"Maize","Sedgwick",2052,{"$f":"IFERROR(IF(OR(AND(Application!$A$9=\"Yes\",IFERROR(MATCH(C753,Application!$K$11:$K$297,0)>0,\"\")),AND(Application!$A$9=\"No\",C753=Application!$A$13)),F753,\"\"),\"\")","v":""},"Maize South High School","High School",null,null,null,null,null,null,null,null,null,null,null,null,null,null,null,null,null,1096,null,null,189,0.1724]
[819,"$B$4",266,"Maize","Sedgwick",2053,{"$f":"IFERROR(IF(OR(AND(Application!$A$9=\"Yes\",IFERROR(MATCH(C754,Application!$K$11:$K$297,0)>0,\"\")),AND(Application!$A$9=\"No\",C754=Application!$A$13)),F754,\"\"),\"\")","v":""},"USD 266 - Off Site Non Public Buildings","Special Ed Program - Off Site Community Based",null,null,null,null,null,null,null,null,null,null,null,null,null,null,null,null,null,"N/A",null,null,"N/A","N/A"]
[820,"$B$4",266,"Maize","Sedgwick",2054,{"$f":"IFERROR(IF(OR(AND(Application!$A$9=\"Yes\",IFERROR(MATCH(C755,Application!$K$11:$K$297,0)>0,\"\")),AND(Application!$A$9=\"No\",C755=Application!$A$13)),F755,\"\"),\"\")","v":""},"USD 266 - Home","Special Ed Program - Home",null,null,null,null,null,null,null,null,null,null,null,null,null,null,null,null,null,"N/A",null,null,"N/A","N/A"]
[803,"$B$4",265,"Goddard","Sedgwick",2056,{"$f":"IFERROR(IF(OR(AND(Application!$A$9=\"Yes\",IFERROR(MATCH(C756,Application!$K$11:$K$297,0)>0,\"\")),AND(Application!$A$9=\"No\",C756=Application!$A$13)),F756,\"\"),\"\")","v":""},"USD 265 - Community-Based Preschool","Special Ed Program - Community Based Preschool",null,null,null,null,null,null,null,null,null,null,null,null,null,null,null,null,null,"N/A",null,null,"N/A","N/A"]
[821,"$B$4",266,"Maize","Sedgwick",2057,{"$f":"IFERROR(IF(OR(AND(Application!$A$9=\"Yes\",IFERROR(MATCH(C757,Application!$K$11:$K$297,0)>0,\"\")),AND(Application!$A$9=\"No\",C757=Application!$A$13)),F757,\"\"),\"\")","v":""},"USD 266 - Community-Based Preschool","Special Ed Program - Community Based Preschool",null,null,null,null,null,null,null,null,null,null,null,null,null,null,null,null,null,"N/A",null,null,"N/A","N/A"]
[822,"$B$4",266,"Maize","Sedgwick",2058,{"$f":"IFERROR(IF(OR(AND(Application!$A$9=\"Yes\",IFERROR(MATCH(C758,Application!$K$11:$K$297,0)>0,\"\")),AND(Application!$A$9=\"No\",C758=Application!$A$13)),F758,\"\"),\"\")","v":""},"USD 266 - Public Off Campus","Special Ed Program - Public School Administered",null,null,null,null,null,null,null,null,null,null,null,null,null,null,null,null,null,"N/A",null,null,"N/A","N/A"]
[823,"$B$4",266,"Maize","Sedgwick",2059,{"$f":"IFERROR(IF(OR(AND(Application!$A$9=\"Yes\",IFERROR(MATCH(C759,Application!$K$11:$K$297,0)>0,\"\")),AND(Application!$A$9=\"No\",C759=Application!$A$13)),F759,\"\"),\"\")","v":""},"USD 266 - K Time Program W/O SPED","Early Childhood Program - General",null,null,null,null,null,null,null,null,null,null,null,null,null,null,null,null,null,"N/A",null,null,"N/A","N/A"]
[829,"$B$4",267,"Renwick","Sedgwick",2061,{"$f":"IFERROR(IF(OR(AND(Application!$A$9=\"Yes\",IFERROR(MATCH(C760,Application!$K$11:$K$297,0)>0,\"\")),AND(Application!$A$9=\"No\",C760=Application!$A$13)),F760,\"\"),\"\")","v":""},"USD 267 - Off Site Non Public Buildings","Special Ed Program - Off Site Community Based",null,null,null,null,null,null,null,null,null,null,null,null,null,null,null,null,null,"N/A",null,null,"N/A","N/A"]
[830,"$B$4",267,"Renwick","Sedgwick",2062,{"$f":"IFERROR(IF(OR(AND(Application!$A$9=\"Yes\",IFERROR(MATCH(C761,Application!$K$11:$K$297,0)>0,\"\")),AND(Application!$A$9=\"No\",C761=Application!$A$13)),F761,\"\"),\"\")","v":""},"Andale Elem-Middle","Elementary",null,null,null,null,null,null,null,null,null,null,null,null,null,null,null,null,null,409,null,null,40,9.7799999999999998E-2]
[831,"$B$4",267,"Renwick","Sedgwick",2063,{"$f":"IFERROR(IF(OR(AND(Application!$A$9=\"Yes\",IFERROR(MATCH(C762,Application!$K$11:$K$297,0)>0,\"\")),AND(Application!$A$9=\"No\",C762=Application!$A$13)),F762,\"\"),\"\")","v":""},"USD 267 - Home","Special Ed Program - Home",null,null,null,null,null,null,null,null,null,null,null,null,null,null,null,null,null,"N/A",null,null,"N/A","N/A"]
[832,"$B$4",267,"Renwick","Sedgwick",2064,{"$f":"IFERROR(IF(OR(AND(Application!$A$9=\"Yes\",IFERROR(MATCH(C763,Application!$K$11:$K$297,0)>0,\"\")),AND(Application!$A$9=\"No\",C763=Application!$A$13)),F763,\"\"),\"\")","v":""},"Andale High","High School",null,null,null,null,null,null,null,null,null,null,null,null,null,null,null,null,null,375,null,null,38,0.1013]
[833,"$B$4",267,"Renwick","Sedgwick",2065,{"$f":"IFERROR(IF(OR(AND(Application!$A$9=\"Yes\",IFERROR(MATCH(C764,Application!$K$11:$K$297,0)>0,\"\")),AND(Application!$A$9=\"No\",C764=Application!$A$13)),F764,\"\"),\"\")","v":""},"USD 267 - Community-Based Preschool","Special Ed Program - Community Based Preschool",null,null,null,null,null,null,null,null,null,null,null,null,null,null,null,null,null,"N/A",null,null,"N/A","N/A"]
[834,"$B$4",267,"Renwick","Sedgwick",2066,{"$f":"IFERROR(IF(OR(AND(Application!$A$9=\"Yes\",IFERROR(MATCH(C765,Application!$K$11:$K$297,0)>0,\"\")),AND(Application!$A$9=\"No\",C765=Application!$A$13)),F765,\"\"),\"\")","v":""},"Colwich Elem","Elementary",null,null,null,null,null,null,null,null,null,null,null,null,null,null,null,null,null,242,null,null,51,0.2107]
[835,"$B$4",267,"Renwick","Sedgwick",2067,{"$f":"IFERROR(IF(OR(AND(Application!$A$9=\"Yes\",IFERROR(MATCH(C766,Application!$K$11:$K$297,0)>0,\"\")),AND(Application!$A$9=\"No\",C766=Application!$A$13)),F766,\"\"),\"\")","v":""},"USD 267 - K Time Program W/O SPED","Early Childhood Program - General",null,null,null,null,null,null,null,null,null,null,null,null,null,null,null,null,null,"N/A",null,null,"N/A","N/A"]
[836,"$B$4",267,"Renwick","Sedgwick",2068,{"$f":"IFERROR(IF(OR(AND(Application!$A$9=\"Yes\",IFERROR(MATCH(C767,Application!$K$11:$K$297,0)>0,\"\")),AND(Application!$A$9=\"No\",C767=Application!$A$13)),F767,\"\"),\"\")","v":""},"Garden Plain Elem","Elementary",null,null,null,null,null,null,null,null,null,null,null,null,null,null,null,null,null,411,null,null,59,0.14360000000000001]
[805,"$B$4",265,"Goddard","Sedgwick",2069,{"$f":"IFERROR(IF(OR(AND(Application!$A$9=\"Yes\",IFERROR(MATCH(C768,Application!$K$11:$K$297,0)>0,\"\")),AND(Application!$A$9=\"No\",C768=Application!$A$13)),F768,\"\"),\"\")","v":""},"Apollo Elementary School","Elementary",null,null,null,null,null,null,null,null,null,null,null,null,null,null,null,null,null,527,null,null,114,0.21629999999999999]
[837,"$B$4",267,"Renwick","Sedgwick",2070,{"$f":"IFERROR(IF(OR(AND(Application!$A$9=\"Yes\",IFERROR(MATCH(C769,Application!$K$11:$K$297,0)>0,\"\")),AND(Application!$A$9=\"No\",C769=Application!$A$13)),F769,\"\"),\"\")","v":""},"Garden Plain High","High School",null,null,null,null,null,null,null,null,null,null,null,null,null,null,null,null,null,173,null,null,20,0.11559999999999999]
[838,"$B$4",267,"Renwick","Sedgwick",2071,{"$f":"IFERROR(IF(OR(AND(Application!$A$9=\"Yes\",IFERROR(MATCH(C770,Application!$K$11:$K$297,0)>0,\"\")),AND(Application!$A$9=\"No\",C770=Application!$A$13)),F770,\"\"),\"\")","v":""},"St. Marks School","Elementary",null,null,null,null,null,null,null,null,null,null,null,null,null,null,null,null,null,315,null,null,29,9.2100000000000001E-2]
[806,"$B$4",265,"Goddard","Sedgwick",2073,{"$f":"IFERROR(IF(OR(AND(Application!$A$9=\"Yes\",IFERROR(MATCH(C771,Application!$K$11:$K$297,0)>0,\"\")),AND(Application!$A$9=\"No\",C771=Application!$A$13)),F771,\"\"),\"\")","v":""},"Eisenhower High School","High School",null,null,null,null,null,null,null,null,null,null,null,null,null,null,null,null,null,1004,null,null,188,0.18729999999999999]
[824,"$B$4",266,"Maize","Sedgwick",2075,{"$f":"IFERROR(IF(OR(AND(Application!$A$9=\"Yes\",IFERROR(MATCH(C772,Application!$K$11:$K$297,0)>0,\"\")),AND(Application!$A$9=\"No\",C772=Application!$A$13)),F772,\"\"),\"\")","v":""},"Vermillion Elementary School","Elementary",null,null,null,null,null,null,null,null,null,null,null,null,null,null,null,null,null,684,null,null,171,0.25]
[825,"$B$4",266,"Maize","Sedgwick",2076,{"$f":"IFERROR(IF(OR(AND(Application!$A$9=\"Yes\",IFERROR(MATCH(C773,Application!$K$11:$K$297,0)>0,\"\")),AND(Application!$A$9=\"No\",C773=Application!$A$13)),F773,\"\"),\"\")","v":""},"Maize Virtual Preparatory School","Elementary",null,null,null,null,null,null,null,null,null,null,null,null,null,null,null,null,null,396,null,null,57,0.1439]
[807,"$B$4",265,"Goddard","Sedgwick",2077,{"$f":"IFERROR(IF(OR(AND(Application!$A$9=\"Yes\",IFERROR(MATCH(C774,Application!$K$11:$K$297,0)>0,\"\")),AND(Application!$A$9=\"No\",C774=Application!$A$13)),F774,\"\"),\"\")","v":""},"Successful Dreams-Goddard","Special School",null,null,null,null,null,null,null,null,null,null,null,null,null,null,null,null,null,"N/A",null,null,"N/A","N/A"]
[826,"$B$4",266,"Maize","Sedgwick",2078,{"$f":"IFERROR(IF(OR(AND(Application!$A$9=\"Yes\",IFERROR(MATCH(C775,Application!$K$11:$K$297,0)>0,\"\")),AND(Application!$A$9=\"No\",C775=Application!$A$13)),F775,\"\"),\"\")","v":""},"Maize Early Childhood Center","Special Ed Program - Off Site Preschool",null,null,null,null,null,null,null,null,null,null,null,null,null,null,null,null,null,"N/A",null,null,"N/A","N/A"]
[839,"$B$4",268,"Cheney","Sedgwick",2089,{"$f":"IFERROR(IF(OR(AND(Application!$A$9=\"Yes\",IFERROR(MATCH(C776,Application!$K$11:$K$297,0)>0,\"\")),AND(Application!$A$9=\"No\",C776=Application!$A$13)),F776,\"\"),\"\")","v":""},"USD 268 - Off Site Non Public Buildings","Special Ed Program - Off Site Community Based",null,null,null,null,null,null,null,null,null,null,null,null,null,null,null,null,null,"N/A",null,null,"N/A","N/A"]
[840,"$B$4",268,"Cheney","Sedgwick",2090,{"$f":"IFERROR(IF(OR(AND(Application!$A$9=\"Yes\",IFERROR(MATCH(C777,Application!$K$11:$K$297,0)>0,\"\")),AND(Application!$A$9=\"No\",C777=Application!$A$13)),F777,\"\"),\"\")","v":""},"Cheney Elem","Elementary",null,null,null,null,null,null,null,null,null,null,null,null,null,null,null,null,null,394,null,null,100,0.25380000000000003]
[841,"$B$4",268,"Cheney","Sedgwick",2091,{"$f":"IFERROR(IF(OR(AND(Application!$A$9=\"Yes\",IFERROR(MATCH(C778,Application!$K$11:$K$297,0)>0,\"\")),AND(Application!$A$9=\"No\",C778=Application!$A$13)),F778,\"\"),\"\")","v":""},"Cheney Middle School  6-8","Middle School",null,null,null,null,null,null,null,null,null,null,null,null,null,null,null,null,null,176,null,null,32,0.18179999999999999]
[842,"$B$4",268,"Cheney","Sedgwick",2092,{"$f":"IFERROR(IF(OR(AND(Application!$A$9=\"Yes\",IFERROR(MATCH(C779,Application!$K$11:$K$297,0)>0,\"\")),AND(Application!$A$9=\"No\",C779=Application!$A$13)),F779,\"\"),\"\")","v":""},"Cheney High","High School",null,null,null,null,null,null,null,null,null,null,null,null,null,null,null,null,null,246,null,null,48,0.1951]
[843,"$B$4",268,"Cheney","Sedgwick",2093,{"$f":"IFERROR(IF(OR(AND(Application!$A$9=\"Yes\",IFERROR(MATCH(C780,Application!$K$11:$K$297,0)>0,\"\")),AND(Application!$A$9=\"No\",C780=Application!$A$13)),F780,\"\"),\"\")","v":""},"USD 268 - Home","Special Ed Program - Home",null,null,null,null,null,null,null,null,null,null,null,null,null,null,null,null,null,"N/A",null,null,"N/A","N/A"]
[844,"$B$4",268,"Cheney","Sedgwick",2094,{"$f":"IFERROR(IF(OR(AND(Application!$A$9=\"Yes\",IFERROR(MATCH(C781,Application!$K$11:$K$297,0)>0,\"\")),AND(Application!$A$9=\"No\",C781=Application!$A$13)),F781,\"\"),\"\")","v":""},"USD 268 - Community-Based Preschool","Special Ed Program - Community Based Preschool",null,null,null,null,null,null,null,null,null,null,null,null,null,null,null,null,null,"N/A",null,null,"N/A","N/A"]
[845,"$B$4",268,"Cheney","Sedgwick",2095,{"$f":"IFERROR(IF(OR(AND(Application!$A$9=\"Yes\",IFERROR(MATCH(C782,Application!$K$11:$K$297,0)>0,\"\")),AND(Application!$A$9=\"No\",C782=Application!$A$13)),F782,\"\"),\"\")","v":""},"USD 268 - K Time Program W/O SPED","Early Childhood Program - General",null,null,null,null,null,null,null,null,null,null,null,null,null,null,null,null,null,"N/A",null,null,"N/A","N/A"]
[761,"$B$4",261,"Haysville","Sedgwick",2105,{"$f":"IFERROR(IF(OR(AND(Application!$A$9=\"Yes\",IFERROR(MATCH(C783,Application!$K$11:$K$297,0)>0,\"\")),AND(Application!$A$9=\"No\",C783=Application!$A$13)),F783,\"\"),\"\")","v":""},"Haysville Public Off Campus Building","Special Ed Program - Public School Administered",null,null,null,null,null,null,null,null,null,null,null,null,null,null,null,null,null,"N/A",null,null,"N/A","N/A"]
[741,"$B$4",260,"Derby","Sedgwick",2106,{"$f":"IFERROR(IF(OR(AND(Application!$A$9=\"Yes\",IFERROR(MATCH(C784,Application!$K$11:$K$297,0)>0,\"\")),AND(Application!$A$9=\"No\",C784=Application!$A$13)),F784,\"\"),\"\")","v":""},"Stone Creek Elementary","Elementary",null,null,null,null,null,null,null,null,null,null,null,null,null,null,null,null,null,418,null,null,104,0.24879999999999999]
[846,"$B$4",269,"Palco","Rooks",2109,{"$f":"IFERROR(IF(OR(AND(Application!$A$9=\"Yes\",IFERROR(MATCH(C785,Application!$K$11:$K$297,0)>0,\"\")),AND(Application!$A$9=\"No\",C785=Application!$A$13)),F785,\"\"),\"\")","v":""},"USD 269 - Off Site Non Public Buildings","Special Ed Program - Off Site Community Based",null,null,null,null,null,null,null,null,null,null,null,null,null,null,null,null,null,"N/A",null,null,"N/A","N/A"]
[847,"$B$4",269,"Palco","Rooks",2110,{"$f":"IFERROR(IF(OR(AND(Application!$A$9=\"Yes\",IFERROR(MATCH(C786,Application!$K$11:$K$297,0)>0,\"\")),AND(Application!$A$9=\"No\",C786=Application!$A$13)),F786,\"\"),\"\")","v":""},"Palco Jr. High","Junior High School",null,null,null,null,null,null,null,null,null,null,null,null,null,null,null,null,null,14,null,null,6,0.42859999999999998]
[848,"$B$4",269,"Palco","Rooks",2111,{"$f":"IFERROR(IF(OR(AND(Application!$A$9=\"Yes\",IFERROR(MATCH(C787,Application!$K$11:$K$297,0)>0,\"\")),AND(Application!$A$9=\"No\",C787=Application!$A$13)),F787,\"\"),\"\")","v":""},"USD 269 - Home","Special Ed Program - Home",null,null,null,null,null,null,null,null,null,null,null,null,null,null,null,null,null,"N/A",null,null,"N/A","N/A"]
[849,"$B$4",269,"Palco","Rooks",2113,{"$f":"IFERROR(IF(OR(AND(Application!$A$9=\"Yes\",IFERROR(MATCH(C788,Application!$K$11:$K$297,0)>0,\"\")),AND(Application!$A$9=\"No\",C788=Application!$A$13)),F788,\"\"),\"\")","v":""},"USD 269 - K Time Program W/O SPED","Early Childhood Program - General",null,null,null,null,null,null,null,null,null,null,null,null,null,null,null,null,null,"N/A",null,null,"N/A","N/A"]
[850,"$B$4",269,"Palco","Rooks",2115,{"$f":"IFERROR(IF(OR(AND(Application!$A$9=\"Yes\",IFERROR(MATCH(C789,Application!$K$11:$K$297,0)>0,\"\")),AND(Application!$A$9=\"No\",C789=Application!$A$13)),F789,\"\"),\"\")","v":""},"Damar Elementary School","Elementary",null,null,null,null,null,null,null,null,null,null,null,null,null,null,null,null,null,50,null,null,24,0.48]
[851,"$B$4",269,"Palco","Rooks",2116,{"$f":"IFERROR(IF(OR(AND(Application!$A$9=\"Yes\",IFERROR(MATCH(C790,Application!$K$11:$K$297,0)>0,\"\")),AND(Application!$A$9=\"No\",C790=Application!$A$13)),F790,\"\"),\"\")","v":""},"Palco High","High School",null,null,null,null,null,null,null,null,null,null,null,null,null,null,null,null,null,30,null,null,10,0.33329999999999999]
[852,"$B$4",270,"Plainville","Rooks",2129,{"$f":"IFERROR(IF(OR(AND(Application!$A$9=\"Yes\",IFERROR(MATCH(C791,Application!$K$11:$K$297,0)>0,\"\")),AND(Application!$A$9=\"No\",C791=Application!$A$13)),F791,\"\"),\"\")","v":""},"USD 270 - Off Site Non Public Buildings","Special Ed Program - Off Site Community Based",null,null,null,null,null,null,null,null,null,null,null,null,null,null,null,null,null,"N/A",null,null,"N/A","N/A"]
[853,"$B$4",270,"Plainville","Rooks",2130,{"$f":"IFERROR(IF(OR(AND(Application!$A$9=\"Yes\",IFERROR(MATCH(C792,Application!$K$11:$K$297,0)>0,\"\")),AND(Application!$A$9=\"No\",C792=Application!$A$13)),F792,\"\"),\"\")","v":""},"USD 270 - Home","Special Ed Program - Home",null,null,null,null,null,null,null,null,null,null,null,null,null,null,null,null,null,"N/A",null,null,"N/A","N/A"]
[854,"$B$4",270,"Plainville","Rooks",2132,{"$f":"IFERROR(IF(OR(AND(Application!$A$9=\"Yes\",IFERROR(MATCH(C793,Application!$K$11:$K$297,0)>0,\"\")),AND(Application!$A$9=\"No\",C793=Application!$A$13)),F793,\"\"),\"\")","v":""},"USD 270 - K Time Program W/O SPED","Early Childhood Program - General",null,null,null,null,null,null,null,null,null,null,null,null,null,null,null,null,null,"N/A",null,null,"N/A","N/A"]
[855,"$B$4",270,"Plainville","Rooks",2136,{"$f":"IFERROR(IF(OR(AND(Application!$A$9=\"Yes\",IFERROR(MATCH(C794,Application!$K$11:$K$297,0)>0,\"\")),AND(Application!$A$9=\"No\",C794=Application!$A$13)),F794,\"\"),\"\")","v":""},"Plainville Elem","Elementary",null,null,null,null,null,null,null,null,null,null,null,null,null,null,null,null,null,211,null,null,81,0.38390000000000002]
[856,"$B$4",270,"Plainville","Rooks",2138,{"$f":"IFERROR(IF(OR(AND(Application!$A$9=\"Yes\",IFERROR(MATCH(C795,Application!$K$11:$K$297,0)>0,\"\")),AND(Application!$A$9=\"No\",C795=Application!$A$13)),F795,\"\"),\"\")","v":""},"Plainville High","High School",null,null,null,null,null,null,null,null,null,null,null,null,null,null,null,null,null,182,null,null,48,0.26369999999999999]
[857,"$B$4",271,"Stockton","Rooks",2155,{"$f":"IFERROR(IF(OR(AND(Application!$A$9=\"Yes\",IFERROR(MATCH(C796,Application!$K$11:$K$297,0)>0,\"\")),AND(Application!$A$9=\"No\",C796=Application!$A$13)),F796,\"\"),\"\")","v":""},"USD 271 - Off Site Non Public Buildings","Special Ed Program - Off Site Community Based",null,null,null,null,null,null,null,null,null,null,null,null,null,null,null,null,null,"N/A",null,null,"N/A","N/A"]
[858,"$B$4",271,"Stockton","Rooks",2156,{"$f":"IFERROR(IF(OR(AND(Application!$A$9=\"Yes\",IFERROR(MATCH(C797,Application!$K$11:$K$297,0)>0,\"\")),AND(Application!$A$9=\"No\",C797=Application!$A$13)),F797,\"\"),\"\")","v":""},"Stockton Elem","Elementary",null,null,null,null,null,null,null,null,null,null,null,null,null,null,null,null,null,186,null,null,91,0.48920000000000002]
[859,"$B$4",271,"Stockton","Rooks",2157,{"$f":"IFERROR(IF(OR(AND(Application!$A$9=\"Yes\",IFERROR(MATCH(C798,Application!$K$11:$K$297,0)>0,\"\")),AND(Application!$A$9=\"No\",C798=Application!$A$13)),F798,\"\"),\"\")","v":""},"USD 271 - Home","Special Ed Program - Home",null,null,null,null,null,null,null,null,null,null,null,null,null,null,null,null,null,"N/A",null,null,"N/A","N/A"]
[860,"$B$4",271,"Stockton","Rooks",2158,{"$f":"IFERROR(IF(OR(AND(Application!$A$9=\"Yes\",IFERROR(MATCH(C799,Application!$K$11:$K$297,0)>0,\"\")),AND(Application!$A$9=\"No\",C799=Application!$A$13)),F799,\"\"),\"\")","v":""},"Stockton High","High School",null,null,null,null,null,null,null,null,null,null,null,null,null,null,null,null,null,93,null,null,39,0.4194]
[861,"$B$4",271,"Stockton","Rooks",2159,{"$f":"IFERROR(IF(OR(AND(Application!$A$9=\"Yes\",IFERROR(MATCH(C800,Application!$K$11:$K$297,0)>0,\"\")),AND(Application!$A$9=\"No\",C800=Application!$A$13)),F800,\"\"),\"\")","v":""},"USD 271 - K Time Program W/O SPED","Early Childhood Program - General",null,null,null,null,null,null,null,null,null,null,null,null,null,null,null,null,null,"N/A",null,null,"N/A","N/A"]
[827,"$B$4",266,"Maize","Sedgwick",2161,{"$f":"IFERROR(IF(OR(AND(Application!$A$9=\"Yes\",IFERROR(MATCH(C801,Application!$K$11:$K$297,0)>0,\"\")),AND(Application!$A$9=\"No\",C801=Application!$A$13)),F801,\"\"),\"\")","v":""},"Maize Intermediate School","Middle School",null,null,null,null,null,null,null,null,null,null,null,null,null,null,null,null,null,613,null,null,163,0.26590000000000003]
[828,"$B$4",266,"Maize","Sedgwick",2162,{"$f":"IFERROR(IF(OR(AND(Application!$A$9=\"Yes\",IFERROR(MATCH(C802,Application!$K$11:$K$297,0)>0,\"\")),AND(Application!$A$9=\"No\",C802=Application!$A$13)),F802,\"\"),\"\")","v":""},"Maize South Intermediate School","Middle School",null,null,null,null,null,null,null,null,null,null,null,null,null,null,null,null,null,469,null,null,93,0.1983]
[862,"$B$4",272,"Waconda","Mitchell",2169,{"$f":"IFERROR(IF(OR(AND(Application!$A$9=\"Yes\",IFERROR(MATCH(C803,Application!$K$11:$K$297,0)>0,\"\")),AND(Application!$A$9=\"No\",C803=Application!$A$13)),F803,\"\"),\"\")","v":""},"USD 272 - Off Site Non Public Buildings","Special Ed Program - Off Site Community Based",null,null,null,null,null,null,null,null,null,null,null,null,null,null,null,null,null,"N/A",null,null,"N/A","N/A"]
[863,"$B$4",272,"Waconda","Mitchell",2171,{"$f":"IFERROR(IF(OR(AND(Application!$A$9=\"Yes\",IFERROR(MATCH(C804,Application!$K$11:$K$297,0)>0,\"\")),AND(Application!$A$9=\"No\",C804=Application!$A$13)),F804,\"\"),\"\")","v":""},"Lakeside Elementary","Elementary",null,null,null,null,null,null,null,null,null,null,null,null,null,null,null,null,null,145,null,null,78,0.53790000000000004]
[864,"$B$4",272,"Waconda","Mitchell",2173,{"$f":"IFERROR(IF(OR(AND(Application!$A$9=\"Yes\",IFERROR(MATCH(C805,Application!$K$11:$K$297,0)>0,\"\")),AND(Application!$A$9=\"No\",C805=Application!$A$13)),F805,\"\"),\"\")","v":""},"USD 272 - Home","Special Ed Program - Home",null,null,null,null,null,null,null,null,null,null,null,null,null,null,null,null,null,"N/A",null,null,"N/A","N/A"]
[865,"$B$4",272,"Waconda","Mitchell",2175,{"$f":"IFERROR(IF(OR(AND(Application!$A$9=\"Yes\",IFERROR(MATCH(C806,Application!$K$11:$K$297,0)>0,\"\")),AND(Application!$A$9=\"No\",C806=Application!$A$13)),F806,\"\"),\"\")","v":""},"USD 272 - Community-Based Preschool","Special Ed Program - Community Based Preschool",null,null,null,null,null,null,null,null,null,null,null,null,null,null,null,null,null,"N/A",null,null,"N/A","N/A"]
[866,"$B$4",272,"Waconda","Osborne",2176,{"$f":"IFERROR(IF(OR(AND(Application!$A$9=\"Yes\",IFERROR(MATCH(C807,Application!$K$11:$K$297,0)>0,\"\")),AND(Application!$A$9=\"No\",C807=Application!$A$13)),F807,\"\"),\"\")","v":""},"Lakeside Junior/Senior High School","High School",null,null,null,null,null,null,null,null,null,null,null,null,null,null,null,null,null,134,null,null,50,0.37309999999999999]
[867,"$B$4",272,"Waconda","Mitchell",2177,{"$f":"IFERROR(IF(OR(AND(Application!$A$9=\"Yes\",IFERROR(MATCH(C808,Application!$K$11:$K$297,0)>0,\"\")),AND(Application!$A$9=\"No\",C808=Application!$A$13)),F808,\"\"),\"\")","v":""},"USD 272 - K Time Program W/O SPED","Early Childhood Program - General",null,null,null,null,null,null,null,null,null,null,null,null,null,null,null,null,null,"N/A",null,null,"N/A","N/A"]
[868,"$B$4",272,"Waconda","Mitchell",2179,{"$f":"IFERROR(IF(OR(AND(Application!$A$9=\"Yes\",IFERROR(MATCH(C809,Application!$K$11:$K$297,0)>0,\"\")),AND(Application!$A$9=\"No\",C809=Application!$A$13)),F809,\"\"),\"\")","v":""},"Tipton Community School","Elementary",null,null,null,null,null,null,null,null,null,null,null,null,null,null,null,null,null,49,null,null,5,0.10199999999999999]
[808,"$B$4",265,"Goddard","Sedgwick",2188,{"$f":"IFERROR(IF(OR(AND(Application!$A$9=\"Yes\",IFERROR(MATCH(C810,Application!$K$11:$K$297,0)>0,\"\")),AND(Application!$A$9=\"No\",C810=Application!$A$13)),F810,\"\"),\"\")","v":""},"USD 265 - Goddard Virtual School","High School",null,null,null,null,null,null,null,null,null,null,null,null,null,null,null,null,null,35,null,null,14,0.4]
[869,"$B$4",273,"Beloit","Mitchell",2211,{"$f":"IFERROR(IF(OR(AND(Application!$A$9=\"Yes\",IFERROR(MATCH(C811,Application!$K$11:$K$297,0)>0,\"\")),AND(Application!$A$9=\"No\",C811=Application!$A$13)),F811,\"\"),\"\")","v":""},"USD 273 - Off Site Non Public Buildings","Special Ed Program - Off Site Community Based",null,null,null,null,null,null,null,null,null,null,null,null,null,null,null,null,null,"N/A",null,null,"N/A","N/A"]
[870,"$B$4",273,"Beloit","Mitchell",2212,{"$f":"IFERROR(IF(OR(AND(Application!$A$9=\"Yes\",IFERROR(MATCH(C812,Application!$K$11:$K$297,0)>0,\"\")),AND(Application!$A$9=\"No\",C812=Application!$A$13)),F812,\"\"),\"\")","v":""},"USD 273 - Off Site Non Public Buildings","Special Ed Program - Off Site Community Based",null,null,null,null,null,null,null,null,null,null,null,null,null,null,null,null,null,"N/A",null,null,"N/A","N/A"]
[871,"$B$4",273,"Beloit","Mitchell",2213,{"$f":"IFERROR(IF(OR(AND(Application!$A$9=\"Yes\",IFERROR(MATCH(C813,Application!$K$11:$K$297,0)>0,\"\")),AND(Application!$A$9=\"No\",C813=Application!$A$13)),F813,\"\"),\"\")","v":""},"USD 273 - Home","Special Ed Program - Home",null,null,null,null,null,null,null,null,null,null,null,null,null,null,null,null,null,"N/A",null,null,"N/A","N/A"]
[872,"$B$4",273,"Beloit","Mitchell",2214,{"$f":"IFERROR(IF(OR(AND(Application!$A$9=\"Yes\",IFERROR(MATCH(C814,Application!$K$11:$K$297,0)>0,\"\")),AND(Application!$A$9=\"No\",C814=Application!$A$13)),F814,\"\"),\"\")","v":""},"Beloit Elem","Elementary",null,null,null,null,null,null,null,null,null,null,null,null,null,null,null,null,null,490,null,null,177,0.36120000000000002]
[873,"$B$4",273,"Beloit","Mitchell",2215,{"$f":"IFERROR(IF(OR(AND(Application!$A$9=\"Yes\",IFERROR(MATCH(C815,Application!$K$11:$K$297,0)>0,\"\")),AND(Application!$A$9=\"No\",C815=Application!$A$13)),F815,\"\"),\"\")","v":""},"USD 273 - Incarceration","Special Ed Program - Incarcerated",null,null,null,null,null,null,null,null,null,null,null,null,null,null,null,null,null,"N/A",null,null,"N/A","N/A"]
[874,"$B$4",273,"Beloit","Mitchell",2216,{"$f":"IFERROR(IF(OR(AND(Application!$A$9=\"Yes\",IFERROR(MATCH(C816,Application!$K$11:$K$297,0)>0,\"\")),AND(Application!$A$9=\"No\",C816=Application!$A$13)),F816,\"\"),\"\")","v":""},"USD 273 - Community-Based Preschool","Special Ed Program - Community Based Preschool",null,null,null,null,null,null,null,null,null,null,null,null,null,null,null,null,null,"N/A",null,null,"N/A","N/A"]
[875,"$B$4",273,"Beloit","Mitchell",2217,{"$f":"IFERROR(IF(OR(AND(Application!$A$9=\"Yes\",IFERROR(MATCH(C817,Application!$K$11:$K$297,0)>0,\"\")),AND(Application!$A$9=\"No\",C817=Application!$A$13)),F817,\"\"),\"\")","v":""},"USD 273 - K Time Program W/O SPED","Early Childhood Program - General",null,null,null,null,null,null,null,null,null,null,null,null,null,null,null,null,null,"N/A",null,null,"N/A","N/A"]
[876,"$B$4",273,"Beloit","Mitchell",2218,{"$f":"IFERROR(IF(OR(AND(Application!$A$9=\"Yes\",IFERROR(MATCH(C818,Application!$K$11:$K$297,0)>0,\"\")),AND(Application!$A$9=\"No\",C818=Application!$A$13)),F818,\"\"),\"\")","v":""},"Beloit Jr-Sr High","High School",null,null,null,null,null,null,null,null,null,null,null,null,null,null,null,null,null,352,null,null,122,0.34660000000000002]
[877,"$B$4",273,"Beloit","Mitchell",2220,{"$f":"IFERROR(IF(OR(AND(Application!$A$9=\"Yes\",IFERROR(MATCH(C819,Application!$K$11:$K$297,0)>0,\"\")),AND(Application!$A$9=\"No\",C819=Application!$A$13)),F819,\"\"),\"\")","v":""},"Transitional Learning Center","Special School",null,null,null,null,null,null,null,null,null,null,null,null,null,null,null,null,null,"N/A",null,null,"N/A","N/A"]
[878,"$B$4",274,"Oakley","Logan",2255,{"$f":"IFERROR(IF(OR(AND(Application!$A$9=\"Yes\",IFERROR(MATCH(C820,Application!$K$11:$K$297,0)>0,\"\")),AND(Application!$A$9=\"No\",C820=Application!$A$13)),F820,\"\"),\"\")","v":""},"USD 274 - Off Site Non Public Buildings","Special Ed Program - Off Site Community Based",null,null,null,null,null,null,null,null,null,null,null,null,null,null,null,null,null,"N/A",null,null,"N/A","N/A"]
[879,"$B$4",274,"Oakley","Logan",2256,{"$f":"IFERROR(IF(OR(AND(Application!$A$9=\"Yes\",IFERROR(MATCH(C821,Application!$K$11:$K$297,0)>0,\"\")),AND(Application!$A$9=\"No\",C821=Application!$A$13)),F821,\"\"),\"\")","v":""},"USD 274 - Home","Special Ed Program - Home",null,null,null,null,null,null,null,null,null,null,null,null,null,null,null,null,null,"N/A",null,null,"N/A","N/A"]
[880,"$B$4",274,"Oakley","Logan",2257,{"$f":"IFERROR(IF(OR(AND(Application!$A$9=\"Yes\",IFERROR(MATCH(C822,Application!$K$11:$K$297,0)>0,\"\")),AND(Application!$A$9=\"No\",C822=Application!$A$13)),F822,\"\"),\"\")","v":""},"USD 274 - Community-Based Preschool","Special Ed Program - Community Based Preschool",null,null,null,null,null,null,null,null,null,null,null,null,null,null,null,null,null,"N/A",null,null,"N/A","N/A"]
[881,"$B$4",274,"Oakley","Logan",2259,{"$f":"IFERROR(IF(OR(AND(Application!$A$9=\"Yes\",IFERROR(MATCH(C823,Application!$K$11:$K$297,0)>0,\"\")),AND(Application!$A$9=\"No\",C823=Application!$A$13)),F823,\"\"),\"\")","v":""},"USD 274 - K Time Program W/O SPED","Early Childhood Program - General",null,null,null,null,null,null,null,null,null,null,null,null,null,null,null,null,null,"N/A",null,null,"N/A","N/A"]
[882,"$B$4",274,"Oakley","Logan",2262,{"$f":"IFERROR(IF(OR(AND(Application!$A$9=\"Yes\",IFERROR(MATCH(C824,Application!$K$11:$K$297,0)>0,\"\")),AND(Application!$A$9=\"No\",C824=Application!$A$13)),F824,\"\"),\"\")","v":""},"Oakley Elem","Elementary",null,null,null,null,null,null,null,null,null,null,null,null,null,null,null,null,null,195,null,null,70,0.35899999999999999]
[883,"$B$4",274,"Oakley","Logan",2266,{"$f":"IFERROR(IF(OR(AND(Application!$A$9=\"Yes\",IFERROR(MATCH(C825,Application!$K$11:$K$297,0)>0,\"\")),AND(Application!$A$9=\"No\",C825=Application!$A$13)),F825,\"\"),\"\")","v":""},"Oakley Sr High","High School",null,null,null,null,null,null,null,null,null,null,null,null,null,null,null,null,null,128,null,null,45,0.35160000000000002]
[884,"$B$4",274,"Oakley","Logan",2268,{"$f":"IFERROR(IF(OR(AND(Application!$A$9=\"Yes\",IFERROR(MATCH(C826,Application!$K$11:$K$297,0)>0,\"\")),AND(Application!$A$9=\"No\",C826=Application!$A$13)),F826,\"\"),\"\")","v":""},"Oakley Middle School","Middle School",null,null,null,null,null,null,null,null,null,null,null,null,null,null,null,null,null,134,null,null,45,0.33579999999999999]
[885,"$B$4",275,"Triplains","Logan",2279,{"$f":"IFERROR(IF(OR(AND(Application!$A$9=\"Yes\",IFERROR(MATCH(C827,Application!$K$11:$K$297,0)>0,\"\")),AND(Application!$A$9=\"No\",C827=Application!$A$13)),F827,\"\"),\"\")","v":""},"USD 275 - Off Site Non Public Buildings","Special Ed Program - Off Site Community Based",null,null,null,null,null,null,null,null,null,null,null,null,null,null,null,null,null,"N/A",null,null,"N/A","N/A"]
[886,"$B$4",275,"Triplains","Logan",2280,{"$f":"IFERROR(IF(OR(AND(Application!$A$9=\"Yes\",IFERROR(MATCH(C828,Application!$K$11:$K$297,0)>0,\"\")),AND(Application!$A$9=\"No\",C828=Application!$A$13)),F828,\"\"),\"\")","v":""},"USD 275 - Home","Special Ed Program - Home",null,null,null,null,null,null,null,null,null,null,null,null,null,null,null,null,null,"N/A",null,null,"N/A","N/A"]
[887,"$B$4",275,"Triplains","Logan",2281,{"$f":"IFERROR(IF(OR(AND(Application!$A$9=\"Yes\",IFERROR(MATCH(C829,Application!$K$11:$K$297,0)>0,\"\")),AND(Application!$A$9=\"No\",C829=Application!$A$13)),F829,\"\"),\"\")","v":""},"USD 275 - Community-Based Preschool","Special Ed Program - Community Based Preschool",null,null,null,null,null,null,null,null,null,null,null,null,null,null,null,null,null,"N/A",null,null,"N/A","N/A"]
[888,"$B$4",275,"Triplains","Logan",2282,{"$f":"IFERROR(IF(OR(AND(Application!$A$9=\"Yes\",IFERROR(MATCH(C830,Application!$K$11:$K$297,0)>0,\"\")),AND(Application!$A$9=\"No\",C830=Application!$A$13)),F830,\"\"),\"\")","v":""},"USD 275 - K Time Program W/O SPED","Early Childhood Program - General",null,null,null,null,null,null,null,null,null,null,null,null,null,null,null,null,null,"N/A",null,null,"N/A","N/A"]
[889,"$B$4",275,"Triplains","Logan",2286,{"$f":"IFERROR(IF(OR(AND(Application!$A$9=\"Yes\",IFERROR(MATCH(C831,Application!$K$11:$K$297,0)>0,\"\")),AND(Application!$A$9=\"No\",C831=Application!$A$13)),F831,\"\"),\"\")","v":""},"Winona Elem","Elementary",null,null,null,null,null,null,null,null,null,null,null,null,null,null,null,null,null,51,null,null,23,0.45100000000000001]
[890,"$B$4",275,"Triplains","Logan",2288,{"$f":"IFERROR(IF(OR(AND(Application!$A$9=\"Yes\",IFERROR(MATCH(C832,Application!$K$11:$K$297,0)>0,\"\")),AND(Application!$A$9=\"No\",C832=Application!$A$13)),F832,\"\"),\"\")","v":""},"Winona High","High School",null,null,null,null,null,null,null,null,null,null,null,null,null,null,null,null,null,17,null,null,4,0.23530000000000001]
[742,"$B$4",260,"Derby","Sedgwick",2297,{"$f":"IFERROR(IF(OR(AND(Application!$A$9=\"Yes\",IFERROR(MATCH(C833,Application!$K$11:$K$297,0)>0,\"\")),AND(Application!$A$9=\"No\",C833=Application!$A$13)),F833,\"\"),\"\")","v":""},"Derby Virtual School","Other",null,null,null,null,null,null,null,null,null,null,null,null,null,null,null,null,null,8,null,null,2,0.25]
[762,"$B$4",261,"Haysville","Sedgwick",2301,{"$f":"IFERROR(IF(OR(AND(Application!$A$9=\"Yes\",IFERROR(MATCH(C834,Application!$K$11:$K$297,0)>0,\"\")),AND(Application!$A$9=\"No\",C834=Application!$A$13)),F834,\"\"),\"\")","v":""},"USD 261 Project Life","Special Ed Program - Public School Administered",null,null,null,null,null,null,null,null,null,null,null,null,null,null,null,null,null,"N/A",null,null,"N/A","N/A"]
[891,"$B$4",281,"Graham County","Graham",2407,{"$f":"IFERROR(IF(OR(AND(Application!$A$9=\"Yes\",IFERROR(MATCH(C835,Application!$K$11:$K$297,0)>0,\"\")),AND(Application!$A$9=\"No\",C835=Application!$A$13)),F835,\"\"),\"\")","v":""},"Hill City Junior-Senior High","High School",null,null,null,null,null,null,null,null,null,null,null,null,null,null,null,null,null,196,null,null,67,0.34179999999999999]
[892,"$B$4",281,"Graham County","Graham",2409,{"$f":"IFERROR(IF(OR(AND(Application!$A$9=\"Yes\",IFERROR(MATCH(C836,Application!$K$11:$K$297,0)>0,\"\")),AND(Application!$A$9=\"No\",C836=Application!$A$13)),F836,\"\"),\"\")","v":""},"USD 281 - Off Site Non Public Buildings","Special Ed Program - Off Site Community Based",null,null,null,null,null,null,null,null,null,null,null,null,null,null,null,null,null,"N/A",null,null,"N/A","N/A"]
[893,"$B$4",281,"Graham County","Graham",2411,{"$f":"IFERROR(IF(OR(AND(Application!$A$9=\"Yes\",IFERROR(MATCH(C837,Application!$K$11:$K$297,0)>0,\"\")),AND(Application!$A$9=\"No\",C837=Application!$A$13)),F837,\"\"),\"\")","v":""},"USD 281 - Home","Special Ed Program - Home",null,null,null,null,null,null,null,null,null,null,null,null,null,null,null,null,null,"N/A",null,null,"N/A","N/A"]
[894,"$B$4",281,"Graham County","Graham",2412,{"$f":"IFERROR(IF(OR(AND(Application!$A$9=\"Yes\",IFERROR(MATCH(C838,Application!$K$11:$K$297,0)>0,\"\")),AND(Application!$A$9=\"No\",C838=Application!$A$13)),F838,\"\"),\"\")","v":""},"Hill City Elem","Elementary",null,null,null,null,null,null,null,null,null,null,null,null,null,null,null,null,null,218,null,null,114,0.52290000000000003]
[895,"$B$4",281,"Graham County","Graham",2413,{"$f":"IFERROR(IF(OR(AND(Application!$A$9=\"Yes\",IFERROR(MATCH(C839,Application!$K$11:$K$297,0)>0,\"\")),AND(Application!$A$9=\"No\",C839=Application!$A$13)),F839,\"\"),\"\")","v":""},"USD 281 - Community-Based Preschool","Special Ed Program - Community Based Preschool",null,null,null,null,null,null,null,null,null,null,null,null,null,null,null,null,null,"N/A",null,null,"N/A","N/A"]
[896,"$B$4",281,"Graham County","Graham",2415,{"$f":"IFERROR(IF(OR(AND(Application!$A$9=\"Yes\",IFERROR(MATCH(C840,Application!$K$11:$K$297,0)>0,\"\")),AND(Application!$A$9=\"No\",C840=Application!$A$13)),F840,\"\"),\"\")","v":""},"USD 281 - K Time Program W/O SPED","Early Childhood Program - General",null,null,null,null,null,null,null,null,null,null,null,null,null,null,null,null,null,"N/A",null,null,"N/A","N/A"]
[897,"$B$4",282,"West Elk","Elk",2431,{"$f":"IFERROR(IF(OR(AND(Application!$A$9=\"Yes\",IFERROR(MATCH(C841,Application!$K$11:$K$297,0)>0,\"\")),AND(Application!$A$9=\"No\",C841=Application!$A$13)),F841,\"\"),\"\")","v":""},"USD 282 - Off Site Non Public Buildings","Special Ed Program - Off Site Community Based",null,null,null,null,null,null,null,null,null,null,null,null,null,null,null,null,null,"N/A",null,null,"N/A","N/A"]
[898,"$B$4",282,"West Elk","Elk",2432,{"$f":"IFERROR(IF(OR(AND(Application!$A$9=\"Yes\",IFERROR(MATCH(C842,Application!$K$11:$K$297,0)>0,\"\")),AND(Application!$A$9=\"No\",C842=Application!$A$13)),F842,\"\"),\"\")","v":""},"USD 282 - Hospital","Special Ed Program - Hospital",null,null,null,null,null,null,null,null,null,null,null,null,null,null,null,null,null,"N/A",null,null,"N/A","N/A"]
[899,"$B$4",282,"West Elk","Elk",2433,{"$f":"IFERROR(IF(OR(AND(Application!$A$9=\"Yes\",IFERROR(MATCH(C843,Application!$K$11:$K$297,0)>0,\"\")),AND(Application!$A$9=\"No\",C843=Application!$A$13)),F843,\"\"),\"\")","v":""},"USD 282 - Home","Special Ed Program - Home",null,null,null,null,null,null,null,null,null,null,null,null,null,null,null,null,null,"N/A",null,null,"N/A","N/A"]
[900,"$B$4",282,"West Elk","Elk",2434,{"$f":"IFERROR(IF(OR(AND(Application!$A$9=\"Yes\",IFERROR(MATCH(C844,Application!$K$11:$K$297,0)>0,\"\")),AND(Application!$A$9=\"No\",C844=Application!$A$13)),F844,\"\"),\"\")","v":""},"USD 282 - Incarceration","Special Ed Program - Incarcerated",null,null,null,null,null,null,null,null,null,null,null,null,null,null,null,null,null,"N/A",null,null,"N/A","N/A"]
[901,"$B$4",282,"West Elk","Elk",2435,{"$f":"IFERROR(IF(OR(AND(Application!$A$9=\"Yes\",IFERROR(MATCH(C845,Application!$K$11:$K$297,0)>0,\"\")),AND(Application!$A$9=\"No\",C845=Application!$A$13)),F845,\"\"),\"\")","v":""},"USD 282 - K Time Program W/O SPED","Early Childhood Program - General",null,null,null,null,null,null,null,null,null,null,null,null,null,null,null,null,null,"N/A",null,null,"N/A","N/A"]
[902,"$B$4",282,"West Elk","Elk",2436,{"$f":"IFERROR(IF(OR(AND(Application!$A$9=\"Yes\",IFERROR(MATCH(C846,Application!$K$11:$K$297,0)>0,\"\")),AND(Application!$A$9=\"No\",C846=Application!$A$13)),F846,\"\"),\"\")","v":""},"West Elk Schools","High School",null,null,null,null,null,null,null,null,null,null,null,null,null,null,null,null,null,361,null,null,176,0.48749999999999999]
[903,"$B$4",282,"West Elk","Elk",2437,{"$f":"IFERROR(IF(OR(AND(Application!$A$9=\"Yes\",IFERROR(MATCH(C847,Application!$K$11:$K$297,0)>0,\"\")),AND(Application!$A$9=\"No\",C847=Application!$A$13)),F847,\"\"),\"\")","v":""},"West Elk Virtual Academy ","Other",null,null,null,null,null,null,null,null,null,null,null,null,null,null,null,null,null,174,null,null,74,0.42530000000000001]
[904,"$B$4",283,"Elk Valley","Elk",2465,{"$f":"IFERROR(IF(OR(AND(Application!$A$9=\"Yes\",IFERROR(MATCH(C848,Application!$K$11:$K$297,0)>0,\"\")),AND(Application!$A$9=\"No\",C848=Application!$A$13)),F848,\"\"),\"\")","v":""},"USD 283 - Off Site Non Public Buildings","Special Ed Program - Off Site Community Based",null,null,null,null,null,null,null,null,null,null,null,null,null,null,null,null,null,"N/A",null,null,"N/A","N/A"]
[905,"$B$4",283,"Elk Valley","Elk",2466,{"$f":"IFERROR(IF(OR(AND(Application!$A$9=\"Yes\",IFERROR(MATCH(C849,Application!$K$11:$K$297,0)>0,\"\")),AND(Application!$A$9=\"No\",C849=Application!$A$13)),F849,\"\"),\"\")","v":""},"USD 283 - Home","Special Ed Program - Home",null,null,null,null,null,null,null,null,null,null,null,null,null,null,null,null,null,"N/A",null,null,"N/A","N/A"]
[906,"$B$4",283,"Elk Valley","Elk",2467,{"$f":"IFERROR(IF(OR(AND(Application!$A$9=\"Yes\",IFERROR(MATCH(C850,Application!$K$11:$K$297,0)>0,\"\")),AND(Application!$A$9=\"No\",C850=Application!$A$13)),F850,\"\"),\"\")","v":""},"USD 283 - K Time Program W/O SPED","Early Childhood Program - General",null,null,null,null,null,null,null,null,null,null,null,null,null,null,null,null,null,"N/A",null,null,"N/A","N/A"]
[907,"$B$4",283,"Elk Valley","Elk",2470,{"$f":"IFERROR(IF(OR(AND(Application!$A$9=\"Yes\",IFERROR(MATCH(C851,Application!$K$11:$K$297,0)>0,\"\")),AND(Application!$A$9=\"No\",C851=Application!$A$13)),F851,\"\"),\"\")","v":""},"Elk Valley Elementary","Elementary",null,null,null,null,null,null,null,null,null,null,null,null,null,null,null,null,null,60,null,null,43,0.7167]
[908,"$B$4",283,"Elk Valley","Elk",2472,{"$f":"IFERROR(IF(OR(AND(Application!$A$9=\"Yes\",IFERROR(MATCH(C852,Application!$K$11:$K$297,0)>0,\"\")),AND(Application!$A$9=\"No\",C852=Application!$A$13)),F852,\"\"),\"\")","v":""},"Elk Valley High School","High School",null,null,null,null,null,null,null,null,null,null,null,null,null,null,null,null,null,47,null,null,34,0.72340000000000004]
[909,"$B$4",284,"Chase County","Chase",2483,{"$f":"IFERROR(IF(OR(AND(Application!$A$9=\"Yes\",IFERROR(MATCH(C853,Application!$K$11:$K$297,0)>0,\"\")),AND(Application!$A$9=\"No\",C853=Application!$A$13)),F853,\"\"),\"\")","v":""},"USD 284 - Off Site Non Public Buildings","Special Ed Program - Off Site Community Based",null,null,null,null,null,null,null,null,null,null,null,null,null,null,null,null,null,"N/A",null,null,"N/A","N/A"]
[910,"$B$4",284,"Chase County","Chase",2484,{"$f":"IFERROR(IF(OR(AND(Application!$A$9=\"Yes\",IFERROR(MATCH(C854,Application!$K$11:$K$297,0)>0,\"\")),AND(Application!$A$9=\"No\",C854=Application!$A$13)),F854,\"\"),\"\")","v":""},"USD 284 - Home","Special Ed Program - Home",null,null,null,null,null,null,null,null,null,null,null,null,null,null,null,null,null,"N/A",null,null,"N/A","N/A"]
[911,"$B$4",284,"Chase County","Chase",2485,{"$f":"IFERROR(IF(OR(AND(Application!$A$9=\"Yes\",IFERROR(MATCH(C855,Application!$K$11:$K$297,0)>0,\"\")),AND(Application!$A$9=\"No\",C855=Application!$A$13)),F855,\"\"),\"\")","v":""},"USD 284 - Community-Based Preschool","Special Ed Program - Community Based Preschool",null,null,null,null,null,null,null,null,null,null,null,null,null,null,null,null,null,"N/A",null,null,"N/A","N/A"]
[912,"$B$4",284,"Chase County","Chase",2487,{"$f":"IFERROR(IF(OR(AND(Application!$A$9=\"Yes\",IFERROR(MATCH(C856,Application!$K$11:$K$297,0)>0,\"\")),AND(Application!$A$9=\"No\",C856=Application!$A$13)),F856,\"\"),\"\")","v":""},"USD 284 - K Time Program W/O SPED","Early Childhood Program - General",null,null,null,null,null,null,null,null,null,null,null,null,null,null,null,null,null,"N/A",null,null,"N/A","N/A"]
[913,"$B$4",284,"Chase County","Chase",2489,{"$f":"IFERROR(IF(OR(AND(Application!$A$9=\"Yes\",IFERROR(MATCH(C857,Application!$K$11:$K$297,0)>0,\"\")),AND(Application!$A$9=\"No\",C857=Application!$A$13)),F857,\"\"),\"\")","v":""},"Chase County Junior Senior High School","High School",null,null,null,null,null,null,null,null,null,null,null,null,null,null,null,null,null,165,null,null,52,0.31519999999999998]
[914,"$B$4",284,"Chase County","Chase",2491,{"$f":"IFERROR(IF(OR(AND(Application!$A$9=\"Yes\",IFERROR(MATCH(C858,Application!$K$11:$K$297,0)>0,\"\")),AND(Application!$A$9=\"No\",C858=Application!$A$13)),F858,\"\"),\"\")","v":""},"Chase County Elementary School","Elementary",null,null,null,null,null,null,null,null,null,null,null,null,null,null,null,null,null,199,null,null,58,0.29149999999999998]
[915,"$B$4",285,"Cedar Vale","Chautauqua",2517,{"$f":"IFERROR(IF(OR(AND(Application!$A$9=\"Yes\",IFERROR(MATCH(C859,Application!$K$11:$K$297,0)>0,\"\")),AND(Application!$A$9=\"No\",C859=Application!$A$13)),F859,\"\"),\"\")","v":""},"USD 285 - Off Site Non Public Buildings","Special Ed Program - Off Site Community Based",null,null,null,null,null,null,null,null,null,null,null,null,null,null,null,null,null,"N/A",null,null,"N/A","N/A"]
[916,"$B$4",285,"Cedar Vale","Chautauqua",2518,{"$f":"IFERROR(IF(OR(AND(Application!$A$9=\"Yes\",IFERROR(MATCH(C860,Application!$K$11:$K$297,0)>0,\"\")),AND(Application!$A$9=\"No\",C860=Application!$A$13)),F860,\"\"),\"\")","v":""},"Cedar Vale Elem","Elementary",null,null,null,null,null,null,null,null,null,null,null,null,null,null,null,null,null,72,null,null,30,0.41670000000000001]
[917,"$B$4",285,"Cedar Vale","Chautauqua",2519,{"$f":"IFERROR(IF(OR(AND(Application!$A$9=\"Yes\",IFERROR(MATCH(C861,Application!$K$11:$K$297,0)>0,\"\")),AND(Application!$A$9=\"No\",C861=Application!$A$13)),F861,\"\"),\"\")","v":""},"USD 285 - Home","Special Ed Program - Home",null,null,null,null,null,null,null,null,null,null,null,null,null,null,null,null,null,"N/A",null,null,"N/A","N/A"]
[918,"$B$4",285,"Cedar Vale","Chautauqua",2520,{"$f":"IFERROR(IF(OR(AND(Application!$A$9=\"Yes\",IFERROR(MATCH(C862,Application!$K$11:$K$297,0)>0,\"\")),AND(Application!$A$9=\"No\",C862=Application!$A$13)),F862,\"\"),\"\")","v":""},"Cedar Vale High","High School",null,null,null,null,null,null,null,null,null,null,null,null,null,null,null,null,null,68,null,null,37,0.54410000000000003]
[919,"$B$4",285,"Cedar Vale","Chautauqua",2521,{"$f":"IFERROR(IF(OR(AND(Application!$A$9=\"Yes\",IFERROR(MATCH(C863,Application!$K$11:$K$297,0)>0,\"\")),AND(Application!$A$9=\"No\",C863=Application!$A$13)),F863,\"\"),\"\")","v":""},"USD 285 - K Time Program W/O SPED","Early Childhood Program - General",null,null,null,null,null,null,null,null,null,null,null,null,null,null,null,null,null,"N/A",null,null,"N/A","N/A"]
[920,"$B$4",286,"Chautauqua Co Community","Chautauqua",2533,{"$f":"IFERROR(IF(OR(AND(Application!$A$9=\"Yes\",IFERROR(MATCH(C864,Application!$K$11:$K$297,0)>0,\"\")),AND(Application!$A$9=\"No\",C864=Application!$A$13)),F864,\"\"),\"\")","v":""},"USD 286 - Off Site Non Public Buildings","Special Ed Program - Off Site Community Based",null,null,null,null,null,null,null,null,null,null,null,null,null,null,null,null,null,"N/A",null,null,"N/A","N/A"]
[921,"$B$4",286,"Chautauqua Co Community","Chautauqua",2535,{"$f":"IFERROR(IF(OR(AND(Application!$A$9=\"Yes\",IFERROR(MATCH(C865,Application!$K$11:$K$297,0)>0,\"\")),AND(Application!$A$9=\"No\",C865=Application!$A$13)),F865,\"\"),\"\")","v":""},"USD 286 - Home","Special Ed Program - Home",null,null,null,null,null,null,null,null,null,null,null,null,null,null,null,null,null,"N/A",null,null,"N/A","N/A"]
[922,"$B$4",286,"Chautauqua Co Community","Chautauqua",2537,{"$f":"IFERROR(IF(OR(AND(Application!$A$9=\"Yes\",IFERROR(MATCH(C866,Application!$K$11:$K$297,0)>0,\"\")),AND(Application!$A$9=\"No\",C866=Application!$A$13)),F866,\"\"),\"\")","v":""},"USD 286 - K Time Program W/O SPED","Early Childhood Program - General",null,null,null,null,null,null,null,null,null,null,null,null,null,null,null,null,null,"N/A",null,null,"N/A","N/A"]
[923,"$B$4",286,"Chautauqua Co Community","Chautauqua",2544,{"$f":"IFERROR(IF(OR(AND(Application!$A$9=\"Yes\",IFERROR(MATCH(C867,Application!$K$11:$K$297,0)>0,\"\")),AND(Application!$A$9=\"No\",C867=Application!$A$13)),F867,\"\"),\"\")","v":""},"Sedan Elem","Elementary",null,null,null,null,null,null,null,null,null,null,null,null,null,null,null,null,null,183,null,null,114,0.623]
[924,"$B$4",286,"Chautauqua Co Community","Chautauqua",2546,{"$f":"IFERROR(IF(OR(AND(Application!$A$9=\"Yes\",IFERROR(MATCH(C868,Application!$K$11:$K$297,0)>0,\"\")),AND(Application!$A$9=\"No\",C868=Application!$A$13)),F868,\"\"),\"\")","v":""},"Sedan High","High School",null,null,null,null,null,null,null,null,null,null,null,null,null,null,null,null,null,199,null,null,118,0.59299999999999997]
[925,"$B$4",287,"West Franklin","Franklin",2557,{"$f":"IFERROR(IF(OR(AND(Application!$A$9=\"Yes\",IFERROR(MATCH(C869,Application!$K$11:$K$297,0)>0,\"\")),AND(Application!$A$9=\"No\",C869=Application!$A$13)),F869,\"\"),\"\")","v":""},"USD 287 - Off Site Non Public Buildings","Special Ed Program - Off Site Community Based",null,null,null,null,null,null,null,null,null,null,null,null,null,null,null,null,null,"N/A",null,null,"N/A","N/A"]
[926,"$B$4",287,"West Franklin","Franklin",2559,{"$f":"IFERROR(IF(OR(AND(Application!$A$9=\"Yes\",IFERROR(MATCH(C870,Application!$K$11:$K$297,0)>0,\"\")),AND(Application!$A$9=\"No\",C870=Application!$A$13)),F870,\"\"),\"\")","v":""},"Appanoose Elementary School","Elementary",null,null,null,null,null,null,null,null,null,null,null,null,null,null,null,null,null,169,null,null,59,0.34910000000000002]
[927,"$B$4",287,"West Franklin","Franklin",2561,{"$f":"IFERROR(IF(OR(AND(Application!$A$9=\"Yes\",IFERROR(MATCH(C871,Application!$K$11:$K$297,0)>0,\"\")),AND(Application!$A$9=\"No\",C871=Application!$A$13)),F871,\"\"),\"\")","v":""},"USD 287 - Home","Special Ed Program - Home",null,null,null,null,null,null,null,null,null,null,null,null,null,null,null,null,null,"N/A",null,null,"N/A","N/A"]
[928,"$B$4",287,"West Franklin","Franklin",2563,{"$f":"IFERROR(IF(OR(AND(Application!$A$9=\"Yes\",IFERROR(MATCH(C872,Application!$K$11:$K$297,0)>0,\"\")),AND(Application!$A$9=\"No\",C872=Application!$A$13)),F872,\"\"),\"\")","v":""},"West Franklin Middle School","Middle School",null,null,null,null,null,null,null,null,null,null,null,null,null,null,null,null,null,135,null,null,50,0.37040000000000001]
[929,"$B$4",287,"West Franklin","Franklin",2564,{"$f":"IFERROR(IF(OR(AND(Application!$A$9=\"Yes\",IFERROR(MATCH(C873,Application!$K$11:$K$297,0)>0,\"\")),AND(Application!$A$9=\"No\",C873=Application!$A$13)),F873,\"\"),\"\")","v":""},"Williamsburg Elementary School","Elementary",null,null,null,null,null,null,null,null,null,null,null,null,null,null,null,null,null,99,null,null,37,0.37369999999999998]
[930,"$B$4",287,"West Franklin","Franklin",2565,{"$f":"IFERROR(IF(OR(AND(Application!$A$9=\"Yes\",IFERROR(MATCH(C874,Application!$K$11:$K$297,0)>0,\"\")),AND(Application!$A$9=\"No\",C874=Application!$A$13)),F874,\"\"),\"\")","v":""},"USD 287 - Community-Based Preschool","Special Ed Program - Community Based Preschool",null,null,null,null,null,null,null,null,null,null,null,null,null,null,null,null,null,"N/A",null,null,"N/A","N/A"]
[931,"$B$4",287,"West Franklin","Franklin",2567,{"$f":"IFERROR(IF(OR(AND(Application!$A$9=\"Yes\",IFERROR(MATCH(C875,Application!$K$11:$K$297,0)>0,\"\")),AND(Application!$A$9=\"No\",C875=Application!$A$13)),F875,\"\"),\"\")","v":""},"USD 287 - K Time Program W/O SPED","Early Childhood Program - General",null,null,null,null,null,null,null,null,null,null,null,null,null,null,null,null,null,"N/A",null,null,"N/A","N/A"]
[932,"$B$4",287,"West Franklin","Franklin",2569,{"$f":"IFERROR(IF(OR(AND(Application!$A$9=\"Yes\",IFERROR(MATCH(C876,Application!$K$11:$K$297,0)>0,\"\")),AND(Application!$A$9=\"No\",C876=Application!$A$13)),F876,\"\"),\"\")","v":""},"West Franklin High School","High School",null,null,null,null,null,null,null,null,null,null,null,null,null,null,null,null,null,204,null,null,77,0.3775]
[933,"$B$4",288,"Central Heights","Franklin",2584,{"$f":"IFERROR(IF(OR(AND(Application!$A$9=\"Yes\",IFERROR(MATCH(C877,Application!$K$11:$K$297,0)>0,\"\")),AND(Application!$A$9=\"No\",C877=Application!$A$13)),F877,\"\"),\"\")","v":""},"Central Heights High","High School",null,null,null,null,null,null,null,null,null,null,null,null,null,null,null,null,null,294,null,null,114,0.38779999999999998]
[934,"$B$4",288,"Central Heights","Franklin",2585,{"$f":"IFERROR(IF(OR(AND(Application!$A$9=\"Yes\",IFERROR(MATCH(C878,Application!$K$11:$K$297,0)>0,\"\")),AND(Application!$A$9=\"No\",C878=Application!$A$13)),F878,\"\"),\"\")","v":""},"Central Heights Elem","Elementary",null,null,null,null,null,null,null,null,null,null,null,null,null,null,null,null,null,237,null,null,113,0.4768]
[935,"$B$4",288,"Central Heights","Miami",2586,{"$f":"IFERROR(IF(OR(AND(Application!$A$9=\"Yes\",IFERROR(MATCH(C879,Application!$K$11:$K$297,0)>0,\"\")),AND(Application!$A$9=\"No\",C879=Application!$A$13)),F879,\"\"),\"\")","v":""},"USD 288 - Off Site Non Public Buildings","Special Ed Program - Off Site Community Based",null,null,null,null,null,null,null,null,null,null,null,null,null,null,null,null,null,"N/A",null,null,"N/A","N/A"]
[936,"$B$4",288,"Central Heights","Miami",2587,{"$f":"IFERROR(IF(OR(AND(Application!$A$9=\"Yes\",IFERROR(MATCH(C880,Application!$K$11:$K$297,0)>0,\"\")),AND(Application!$A$9=\"No\",C880=Application!$A$13)),F880,\"\"),\"\")","v":""},"USD 288 - Home","Special Ed Program - Home",null,null,null,null,null,null,null,null,null,null,null,null,null,null,null,null,null,"N/A",null,null,"N/A","N/A"]
[937,"$B$4",288,"Central Heights","Franklin",2588,{"$f":"IFERROR(IF(OR(AND(Application!$A$9=\"Yes\",IFERROR(MATCH(C881,Application!$K$11:$K$297,0)>0,\"\")),AND(Application!$A$9=\"No\",C881=Application!$A$13)),F881,\"\"),\"\")","v":""},"USD 288 - K Time Program W/O SPED","Early Childhood Program - General",null,null,null,null,null,null,null,null,null,null,null,null,null,null,null,null,null,"N/A",null,null,"N/A","N/A"]
[938,"$B$4",289,"Wellsville","Franklin",2609,{"$f":"IFERROR(IF(OR(AND(Application!$A$9=\"Yes\",IFERROR(MATCH(C882,Application!$K$11:$K$297,0)>0,\"\")),AND(Application!$A$9=\"No\",C882=Application!$A$13)),F882,\"\"),\"\")","v":""},"USD 289 - Off Site Non Public Buildings","Special Ed Program - Off Site Community Based",null,null,null,null,null,null,null,null,null,null,null,null,null,null,null,null,null,"N/A",null,null,"N/A","N/A"]
[939,"$B$4",289,"Wellsville","Franklin",2610,{"$f":"IFERROR(IF(OR(AND(Application!$A$9=\"Yes\",IFERROR(MATCH(C883,Application!$K$11:$K$297,0)>0,\"\")),AND(Application!$A$9=\"No\",C883=Application!$A$13)),F883,\"\"),\"\")","v":""},"USD 289 - Home","Special Ed Program - Home",null,null,null,null,null,null,null,null,null,null,null,null,null,null,null,null,null,"N/A",null,null,"N/A","N/A"]
[940,"$B$4",289,"Wellsville","Franklin",2611,{"$f":"IFERROR(IF(OR(AND(Application!$A$9=\"Yes\",IFERROR(MATCH(C884,Application!$K$11:$K$297,0)>0,\"\")),AND(Application!$A$9=\"No\",C884=Application!$A$13)),F884,\"\"),\"\")","v":""},"USD 289 - K Time Program W/O SPED","Early Childhood Program - General",null,null,null,null,null,null,null,null,null,null,null,null,null,null,null,null,null,"N/A",null,null,"N/A","N/A"]
[941,"$B$4",289,"Wellsville","Franklin",2620,{"$f":"IFERROR(IF(OR(AND(Application!$A$9=\"Yes\",IFERROR(MATCH(C885,Application!$K$11:$K$297,0)>0,\"\")),AND(Application!$A$9=\"No\",C885=Application!$A$13)),F885,\"\"),\"\")","v":""},"Wellsville Elem","Elementary",null,null,null,null,null,null,null,null,null,null,null,null,null,null,null,null,null,360,null,null,105,0.29170000000000001]
[942,"$B$4",289,"Wellsville","Franklin",2621,{"$f":"IFERROR(IF(OR(AND(Application!$A$9=\"Yes\",IFERROR(MATCH(C886,Application!$K$11:$K$297,0)>0,\"\")),AND(Application!$A$9=\"No\",C886=Application!$A$13)),F886,\"\"),\"\")","v":""},"Wellsville Middle School","Middle School",null,null,null,null,null,null,null,null,null,null,null,null,null,null,null,null,null,186,null,null,53,0.28489999999999999]
[943,"$B$4",289,"Wellsville","Franklin",2622,{"$f":"IFERROR(IF(OR(AND(Application!$A$9=\"Yes\",IFERROR(MATCH(C887,Application!$K$11:$K$297,0)>0,\"\")),AND(Application!$A$9=\"No\",C887=Application!$A$13)),F887,\"\"),\"\")","v":""},"Wellsville High","High School",null,null,null,null,null,null,null,null,null,null,null,null,null,null,null,null,null,259,null,null,55,0.21240000000000001]
[944,"$B$4",290,"Ottawa","Franklin",2635,{"$f":"IFERROR(IF(OR(AND(Application!$A$9=\"Yes\",IFERROR(MATCH(C888,Application!$K$11:$K$297,0)>0,\"\")),AND(Application!$A$9=\"No\",C888=Application!$A$13)),F888,\"\"),\"\")","v":""},"USD 290 - Off Site Non Public Buildings","Special Ed Program - Off Site Community Based",null,null,null,null,null,null,null,null,null,null,null,null,null,null,null,null,null,"N/A",null,null,"N/A","N/A"]
[945,"$B$4",290,"Ottawa","Franklin",2636,{"$f":"IFERROR(IF(OR(AND(Application!$A$9=\"Yes\",IFERROR(MATCH(C889,Application!$K$11:$K$297,0)>0,\"\")),AND(Application!$A$9=\"No\",C889=Application!$A$13)),F889,\"\"),\"\")","v":""},"USD 290 District Office","Special Ed Program - Off Site Preschool",null,null,null,null,null,null,null,null,null,null,null,null,null,null,null,null,null,"N/A",null,null,"N/A","N/A"]
[946,"$B$4",290,"Ottawa","Franklin",2637,{"$f":"IFERROR(IF(OR(AND(Application!$A$9=\"Yes\",IFERROR(MATCH(C890,Application!$K$11:$K$297,0)>0,\"\")),AND(Application!$A$9=\"No\",C890=Application!$A$13)),F890,\"\"),\"\")","v":""},"USD 290 - Home","Special Ed Program - Home",null,null,null,null,null,null,null,null,null,null,null,null,null,null,null,null,null,"N/A",null,null,"N/A","N/A"]
[947,"$B$4",290,"Ottawa","Franklin",2643,{"$f":"IFERROR(IF(OR(AND(Application!$A$9=\"Yes\",IFERROR(MATCH(C891,Application!$K$11:$K$297,0)>0,\"\")),AND(Application!$A$9=\"No\",C891=Application!$A$13)),F891,\"\"),\"\")","v":""},"USD 290 - Community-Based Preschool","Special Ed Program - Community Based Preschool",null,null,null,null,null,null,null,null,null,null,null,null,null,null,null,null,null,"N/A",null,null,"N/A","N/A"]
[948,"$B$4",290,"Ottawa","Franklin",2644,{"$f":"IFERROR(IF(OR(AND(Application!$A$9=\"Yes\",IFERROR(MATCH(C892,Application!$K$11:$K$297,0)>0,\"\")),AND(Application!$A$9=\"No\",C892=Application!$A$13)),F892,\"\"),\"\")","v":""},"Garfield Elem","Elementary",null,null,null,null,null,null,null,null,null,null,null,null,null,null,null,null,null,373,null,null,178,0.47720000000000001]
[949,"$B$4",290,"Ottawa","Franklin",2645,{"$f":"IFERROR(IF(OR(AND(Application!$A$9=\"Yes\",IFERROR(MATCH(C893,Application!$K$11:$K$297,0)>0,\"\")),AND(Application!$A$9=\"No\",C893=Application!$A$13)),F893,\"\"),\"\")","v":""},"USD 290 - Public Off Campus","Special Ed Program - Public School Administered",null,null,null,null,null,null,null,null,null,null,null,null,null,null,null,null,null,"N/A",null,null,"N/A","N/A"]
[950,"$B$4",290,"Ottawa","Franklin",2647,{"$f":"IFERROR(IF(OR(AND(Application!$A$9=\"Yes\",IFERROR(MATCH(C894,Application!$K$11:$K$297,0)>0,\"\")),AND(Application!$A$9=\"No\",C894=Application!$A$13)),F894,\"\"),\"\")","v":""},"USD 290 - K Time Program W/O SPED","Early Childhood Program - General",null,null,null,null,null,null,null,null,null,null,null,null,null,null,null,null,null,"N/A",null,null,"N/A","N/A"]
[951,"$B$4",290,"Ottawa","Franklin",2648,{"$f":"IFERROR(IF(OR(AND(Application!$A$9=\"Yes\",IFERROR(MATCH(C895,Application!$K$11:$K$297,0)>0,\"\")),AND(Application!$A$9=\"No\",C895=Application!$A$13)),F895,\"\"),\"\")","v":""},"Lincoln Elem","Elementary",null,null,null,null,null,null,null,null,null,null,null,null,null,null,null,null,null,344,null,null,222,0.64529999999999998]
[952,"$B$4",290,"Ottawa","Franklin",2650,{"$f":"IFERROR(IF(OR(AND(Application!$A$9=\"Yes\",IFERROR(MATCH(C896,Application!$K$11:$K$297,0)>0,\"\")),AND(Application!$A$9=\"No\",C896=Application!$A$13)),F896,\"\"),\"\")","v":""},"Ottawa Middle School","Middle School",null,null,null,null,null,null,null,null,null,null,null,null,null,null,null,null,null,499,null,null,218,0.43690000000000001]
[953,"$B$4",290,"Ottawa","Franklin",2652,{"$f":"IFERROR(IF(OR(AND(Application!$A$9=\"Yes\",IFERROR(MATCH(C897,Application!$K$11:$K$297,0)>0,\"\")),AND(Application!$A$9=\"No\",C897=Application!$A$13)),F897,\"\"),\"\")","v":""},"Ottawa Sr High","High School",null,null,null,null,null,null,null,null,null,null,null,null,null,null,null,null,null,728,null,null,278,0.38190000000000002]
[954,"$B$4",290,"Ottawa","Franklin",2653,{"$f":"IFERROR(IF(OR(AND(Application!$A$9=\"Yes\",IFERROR(MATCH(C898,Application!$K$11:$K$297,0)>0,\"\")),AND(Application!$A$9=\"No\",C898=Application!$A$13)),F898,\"\"),\"\")","v":""},"Westminster Pre-School","Special Ed Program - Community Based Preschool",null,null,null,null,null,null,null,null,null,null,null,null,null,null,null,null,null,"N/A",null,null,"N/A","N/A"]
[955,"$B$4",290,"Ottawa","Franklin",2654,{"$f":"IFERROR(IF(OR(AND(Application!$A$9=\"Yes\",IFERROR(MATCH(C899,Application!$K$11:$K$297,0)>0,\"\")),AND(Application!$A$9=\"No\",C899=Application!$A$13)),F899,\"\"),\"\")","v":""},"Career Technology Educational Coop","Special School",null,null,null,null,null,null,null,null,null,null,null,null,null,null,null,null,null,"N/A",null,null,"N/A","N/A"]
[956,"$B$4",290,"Ottawa","Franklin",2655,{"$f":"IFERROR(IF(OR(AND(Application!$A$9=\"Yes\",IFERROR(MATCH(C900,Application!$K$11:$K$297,0)>0,\"\")),AND(Application!$A$9=\"No\",C900=Application!$A$13)),F900,\"\"),\"\")","v":""},"Franklin Co Opportunity Ctr","Special School",null,null,null,null,null,null,null,null,null,null,null,null,null,null,null,null,null,"N/A",null,null,"N/A","N/A"]
[957,"$B$4",290,"Ottawa","Franklin",2658,{"$f":"IFERROR(IF(OR(AND(Application!$A$9=\"Yes\",IFERROR(MATCH(C901,Application!$K$11:$K$297,0)>0,\"\")),AND(Application!$A$9=\"No\",C901=Application!$A$13)),F901,\"\"),\"\")","v":""},"Sunflower Elementary School","Elementary",null,null,null,null,null,null,null,null,null,null,null,null,null,null,null,null,null,351,null,null,159,0.45300000000000001]
[958,"$B$4",290,"Ottawa","Franklin",2659,{"$f":"IFERROR(IF(OR(AND(Application!$A$9=\"Yes\",IFERROR(MATCH(C902,Application!$K$11:$K$297,0)>0,\"\")),AND(Application!$A$9=\"No\",C902=Application!$A$13)),F902,\"\"),\"\")","v":""},"Ottawa Virtual School","Other",null,null,null,null,null,null,null,null,null,null,null,null,null,null,null,null,null,14,null,null,9,0.64290000000000003]
[959,"$B$4",291,"Grinnell Public Schools","Gove",2664,{"$f":"IFERROR(IF(OR(AND(Application!$A$9=\"Yes\",IFERROR(MATCH(C903,Application!$K$11:$K$297,0)>0,\"\")),AND(Application!$A$9=\"No\",C903=Application!$A$13)),F903,\"\"),\"\")","v":""},"Grinnell Dist Gove Co","Central Office",null,null,null,null,null,null,null,null,null,null,null,null,null,null,null,null,null,"N/A",null,null,"N/A","N/A"]
[960,"$B$4",291,"Grinnell Public Schools","Gove",2665,{"$f":"IFERROR(IF(OR(AND(Application!$A$9=\"Yes\",IFERROR(MATCH(C904,Application!$K$11:$K$297,0)>0,\"\")),AND(Application!$A$9=\"No\",C904=Application!$A$13)),F904,\"\"),\"\")","v":""},"USD 291 - Off Site Non Public Buildings","Special Ed Program - Off Site Community Based",null,null,null,null,null,null,null,null,null,null,null,null,null,null,null,null,null,"N/A",null,null,"N/A","N/A"]
[961,"$B$4",291,"Grinnell Public Schools","Gove",2666,{"$f":"IFERROR(IF(OR(AND(Application!$A$9=\"Yes\",IFERROR(MATCH(C905,Application!$K$11:$K$297,0)>0,\"\")),AND(Application!$A$9=\"No\",C905=Application!$A$13)),F905,\"\"),\"\")","v":""},"Grinnell Grade School","Elementary",null,null,null,null,null,null,null,null,null,null,null,null,null,null,null,null,null,30,null,null,6,0.2]
[962,"$B$4",291,"Grinnell Public Schools","Gove",2667,{"$f":"IFERROR(IF(OR(AND(Application!$A$9=\"Yes\",IFERROR(MATCH(C906,Application!$K$11:$K$297,0)>0,\"\")),AND(Application!$A$9=\"No\",C906=Application!$A$13)),F906,\"\"),\"\")","v":""},"USD 291 - Home","Special Ed Program - Home",null,null,null,null,null,null,null,null,null,null,null,null,null,null,null,null,null,"N/A",null,null,"N/A","N/A"]
[963,"$B$4",291,"Grinnell Public Schools","Gove",2668,{"$f":"IFERROR(IF(OR(AND(Application!$A$9=\"Yes\",IFERROR(MATCH(C907,Application!$K$11:$K$297,0)>0,\"\")),AND(Application!$A$9=\"No\",C907=Application!$A$13)),F907,\"\"),\"\")","v":""},"USD 291 - Community-Based Preschool","Special Ed Program - Community Based Preschool",null,null,null,null,null,null,null,null,null,null,null,null,null,null,null,null,null,"N/A",null,null,"N/A","N/A"]
[964,"$B$4",291,"Grinnell Public Schools","Gove",2669,{"$f":"IFERROR(IF(OR(AND(Application!$A$9=\"Yes\",IFERROR(MATCH(C908,Application!$K$11:$K$297,0)>0,\"\")),AND(Application!$A$9=\"No\",C908=Application!$A$13)),F908,\"\"),\"\")","v":""},"USD 291 - K Time Program W/O SPED","Early Childhood Program - General",null,null,null,null,null,null,null,null,null,null,null,null,null,null,null,null,null,"N/A",null,null,"N/A","N/A"]
[965,"$B$4",291,"Grinnell Public Schools","Gove",2671,{"$f":"IFERROR(IF(OR(AND(Application!$A$9=\"Yes\",IFERROR(MATCH(C909,Application!$K$11:$K$297,0)>0,\"\")),AND(Application!$A$9=\"No\",C909=Application!$A$13)),F909,\"\"),\"\")","v":""},"Grinnell Middle School","Middle School",null,null,null,null,null,null,null,null,null,null,null,null,null,null,null,null,null,20,null,null,6,0.3]
[966,"$B$4",292,"Wheatland","Gove",2682,{"$f":"IFERROR(IF(OR(AND(Application!$A$9=\"Yes\",IFERROR(MATCH(C910,Application!$K$11:$K$297,0)>0,\"\")),AND(Application!$A$9=\"No\",C910=Application!$A$13)),F910,\"\"),\"\")","v":""},"Wheatland Dist Gove Co","Central Office",null,null,null,null,null,null,null,null,null,null,null,null,null,null,null,null,null,"N/A",null,null,"N/A","N/A"]
[967,"$B$4",292,"Wheatland","Gove",2683,{"$f":"IFERROR(IF(OR(AND(Application!$A$9=\"Yes\",IFERROR(MATCH(C911,Application!$K$11:$K$297,0)>0,\"\")),AND(Application!$A$9=\"No\",C911=Application!$A$13)),F911,\"\"),\"\")","v":""},"USD 292 - Off Site Non Public Buildings","Special Ed Program - Off Site Community Based",null,null,null,null,null,null,null,null,null,null,null,null,null,null,null,null,null,"N/A",null,null,"N/A","N/A"]
[968,"$B$4",292,"Wheatland","Gove",2684,{"$f":"IFERROR(IF(OR(AND(Application!$A$9=\"Yes\",IFERROR(MATCH(C912,Application!$K$11:$K$297,0)>0,\"\")),AND(Application!$A$9=\"No\",C912=Application!$A$13)),F912,\"\"),\"\")","v":""},"USD 292 - Home","Special Ed Program - Home",null,null,null,null,null,null,null,null,null,null,null,null,null,null,null,null,null,"N/A",null,null,"N/A","N/A"]
[969,"$B$4",292,"Wheatland","Gove",2685,{"$f":"IFERROR(IF(OR(AND(Application!$A$9=\"Yes\",IFERROR(MATCH(C913,Application!$K$11:$K$297,0)>0,\"\")),AND(Application!$A$9=\"No\",C913=Application!$A$13)),F913,\"\"),\"\")","v":""},"USD 292 - Community-Based Preschool","Special Ed Program - Community Based Preschool",null,null,null,null,null,null,null,null,null,null,null,null,null,null,null,null,null,"N/A",null,null,"N/A","N/A"]
[970,"$B$4",292,"Wheatland","Logan",2687,{"$f":"IFERROR(IF(OR(AND(Application!$A$9=\"Yes\",IFERROR(MATCH(C914,Application!$K$11:$K$297,0)>0,\"\")),AND(Application!$A$9=\"No\",C914=Application!$A$13)),F914,\"\"),\"\")","v":""},"USD 292 - K Time Program W/O SPED","Early Childhood Program - General",null,null,null,null,null,null,null,null,null,null,null,null,null,null,null,null,null,"N/A",null,null,"N/A","N/A"]
[971,"$B$4",292,"Wheatland","Gove",2689,{"$f":"IFERROR(IF(OR(AND(Application!$A$9=\"Yes\",IFERROR(MATCH(C915,Application!$K$11:$K$297,0)>0,\"\")),AND(Application!$A$9=\"No\",C915=Application!$A$13)),F915,\"\"),\"\")","v":""},"Wheatland Elementary School","Elementary",null,null,null,null,null,null,null,null,null,null,null,null,null,null,null,null,null,41,null,null,10,0.24390000000000001]
[972,"$B$4",292,"Wheatland","Gove",2691,{"$f":"IFERROR(IF(OR(AND(Application!$A$9=\"Yes\",IFERROR(MATCH(C916,Application!$K$11:$K$297,0)>0,\"\")),AND(Application!$A$9=\"No\",C916=Application!$A$13)),F916,\"\"),\"\")","v":""},"Wheatland High School","High School",null,null,null,null,null,null,null,null,null,null,null,null,null,null,null,null,null,39,null,null,15,0.3846]
[973,"$B$4",293,"Quinter Public Schools","Gove",2705,{"$f":"IFERROR(IF(OR(AND(Application!$A$9=\"Yes\",IFERROR(MATCH(C917,Application!$K$11:$K$297,0)>0,\"\")),AND(Application!$A$9=\"No\",C917=Application!$A$13)),F917,\"\"),\"\")","v":""},"USD 293 - Off Site Non Public Buildings","Special Ed Program - Off Site Community Based",null,null,null,null,null,null,null,null,null,null,null,null,null,null,null,null,null,"N/A",null,null,"N/A","N/A"]
[974,"$B$4",293,"Quinter Public Schools","Gove",2706,{"$f":"IFERROR(IF(OR(AND(Application!$A$9=\"Yes\",IFERROR(MATCH(C918,Application!$K$11:$K$297,0)>0,\"\")),AND(Application!$A$9=\"No\",C918=Application!$A$13)),F918,\"\"),\"\")","v":""},"USD 293 - Home","Special Ed Program - Home",null,null,null,null,null,null,null,null,null,null,null,null,null,null,null,null,null,"N/A",null,null,"N/A","N/A"]
[975,"$B$4",293,"Quinter Public Schools","Gove",2707,{"$f":"IFERROR(IF(OR(AND(Application!$A$9=\"Yes\",IFERROR(MATCH(C919,Application!$K$11:$K$297,0)>0,\"\")),AND(Application!$A$9=\"No\",C919=Application!$A$13)),F919,\"\"),\"\")","v":""},"USD 293 - Community-Based Preschool","Special Ed Program - Community Based Preschool",null,null,null,null,null,null,null,null,null,null,null,null,null,null,null,null,null,"N/A",null,null,"N/A","N/A"]
[976,"$B$4",293,"Quinter Public Schools","Gove",2709,{"$f":"IFERROR(IF(OR(AND(Application!$A$9=\"Yes\",IFERROR(MATCH(C920,Application!$K$11:$K$297,0)>0,\"\")),AND(Application!$A$9=\"No\",C920=Application!$A$13)),F920,\"\"),\"\")","v":""},"USD 293 - K Time Program W/O SPED","Early Childhood Program - General",null,null,null,null,null,null,null,null,null,null,null,null,null,null,null,null,null,"N/A",null,null,"N/A","N/A"]
[977,"$B$4",293,"Quinter Public Schools","Gove",2710,{"$f":"IFERROR(IF(OR(AND(Application!$A$9=\"Yes\",IFERROR(MATCH(C921,Application!$K$11:$K$297,0)>0,\"\")),AND(Application!$A$9=\"No\",C921=Application!$A$13)),F921,\"\"),\"\")","v":""},"Quinter Elem","Elementary",null,null,null,null,null,null,null,null,null,null,null,null,null,null,null,null,null,176,null,null,55,0.3125]
[978,"$B$4",293,"Quinter Public Schools","Gove",2712,{"$f":"IFERROR(IF(OR(AND(Application!$A$9=\"Yes\",IFERROR(MATCH(C922,Application!$K$11:$K$297,0)>0,\"\")),AND(Application!$A$9=\"No\",C922=Application!$A$13)),F922,\"\"),\"\")","v":""},"Quinter Jr-Sr High","High School",null,null,null,null,null,null,null,null,null,null,null,null,null,null,null,null,null,136,null,null,32,0.23530000000000001]
[979,"$B$4",294,"Oberlin","Decatur",2725,{"$f":"IFERROR(IF(OR(AND(Application!$A$9=\"Yes\",IFERROR(MATCH(C923,Application!$K$11:$K$297,0)>0,\"\")),AND(Application!$A$9=\"No\",C923=Application!$A$13)),F923,\"\"),\"\")","v":""},"USD 294 - Off Site Non Public Buildings","Special Ed Program - Off Site Community Based",null,null,null,null,null,null,null,null,null,null,null,null,null,null,null,null,null,"N/A",null,null,"N/A","N/A"]
[980,"$B$4",294,"Oberlin","Decatur",2726,{"$f":"IFERROR(IF(OR(AND(Application!$A$9=\"Yes\",IFERROR(MATCH(C924,Application!$K$11:$K$297,0)>0,\"\")),AND(Application!$A$9=\"No\",C924=Application!$A$13)),F924,\"\"),\"\")","v":""},"USD 294 - Home","Special Ed Program - Home",null,null,null,null,null,null,null,null,null,null,null,null,null,null,null,null,null,"N/A",null,null,"N/A","N/A"]
[981,"$B$4",294,"Oberlin","Decatur",2738,{"$f":"IFERROR(IF(OR(AND(Application!$A$9=\"Yes\",IFERROR(MATCH(C925,Application!$K$11:$K$297,0)>0,\"\")),AND(Application!$A$9=\"No\",C925=Application!$A$13)),F925,\"\"),\"\")","v":""},"Oberlin Elem","Elementary",null,null,null,null,null,null,null,null,null,null,null,null,null,null,null,null,null,269,null,null,143,0.53159999999999996]
[982,"$B$4",294,"Oberlin","Decatur",2740,{"$f":"IFERROR(IF(OR(AND(Application!$A$9=\"Yes\",IFERROR(MATCH(C926,Application!$K$11:$K$297,0)>0,\"\")),AND(Application!$A$9=\"No\",C926=Application!$A$13)),F926,\"\"),\"\")","v":""},"Decatur Community Jr/Sr High","High School",null,null,null,null,null,null,null,null,null,null,null,null,null,null,null,null,null,136,null,null,45,0.33090000000000003]
[515,"$B$4",103,"Cheylin","Cheyenne",2777,{"$f":"IFERROR(IF(OR(AND(Application!$A$9=\"Yes\",IFERROR(MATCH(C927,Application!$K$11:$K$297,0)>0,\"\")),AND(Application!$A$9=\"No\",C927=Application!$A$13)),F927,\"\"),\"\")","v":""},"USD 103 - Off Site Non Public Buildings","Special Ed Program - Off Site Community Based",null,null,null,null,null,null,null,null,null,null,null,null,null,null,null,null,null,"N/A",null,null,"N/A","N/A"]
[516,"$B$4",103,"Cheylin","Cheyenne",2779,{"$f":"IFERROR(IF(OR(AND(Application!$A$9=\"Yes\",IFERROR(MATCH(C928,Application!$K$11:$K$297,0)>0,\"\")),AND(Application!$A$9=\"No\",C928=Application!$A$13)),F928,\"\"),\"\")","v":""},"USD 103 - Home","Special Ed Program - Home",null,null,null,null,null,null,null,null,null,null,null,null,null,null,null,null,null,"N/A",null,null,"N/A","N/A"]
[517,"$B$4",103,"Cheylin","Cheyenne",2780,{"$f":"IFERROR(IF(OR(AND(Application!$A$9=\"Yes\",IFERROR(MATCH(C929,Application!$K$11:$K$297,0)>0,\"\")),AND(Application!$A$9=\"No\",C929=Application!$A$13)),F929,\"\"),\"\")","v":""},"Cheylin Jr/Sr High","High School",null,null,null,null,null,null,null,null,null,null,null,null,null,null,null,null,null,70,null,null,24,0.34289999999999998]
[379,"$B$4",233,"Olathe","Johnson",2781,{"$f":"IFERROR(IF(OR(AND(Application!$A$9=\"Yes\",IFERROR(MATCH(C930,Application!$K$11:$K$297,0)>0,\"\")),AND(Application!$A$9=\"No\",C930=Application!$A$13)),F930,\"\"),\"\")","v":""},"Green Springs Elem","Elementary",null,null,null,null,null,null,null,null,null,null,null,null,null,null,null,null,null,243,null,null,42,0.17280000000000001]
[380,"$B$4",233,"Olathe","Johnson",2782,{"$f":"IFERROR(IF(OR(AND(Application!$A$9=\"Yes\",IFERROR(MATCH(C931,Application!$K$11:$K$297,0)>0,\"\")),AND(Application!$A$9=\"No\",C931=Application!$A$13)),F931,\"\"),\"\")","v":""},"Mahaffie Elem","Elementary",null,null,null,null,null,null,null,null,null,null,null,null,null,null,null,null,null,417,null,null,147,0.35249999999999998]
[381,"$B$4",233,"Olathe","Johnson",2783,{"$f":"IFERROR(IF(OR(AND(Application!$A$9=\"Yes\",IFERROR(MATCH(C932,Application!$K$11:$K$297,0)>0,\"\")),AND(Application!$A$9=\"No\",C932=Application!$A$13)),F932,\"\"),\"\")","v":""},"Pleasant Ridge Elem","Elementary",null,null,null,null,null,null,null,null,null,null,null,null,null,null,null,null,null,310,null,null,54,0.17419999999999999]
[382,"$B$4",233,"Olathe","Johnson",2784,{"$f":"IFERROR(IF(OR(AND(Application!$A$9=\"Yes\",IFERROR(MATCH(C933,Application!$K$11:$K$297,0)>0,\"\")),AND(Application!$A$9=\"No\",C933=Application!$A$13)),F933,\"\"),\"\")","v":""},"Heatherstone Elem","Elementary",null,null,null,null,null,null,null,null,null,null,null,null,null,null,null,null,null,420,null,null,108,0.2571]
[383,"$B$4",233,"Olathe","Johnson",2785,{"$f":"IFERROR(IF(OR(AND(Application!$A$9=\"Yes\",IFERROR(MATCH(C934,Application!$K$11:$K$297,0)>0,\"\")),AND(Application!$A$9=\"No\",C934=Application!$A$13)),F934,\"\"),\"\")","v":""},"Bentwood Elem","Elementary",null,null,null,null,null,null,null,null,null,null,null,null,null,null,null,null,null,339,null,null,38,0.11210000000000001]
[384,"$B$4",233,"Olathe","Johnson",2786,{"$f":"IFERROR(IF(OR(AND(Application!$A$9=\"Yes\",IFERROR(MATCH(C935,Application!$K$11:$K$297,0)>0,\"\")),AND(Application!$A$9=\"No\",C935=Application!$A$13)),F935,\"\"),\"\")","v":""},"California Trail Middle School","Middle School",null,null,null,null,null,null,null,null,null,null,null,null,null,null,null,null,null,592,null,null,68,0.1149]
[385,"$B$4",233,"Olathe","Johnson",2787,{"$f":"IFERROR(IF(OR(AND(Application!$A$9=\"Yes\",IFERROR(MATCH(C936,Application!$K$11:$K$297,0)>0,\"\")),AND(Application!$A$9=\"No\",C936=Application!$A$13)),F936,\"\"),\"\")","v":""},"Cedar Creek Elem","Elementary",null,null,null,null,null,null,null,null,null,null,null,null,null,null,null,null,null,428,null,null,22,5.1400000000000001E-2]
[386,"$B$4",233,"Olathe","Johnson",2788,{"$f":"IFERROR(IF(OR(AND(Application!$A$9=\"Yes\",IFERROR(MATCH(C937,Application!$K$11:$K$297,0)>0,\"\")),AND(Application!$A$9=\"No\",C937=Application!$A$13)),F937,\"\"),\"\")","v":""},"Prairie Learning Center","Special School",null,null,null,null,null,null,null,null,null,null,null,null,null,null,null,null,null,"N/A",null,null,"N/A","N/A"]
[387,"$B$4",233,"Olathe","Johnson",2789,{"$f":"IFERROR(IF(OR(AND(Application!$A$9=\"Yes\",IFERROR(MATCH(C938,Application!$K$11:$K$297,0)>0,\"\")),AND(Application!$A$9=\"No\",C938=Application!$A$13)),F938,\"\"),\"\")","v":""},"Madison Place Elementary","Elementary",null,null,null,null,null,null,null,null,null,null,null,null,null,null,null,null,null,390,null,null,66,0.16919999999999999]
[389,"$B$4",233,"Olathe","Johnson",2790,{"$f":"IFERROR(IF(OR(AND(Application!$A$9=\"Yes\",IFERROR(MATCH(C939,Application!$K$11:$K$297,0)>0,\"\")),AND(Application!$A$9=\"No\",C939=Application!$A$13)),F939,\"\"),\"\")","v":""},"Woodland Elem","Elementary",null,null,null,null,null,null,null,null,null,null,null,null,null,null,null,null,null,320,null,null,67,0.2094]
[390,"$B$4",233,"Olathe","Johnson",2791,{"$f":"IFERROR(IF(OR(AND(Application!$A$9=\"Yes\",IFERROR(MATCH(C940,Application!$K$11:$K$297,0)>0,\"\")),AND(Application!$A$9=\"No\",C940=Application!$A$13)),F940,\"\"),\"\")","v":""},"Mill Creek Campus","Special Ed Program - Public School Administered",null,null,null,null,null,null,null,null,null,null,null,null,null,null,null,null,null,"N/A",null,null,"N/A","N/A"]
[518,"$B$4",103,"Cheylin","Cheyenne",2792,{"$f":"IFERROR(IF(OR(AND(Application!$A$9=\"Yes\",IFERROR(MATCH(C941,Application!$K$11:$K$297,0)>0,\"\")),AND(Application!$A$9=\"No\",C941=Application!$A$13)),F941,\"\"),\"\")","v":""},"USD 103 - Community-Based Preschool","Special Ed Program - Community Based Preschool",null,null,null,null,null,null,null,null,null,null,null,null,null,null,null,null,null,"N/A",null,null,"N/A","N/A"]
[514,"$B$4",103,"Cheylin","Cheyenne",2793,{"$f":"IFERROR(IF(OR(AND(Application!$A$9=\"Yes\",IFERROR(MATCH(C942,Application!$K$11:$K$297,0)>0,\"\")),AND(Application!$A$9=\"No\",C942=Application!$A$13)),F942,\"\"),\"\")","v":""},"USD 103 - K Time Program W/O SPED","Early Childhood Program - General",null,null,null,null,null,null,null,null,null,null,null,null,null,null,null,null,null,"N/A",null,null,"N/A","N/A"]
[983,"$B$4",297,"St Francis Comm Sch","Cheyenne",2795,{"$f":"IFERROR(IF(OR(AND(Application!$A$9=\"Yes\",IFERROR(MATCH(C943,Application!$K$11:$K$297,0)>0,\"\")),AND(Application!$A$9=\"No\",C943=Application!$A$13)),F943,\"\"),\"\")","v":""},"USD 297 - Off Site Non Public Buildings","Special Ed Program - Off Site Community Based",null,null,null,null,null,null,null,null,null,null,null,null,null,null,null,null,null,"N/A",null,null,"N/A","N/A"]
[984,"$B$4",297,"St Francis Comm Sch","Cheyenne",2796,{"$f":"IFERROR(IF(OR(AND(Application!$A$9=\"Yes\",IFERROR(MATCH(C944,Application!$K$11:$K$297,0)>0,\"\")),AND(Application!$A$9=\"No\",C944=Application!$A$13)),F944,\"\"),\"\")","v":""},"USD 297 - Home","Special Ed Program - Home",null,null,null,null,null,null,null,null,null,null,null,null,null,null,null,null,null,"N/A",null,null,"N/A","N/A"]
[985,"$B$4",297,"St Francis Comm Sch","Cheyenne",2797,{"$f":"IFERROR(IF(OR(AND(Application!$A$9=\"Yes\",IFERROR(MATCH(C945,Application!$K$11:$K$297,0)>0,\"\")),AND(Application!$A$9=\"No\",C945=Application!$A$13)),F945,\"\"),\"\")","v":""},"USD 297 - Community-Based Preschool","Special Ed Program - Community Based Preschool",null,null,null,null,null,null,null,null,null,null,null,null,null,null,null,null,null,"N/A",null,null,"N/A","N/A"]
[986,"$B$4",297,"St Francis Comm Sch","Cheyenne",2798,{"$f":"IFERROR(IF(OR(AND(Application!$A$9=\"Yes\",IFERROR(MATCH(C946,Application!$K$11:$K$297,0)>0,\"\")),AND(Application!$A$9=\"No\",C946=Application!$A$13)),F946,\"\"),\"\")","v":""},"USD 297 - K Time Program W/O SPED","Early Childhood Program - General",null,null,null,null,null,null,null,null,null,null,null,null,null,null,null,null,null,"N/A",null,null,"N/A","N/A"]
[987,"$B$4",297,"St Francis Comm Sch","Cheyenne",2812,{"$f":"IFERROR(IF(OR(AND(Application!$A$9=\"Yes\",IFERROR(MATCH(C947,Application!$K$11:$K$297,0)>0,\"\")),AND(Application!$A$9=\"No\",C947=Application!$A$13)),F947,\"\"),\"\")","v":""},"St Francis Elem","Elementary",null,null,null,null,null,null,null,null,null,null,null,null,null,null,null,null,null,156,null,null,59,0.37819999999999998]
[988,"$B$4",297,"St Francis Comm Sch","Cheyenne",2816,{"$f":"IFERROR(IF(OR(AND(Application!$A$9=\"Yes\",IFERROR(MATCH(C948,Application!$K$11:$K$297,0)>0,\"\")),AND(Application!$A$9=\"No\",C948=Application!$A$13)),F948,\"\"),\"\")","v":""},"St Francis High","High School",null,null,null,null,null,null,null,null,null,null,null,null,null,null,null,null,null,149,null,null,52,0.34899999999999998]
[989,"$B$4",298,"Lincoln","Lincoln",2829,{"$f":"IFERROR(IF(OR(AND(Application!$A$9=\"Yes\",IFERROR(MATCH(C949,Application!$K$11:$K$297,0)>0,\"\")),AND(Application!$A$9=\"No\",C949=Application!$A$13)),F949,\"\"),\"\")","v":""},"USD 298 - Off Site Non Public Buildings","Special Ed Program - Off Site Community Based",null,null,null,null,null,null,null,null,null,null,null,null,null,null,null,null,null,"N/A",null,null,"N/A","N/A"]
[990,"$B$4",298,"Lincoln","Lincoln",2830,{"$f":"IFERROR(IF(OR(AND(Application!$A$9=\"Yes\",IFERROR(MATCH(C950,Application!$K$11:$K$297,0)>0,\"\")),AND(Application!$A$9=\"No\",C950=Application!$A$13)),F950,\"\"),\"\")","v":""},"Lincoln Pre School","Early Childhood Program - Other",null,null,null,null,null,null,null,null,null,null,null,null,null,null,null,null,null,"N/A",null,null,"N/A","N/A"]
[991,"$B$4",298,"Lincoln","Lincoln",2831,{"$f":"IFERROR(IF(OR(AND(Application!$A$9=\"Yes\",IFERROR(MATCH(C951,Application!$K$11:$K$297,0)>0,\"\")),AND(Application!$A$9=\"No\",C951=Application!$A$13)),F951,\"\"),\"\")","v":""},"USD 298 - Home","Special Ed Program - Home",null,null,null,null,null,null,null,null,null,null,null,null,null,null,null,null,null,"N/A",null,null,"N/A","N/A"]
[992,"$B$4",298,"Lincoln","Lincoln",2832,{"$f":"IFERROR(IF(OR(AND(Application!$A$9=\"Yes\",IFERROR(MATCH(C952,Application!$K$11:$K$297,0)>0,\"\")),AND(Application!$A$9=\"No\",C952=Application!$A$13)),F952,\"\"),\"\")","v":""},"USD 298 - K Time Program W/O SPED","Early Childhood Program - General",null,null,null,null,null,null,null,null,null,null,null,null,null,null,null,null,null,"N/A",null,null,"N/A","N/A"]
[993,"$B$4",298,"Lincoln","Lincoln",2840,{"$f":"IFERROR(IF(OR(AND(Application!$A$9=\"Yes\",IFERROR(MATCH(C953,Application!$K$11:$K$297,0)>0,\"\")),AND(Application!$A$9=\"No\",C953=Application!$A$13)),F953,\"\"),\"\")","v":""},"Lincoln Elem","Elementary",null,null,null,null,null,null,null,null,null,null,null,null,null,null,null,null,null,157,null,null,77,0.4904]
[994,"$B$4",298,"Lincoln","Lincoln",2842,{"$f":"IFERROR(IF(OR(AND(Application!$A$9=\"Yes\",IFERROR(MATCH(C954,Application!$K$11:$K$297,0)>0,\"\")),AND(Application!$A$9=\"No\",C954=Application!$A$13)),F954,\"\"),\"\")","v":""},"Lincoln Jr/Sr High","High School",null,null,null,null,null,null,null,null,null,null,null,null,null,null,null,null,null,175,null,null,89,0.50860000000000005]
[995,"$B$4",299,"Sylvan Grove","Lincoln",2857,{"$f":"IFERROR(IF(OR(AND(Application!$A$9=\"Yes\",IFERROR(MATCH(C955,Application!$K$11:$K$297,0)>0,\"\")),AND(Application!$A$9=\"No\",C955=Application!$A$13)),F955,\"\"),\"\")","v":""},"USD 299 - Off Site Non Public Buildings","Special Ed Program - Off Site Community Based",null,null,null,null,null,null,null,null,null,null,null,null,null,null,null,null,null,"N/A",null,null,"N/A","N/A"]
[996,"$B$4",299,"Sylvan Grove","Lincoln",2858,{"$f":"IFERROR(IF(OR(AND(Application!$A$9=\"Yes\",IFERROR(MATCH(C956,Application!$K$11:$K$297,0)>0,\"\")),AND(Application!$A$9=\"No\",C956=Application!$A$13)),F956,\"\"),\"\")","v":""},"USD 299 - Home","Special Ed Program - Home",null,null,null,null,null,null,null,null,null,null,null,null,null,null,null,null,null,"N/A",null,null,"N/A","N/A"]
[997,"$B$4",299,"Sylvan Grove","Lincoln",2859,{"$f":"IFERROR(IF(OR(AND(Application!$A$9=\"Yes\",IFERROR(MATCH(C957,Application!$K$11:$K$297,0)>0,\"\")),AND(Application!$A$9=\"No\",C957=Application!$A$13)),F957,\"\"),\"\")","v":""},"USD 299 - K Time Program W/O SPED","Early Childhood Program - General",null,null,null,null,null,null,null,null,null,null,null,null,null,null,null,null,null,"N/A",null,null,"N/A","N/A"]
[998,"$B$4",299,"Sylvan Grove","Russell",2860,{"$f":"IFERROR(IF(OR(AND(Application!$A$9=\"Yes\",IFERROR(MATCH(C958,Application!$K$11:$K$297,0)>0,\"\")),AND(Application!$A$9=\"No\",C958=Application!$A$13)),F958,\"\"),\"\")","v":""},"Lucas/Sylvan Elementary Unified","Elementary",null,null,null,null,null,null,null,null,null,null,null,null,null,null,null,null,null,128,null,null,52,0.40629999999999999]
[999,"$B$4",299,"Sylvan Grove","Lincoln",2861,{"$f":"IFERROR(IF(OR(AND(Application!$A$9=\"Yes\",IFERROR(MATCH(C959,Application!$K$11:$K$297,0)>0,\"\")),AND(Application!$A$9=\"No\",C959=Application!$A$13)),F959,\"\"),\"\")","v":""},"Sylvan-Lucas Unified Jr. sr","High School",null,null,null,null,null,null,null,null,null,null,null,null,null,null,null,null,null,116,null,null,37,0.31900000000000001]
[1000,"$B$4",300,"Comanche County","Pratt",2887,{"$f":"IFERROR(IF(OR(AND(Application!$A$9=\"Yes\",IFERROR(MATCH(C960,Application!$K$11:$K$297,0)>0,\"\")),AND(Application!$A$9=\"No\",C960=Application!$A$13)),F960,\"\"),\"\")","v":""},"USD 300 - Off Site Non Public Buildings","Special Ed Program - Off Site Community Based",null,null,null,null,null,null,null,null,null,null,null,null,null,null,null,null,null,"N/A",null,null,"N/A","N/A"]
[1001,"$B$4",300,"Comanche County","Comanche",2889,{"$f":"IFERROR(IF(OR(AND(Application!$A$9=\"Yes\",IFERROR(MATCH(C961,Application!$K$11:$K$297,0)>0,\"\")),AND(Application!$A$9=\"No\",C961=Application!$A$13)),F961,\"\"),\"\")","v":""},"USD 300 - Home","Special Ed Program - Home",null,null,null,null,null,null,null,null,null,null,null,null,null,null,null,null,null,"N/A",null,null,"N/A","N/A"]
[1002,"$B$4",300,"Comanche County","Comanche",2890,{"$f":"IFERROR(IF(OR(AND(Application!$A$9=\"Yes\",IFERROR(MATCH(C962,Application!$K$11:$K$297,0)>0,\"\")),AND(Application!$A$9=\"No\",C962=Application!$A$13)),F962,\"\"),\"\")","v":""},"South Central High School","High School",null,null,null,null,null,null,null,null,null,null,null,null,null,null,null,null,null,69,null,null,23,0.33329999999999999]
[1003,"$B$4",300,"Comanche County","Comanche",2891,{"$f":"IFERROR(IF(OR(AND(Application!$A$9=\"Yes\",IFERROR(MATCH(C963,Application!$K$11:$K$297,0)>0,\"\")),AND(Application!$A$9=\"No\",C963=Application!$A$13)),F963,\"\"),\"\")","v":""},"USD 300 - K Time Program W/O SPED","Early Childhood Program - General",null,null,null,null,null,null,null,null,null,null,null,null,null,null,null,null,null,"N/A",null,null,"N/A","N/A"]
[1004,"$B$4",300,"Comanche County","Comanche",2892,{"$f":"IFERROR(IF(OR(AND(Application!$A$9=\"Yes\",IFERROR(MATCH(C964,Application!$K$11:$K$297,0)>0,\"\")),AND(Application!$A$9=\"No\",C964=Application!$A$13)),F964,\"\"),\"\")","v":""},"South Central Elementary School","Elementary",null,null,null,null,null,null,null,null,null,null,null,null,null,null,null,null,null,146,null,null,62,0.42470000000000002]
[1005,"$B$4",300,"Comanche County","Comanche",2894,{"$f":"IFERROR(IF(OR(AND(Application!$A$9=\"Yes\",IFERROR(MATCH(C965,Application!$K$11:$K$297,0)>0,\"\")),AND(Application!$A$9=\"No\",C965=Application!$A$13)),F965,\"\"),\"\")","v":""},"South Central Middle School","Middle School",null,null,null,null,null,null,null,null,null,null,null,null,null,null,null,null,null,96,null,null,43,0.44790000000000002]
[62,"$B$4",106,"Western Plains","Ness",2921,{"$f":"IFERROR(IF(OR(AND(Application!$A$9=\"Yes\",IFERROR(MATCH(C966,Application!$K$11:$K$297,0)>0,\"\")),AND(Application!$A$9=\"No\",C966=Application!$A$13)),F966,\"\"),\"\")","v":""},"USD 106 - Off Site Non Public Buildings","Special Ed Program - Off Site Community Based",null,null,null,null,null,null,null,null,null,null,null,null,null,null,null,null,null,"N/A",null,null,"N/A","N/A"]
[63,"$B$4",106,"Western Plains","Ness",2922,{"$f":"IFERROR(IF(OR(AND(Application!$A$9=\"Yes\",IFERROR(MATCH(C967,Application!$K$11:$K$297,0)>0,\"\")),AND(Application!$A$9=\"No\",C967=Application!$A$13)),F967,\"\"),\"\")","v":""},"USD 106 - Home","Special Ed Program - Home",null,null,null,null,null,null,null,null,null,null,null,null,null,null,null,null,null,"N/A",null,null,"N/A","N/A"]
[221,"$B$4",106,"Western Plains","Ness",2923,{"$f":"IFERROR(IF(OR(AND(Application!$A$9=\"Yes\",IFERROR(MATCH(C968,Application!$K$11:$K$297,0)>0,\"\")),AND(Application!$A$9=\"No\",C968=Application!$A$13)),F968,\"\"),\"\")","v":""},"USD 106 - K Time Program W/O SPED","Early Childhood Program - General",null,null,null,null,null,null,null,null,null,null,null,null,null,null,null,null,null,"N/A",null,null,"N/A","N/A"]
[52,"$B$4",106,"Western Plains","Ness",2926,{"$f":"IFERROR(IF(OR(AND(Application!$A$9=\"Yes\",IFERROR(MATCH(C969,Application!$K$11:$K$297,0)>0,\"\")),AND(Application!$A$9=\"No\",C969=Application!$A$13)),F969,\"\"),\"\")","v":""},"Western Plains North Elem","Elementary",null,null,null,null,null,null,null,null,null,null,null,null,null,null,null,null,null,52,null,null,31,0.59619999999999995]
[56,"$B$4",106,"Western Plains","Ness",2928,{"$f":"IFERROR(IF(OR(AND(Application!$A$9=\"Yes\",IFERROR(MATCH(C970,Application!$K$11:$K$297,0)>0,\"\")),AND(Application!$A$9=\"No\",C970=Application!$A$13)),F970,\"\"),\"\")","v":""},"Western Plains High","High School",null,null,null,null,null,null,null,null,null,null,null,null,null,null,null,null,null,20,null,null,11,0.55000000000000004]
[1006,"$B$4",303,"Ness City","Ness",2939,{"$f":"IFERROR(IF(OR(AND(Application!$A$9=\"Yes\",IFERROR(MATCH(C971,Application!$K$11:$K$297,0)>0,\"\")),AND(Application!$A$9=\"No\",C971=Application!$A$13)),F971,\"\"),\"\")","v":""},"USD 303 - Off Site Non Public Buildings","Special Ed Program - Off Site Community Based",null,null,null,null,null,null,null,null,null,null,null,null,null,null,null,null,null,"N/A",null,null,"N/A","N/A"]
[1007,"$B$4",303,"Ness City","Ness",2940,{"$f":"IFERROR(IF(OR(AND(Application!$A$9=\"Yes\",IFERROR(MATCH(C972,Application!$K$11:$K$297,0)>0,\"\")),AND(Application!$A$9=\"No\",C972=Application!$A$13)),F972,\"\"),\"\")","v":""},"USD 303 - Home","Special Ed Program - Home",null,null,null,null,null,null,null,null,null,null,null,null,null,null,null,null,null,"N/A",null,null,"N/A","N/A"]
[1008,"$B$4",303,"Ness City","Ness",2941,{"$f":"IFERROR(IF(OR(AND(Application!$A$9=\"Yes\",IFERROR(MATCH(C973,Application!$K$11:$K$297,0)>0,\"\")),AND(Application!$A$9=\"No\",C973=Application!$A$13)),F973,\"\"),\"\")","v":""},"USD 303 - K Time Program W/O SPED","Early Childhood Program - General",null,null,null,null,null,null,null,null,null,null,null,null,null,null,null,null,null,"N/A",null,null,"N/A","N/A"]
[1009,"$B$4",303,"Ness City","Ness",2948,{"$f":"IFERROR(IF(OR(AND(Application!$A$9=\"Yes\",IFERROR(MATCH(C974,Application!$K$11:$K$297,0)>0,\"\")),AND(Application!$A$9=\"No\",C974=Application!$A$13)),F974,\"\"),\"\")","v":""},"Ness City Elem","Elementary",null,null,null,null,null,null,null,null,null,null,null,null,null,null,null,null,null,152,null,null,43,0.28289999999999998]
[1010,"$B$4",303,"Ness City","Ness",2952,{"$f":"IFERROR(IF(OR(AND(Application!$A$9=\"Yes\",IFERROR(MATCH(C975,Application!$K$11:$K$297,0)>0,\"\")),AND(Application!$A$9=\"No\",C975=Application!$A$13)),F975,\"\"),\"\")","v":""},"Ness City High","High School",null,null,null,null,null,null,null,null,null,null,null,null,null,null,null,null,null,127,null,null,54,0.42520000000000002]
[57,"$B$4",106,"Western Plains","Ness",2966,{"$f":"IFERROR(IF(OR(AND(Application!$A$9=\"Yes\",IFERROR(MATCH(C976,Application!$K$11:$K$297,0)>0,\"\")),AND(Application!$A$9=\"No\",C976=Application!$A$13)),F976,\"\"),\"\")","v":""},"Western Plains South Elem/Jr High","Elementary",null,null,null,null,null,null,null,null,null,null,null,null,null,null,null,null,null,43,null,null,29,0.6744]
[58,"$B$4",107,"Rock Hills","Jewell",2969,{"$f":"IFERROR(IF(OR(AND(Application!$A$9=\"Yes\",IFERROR(MATCH(C977,Application!$K$11:$K$297,0)>0,\"\")),AND(Application!$A$9=\"No\",C977=Application!$A$13)),F977,\"\"),\"\")","v":""},"Rock Hills Schools Central Office","Central Office",null,null,null,null,null,null,null,null,null,null,null,null,null,null,null,null,null,"N/A",null,null,"N/A","N/A"]
[8,"$B$4",109,"Republic County","Republic",2972,{"$f":"IFERROR(IF(OR(AND(Application!$A$9=\"Yes\",IFERROR(MATCH(C978,Application!$K$11:$K$297,0)>0,\"\")),AND(Application!$A$9=\"No\",C978=Application!$A$13)),F978,\"\"),\"\")","v":""},"Belleville East Elementary","Elementary",null,null,null,null,null,null,null,null,null,null,null,null,null,null,null,null,null,243,null,null,120,0.49380000000000002]
[59,"$B$4",107,"Rock Hills","Jewell",2976,{"$f":"IFERROR(IF(OR(AND(Application!$A$9=\"Yes\",IFERROR(MATCH(C979,Application!$K$11:$K$297,0)>0,\"\")),AND(Application!$A$9=\"No\",C979=Application!$A$13)),F979,\"\"),\"\")","v":""},"Rock Hills Elementary School","Elementary",null,null,null,null,null,null,null,null,null,null,null,null,null,null,null,null,null,183,null,null,77,0.42080000000000001]
[60,"$B$4",107,"Rock Hills","Jewell",2977,{"$f":"IFERROR(IF(OR(AND(Application!$A$9=\"Yes\",IFERROR(MATCH(C980,Application!$K$11:$K$297,0)>0,\"\")),AND(Application!$A$9=\"No\",C980=Application!$A$13)),F980,\"\"),\"\")","v":""},"Rock Hills Jr/Sr High School","High School",null,null,null,null,null,null,null,null,null,null,null,null,null,null,null,null,null,186,null,null,79,0.42470000000000002]
[66,"$B$4",108,"Washington Co. Schools","Washington",2981,{"$f":"IFERROR(IF(OR(AND(Application!$A$9=\"Yes\",IFERROR(MATCH(C981,Application!$K$11:$K$297,0)>0,\"\")),AND(Application!$A$9=\"No\",C981=Application!$A$13)),F981,\"\"),\"\")","v":""},"Washington County High School","High School",null,null,null,null,null,null,null,null,null,null,null,null,null,null,null,null,null,164,null,null,59,0.35980000000000001]
[1011,"$B$4",305,"Salina","Saline",2982,{"$f":"IFERROR(IF(OR(AND(Application!$A$9=\"Yes\",IFERROR(MATCH(C982,Application!$K$11:$K$297,0)>0,\"\")),AND(Application!$A$9=\"No\",C982=Application!$A$13)),F982,\"\"),\"\")","v":""},"Salina Dist Saline Co","Central Office",null,null,null,null,null,null,null,null,null,null,null,null,null,null,null,null,null,"N/A",null,null,"N/A","N/A"]
[67,"$B$4",108,"Washington Co. Schools","Washington",2983,{"$f":"IFERROR(IF(OR(AND(Application!$A$9=\"Yes\",IFERROR(MATCH(C983,Application!$K$11:$K$297,0)>0,\"\")),AND(Application!$A$9=\"No\",C983=Application!$A$13)),F983,\"\"),\"\")","v":""},"Washington Elementary","Elementary",null,null,null,null,null,null,null,null,null,null,null,null,null,null,null,null,null,194,null,null,73,0.37630000000000002]
[1012,"$B$4",305,"Salina","Saline",2985,{"$f":"IFERROR(IF(OR(AND(Application!$A$9=\"Yes\",IFERROR(MATCH(C984,Application!$K$11:$K$297,0)>0,\"\")),AND(Application!$A$9=\"No\",C984=Application!$A$13)),F984,\"\"),\"\")","v":""},"Coronado Elem","Elementary",null,null,null,null,null,null,null,null,null,null,null,null,null,null,null,null,null,394,null,null,152,0.38579999999999998]
[73,"$B$4",107,"Rock Hills","Jewell",2987,{"$f":"IFERROR(IF(OR(AND(Application!$A$9=\"Yes\",IFERROR(MATCH(C985,Application!$K$11:$K$297,0)>0,\"\")),AND(Application!$A$9=\"No\",C985=Application!$A$13)),F985,\"\"),\"\")","v":""},"USD 107 - Off Site Non Public Buildings","Special Ed Program - Off Site Community Based",null,null,null,null,null,null,null,null,null,null,null,null,null,null,null,null,null,"N/A",null,null,"N/A","N/A"]
[68,"$B$4",108,"Washington Co. Schools","Washington",2989,{"$f":"IFERROR(IF(OR(AND(Application!$A$9=\"Yes\",IFERROR(MATCH(C986,Application!$K$11:$K$297,0)>0,\"\")),AND(Application!$A$9=\"No\",C986=Application!$A$13)),F986,\"\"),\"\")","v":""},"USD 108 - Off Site Non Public Buildings","Special Ed Program - Off Site Community Based",null,null,null,null,null,null,null,null,null,null,null,null,null,null,null,null,null,"N/A",null,null,"N/A","N/A"]
[9,"$B$4",109,"Republic County","Republic",2991,{"$f":"IFERROR(IF(OR(AND(Application!$A$9=\"Yes\",IFERROR(MATCH(C987,Application!$K$11:$K$297,0)>0,\"\")),AND(Application!$A$9=\"No\",C987=Application!$A$13)),F987,\"\"),\"\")","v":""},"USD 109 - Off Site Non Public Buildings","Special Ed Program - Off Site Community Based",null,null,null,null,null,null,null,null,null,null,null,null,null,null,null,null,null,"N/A",null,null,"N/A","N/A"]
[1013,"$B$4",305,"Salina","Saline",2993,{"$f":"IFERROR(IF(OR(AND(Application!$A$9=\"Yes\",IFERROR(MATCH(C988,Application!$K$11:$K$297,0)>0,\"\")),AND(Application!$A$9=\"No\",C988=Application!$A$13)),F988,\"\"),\"\")","v":""},"USD 305 - Off Site Non Public Buildings","Special Ed Program - Off Site Community Based",null,null,null,null,null,null,null,null,null,null,null,null,null,null,null,null,null,"N/A",null,null,"N/A","N/A"]
[1014,"$B$4",305,"Salina","Saline",2994,{"$f":"IFERROR(IF(OR(AND(Application!$A$9=\"Yes\",IFERROR(MATCH(C989,Application!$K$11:$K$297,0)>0,\"\")),AND(Application!$A$9=\"No\",C989=Application!$A$13)),F989,\"\"),\"\")","v":""},"Heusner Elem","Elementary",null,null,null,null,null,null,null,null,null,null,null,null,null,null,null,null,null,415,null,null,208,0.50119999999999998]
[64,"$B$4",107,"Rock Hills","Jewell",2995,{"$f":"IFERROR(IF(OR(AND(Application!$A$9=\"Yes\",IFERROR(MATCH(C990,Application!$K$11:$K$297,0)>0,\"\")),AND(Application!$A$9=\"No\",C990=Application!$A$13)),F990,\"\"),\"\")","v":""},"USD 107 - Home","Special Ed Program - Home",null,null,null,null,null,null,null,null,null,null,null,null,null,null,null,null,null,"N/A",null,null,"N/A","N/A"]
[1015,"$B$4",305,"Salina","Saline",2996,{"$f":"IFERROR(IF(OR(AND(Application!$A$9=\"Yes\",IFERROR(MATCH(C991,Application!$K$11:$K$297,0)>0,\"\")),AND(Application!$A$9=\"No\",C991=Application!$A$13)),F991,\"\"),\"\")","v":""},"John F Kennedy Early Learning Cntr","Early Childhood Program - Other",null,null,null,null,null,null,null,null,null,null,null,null,null,null,null,null,null,"N/A",null,null,"N/A","N/A"]
[34,"$B$4",108,"Washington Co. Schools","Washington",2997,{"$f":"IFERROR(IF(OR(AND(Application!$A$9=\"Yes\",IFERROR(MATCH(C992,Application!$K$11:$K$297,0)>0,\"\")),AND(Application!$A$9=\"No\",C992=Application!$A$13)),F992,\"\"),\"\")","v":""},"USD 108 - Home","Special Ed Program - Home",null,null,null,null,null,null,null,null,null,null,null,null,null,null,null,null,null,"N/A",null,null,"N/A","N/A"]
[10,"$B$4",109,"Republic County","Republic",2999,{"$f":"IFERROR(IF(OR(AND(Application!$A$9=\"Yes\",IFERROR(MATCH(C993,Application!$K$11:$K$297,0)>0,\"\")),AND(Application!$A$9=\"No\",C993=Application!$A$13)),F993,\"\"),\"\")","v":""},"USD 109 - Home","Special Ed Program - Home",null,null,null,null,null,null,null,null,null,null,null,null,null,null,null,null,null,"N/A",null,null,"N/A","N/A"]
[1016,"$B$4",305,"Salina","Saline",3000,{"$f":"IFERROR(IF(OR(AND(Application!$A$9=\"Yes\",IFERROR(MATCH(C994,Application!$K$11:$K$297,0)>0,\"\")),AND(Application!$A$9=\"No\",C994=Application!$A$13)),F994,\"\"),\"\")","v":""},"Meadowlark Ridge Elem","Elementary",null,null,null,null,null,null,null,null,null,null,null,null,null,null,null,null,null,409,null,null,125,0.30559999999999998]
[1017,"$B$4",305,"Salina","Saline",3001,{"$f":"IFERROR(IF(OR(AND(Application!$A$9=\"Yes\",IFERROR(MATCH(C995,Application!$K$11:$K$297,0)>0,\"\")),AND(Application!$A$9=\"No\",C995=Application!$A$13)),F995,\"\"),\"\")","v":""},"USD 305 - Home","Special Ed Program - Home",null,null,null,null,null,null,null,null,null,null,null,null,null,null,null,null,null,"N/A",null,null,"N/A","N/A"]
[1018,"$B$4",305,"Salina","Saline",3002,{"$f":"IFERROR(IF(OR(AND(Application!$A$9=\"Yes\",IFERROR(MATCH(C996,Application!$K$11:$K$297,0)>0,\"\")),AND(Application!$A$9=\"No\",C996=Application!$A$13)),F996,\"\"),\"\")","v":""},"Oakdale Elem","Elementary",null,null,null,null,null,null,null,null,null,null,null,null,null,null,null,null,null,290,null,null,214,0.7379]
[35,"$B$4",108,"Washington Co. Schools","Washington",3003,{"$f":"IFERROR(IF(OR(AND(Application!$A$9=\"Yes\",IFERROR(MATCH(C997,Application!$K$11:$K$297,0)>0,\"\")),AND(Application!$A$9=\"No\",C997=Application!$A$13)),F997,\"\"),\"\")","v":""},"USD 108 - Community-Based Preschool","Special Ed Program - Community Based Preschool",null,null,null,null,null,null,null,null,null,null,null,null,null,null,null,null,null,"N/A",null,null,"N/A","N/A"]
[1019,"$B$4",305,"Salina","Saline",3005,{"$f":"IFERROR(IF(OR(AND(Application!$A$9=\"Yes\",IFERROR(MATCH(C998,Application!$K$11:$K$297,0)>0,\"\")),AND(Application!$A$9=\"No\",C998=Application!$A$13)),F998,\"\"),\"\")","v":""},"USD 305 - Community-Based Preschool","Special Ed Program - Community Based Preschool",null,null,null,null,null,null,null,null,null,null,null,null,null,null,null,null,null,"N/A",null,null,"N/A","N/A"]
[1020,"$B$4",305,"Salina","Saline",3006,{"$f":"IFERROR(IF(OR(AND(Application!$A$9=\"Yes\",IFERROR(MATCH(C999,Application!$K$11:$K$297,0)>0,\"\")),AND(Application!$A$9=\"No\",C999=Application!$A$13)),F999,\"\"),\"\")","v":""},"Opportunity Now","Special Ed Program - Public School Administered",null,null,null,null,null,null,null,null,null,null,null,null,null,null,null,null,null,"N/A",null,null,"N/A","N/A"]
[65,"$B$4",107,"Rock Hills","Jewell",3007,{"$f":"IFERROR(IF(OR(AND(Application!$A$9=\"Yes\",IFERROR(MATCH(C1000,Application!$K$11:$K$297,0)>0,\"\")),AND(Application!$A$9=\"No\",C1000=Application!$A$13)),F1000,\"\"),\"\")","v":""},"USD 107 - K Time Program W/O SPED","Early Childhood Program - General",null,null,null,null,null,null,null,null,null,null,null,null,null,null,null,null,null,"N/A",null,null,"N/A","N/A"]
[1021,"$B$4",305,"Salina","Saline",3008,{"$f":"IFERROR(IF(OR(AND(Application!$A$9=\"Yes\",IFERROR(MATCH(C1001,Application!$K$11:$K$297,0)>0,\"\")),AND(Application!$A$9=\"No\",C1001=Application!$A$13)),F1001,\"\"),\"\")","v":""},"Schilling Elem","Elementary",null,null,null,null,null,null,null,null,null,null,null,null,null,null,null,null,null,408,null,null,289,0.70830000000000004]
[6,"$B$4",108,"Washington Co. Schools","Washington",3009,{"$f":"IFERROR(IF(OR(AND(Application!$A$9=\"Yes\",IFERROR(MATCH(C1002,Application!$K$11:$K$297,0)>0,\"\")),AND(Application!$A$9=\"No\",C1002=Application!$A$13)),F1002,\"\"),\"\")","v":""},"USD 108 - K Time Program W/O SPED","Early Childhood Program - General",null,null,null,null,null,null,null,null,null,null,null,null,null,null,null,null,null,"N/A",null,null,"N/A","N/A"]
[11,"$B$4",109,"Republic County","Republic",3011,{"$f":"IFERROR(IF(OR(AND(Application!$A$9=\"Yes\",IFERROR(MATCH(C1003,Application!$K$11:$K$297,0)>0,\"\")),AND(Application!$A$9=\"No\",C1003=Application!$A$13)),F1003,\"\"),\"\")","v":""},"USD 109 - K Time Program W/O SPED","Early Childhood Program - General",null,null,null,null,null,null,null,null,null,null,null,null,null,null,null,null,null,"N/A",null,null,"N/A","N/A"]
[1022,"$B$4",305,"Salina","Saline",3012,{"$f":"IFERROR(IF(OR(AND(Application!$A$9=\"Yes\",IFERROR(MATCH(C1004,Application!$K$11:$K$297,0)>0,\"\")),AND(Application!$A$9=\"No\",C1004=Application!$A$13)),F1004,\"\"),\"\")","v":""},"USD 305 - K Time Program W/O SPED","Early Childhood Program - General",null,null,null,null,null,null,null,null,null,null,null,null,null,null,null,null,null,"N/A",null,null,"N/A","N/A"]
[12,"$B$4",109,"Republic County","Republic",3013,{"$f":"IFERROR(IF(OR(AND(Application!$A$9=\"Yes\",IFERROR(MATCH(C1005,Application!$K$11:$K$297,0)>0,\"\")),AND(Application!$A$9=\"No\",C1005=Application!$A$13)),F1005,\"\"),\"\")","v":""},"Republic County Head Start","Special Ed Program - Community Based Preschool",null,null,null,null,null,null,null,null,null,null,null,null,null,null,null,null,null,"N/A",null,null,"N/A","N/A"]
[1023,"$B$4",305,"Salina","Saline",3014,{"$f":"IFERROR(IF(OR(AND(Application!$A$9=\"Yes\",IFERROR(MATCH(C1006,Application!$K$11:$K$297,0)>0,\"\")),AND(Application!$A$9=\"No\",C1006=Application!$A$13)),F1006,\"\"),\"\")","v":""},"Stewart Elem","Elementary",null,null,null,null,null,null,null,null,null,null,null,null,null,null,null,null,null,417,null,null,134,0.32129999999999997]
[1029,"$B$4",305,"Salina","Saline",3015,{"$f":"IFERROR(IF(OR(AND(Application!$A$9=\"Yes\",IFERROR(MATCH(C1007,Application!$K$11:$K$297,0)>0,\"\")),AND(Application!$A$9=\"No\",C1007=Application!$A$13)),F1007,\"\"),\"\")","v":""},"Hageman","Special Ed Program - Off Site Preschool",null,null,null,null,null,null,null,null,null,null,null,null,null,null,null,null,null,"N/A",null,null,"N/A","N/A"]
[13,"$B$4",109,"Republic County","Cloud",3017,{"$f":"IFERROR(IF(OR(AND(Application!$A$9=\"Yes\",IFERROR(MATCH(C1008,Application!$K$11:$K$297,0)>0,\"\")),AND(Application!$A$9=\"No\",C1008=Application!$A$13)),F1008,\"\"),\"\")","v":""},"Public Offsite PreSchool","Special Ed Program - Off Site Preschool",null,null,null,null,null,null,null,null,null,null,null,null,null,null,null,null,null,"N/A",null,null,"N/A","N/A"]
[1034,"$B$4",305,"Salina","Saline",3018,{"$f":"IFERROR(IF(OR(AND(Application!$A$9=\"Yes\",IFERROR(MATCH(C1009,Application!$K$11:$K$297,0)>0,\"\")),AND(Application!$A$9=\"No\",C1009=Application!$A$13)),F1009,\"\"),\"\")","v":""},"Sunset Elem","Elementary",null,null,null,null,null,null,null,null,null,null,null,null,null,null,null,null,null,387,null,null,270,0.69769999999999999]
[7,"$B$4",108,"Washington Co. Schools","Washington",3019,{"$f":"IFERROR(IF(OR(AND(Application!$A$9=\"Yes\",IFERROR(MATCH(C1010,Application!$K$11:$K$297,0)>0,\"\")),AND(Application!$A$9=\"No\",C1010=Application!$A$13)),F1010,\"\"),\"\")","v":""},"Head Start","Early Childhood Program - Head Start",null,null,null,null,null,null,null,null,null,null,null,null,null,null,null,null,null,"N/A",null,null,"N/A","N/A"]
[1024,"$B$4",305,"Salina","Saline",3020,{"$f":"IFERROR(IF(OR(AND(Application!$A$9=\"Yes\",IFERROR(MATCH(C1011,Application!$K$11:$K$297,0)>0,\"\")),AND(Application!$A$9=\"No\",C1011=Application!$A$13)),F1011,\"\"),\"\")","v":""},"Cottonwood Elementary School","Elementary",null,null,null,null,null,null,null,null,null,null,null,null,null,null,null,null,null,372,null,null,272,0.73119999999999996]
[1025,"$B$4",305,"Salina","Saline",3022,{"$f":"IFERROR(IF(OR(AND(Application!$A$9=\"Yes\",IFERROR(MATCH(C1012,Application!$K$11:$K$297,0)>0,\"\")),AND(Application!$A$9=\"No\",C1012=Application!$A$13)),F1012,\"\"),\"\")","v":""},"Lakewood Middle School","Middle School",null,null,null,null,null,null,null,null,null,null,null,null,null,null,null,null,null,688,null,null,400,0.58140000000000003]
[1026,"$B$4",305,"Salina","Saline",3023,{"$f":"IFERROR(IF(OR(AND(Application!$A$9=\"Yes\",IFERROR(MATCH(C1013,Application!$K$11:$K$297,0)>0,\"\")),AND(Application!$A$9=\"No\",C1013=Application!$A$13)),F1013,\"\"),\"\")","v":""},"Salina Virtual Innovation Academy","Other",null,null,null,null,null,null,null,null,null,null,null,null,null,null,null,null,null,88,null,null,50,0.56820000000000004]
[1027,"$B$4",305,"Salina","Saline",3024,{"$f":"IFERROR(IF(OR(AND(Application!$A$9=\"Yes\",IFERROR(MATCH(C1014,Application!$K$11:$K$297,0)>0,\"\")),AND(Application!$A$9=\"No\",C1014=Application!$A$13)),F1014,\"\"),\"\")","v":""},"Salina South Middle","Middle School",null,null,null,null,null,null,null,null,null,null,null,null,null,null,null,null,null,811,null,null,418,0.51539999999999997]
[1028,"$B$4",305,"Salina","Saline",3025,{"$f":"IFERROR(IF(OR(AND(Application!$A$9=\"Yes\",IFERROR(MATCH(C1015,Application!$K$11:$K$297,0)>0,\"\")),AND(Application!$A$9=\"No\",C1015=Application!$A$13)),F1015,\"\"),\"\")","v":""},"St. Francis Academy - Salina","Juvenile Detention Center",null,null,null,null,null,null,null,null,null,null,null,null,null,null,null,null,null,"N/A",null,null,"N/A","N/A"]
[1030,"$B$4",305,"Salina","Saline",3026,{"$f":"IFERROR(IF(OR(AND(Application!$A$9=\"Yes\",IFERROR(MATCH(C1016,Application!$K$11:$K$297,0)>0,\"\")),AND(Application!$A$9=\"No\",C1016=Application!$A$13)),F1016,\"\"),\"\")","v":""},"Salina High Central","High School",null,null,null,null,null,null,null,null,null,null,null,null,null,null,null,null,null,944,null,null,460,0.48730000000000001]
[1033,"$B$4",305,"Salina","Saline",3027,{"$f":"IFERROR(IF(OR(AND(Application!$A$9=\"Yes\",IFERROR(MATCH(C1017,Application!$K$11:$K$297,0)>0,\"\")),AND(Application!$A$9=\"No\",C1017=Application!$A$13)),F1017,\"\"),\"\")","v":""},"Salina High South","High School",null,null,null,null,null,null,null,null,null,null,null,null,null,null,null,null,null,1102,null,null,463,0.42009999999999997]
[1031,"$B$4",305,"Salina","Saline",3029,{"$f":"IFERROR(IF(OR(AND(Application!$A$9=\"Yes\",IFERROR(MATCH(C1018,Application!$K$11:$K$297,0)>0,\"\")),AND(Application!$A$9=\"No\",C1018=Application!$A$13)),F1018,\"\"),\"\")","v":""},"Kitchen II (Salina)","Kitchen Unit",null,null,null,null,null,null,null,null,null,null,null,null,null,null,null,null,null,"N/A",null,null,"N/A","N/A"]
[1032,"$B$4",306,"Southeast Of Saline","Saline",3049,{"$f":"IFERROR(IF(OR(AND(Application!$A$9=\"Yes\",IFERROR(MATCH(C1019,Application!$K$11:$K$297,0)>0,\"\")),AND(Application!$A$9=\"No\",C1019=Application!$A$13)),F1019,\"\"),\"\")","v":""},"USD 306 - Off Site Non Public Buildings","Special Ed Program - Off Site Community Based",null,null,null,null,null,null,null,null,null,null,null,null,null,null,null,null,null,"N/A",null,null,"N/A","N/A"]
[1035,"$B$4",306,"Southeast Of Saline","Saline",3050,{"$f":"IFERROR(IF(OR(AND(Application!$A$9=\"Yes\",IFERROR(MATCH(C1020,Application!$K$11:$K$297,0)>0,\"\")),AND(Application!$A$9=\"No\",C1020=Application!$A$13)),F1020,\"\"),\"\")","v":""},"USD 306 - Home","Special Ed Program - Home",null,null,null,null,null,null,null,null,null,null,null,null,null,null,null,null,null,"N/A",null,null,"N/A","N/A"]
[1036,"$B$4",306,"Southeast Of Saline","Saline",3051,{"$f":"IFERROR(IF(OR(AND(Application!$A$9=\"Yes\",IFERROR(MATCH(C1021,Application!$K$11:$K$297,0)>0,\"\")),AND(Application!$A$9=\"No\",C1021=Application!$A$13)),F1021,\"\"),\"\")","v":""},"USD 306 - K Time Program W/O SPED","Early Childhood Program - General",null,null,null,null,null,null,null,null,null,null,null,null,null,null,null,null,null,"N/A",null,null,"N/A","N/A"]
[1037,"$B$4",306,"Southeast Of Saline","Saline",3052,{"$f":"IFERROR(IF(OR(AND(Application!$A$9=\"Yes\",IFERROR(MATCH(C1022,Application!$K$11:$K$297,0)>0,\"\")),AND(Application!$A$9=\"No\",C1022=Application!$A$13)),F1022,\"\"),\"\")","v":""},"Southeast Saline High","High School",null,null,null,null,null,null,null,null,null,null,null,null,null,null,null,null,null,339,null,null,73,0.21529999999999999]
[1038,"$B$4",306,"Southeast Of Saline","Saline",3056,{"$f":"IFERROR(IF(OR(AND(Application!$A$9=\"Yes\",IFERROR(MATCH(C1023,Application!$K$11:$K$297,0)>0,\"\")),AND(Application!$A$9=\"No\",C1023=Application!$A$13)),F1023,\"\"),\"\")","v":""},"Southeast Saline Elem","Elementary",null,null,null,null,null,null,null,null,null,null,null,null,null,null,null,null,null,343,null,null,67,0.1953]
[14,"$B$4",109,"Republic County","Republic",3070,{"$f":"IFERROR(IF(OR(AND(Application!$A$9=\"Yes\",IFERROR(MATCH(C1024,Application!$K$11:$K$297,0)>0,\"\")),AND(Application!$A$9=\"No\",C1024=Application!$A$13)),F1024,\"\"),\"\")","v":""},"Republic County Jr./Sr. High School","High School",null,null,null,null,null,null,null,null,null,null,null,null,null,null,null,null,null,262,null,null,110,0.41980000000000001]
[1039,"$B$4",307,"Ell-Saline","Saline",3073,{"$f":"IFERROR(IF(OR(AND(Application!$A$9=\"Yes\",IFERROR(MATCH(C1025,Application!$K$11:$K$297,0)>0,\"\")),AND(Application!$A$9=\"No\",C1025=Application!$A$13)),F1025,\"\"),\"\")","v":""},"USD 307 - Off Site Non Public Buildings","Special Ed Program - Off Site Community Based",null,null,null,null,null,null,null,null,null,null,null,null,null,null,null,null,null,"N/A",null,null,"N/A","N/A"]
[1040,"$B$4",307,"Ell-Saline","Saline",3074,{"$f":"IFERROR(IF(OR(AND(Application!$A$9=\"Yes\",IFERROR(MATCH(C1026,Application!$K$11:$K$297,0)>0,\"\")),AND(Application!$A$9=\"No\",C1026=Application!$A$13)),F1026,\"\"),\"\")","v":""},"USD 307 - Home","Special Ed Program - Home",null,null,null,null,null,null,null,null,null,null,null,null,null,null,null,null,null,"N/A",null,null,"N/A","N/A"]
[1041,"$B$4",307,"Ell-Saline","Saline",3075,{"$f":"IFERROR(IF(OR(AND(Application!$A$9=\"Yes\",IFERROR(MATCH(C1027,Application!$K$11:$K$297,0)>0,\"\")),AND(Application!$A$9=\"No\",C1027=Application!$A$13)),F1027,\"\"),\"\")","v":""},"USD 307 - K Time Program W/O SPED","Early Childhood Program - General",null,null,null,null,null,null,null,null,null,null,null,null,null,null,null,null,null,"N/A",null,null,"N/A","N/A"]
[1042,"$B$4",307,"Ell-Saline","Saline",3080,{"$f":"IFERROR(IF(OR(AND(Application!$A$9=\"Yes\",IFERROR(MATCH(C1028,Application!$K$11:$K$297,0)>0,\"\")),AND(Application!$A$9=\"No\",C1028=Application!$A$13)),F1028,\"\"),\"\")","v":""},"Ell-Saline Middle/High School","High School",null,null,null,null,null,null,null,null,null,null,null,null,null,null,null,null,null,193,null,null,61,0.31609999999999999]
[1043,"$B$4",307,"Ell-Saline","Saline",3082,{"$f":"IFERROR(IF(OR(AND(Application!$A$9=\"Yes\",IFERROR(MATCH(C1029,Application!$K$11:$K$297,0)>0,\"\")),AND(Application!$A$9=\"No\",C1029=Application!$A$13)),F1029,\"\"),\"\")","v":""},"Ell-Saline Elementary","Elementary",null,null,null,null,null,null,null,null,null,null,null,null,null,null,null,null,null,226,null,null,84,0.37169999999999997]
[1044,"$B$4",308,"Hutchinson Public Schools","Reno",3098,{"$f":"IFERROR(IF(OR(AND(Application!$A$9=\"Yes\",IFERROR(MATCH(C1030,Application!$K$11:$K$297,0)>0,\"\")),AND(Application!$A$9=\"No\",C1030=Application!$A$13)),F1030,\"\"),\"\")","v":""},"Hutchinson Dist Reno Co","Central Office",null,null,null,null,null,null,null,null,null,null,null,null,null,null,null,null,null,"N/A",null,null,"N/A","N/A"]
[1045,"$B$4",308,"Hutchinson Public Schools","Reno",3099,{"$f":"IFERROR(IF(OR(AND(Application!$A$9=\"Yes\",IFERROR(MATCH(C1031,Application!$K$11:$K$297,0)>0,\"\")),AND(Application!$A$9=\"No\",C1031=Application!$A$13)),F1031,\"\"),\"\")","v":""},"USD 308 - Off Site Non Public Buildings","Special Ed Program - Off Site Community Based",null,null,null,null,null,null,null,null,null,null,null,null,null,null,null,null,null,"N/A",null,null,"N/A","N/A"]
[1046,"$B$4",308,"Hutchinson Public Schools","Reno",3101,{"$f":"IFERROR(IF(OR(AND(Application!$A$9=\"Yes\",IFERROR(MATCH(C1032,Application!$K$11:$K$297,0)>0,\"\")),AND(Application!$A$9=\"No\",C1032=Application!$A$13)),F1032,\"\"),\"\")","v":""},"Hutchinson Magnet School at Allen","Elementary",null,null,null,null,null,null,null,null,null,null,null,null,null,null,null,null,null,264,null,null,133,0.50380000000000003]
[1047,"$B$4",308,"Hutchinson Public Schools","Reno",3103,{"$f":"IFERROR(IF(OR(AND(Application!$A$9=\"Yes\",IFERROR(MATCH(C1033,Application!$K$11:$K$297,0)>0,\"\")),AND(Application!$A$9=\"No\",C1033=Application!$A$13)),F1033,\"\"),\"\")","v":""},"USD 308 - Home","Special Ed Program - Home",null,null,null,null,null,null,null,null,null,null,null,null,null,null,null,null,null,"N/A",null,null,"N/A","N/A"]
[1048,"$B$4",308,"Hutchinson Public Schools","Reno",3104,{"$f":"IFERROR(IF(OR(AND(Application!$A$9=\"Yes\",IFERROR(MATCH(C1034,Application!$K$11:$K$297,0)>0,\"\")),AND(Application!$A$9=\"No\",C1034=Application!$A$13)),F1034,\"\"),\"\")","v":""},"Emanuel Lutheran Pre-K","Special Ed Program - Community Based Preschool",null,null,null,null,null,null,null,null,null,null,null,null,null,null,null,null,null,"N/A",null,null,"N/A","N/A"]
[1049,"$B$4",308,"Hutchinson Public Schools","Reno",3105,{"$f":"IFERROR(IF(OR(AND(Application!$A$9=\"Yes\",IFERROR(MATCH(C1035,Application!$K$11:$K$297,0)>0,\"\")),AND(Application!$A$9=\"No\",C1035=Application!$A$13)),F1035,\"\"),\"\")","v":""},"USD 308 - Community-Based Preschool","Special Ed Program - Community Based Preschool",null,null,null,null,null,null,null,null,null,null,null,null,null,null,null,null,null,"N/A",null,null,"N/A","N/A"]
[1050,"$B$4",308,"Hutchinson Public Schools","Reno",3106,{"$f":"IFERROR(IF(OR(AND(Application!$A$9=\"Yes\",IFERROR(MATCH(C1036,Application!$K$11:$K$297,0)>0,\"\")),AND(Application!$A$9=\"No\",C1036=Application!$A$13)),F1036,\"\"),\"\")","v":""},"Faris Elementary","Elementary",null,null,null,null,null,null,null,null,null,null,null,null,null,null,null,null,null,265,null,null,220,0.83020000000000005]
[1051,"$B$4",308,"Hutchinson Public Schools","Reno",3107,{"$f":"IFERROR(IF(OR(AND(Application!$A$9=\"Yes\",IFERROR(MATCH(C1037,Application!$K$11:$K$297,0)>0,\"\")),AND(Application!$A$9=\"No\",C1037=Application!$A$13)),F1037,\"\"),\"\")","v":""},"USD 308 - Com-Based Preschool Rockin Js","Special Ed Program - Community Based Preschool",null,null,null,null,null,null,null,null,null,null,null,null,null,null,null,null,null,"N/A",null,null,"N/A","N/A"]
[1052,"$B$4",308,"Hutchinson Public Schools","Reno",3108,{"$f":"IFERROR(IF(OR(AND(Application!$A$9=\"Yes\",IFERROR(MATCH(C1038,Application!$K$11:$K$297,0)>0,\"\")),AND(Application!$A$9=\"No\",C1038=Application!$A$13)),F1038,\"\"),\"\")","v":""},"Graber Elementary","Elementary",null,null,null,null,null,null,null,null,null,null,null,null,null,null,null,null,null,267,null,null,155,0.58050000000000002]
[1053,"$B$4",308,"Hutchinson Public Schools","Reno",3111,{"$f":"IFERROR(IF(OR(AND(Application!$A$9=\"Yes\",IFERROR(MATCH(C1039,Application!$K$11:$K$297,0)>0,\"\")),AND(Application!$A$9=\"No\",C1039=Application!$A$13)),F1039,\"\"),\"\")","v":""},"USD 308 - Community-Based Preschool","Special Ed Program - Community Based Preschool",null,null,null,null,null,null,null,null,null,null,null,null,null,null,null,null,null,"N/A",null,null,"N/A","N/A"]
[1054,"$B$4",308,"Hutchinson Public Schools","Reno",3112,{"$f":"IFERROR(IF(OR(AND(Application!$A$9=\"Yes\",IFERROR(MATCH(C1040,Application!$K$11:$K$297,0)>0,\"\")),AND(Application!$A$9=\"No\",C1040=Application!$A$13)),F1040,\"\"),\"\")","v":""},"Hutcherson Center for Early Learning","Special Ed Program - Off Site Preschool",null,null,null,null,null,null,null,null,null,null,null,null,null,null,null,null,null,"N/A",null,null,"N/A","N/A"]
[1055,"$B$4",308,"Hutchinson Public Schools","Reno",3114,{"$f":"IFERROR(IF(OR(AND(Application!$A$9=\"Yes\",IFERROR(MATCH(C1041,Application!$K$11:$K$297,0)>0,\"\")),AND(Application!$A$9=\"No\",C1041=Application!$A$13)),F1041,\"\"),\"\")","v":""},"Lincoln Elementary School","Elementary",null,null,null,null,null,null,null,null,null,null,null,null,null,null,null,null,null,234,null,null,194,0.82909999999999995]
[1056,"$B$4",308,"Hutchinson Public Schools","Reno",3115,{"$f":"IFERROR(IF(OR(AND(Application!$A$9=\"Yes\",IFERROR(MATCH(C1042,Application!$K$11:$K$297,0)>0,\"\")),AND(Application!$A$9=\"No\",C1042=Application!$A$13)),F1042,\"\"),\"\")","v":""},"Play and Learn Therapeutic Center","Special Ed Program - Community Based Preschool",null,null,null,null,null,null,null,null,null,null,null,null,null,null,null,null,null,"N/A",null,null,"N/A","N/A"]
[1057,"$B$4",308,"Hutchinson Public Schools","Reno",3116,{"$f":"IFERROR(IF(OR(AND(Application!$A$9=\"Yes\",IFERROR(MATCH(C1043,Application!$K$11:$K$297,0)>0,\"\")),AND(Application!$A$9=\"No\",C1043=Application!$A$13)),F1043,\"\"),\"\")","v":""},"McCandless Elementary","Elementary",null,null,null,null,null,null,null,null,null,null,null,null,null,null,null,null,null,206,null,null,174,0.84470000000000001]
[1058,"$B$4",308,"Hutchinson Public Schools","Reno",3117,{"$f":"IFERROR(IF(OR(AND(Application!$A$9=\"Yes\",IFERROR(MATCH(C1044,Application!$K$11:$K$297,0)>0,\"\")),AND(Application!$A$9=\"No\",C1044=Application!$A$13)),F1044,\"\"),\"\")","v":""},"USD 308 - Community-Based Preschool","Special Ed Program - Community Based Preschool",null,null,null,null,null,null,null,null,null,null,null,null,null,null,null,null,null,"N/A",null,null,"N/A","N/A"]
[1059,"$B$4",308,"Hutchinson Public Schools","Reno",3118,{"$f":"IFERROR(IF(OR(AND(Application!$A$9=\"Yes\",IFERROR(MATCH(C1045,Application!$K$11:$K$297,0)>0,\"\")),AND(Application!$A$9=\"No\",C1045=Application!$A$13)),F1045,\"\"),\"\")","v":""},"Morgan Elementary","Elementary",null,null,null,null,null,null,null,null,null,null,null,null,null,null,null,null,null,378,null,null,188,0.49740000000000001]
[1060,"$B$4",308,"Hutchinson Public Schools","Reno",3119,{"$f":"IFERROR(IF(OR(AND(Application!$A$9=\"Yes\",IFERROR(MATCH(C1046,Application!$K$11:$K$297,0)>0,\"\")),AND(Application!$A$9=\"No\",C1046=Application!$A$13)),F1046,\"\"),\"\")","v":""},"USD 308 - Community-Based Preschool","Special Ed Program - Community Based Preschool",null,null,null,null,null,null,null,null,null,null,null,null,null,null,null,null,null,"N/A",null,null,"N/A","N/A"]
[1061,"$B$4",308,"Hutchinson Public Schools","Reno",3124,{"$f":"IFERROR(IF(OR(AND(Application!$A$9=\"Yes\",IFERROR(MATCH(C1047,Application!$K$11:$K$297,0)>0,\"\")),AND(Application!$A$9=\"No\",C1047=Application!$A$13)),F1047,\"\"),\"\")","v":""},"Wiley Elementary","Elementary",null,null,null,null,null,null,null,null,null,null,null,null,null,null,null,null,null,285,null,null,136,0.47720000000000001]
[1062,"$B$4",308,"Hutchinson Public Schools","Reno",3125,{"$f":"IFERROR(IF(OR(AND(Application!$A$9=\"Yes\",IFERROR(MATCH(C1048,Application!$K$11:$K$297,0)>0,\"\")),AND(Application!$A$9=\"No\",C1048=Application!$A$13)),F1048,\"\"),\"\")","v":""},"USD 308 - Community-Based Preschool Y Tikes","Special Ed Program - Community Based Preschool",null,null,null,null,null,null,null,null,null,null,null,null,null,null,null,null,null,"N/A",null,null,"N/A","N/A"]
[1063,"$B$4",308,"Hutchinson Public Schools","Reno",3127,{"$f":"IFERROR(IF(OR(AND(Application!$A$9=\"Yes\",IFERROR(MATCH(C1049,Application!$K$11:$K$297,0)>0,\"\")),AND(Application!$A$9=\"No\",C1049=Application!$A$13)),F1049,\"\"),\"\")","v":""},"USD 308 - Community-Based Preschool","Special Ed Program - Community Based Preschool",null,null,null,null,null,null,null,null,null,null,null,null,null,null,null,null,null,"N/A",null,null,"N/A","N/A"]
[1064,"$B$4",308,"Hutchinson Public Schools","Reno",3129,{"$f":"IFERROR(IF(OR(AND(Application!$A$9=\"Yes\",IFERROR(MATCH(C1050,Application!$K$11:$K$297,0)>0,\"\")),AND(Application!$A$9=\"No\",C1050=Application!$A$13)),F1050,\"\"),\"\")","v":""},"USD 308 - Public Off Campus","Special Ed Program - Public School Administered",null,null,null,null,null,null,null,null,null,null,null,null,null,null,null,null,null,"N/A",null,null,"N/A","N/A"]
[1065,"$B$4",308,"Hutchinson Public Schools","Reno",3130,{"$f":"IFERROR(IF(OR(AND(Application!$A$9=\"Yes\",IFERROR(MATCH(C1051,Application!$K$11:$K$297,0)>0,\"\")),AND(Application!$A$9=\"No\",C1051=Application!$A$13)),F1051,\"\"),\"\")","v":""},"Hutchinson Middle School 8","Middle School",null,null,null,null,null,null,null,null,null,null,null,null,null,null,null,null,null,295,null,null,175,0.59319999999999995]
[1066,"$B$4",308,"Hutchinson Public Schools","Reno",3131,{"$f":"IFERROR(IF(OR(AND(Application!$A$9=\"Yes\",IFERROR(MATCH(C1052,Application!$K$11:$K$297,0)>0,\"\")),AND(Application!$A$9=\"No\",C1052=Application!$A$13)),F1052,\"\"),\"\")","v":""},"USD 308 - K Time Program W/O SPED","Early Childhood Program - General",null,null,null,null,null,null,null,null,null,null,null,null,null,null,null,null,null,"N/A",null,null,"N/A","N/A"]
[1067,"$B$4",308,"Hutchinson Public Schools","Reno",3133,{"$f":"IFERROR(IF(OR(AND(Application!$A$9=\"Yes\",IFERROR(MATCH(C1053,Application!$K$11:$K$297,0)>0,\"\")),AND(Application!$A$9=\"No\",C1053=Application!$A$13)),F1053,\"\"),\"\")","v":""},"Early Education Center","Special Ed Program - Public School Administered",null,null,null,null,null,null,null,null,null,null,null,null,null,null,null,null,null,"N/A",null,null,"N/A","N/A"]
[1068,"$B$4",308,"Hutchinson Public Schools","Reno",3134,{"$f":"IFERROR(IF(OR(AND(Application!$A$9=\"Yes\",IFERROR(MATCH(C1054,Application!$K$11:$K$297,0)>0,\"\")),AND(Application!$A$9=\"No\",C1054=Application!$A$13)),F1054,\"\"),\"\")","v":""},"Hutchinson High School","High School",null,null,null,null,null,null,null,null,null,null,null,null,null,null,null,null,null,1301,null,null,674,0.5181]
[1069,"$B$4",308,"Hutchinson Public Schools","Reno",3135,{"$f":"IFERROR(IF(OR(AND(Application!$A$9=\"Yes\",IFERROR(MATCH(C1055,Application!$K$11:$K$297,0)>0,\"\")),AND(Application!$A$9=\"No\",C1055=Application!$A$13)),F1055,\"\"),\"\")","v":""},"Park Place Christian Church Preschool","Special Ed Program - Community Based Preschool",null,null,null,null,null,null,null,null,null,null,null,null,null,null,null,null,null,"N/A",null,null,"N/A","N/A"]
[1070,"$B$4",308,"Hutchinson Public Schools","Reno",3138,{"$f":"IFERROR(IF(OR(AND(Application!$A$9=\"Yes\",IFERROR(MATCH(C1056,Application!$K$11:$K$297,0)>0,\"\")),AND(Application!$A$9=\"No\",C1056=Application!$A$13)),F1056,\"\"),\"\")","v":""},"Reno County Delinquent Center","Juvenile Detention Center",null,null,null,null,null,null,null,null,null,null,null,null,null,null,null,null,null,"N/A",null,null,"N/A","N/A"]
[1071,"$B$4",308,"Hutchinson Public Schools","Reno",3139,{"$f":"IFERROR(IF(OR(AND(Application!$A$9=\"Yes\",IFERROR(MATCH(C1057,Application!$K$11:$K$297,0)>0,\"\")),AND(Application!$A$9=\"No\",C1057=Application!$A$13)),F1057,\"\"),\"\")","v":""},"Hutchinson Middle School 7","Middle School",null,null,null,null,null,null,null,null,null,null,null,null,null,null,null,null,null,316,null,null,179,0.5665]
[1072,"$B$4",308,"Hutchinson Public Schools","Reno",3145,{"$f":"IFERROR(IF(OR(AND(Application!$A$9=\"Yes\",IFERROR(MATCH(C1058,Application!$K$11:$K$297,0)>0,\"\")),AND(Application!$A$9=\"No\",C1058=Application!$A$13)),F1058,\"\"),\"\")","v":""},"Our Redeemer Early Learning Center","Special Ed Program - Community Based Preschool",null,null,null,null,null,null,null,null,null,null,null,null,null,null,null,null,null,"N/A",null,null,"N/A","N/A"]
[1073,"$B$4",308,"Hutchinson Public Schools","Reno",3146,{"$f":"IFERROR(IF(OR(AND(Application!$A$9=\"Yes\",IFERROR(MATCH(C1059,Application!$K$11:$K$297,0)>0,\"\")),AND(Application!$A$9=\"No\",C1059=Application!$A$13)),F1059,\"\"),\"\")","v":""},"Reno County Neglected Center","Other",null,null,null,null,null,null,null,null,null,null,null,null,null,null,null,null,null,"N/A",null,null,"N/A","N/A"]
[1074,"$B$4",308,"Hutchinson Public Schools","Reno",3149,{"$f":"IFERROR(IF(OR(AND(Application!$A$9=\"Yes\",IFERROR(MATCH(C1060,Application!$K$11:$K$297,0)>0,\"\")),AND(Application!$A$9=\"No\",C1060=Application!$A$13)),F1060,\"\"),\"\")","v":""},"Hutchinson Virtual School","Other",null,null,null,null,null,null,null,null,null,null,null,null,null,null,null,null,null,164,null,null,91,0.55489999999999995]
[1075,"$B$4",309,"Nickerson","Reno",3158,{"$f":"IFERROR(IF(OR(AND(Application!$A$9=\"Yes\",IFERROR(MATCH(C1061,Application!$K$11:$K$297,0)>0,\"\")),AND(Application!$A$9=\"No\",C1061=Application!$A$13)),F1061,\"\"),\"\")","v":""},"Nickerson Dist Reno Co","Central Office",null,null,null,null,null,null,null,null,null,null,null,null,null,null,null,null,null,"N/A",null,null,"N/A","N/A"]
[1076,"$B$4",309,"Nickerson","Reno",3159,{"$f":"IFERROR(IF(OR(AND(Application!$A$9=\"Yes\",IFERROR(MATCH(C1062,Application!$K$11:$K$297,0)>0,\"\")),AND(Application!$A$9=\"No\",C1062=Application!$A$13)),F1062,\"\"),\"\")","v":""},"USD 309 - Off Site Non Public Buildings","Special Ed Program - Off Site Community Based",null,null,null,null,null,null,null,null,null,null,null,null,null,null,null,null,null,"N/A",null,null,"N/A","N/A"]
[1077,"$B$4",309,"Nickerson","Reno",3160,{"$f":"IFERROR(IF(OR(AND(Application!$A$9=\"Yes\",IFERROR(MATCH(C1063,Application!$K$11:$K$297,0)>0,\"\")),AND(Application!$A$9=\"No\",C1063=Application!$A$13)),F1063,\"\"),\"\")","v":""},"USD 309 - Home","Special Ed Program - Home",null,null,null,null,null,null,null,null,null,null,null,null,null,null,null,null,null,"N/A",null,null,"N/A","N/A"]
[1078,"$B$4",309,"Nickerson","Reno",3161,{"$f":"IFERROR(IF(OR(AND(Application!$A$9=\"Yes\",IFERROR(MATCH(C1064,Application!$K$11:$K$297,0)>0,\"\")),AND(Application!$A$9=\"No\",C1064=Application!$A$13)),F1064,\"\"),\"\")","v":""},"USD 309 - Community-Based Preschool","Special Ed Program - Community Based Preschool",null,null,null,null,null,null,null,null,null,null,null,null,null,null,null,null,null,"N/A",null,null,"N/A","N/A"]
[1079,"$B$4",309,"Nickerson","Reno",3164,{"$f":"IFERROR(IF(OR(AND(Application!$A$9=\"Yes\",IFERROR(MATCH(C1065,Application!$K$11:$K$297,0)>0,\"\")),AND(Application!$A$9=\"No\",C1065=Application!$A$13)),F1065,\"\"),\"\")","v":""},"Nickerson Elem","Elementary",null,null,null,null,null,null,null,null,null,null,null,null,null,null,null,null,null,200,null,null,110,0.55000000000000004]
[1080,"$B$4",309,"Nickerson","Reno",3165,{"$f":"IFERROR(IF(OR(AND(Application!$A$9=\"Yes\",IFERROR(MATCH(C1066,Application!$K$11:$K$297,0)>0,\"\")),AND(Application!$A$9=\"No\",C1066=Application!$A$13)),F1066,\"\"),\"\")","v":""},"USD 309 - South Hutchinson Methodist SHASK","Special Ed Program - Community Based Preschool",null,null,null,null,null,null,null,null,null,null,null,null,null,null,null,null,null,"N/A",null,null,"N/A","N/A"]
[1081,"$B$4",309,"Nickerson","Reno",3166,{"$f":"IFERROR(IF(OR(AND(Application!$A$9=\"Yes\",IFERROR(MATCH(C1067,Application!$K$11:$K$297,0)>0,\"\")),AND(Application!$A$9=\"No\",C1067=Application!$A$13)),F1067,\"\"),\"\")","v":""},"Nickerson High","High School",null,null,null,null,null,null,null,null,null,null,null,null,null,null,null,null,null,279,null,null,134,0.4803]
[1082,"$B$4",309,"Nickerson","Reno",3167,{"$f":"IFERROR(IF(OR(AND(Application!$A$9=\"Yes\",IFERROR(MATCH(C1068,Application!$K$11:$K$297,0)>0,\"\")),AND(Application!$A$9=\"No\",C1068=Application!$A$13)),F1068,\"\"),\"\")","v":""},"USD 309 - Public Off Campus","Special Ed Program - Public School Administered",null,null,null,null,null,null,null,null,null,null,null,null,null,null,null,null,null,"N/A",null,null,"N/A","N/A"]
[1083,"$B$4",309,"Nickerson","Reno",3168,{"$f":"IFERROR(IF(OR(AND(Application!$A$9=\"Yes\",IFERROR(MATCH(C1069,Application!$K$11:$K$297,0)>0,\"\")),AND(Application!$A$9=\"No\",C1069=Application!$A$13)),F1069,\"\"),\"\")","v":""},"Reno Valley Middle School","Middle School",null,null,null,null,null,null,null,null,null,null,null,null,null,null,null,null,null,158,null,null,81,0.51270000000000004]
[1084,"$B$4",309,"Nickerson","Reno",3169,{"$f":"IFERROR(IF(OR(AND(Application!$A$9=\"Yes\",IFERROR(MATCH(C1070,Application!$K$11:$K$297,0)>0,\"\")),AND(Application!$A$9=\"No\",C1070=Application!$A$13)),F1070,\"\"),\"\")","v":""},"USD 309 - K Time Program W/O SPED","Early Childhood Program - General",null,null,null,null,null,null,null,null,null,null,null,null,null,null,null,null,null,"N/A",null,null,"N/A","N/A"]
[1085,"$B$4",309,"Nickerson","Reno",3170,{"$f":"IFERROR(IF(OR(AND(Application!$A$9=\"Yes\",IFERROR(MATCH(C1071,Application!$K$11:$K$297,0)>0,\"\")),AND(Application!$A$9=\"No\",C1071=Application!$A$13)),F1071,\"\"),\"\")","v":""},"South Hutchinson Elem","Elementary",null,null,null,null,null,null,null,null,null,null,null,null,null,null,null,null,null,294,null,null,166,0.56459999999999999]
[1086,"$B$4",309,"Nickerson","Reno",3171,{"$f":"IFERROR(IF(OR(AND(Application!$A$9=\"Yes\",IFERROR(MATCH(C1072,Application!$K$11:$K$297,0)>0,\"\")),AND(Application!$A$9=\"No\",C1072=Application!$A$13)),F1072,\"\"),\"\")","v":""},"Central State Academy","Other",null,null,null,null,null,null,null,null,null,null,null,null,null,null,null,null,null,103,null,null,7,6.8000000000000005E-2]
[1087,"$B$4",310,"Fairfield","Reno",3183,{"$f":"IFERROR(IF(OR(AND(Application!$A$9=\"Yes\",IFERROR(MATCH(C1073,Application!$K$11:$K$297,0)>0,\"\")),AND(Application!$A$9=\"No\",C1073=Application!$A$13)),F1073,\"\"),\"\")","v":""},"USD 310 - Off Site Non Public Buildings","Special Ed Program - Off Site Community Based",null,null,null,null,null,null,null,null,null,null,null,null,null,null,null,null,null,"N/A",null,null,"N/A","N/A"]
[1088,"$B$4",310,"Fairfield","Reno",3184,{"$f":"IFERROR(IF(OR(AND(Application!$A$9=\"Yes\",IFERROR(MATCH(C1074,Application!$K$11:$K$297,0)>0,\"\")),AND(Application!$A$9=\"No\",C1074=Application!$A$13)),F1074,\"\"),\"\")","v":""},"USD 310 - Home","Special Ed Program - Home",null,null,null,null,null,null,null,null,null,null,null,null,null,null,null,null,null,"N/A",null,null,"N/A","N/A"]
[1089,"$B$4",310,"Fairfield","Reno",3189,{"$f":"IFERROR(IF(OR(AND(Application!$A$9=\"Yes\",IFERROR(MATCH(C1075,Application!$K$11:$K$297,0)>0,\"\")),AND(Application!$A$9=\"No\",C1075=Application!$A$13)),F1075,\"\"),\"\")","v":""},"USD 310 - Community-Based Preschool","Special Ed Program - Community Based Preschool",null,null,null,null,null,null,null,null,null,null,null,null,null,null,null,null,null,"N/A",null,null,"N/A","N/A"]
[1090,"$B$4",310,"Fairfield","Reno",3190,{"$f":"IFERROR(IF(OR(AND(Application!$A$9=\"Yes\",IFERROR(MATCH(C1076,Application!$K$11:$K$297,0)>0,\"\")),AND(Application!$A$9=\"No\",C1076=Application!$A$13)),F1076,\"\"),\"\")","v":""},"USD 310 - K Time Program W/O SPED","Early Childhood Program - General",null,null,null,null,null,null,null,null,null,null,null,null,null,null,null,null,null,"N/A",null,null,"N/A","N/A"]
[1091,"$B$4",310,"Fairfield","Reno",3191,{"$f":"IFERROR(IF(OR(AND(Application!$A$9=\"Yes\",IFERROR(MATCH(C1077,Application!$K$11:$K$297,0)>0,\"\")),AND(Application!$A$9=\"No\",C1077=Application!$A$13)),F1077,\"\"),\"\")","v":""},"Fairfield Schools","High School",null,null,null,null,null,null,null,null,null,null,null,null,null,null,null,null,null,284,null,null,144,0.50700000000000001]
[1092,"$B$4",311,"Pretty Prairie","Reno",3209,{"$f":"IFERROR(IF(OR(AND(Application!$A$9=\"Yes\",IFERROR(MATCH(C1078,Application!$K$11:$K$297,0)>0,\"\")),AND(Application!$A$9=\"No\",C1078=Application!$A$13)),F1078,\"\"),\"\")","v":""},"USD 311 - Off Site Non Public Buildings","Special Ed Program - Off Site Community Based",null,null,null,null,null,null,null,null,null,null,null,null,null,null,null,null,null,"N/A",null,null,"N/A","N/A"]
[1093,"$B$4",311,"Pretty Prairie","Reno",3210,{"$f":"IFERROR(IF(OR(AND(Application!$A$9=\"Yes\",IFERROR(MATCH(C1079,Application!$K$11:$K$297,0)>0,\"\")),AND(Application!$A$9=\"No\",C1079=Application!$A$13)),F1079,\"\"),\"\")","v":""},"USD 311 - Home","Special Ed Program - Home",null,null,null,null,null,null,null,null,null,null,null,null,null,null,null,null,null,"N/A",null,null,"N/A","N/A"]
[1094,"$B$4",311,"Pretty Prairie","Reno",3212,{"$f":"IFERROR(IF(OR(AND(Application!$A$9=\"Yes\",IFERROR(MATCH(C1080,Application!$K$11:$K$297,0)>0,\"\")),AND(Application!$A$9=\"No\",C1080=Application!$A$13)),F1080,\"\"),\"\")","v":""},"USD 311 - K Time Program W/O SPED","Early Childhood Program - General",null,null,null,null,null,null,null,null,null,null,null,null,null,null,null,null,null,"N/A",null,null,"N/A","N/A"]
[1095,"$B$4",311,"Pretty Prairie","Reno",3218,{"$f":"IFERROR(IF(OR(AND(Application!$A$9=\"Yes\",IFERROR(MATCH(C1081,Application!$K$11:$K$297,0)>0,\"\")),AND(Application!$A$9=\"No\",C1081=Application!$A$13)),F1081,\"\"),\"\")","v":""},"Pretty Prairie Elem","Elementary",null,null,null,null,null,null,null,null,null,null,null,null,null,null,null,null,null,129,null,null,53,0.41089999999999999]
[1096,"$B$4",311,"Pretty Prairie","Reno",3220,{"$f":"IFERROR(IF(OR(AND(Application!$A$9=\"Yes\",IFERROR(MATCH(C1082,Application!$K$11:$K$297,0)>0,\"\")),AND(Application!$A$9=\"No\",C1082=Application!$A$13)),F1082,\"\"),\"\")","v":""},"Pretty Prairie High","High School",null,null,null,null,null,null,null,null,null,null,null,null,null,null,null,null,null,83,null,null,21,0.253]
[1097,"$B$4",311,"Pretty Prairie","Reno",3222,{"$f":"IFERROR(IF(OR(AND(Application!$A$9=\"Yes\",IFERROR(MATCH(C1083,Application!$K$11:$K$297,0)>0,\"\")),AND(Application!$A$9=\"No\",C1083=Application!$A$13)),F1083,\"\"),\"\")","v":""},"Pretty Prairie Middle","Middle School",null,null,null,null,null,null,null,null,null,null,null,null,null,null,null,null,null,92,null,null,35,0.38040000000000002]
[1098,"$B$4",312,"Haven Public Schools","Reno",3232,{"$f":"IFERROR(IF(OR(AND(Application!$A$9=\"Yes\",IFERROR(MATCH(C1084,Application!$K$11:$K$297,0)>0,\"\")),AND(Application!$A$9=\"No\",C1084=Application!$A$13)),F1084,\"\"),\"\")","v":""},"Haven Elem","Elementary",null,null,null,null,null,null,null,null,null,null,null,null,null,null,null,null,null,377,null,null,162,0.42970000000000003]
[1099,"$B$4",312,"Haven Public Schools","Reno",3233,{"$f":"IFERROR(IF(OR(AND(Application!$A$9=\"Yes\",IFERROR(MATCH(C1085,Application!$K$11:$K$297,0)>0,\"\")),AND(Application!$A$9=\"No\",C1085=Application!$A$13)),F1085,\"\"),\"\")","v":""},"Haven Middle School","Middle School",null,null,null,null,null,null,null,null,null,null,null,null,null,null,null,null,null,91,null,null,35,0.3846]
[1100,"$B$4",312,"Haven Public Schools","Reno",3234,{"$f":"IFERROR(IF(OR(AND(Application!$A$9=\"Yes\",IFERROR(MATCH(C1086,Application!$K$11:$K$297,0)>0,\"\")),AND(Application!$A$9=\"No\",C1086=Application!$A$13)),F1086,\"\"),\"\")","v":""},"Haven High","High School",null,null,null,null,null,null,null,null,null,null,null,null,null,null,null,null,null,234,null,null,78,0.33329999999999999]
[1101,"$B$4",312,"Haven Public Schools","Reno",3235,{"$f":"IFERROR(IF(OR(AND(Application!$A$9=\"Yes\",IFERROR(MATCH(C1087,Application!$K$11:$K$297,0)>0,\"\")),AND(Application!$A$9=\"No\",C1087=Application!$A$13)),F1087,\"\"),\"\")","v":""},"USD 312 - Off Site Non Public Buildings","Special Ed Program - Off Site Community Based",null,null,null,null,null,null,null,null,null,null,null,null,null,null,null,null,null,"N/A",null,null,"N/A","N/A"]
[1102,"$B$4",312,"Haven Public Schools","Reno",3237,{"$f":"IFERROR(IF(OR(AND(Application!$A$9=\"Yes\",IFERROR(MATCH(C1088,Application!$K$11:$K$297,0)>0,\"\")),AND(Application!$A$9=\"No\",C1088=Application!$A$13)),F1088,\"\"),\"\")","v":""},"USD 312 - Home","Special Ed Program - Home",null,null,null,null,null,null,null,null,null,null,null,null,null,null,null,null,null,"N/A",null,null,"N/A","N/A"]
[1103,"$B$4",312,"Haven Public Schools","Reno",3238,{"$f":"IFERROR(IF(OR(AND(Application!$A$9=\"Yes\",IFERROR(MATCH(C1089,Application!$K$11:$K$297,0)>0,\"\")),AND(Application!$A$9=\"No\",C1089=Application!$A$13)),F1089,\"\"),\"\")","v":""},"Yoder Charter Elem School","Elementary",null,null,null,null,null,null,null,null,null,null,null,null,null,null,null,null,null,52,null,null,30,0.57689999999999997]
[1104,"$B$4",312,"Haven Public Schools","Reno",3245,{"$f":"IFERROR(IF(OR(AND(Application!$A$9=\"Yes\",IFERROR(MATCH(C1090,Application!$K$11:$K$297,0)>0,\"\")),AND(Application!$A$9=\"No\",C1090=Application!$A$13)),F1090,\"\"),\"\")","v":""},"USD 312 - Community-Based Preschool","Special Ed Program - Community Based Preschool",null,null,null,null,null,null,null,null,null,null,null,null,null,null,null,null,null,"N/A",null,null,"N/A","N/A"]
[1105,"$B$4",312,"Haven Public Schools","Reno",3247,{"$f":"IFERROR(IF(OR(AND(Application!$A$9=\"Yes\",IFERROR(MATCH(C1091,Application!$K$11:$K$297,0)>0,\"\")),AND(Application!$A$9=\"No\",C1091=Application!$A$13)),F1091,\"\"),\"\")","v":""},"USD 312 - Public Off Campus","Special Ed Program - Public School Administered",null,null,null,null,null,null,null,null,null,null,null,null,null,null,null,null,null,"N/A",null,null,"N/A","N/A"]
[1106,"$B$4",312,"Haven Public Schools","Reno",3249,{"$f":"IFERROR(IF(OR(AND(Application!$A$9=\"Yes\",IFERROR(MATCH(C1092,Application!$K$11:$K$297,0)>0,\"\")),AND(Application!$A$9=\"No\",C1092=Application!$A$13)),F1092,\"\"),\"\")","v":""},"USD 312 - K Time Program W/O SPED","Early Childhood Program - General",null,null,null,null,null,null,null,null,null,null,null,null,null,null,null,null,null,"N/A",null,null,"N/A","N/A"]
[1108,"$B$4",313,"Buhler","Reno",3250,{"$f":"IFERROR(IF(OR(AND(Application!$A$9=\"Yes\",IFERROR(MATCH(C1093,Application!$K$11:$K$297,0)>0,\"\")),AND(Application!$A$9=\"No\",C1093=Application!$A$13)),F1093,\"\"),\"\")","v":""},"Buhler Dist Reno Co","Central Office",null,null,null,null,null,null,null,null,null,null,null,null,null,null,null,null,null,"N/A",null,null,"N/A","N/A"]
[1109,"$B$4",313,"Buhler","Reno",3251,{"$f":"IFERROR(IF(OR(AND(Application!$A$9=\"Yes\",IFERROR(MATCH(C1094,Application!$K$11:$K$297,0)>0,\"\")),AND(Application!$A$9=\"No\",C1094=Application!$A$13)),F1094,\"\"),\"\")","v":""},"USD 313 - Off Site Non Public Buildings","Special Ed Program - Off Site Community Based",null,null,null,null,null,null,null,null,null,null,null,null,null,null,null,null,null,"N/A",null,null,"N/A","N/A"]
[1110,"$B$4",313,"Buhler","Reno",3252,{"$f":"IFERROR(IF(OR(AND(Application!$A$9=\"Yes\",IFERROR(MATCH(C1095,Application!$K$11:$K$297,0)>0,\"\")),AND(Application!$A$9=\"No\",C1095=Application!$A$13)),F1095,\"\"),\"\")","v":""},"Buhler Grade School","Elementary",null,null,null,null,null,null,null,null,null,null,null,null,null,null,null,null,null,235,null,null,88,0.3745]
[1111,"$B$4",313,"Buhler","Reno",3253,{"$f":"IFERROR(IF(OR(AND(Application!$A$9=\"Yes\",IFERROR(MATCH(C1096,Application!$K$11:$K$297,0)>0,\"\")),AND(Application!$A$9=\"No\",C1096=Application!$A$13)),F1096,\"\"),\"\")","v":""},"USD 313 - Home","Special Ed Program - Home",null,null,null,null,null,null,null,null,null,null,null,null,null,null,null,null,null,"N/A",null,null,"N/A","N/A"]
[1112,"$B$4",313,"Buhler","Reno",3254,{"$f":"IFERROR(IF(OR(AND(Application!$A$9=\"Yes\",IFERROR(MATCH(C1097,Application!$K$11:$K$297,0)>0,\"\")),AND(Application!$A$9=\"No\",C1097=Application!$A$13)),F1097,\"\"),\"\")","v":""},"Buhler High","High School",null,null,null,null,null,null,null,null,null,null,null,null,null,null,null,null,null,660,null,null,133,0.20150000000000001]
[1113,"$B$4",313,"Buhler","Reno",3255,{"$f":"IFERROR(IF(OR(AND(Application!$A$9=\"Yes\",IFERROR(MATCH(C1098,Application!$K$11:$K$297,0)>0,\"\")),AND(Application!$A$9=\"No\",C1098=Application!$A$13)),F1098,\"\"),\"\")","v":""},"USD 313 - Community-Based Preschool","Special Ed Program - Community Based Preschool",null,null,null,null,null,null,null,null,null,null,null,null,null,null,null,null,null,"N/A",null,null,"N/A","N/A"]
[1114,"$B$4",313,"Buhler","Reno",3257,{"$f":"IFERROR(IF(OR(AND(Application!$A$9=\"Yes\",IFERROR(MATCH(C1099,Application!$K$11:$K$297,0)>0,\"\")),AND(Application!$A$9=\"No\",C1099=Application!$A$13)),F1099,\"\"),\"\")","v":""},"USD 313 - K Time Program W/O SPED","Early Childhood Program - General",null,null,null,null,null,null,null,null,null,null,null,null,null,null,null,null,null,"N/A",null,null,"N/A","N/A"]
[1115,"$B$4",313,"Buhler","Reno",3261,{"$f":"IFERROR(IF(OR(AND(Application!$A$9=\"Yes\",IFERROR(MATCH(C1100,Application!$K$11:$K$297,0)>0,\"\")),AND(Application!$A$9=\"No\",C1100=Application!$A$13)),F1100,\"\"),\"\")","v":""},"Plum Creek Elementary","Elementary",null,null,null,null,null,null,null,null,null,null,null,null,null,null,null,null,null,414,null,null,114,0.27539999999999998]
[1116,"$B$4",313,"Buhler","Reno",3262,{"$f":"IFERROR(IF(OR(AND(Application!$A$9=\"Yes\",IFERROR(MATCH(C1101,Application!$K$11:$K$297,0)>0,\"\")),AND(Application!$A$9=\"No\",C1101=Application!$A$13)),F1101,\"\"),\"\")","v":""},"Prairie Hills Middle","Middle School",null,null,null,null,null,null,null,null,null,null,null,null,null,null,null,null,null,551,null,null,156,0.28310000000000002]
[1107,"$B$4",312,"Haven Public Schools","Reno",3263,{"$f":"IFERROR(IF(OR(AND(Application!$A$9=\"Yes\",IFERROR(MATCH(C1102,Application!$K$11:$K$297,0)>0,\"\")),AND(Application!$A$9=\"No\",C1102=Application!$A$13)),F1102,\"\"),\"\")","v":""},"Haven Virtual Academy","Other",null,null,null,null,null,null,null,null,null,null,null,null,null,null,null,null,null,29,null,null,4,0.13789999999999999]
[1122,"$B$4",313,"Buhler","Reno",3264,{"$f":"IFERROR(IF(OR(AND(Application!$A$9=\"Yes\",IFERROR(MATCH(C1103,Application!$K$11:$K$297,0)>0,\"\")),AND(Application!$A$9=\"No\",C1103=Application!$A$13)),F1103,\"\"),\"\")","v":""},"Union Valley Elem","Elementary",null,null,null,null,null,null,null,null,null,null,null,null,null,null,null,null,null,411,null,null,140,0.34060000000000001]
[1123,"$B$4",313,"Buhler","Reno",3265,{"$f":"IFERROR(IF(OR(AND(Application!$A$9=\"Yes\",IFERROR(MATCH(C1104,Application!$K$11:$K$297,0)>0,\"\")),AND(Application!$A$9=\"No\",C1104=Application!$A$13)),F1104,\"\"),\"\")","v":""},"Ad Astra Virtual Academy","Other",null,null,null,null,null,null,null,null,null,null,null,null,null,null,null,null,null,165,null,null,6,3.6400000000000002E-2]
[1128,"$B$4",313,"Buhler","Reno",3266,{"$f":"IFERROR(IF(OR(AND(Application!$A$9=\"Yes\",IFERROR(MATCH(C1105,Application!$K$11:$K$297,0)>0,\"\")),AND(Application!$A$9=\"No\",C1105=Application!$A$13)),F1105,\"\"),\"\")","v":""},"Ad Astra Alternative Academy","High School",null,null,null,null,null,null,null,null,null,null,null,null,null,null,null,null,null,4,null,null,0,0]
[1129,"$B$4",314,"Brewster","Thomas",3275,{"$f":"IFERROR(IF(OR(AND(Application!$A$9=\"Yes\",IFERROR(MATCH(C1106,Application!$K$11:$K$297,0)>0,\"\")),AND(Application!$A$9=\"No\",C1106=Application!$A$13)),F1106,\"\"),\"\")","v":""},"USD 314 - Off Site Non Public Buildings","Special Ed Program - Off Site Community Based",null,null,null,null,null,null,null,null,null,null,null,null,null,null,null,null,null,"N/A",null,null,"N/A","N/A"]
[1130,"$B$4",314,"Brewster","Thomas",3276,{"$f":"IFERROR(IF(OR(AND(Application!$A$9=\"Yes\",IFERROR(MATCH(C1107,Application!$K$11:$K$297,0)>0,\"\")),AND(Application!$A$9=\"No\",C1107=Application!$A$13)),F1107,\"\"),\"\")","v":""},"Brewster Elem","Elementary",null,null,null,null,null,null,null,null,null,null,null,null,null,null,null,null,null,82,null,null,30,0.3659]
[1131,"$B$4",314,"Brewster","Thomas",3277,{"$f":"IFERROR(IF(OR(AND(Application!$A$9=\"Yes\",IFERROR(MATCH(C1108,Application!$K$11:$K$297,0)>0,\"\")),AND(Application!$A$9=\"No\",C1108=Application!$A$13)),F1108,\"\"),\"\")","v":""},"USD 314 - Home","Special Ed Program - Home",null,null,null,null,null,null,null,null,null,null,null,null,null,null,null,null,null,"N/A",null,null,"N/A","N/A"]
[1132,"$B$4",314,"Brewster","Thomas",3278,{"$f":"IFERROR(IF(OR(AND(Application!$A$9=\"Yes\",IFERROR(MATCH(C1109,Application!$K$11:$K$297,0)>0,\"\")),AND(Application!$A$9=\"No\",C1109=Application!$A$13)),F1109,\"\"),\"\")","v":""},"Brewster High","High School",null,null,null,null,null,null,null,null,null,null,null,null,null,null,null,null,null,37,null,null,16,0.43240000000000001]
[1133,"$B$4",314,"Brewster","Thomas",3279,{"$f":"IFERROR(IF(OR(AND(Application!$A$9=\"Yes\",IFERROR(MATCH(C1110,Application!$K$11:$K$297,0)>0,\"\")),AND(Application!$A$9=\"No\",C1110=Application!$A$13)),F1110,\"\"),\"\")","v":""},"USD 314 - Community-Based Preschool","Special Ed Program - Community Based Preschool",null,null,null,null,null,null,null,null,null,null,null,null,null,null,null,null,null,"N/A",null,null,"N/A","N/A"]
[1134,"$B$4",314,"Brewster","Thomas",3280,{"$f":"IFERROR(IF(OR(AND(Application!$A$9=\"Yes\",IFERROR(MATCH(C1111,Application!$K$11:$K$297,0)>0,\"\")),AND(Application!$A$9=\"No\",C1111=Application!$A$13)),F1111,\"\"),\"\")","v":""},"USD 314 - K Time Program W/O SPED","Early Childhood Program - General",null,null,null,null,null,null,null,null,null,null,null,null,null,null,null,null,null,"N/A",null,null,"N/A","N/A"]
[1135,"$B$4",315,"Colby Public Schools","Thomas",3289,{"$f":"IFERROR(IF(OR(AND(Application!$A$9=\"Yes\",IFERROR(MATCH(C1112,Application!$K$11:$K$297,0)>0,\"\")),AND(Application!$A$9=\"No\",C1112=Application!$A$13)),F1112,\"\"),\"\")","v":""},"USD 315 - Off Site Non Public Buildings","Special Ed Program - Off Site Community Based",null,null,null,null,null,null,null,null,null,null,null,null,null,null,null,null,null,"N/A",null,null,"N/A","N/A"]
[1136,"$B$4",315,"Colby Public Schools","Thomas",3290,{"$f":"IFERROR(IF(OR(AND(Application!$A$9=\"Yes\",IFERROR(MATCH(C1113,Application!$K$11:$K$297,0)>0,\"\")),AND(Application!$A$9=\"No\",C1113=Application!$A$13)),F1113,\"\"),\"\")","v":""},"Colby Elem","Elementary",null,null,null,null,null,null,null,null,null,null,null,null,null,null,null,null,null,409,null,null,157,0.38390000000000002]
[1137,"$B$4",315,"Colby Public Schools","Thomas",3291,{"$f":"IFERROR(IF(OR(AND(Application!$A$9=\"Yes\",IFERROR(MATCH(C1114,Application!$K$11:$K$297,0)>0,\"\")),AND(Application!$A$9=\"No\",C1114=Application!$A$13)),F1114,\"\"),\"\")","v":""},"USD 315 - Public Off-Site Preschools","Special Ed Program - Off Site Preschool",null,null,null,null,null,null,null,null,null,null,null,null,null,null,null,null,null,"N/A",null,null,"N/A","N/A"]
[1138,"$B$4",315,"Colby Public Schools","Thomas",3292,{"$f":"IFERROR(IF(OR(AND(Application!$A$9=\"Yes\",IFERROR(MATCH(C1115,Application!$K$11:$K$297,0)>0,\"\")),AND(Application!$A$9=\"No\",C1115=Application!$A$13)),F1115,\"\"),\"\")","v":""},"Colby Middle School","Middle School",null,null,null,null,null,null,null,null,null,null,null,null,null,null,null,null,null,271,null,null,82,0.30259999999999998]
[1139,"$B$4",315,"Colby Public Schools","Thomas",3293,{"$f":"IFERROR(IF(OR(AND(Application!$A$9=\"Yes\",IFERROR(MATCH(C1116,Application!$K$11:$K$297,0)>0,\"\")),AND(Application!$A$9=\"No\",C1116=Application!$A$13)),F1116,\"\"),\"\")","v":""},"USD 315 - Home","Special Ed Program - Home",null,null,null,null,null,null,null,null,null,null,null,null,null,null,null,null,null,"N/A",null,null,"N/A","N/A"]
[1140,"$B$4",315,"Colby Public Schools","Thomas",3294,{"$f":"IFERROR(IF(OR(AND(Application!$A$9=\"Yes\",IFERROR(MATCH(C1117,Application!$K$11:$K$297,0)>0,\"\")),AND(Application!$A$9=\"No\",C1117=Application!$A$13)),F1117,\"\"),\"\")","v":""},"Colby Senior High","High School",null,null,null,null,null,null,null,null,null,null,null,null,null,null,null,null,null,284,null,null,69,0.24299999999999999]
[1141,"$B$4",315,"Colby Public Schools","Thomas",3297,{"$f":"IFERROR(IF(OR(AND(Application!$A$9=\"Yes\",IFERROR(MATCH(C1118,Application!$K$11:$K$297,0)>0,\"\")),AND(Application!$A$9=\"No\",C1118=Application!$A$13)),F1118,\"\"),\"\")","v":""},"USD 315 - Community-Based Preschool","Special Ed Program - Community Based Preschool",null,null,null,null,null,null,null,null,null,null,null,null,null,null,null,null,null,"N/A",null,null,"N/A","N/A"]
[1142,"$B$4",315,"Colby Public Schools","Thomas",3298,{"$f":"IFERROR(IF(OR(AND(Application!$A$9=\"Yes\",IFERROR(MATCH(C1119,Application!$K$11:$K$297,0)>0,\"\")),AND(Application!$A$9=\"No\",C1119=Application!$A$13)),F1119,\"\"),\"\")","v":""},"USD 315 - K Time Program W/O SPED","Early Childhood Program - General",null,null,null,null,null,null,null,null,null,null,null,null,null,null,null,null,null,"N/A",null,null,"N/A","N/A"]
[1143,"$B$4",316,"Golden Plains","Thomas",3313,{"$f":"IFERROR(IF(OR(AND(Application!$A$9=\"Yes\",IFERROR(MATCH(C1120,Application!$K$11:$K$297,0)>0,\"\")),AND(Application!$A$9=\"No\",C1120=Application!$A$13)),F1120,\"\"),\"\")","v":""},"USD 316 - Off Site Non Public Buildings","Special Ed Program - Off Site Community Based",null,null,null,null,null,null,null,null,null,null,null,null,null,null,null,null,null,"N/A",null,null,"N/A","N/A"]
[1144,"$B$4",316,"Golden Plains","Thomas",3314,{"$f":"IFERROR(IF(OR(AND(Application!$A$9=\"Yes\",IFERROR(MATCH(C1121,Application!$K$11:$K$297,0)>0,\"\")),AND(Application!$A$9=\"No\",C1121=Application!$A$13)),F1121,\"\"),\"\")","v":""},"Golden Plains Middle","Middle School",null,null,null,null,null,null,null,null,null,null,null,null,null,null,null,null,null,41,null,null,22,0.53659999999999997]
[1145,"$B$4",316,"Golden Plains","Thomas",3315,{"$f":"IFERROR(IF(OR(AND(Application!$A$9=\"Yes\",IFERROR(MATCH(C1122,Application!$K$11:$K$297,0)>0,\"\")),AND(Application!$A$9=\"No\",C1122=Application!$A$13)),F1122,\"\"),\"\")","v":""},"USD 316 - Home","Special Ed Program - Home",null,null,null,null,null,null,null,null,null,null,null,null,null,null,null,null,null,"N/A",null,null,"N/A","N/A"]
[1146,"$B$4",316,"Golden Plains","Thomas",3316,{"$f":"IFERROR(IF(OR(AND(Application!$A$9=\"Yes\",IFERROR(MATCH(C1123,Application!$K$11:$K$297,0)>0,\"\")),AND(Application!$A$9=\"No\",C1123=Application!$A$13)),F1123,\"\"),\"\")","v":""},"Golden Plains High","High School",null,null,null,null,null,null,null,null,null,null,null,null,null,null,null,null,null,46,null,null,33,0.71740000000000004]
[1147,"$B$4",316,"Golden Plains","Thomas",3317,{"$f":"IFERROR(IF(OR(AND(Application!$A$9=\"Yes\",IFERROR(MATCH(C1124,Application!$K$11:$K$297,0)>0,\"\")),AND(Application!$A$9=\"No\",C1124=Application!$A$13)),F1124,\"\"),\"\")","v":""},"USD 316 - Community-Based Preschool","Special Ed Program - Community Based Preschool",null,null,null,null,null,null,null,null,null,null,null,null,null,null,null,null,null,"N/A",null,null,"N/A","N/A"]
[1148,"$B$4",316,"Golden Plains","Thomas",3318,{"$f":"IFERROR(IF(OR(AND(Application!$A$9=\"Yes\",IFERROR(MATCH(C1125,Application!$K$11:$K$297,0)>0,\"\")),AND(Application!$A$9=\"No\",C1125=Application!$A$13)),F1125,\"\"),\"\")","v":""},"Golden Plains Elem","Elementary",null,null,null,null,null,null,null,null,null,null,null,null,null,null,null,null,null,69,null,null,35,0.50719999999999998]
[1149,"$B$4",316,"Golden Plains","Thomas",3319,{"$f":"IFERROR(IF(OR(AND(Application!$A$9=\"Yes\",IFERROR(MATCH(C1126,Application!$K$11:$K$297,0)>0,\"\")),AND(Application!$A$9=\"No\",C1126=Application!$A$13)),F1126,\"\"),\"\")","v":""},"USD 316 - K Time Program W/O SPED","Early Childhood Program - General",null,null,null,null,null,null,null,null,null,null,null,null,null,null,null,null,null,"N/A",null,null,"N/A","N/A"]
[19,"$B$4",105,"Rawlins County","Rawlins",3329,{"$f":"IFERROR(IF(OR(AND(Application!$A$9=\"Yes\",IFERROR(MATCH(C1127,Application!$K$11:$K$297,0)>0,\"\")),AND(Application!$A$9=\"No\",C1127=Application!$A$13)),F1127,\"\"),\"\")","v":""},"USD 105 - Off Site Non Public Buildings","Special Ed Program - Off Site Community Based",null,null,null,null,null,null,null,null,null,null,null,null,null,null,null,null,null,"N/A",null,null,"N/A","N/A"]
[20,"$B$4",105,"Rawlins County","Rawlins",3331,{"$f":"IFERROR(IF(OR(AND(Application!$A$9=\"Yes\",IFERROR(MATCH(C1128,Application!$K$11:$K$297,0)>0,\"\")),AND(Application!$A$9=\"No\",C1128=Application!$A$13)),F1128,\"\"),\"\")","v":""},"USD 105 - Home","Special Ed Program - Home",null,null,null,null,null,null,null,null,null,null,null,null,null,null,null,null,null,"N/A",null,null,"N/A","N/A"]
[21,"$B$4",105,"Rawlins County","Rawlins",3332,{"$f":"IFERROR(IF(OR(AND(Application!$A$9=\"Yes\",IFERROR(MATCH(C1129,Application!$K$11:$K$297,0)>0,\"\")),AND(Application!$A$9=\"No\",C1129=Application!$A$13)),F1129,\"\"),\"\")","v":""},"USD 105 - Community-Based Preschool","Special Ed Program - Community Based Preschool",null,null,null,null,null,null,null,null,null,null,null,null,null,null,null,null,null,"N/A",null,null,"N/A","N/A"]
[22,"$B$4",105,"Rawlins County","Rawlins",3333,{"$f":"IFERROR(IF(OR(AND(Application!$A$9=\"Yes\",IFERROR(MATCH(C1130,Application!$K$11:$K$297,0)>0,\"\")),AND(Application!$A$9=\"No\",C1130=Application!$A$13)),F1130,\"\"),\"\")","v":""},"USD 105 - Public Off Campus","Special Ed Program - Public School Administered",null,null,null,null,null,null,null,null,null,null,null,null,null,null,null,null,null,"N/A",null,null,"N/A","N/A"]
[23,"$B$4",105,"Rawlins County","Rawlins",3334,{"$f":"IFERROR(IF(OR(AND(Application!$A$9=\"Yes\",IFERROR(MATCH(C1131,Application!$K$11:$K$297,0)>0,\"\")),AND(Application!$A$9=\"No\",C1131=Application!$A$13)),F1131,\"\"),\"\")","v":""},"USD 105 - K Time Program W/O SPED","Early Childhood Program - General",null,null,null,null,null,null,null,null,null,null,null,null,null,null,null,null,null,"N/A",null,null,"N/A","N/A"]
[51,"$B$4",105,"Rawlins County","Rawlins",3348,{"$f":"IFERROR(IF(OR(AND(Application!$A$9=\"Yes\",IFERROR(MATCH(C1132,Application!$K$11:$K$297,0)>0,\"\")),AND(Application!$A$9=\"No\",C1132=Application!$A$13)),F1132,\"\"),\"\")","v":""},"Rawlins County Elementary","Elementary",null,null,null,null,null,null,null,null,null,null,null,null,null,null,null,null,null,199,null,null,88,0.44219999999999998]
[61,"$B$4",105,"Rawlins County","Rawlins",3350,{"$f":"IFERROR(IF(OR(AND(Application!$A$9=\"Yes\",IFERROR(MATCH(C1133,Application!$K$11:$K$297,0)>0,\"\")),AND(Application!$A$9=\"No\",C1133=Application!$A$13)),F1133,\"\"),\"\")","v":""},"Rawlins County Jr/Sr High School","High School",null,null,null,null,null,null,null,null,null,null,null,null,null,null,null,null,null,176,null,null,64,0.36359999999999998]
[534,"$B$4",103,"Cheylin","Cheyenne",3374,{"$f":"IFERROR(IF(OR(AND(Application!$A$9=\"Yes\",IFERROR(MATCH(C1134,Application!$K$11:$K$297,0)>0,\"\")),AND(Application!$A$9=\"No\",C1134=Application!$A$13)),F1134,\"\"),\"\")","v":""},"Cheylin Elementary","Elementary",null,null,null,null,null,null,null,null,null,null,null,null,null,null,null,null,null,79,null,null,39,0.49370000000000003]
[1150,"$B$4",320,"Wamego","Pottawatomie",3387,{"$f":"IFERROR(IF(OR(AND(Application!$A$9=\"Yes\",IFERROR(MATCH(C1135,Application!$K$11:$K$297,0)>0,\"\")),AND(Application!$A$9=\"No\",C1135=Application!$A$13)),F1135,\"\"),\"\")","v":""},"USD 320 - Off Site Non Public Buildings","Special Ed Program - Off Site Community Based",null,null,null,null,null,null,null,null,null,null,null,null,null,null,null,null,null,"N/A",null,null,"N/A","N/A"]
[1151,"$B$4",320,"Wamego","Pottawatomie",3388,{"$f":"IFERROR(IF(OR(AND(Application!$A$9=\"Yes\",IFERROR(MATCH(C1136,Application!$K$11:$K$297,0)>0,\"\")),AND(Application!$A$9=\"No\",C1136=Application!$A$13)),F1136,\"\"),\"\")","v":""},"Wamego Middle School","Middle School",null,null,null,null,null,null,null,null,null,null,null,null,null,null,null,null,null,360,null,null,78,0.2167]
[1152,"$B$4",320,"Wamego","Pottawatomie",3389,{"$f":"IFERROR(IF(OR(AND(Application!$A$9=\"Yes\",IFERROR(MATCH(C1137,Application!$K$11:$K$297,0)>0,\"\")),AND(Application!$A$9=\"No\",C1137=Application!$A$13)),F1137,\"\"),\"\")","v":""},"USD 320 - Home","Special Ed Program - Home",null,null,null,null,null,null,null,null,null,null,null,null,null,null,null,null,null,"N/A",null,null,"N/A","N/A"]
[1153,"$B$4",320,"Wamego","Pottawatomie",3391,{"$f":"IFERROR(IF(OR(AND(Application!$A$9=\"Yes\",IFERROR(MATCH(C1138,Application!$K$11:$K$297,0)>0,\"\")),AND(Application!$A$9=\"No\",C1138=Application!$A$13)),F1138,\"\"),\"\")","v":""},"USD 320 - Community-Based Preschool","Special Ed Program - Community Based Preschool",null,null,null,null,null,null,null,null,null,null,null,null,null,null,null,null,null,"N/A",null,null,"N/A","N/A"]
[1154,"$B$4",320,"Wamego","Pottawatomie",3392,{"$f":"IFERROR(IF(OR(AND(Application!$A$9=\"Yes\",IFERROR(MATCH(C1139,Application!$K$11:$K$297,0)>0,\"\")),AND(Application!$A$9=\"No\",C1139=Application!$A$13)),F1139,\"\"),\"\")","v":""},"USD 320 - K Time Program W/O SPED","Early Childhood Program - General",null,null,null,null,null,null,null,null,null,null,null,null,null,null,null,null,null,"N/A",null,null,"N/A","N/A"]
[1155,"$B$4",320,"Wamego","Pottawatomie",3393,{"$f":"IFERROR(IF(OR(AND(Application!$A$9=\"Yes\",IFERROR(MATCH(C1140,Application!$K$11:$K$297,0)>0,\"\")),AND(Application!$A$9=\"No\",C1140=Application!$A$13)),F1140,\"\"),\"\")","v":""},"Wamego Head Start","Special Ed Program - Community Based Preschool",null,null,null,null,null,null,null,null,null,null,null,null,null,null,null,null,null,"N/A",null,null,"N/A","N/A"]
[1156,"$B$4",320,"Wamego","Pottawatomie",3394,{"$f":"IFERROR(IF(OR(AND(Application!$A$9=\"Yes\",IFERROR(MATCH(C1141,Application!$K$11:$K$297,0)>0,\"\")),AND(Application!$A$9=\"No\",C1141=Application!$A$13)),F1141,\"\"),\"\")","v":""},"Wamego High School Virtual School","High School",null,null,null,null,null,null,null,null,null,null,null,null,null,null,null,null,null,11,null,null,0,0]
[1157,"$B$4",320,"Wamego","Pottawatomie",3396,{"$f":"IFERROR(IF(OR(AND(Application!$A$9=\"Yes\",IFERROR(MATCH(C1142,Application!$K$11:$K$297,0)>0,\"\")),AND(Application!$A$9=\"No\",C1142=Application!$A$13)),F1142,\"\"),\"\")","v":""},"Central Elem","Elementary",null,null,null,null,null,null,null,null,null,null,null,null,null,null,null,null,null,381,null,null,110,0.28870000000000001]
[1158,"$B$4",320,"Wamego","Pottawatomie",3398,{"$f":"IFERROR(IF(OR(AND(Application!$A$9=\"Yes\",IFERROR(MATCH(C1143,Application!$K$11:$K$297,0)>0,\"\")),AND(Application!$A$9=\"No\",C1143=Application!$A$13)),F1143,\"\"),\"\")","v":""},"Wamego High","High School",null,null,null,null,null,null,null,null,null,null,null,null,null,null,null,null,null,507,null,null,108,0.21299999999999999]
[1159,"$B$4",320,"Wamego","Pottawatomie",3399,{"$f":"IFERROR(IF(OR(AND(Application!$A$9=\"Yes\",IFERROR(MATCH(C1144,Application!$K$11:$K$297,0)>0,\"\")),AND(Application!$A$9=\"No\",C1144=Application!$A$13)),F1144,\"\"),\"\")","v":""},"West Elem","Elementary",null,null,null,null,null,null,null,null,null,null,null,null,null,null,null,null,null,356,null,null,87,0.24440000000000001]
[1160,"$B$4",321,"Kaw Valley","Pottawatomie",3415,{"$f":"IFERROR(IF(OR(AND(Application!$A$9=\"Yes\",IFERROR(MATCH(C1145,Application!$K$11:$K$297,0)>0,\"\")),AND(Application!$A$9=\"No\",C1145=Application!$A$13)),F1145,\"\"),\"\")","v":""},"USD 321 - Off Site Non Public Buildings","Special Ed Program - Off Site Community Based",null,null,null,null,null,null,null,null,null,null,null,null,null,null,null,null,null,"N/A",null,null,"N/A","N/A"]
[1161,"$B$4",321,"Kaw Valley","Pottawatomie",3417,{"$f":"IFERROR(IF(OR(AND(Application!$A$9=\"Yes\",IFERROR(MATCH(C1146,Application!$K$11:$K$297,0)>0,\"\")),AND(Application!$A$9=\"No\",C1146=Application!$A$13)),F1146,\"\"),\"\")","v":""},"USD 321 - Home","Special Ed Program - Home",null,null,null,null,null,null,null,null,null,null,null,null,null,null,null,null,null,"N/A",null,null,"N/A","N/A"]
[1162,"$B$4",321,"Kaw Valley","Pottawatomie",3421,{"$f":"IFERROR(IF(OR(AND(Application!$A$9=\"Yes\",IFERROR(MATCH(C1147,Application!$K$11:$K$297,0)>0,\"\")),AND(Application!$A$9=\"No\",C1147=Application!$A$13)),F1147,\"\"),\"\")","v":""},"USD 321 - K Time Program W/O SPED","Early Childhood Program - General",null,null,null,null,null,null,null,null,null,null,null,null,null,null,null,null,null,"N/A",null,null,"N/A","N/A"]
[1163,"$B$4",321,"Kaw Valley","Shawnee",3426,{"$f":"IFERROR(IF(OR(AND(Application!$A$9=\"Yes\",IFERROR(MATCH(C1148,Application!$K$11:$K$297,0)>0,\"\")),AND(Application!$A$9=\"No\",C1148=Application!$A$13)),F1148,\"\"),\"\")","v":""},"Rossville Elem","Elementary",null,null,null,null,null,null,null,null,null,null,null,null,null,null,null,null,null,309,null,null,93,0.30099999999999999]
[1164,"$B$4",321,"Kaw Valley","Shawnee",3428,{"$f":"IFERROR(IF(OR(AND(Application!$A$9=\"Yes\",IFERROR(MATCH(C1149,Application!$K$11:$K$297,0)>0,\"\")),AND(Application!$A$9=\"No\",C1149=Application!$A$13)),F1149,\"\"),\"\")","v":""},"Rossville Jr.-Sr. High School","High School",null,null,null,null,null,null,null,null,null,null,null,null,null,null,null,null,null,270,null,null,76,0.28149999999999997]
[1165,"$B$4",321,"Kaw Valley","Pottawatomie",3430,{"$f":"IFERROR(IF(OR(AND(Application!$A$9=\"Yes\",IFERROR(MATCH(C1150,Application!$K$11:$K$297,0)>0,\"\")),AND(Application!$A$9=\"No\",C1150=Application!$A$13)),F1150,\"\"),\"\")","v":""},"St Marys Elem","Elementary",null,null,null,null,null,null,null,null,null,null,null,null,null,null,null,null,null,241,null,null,87,0.36099999999999999]
[1166,"$B$4",321,"Kaw Valley","Pottawatomie",3432,{"$f":"IFERROR(IF(OR(AND(Application!$A$9=\"Yes\",IFERROR(MATCH(C1151,Application!$K$11:$K$297,0)>0,\"\")),AND(Application!$A$9=\"No\",C1151=Application!$A$13)),F1151,\"\"),\"\")","v":""},"St. Marys Junior Senior High","High School",null,null,null,null,null,null,null,null,null,null,null,null,null,null,null,null,null,248,null,null,82,0.3306]
[1167,"$B$4",321,"Kaw Valley","Pottawatomie",3436,{"$f":"IFERROR(IF(OR(AND(Application!$A$9=\"Yes\",IFERROR(MATCH(C1152,Application!$K$11:$K$297,0)>0,\"\")),AND(Application!$A$9=\"No\",C1152=Application!$A$13)),F1152,\"\"),\"\")","v":""},"Special Services","Special School",null,null,null,null,null,null,null,null,null,null,null,null,null,null,null,null,null,"N/A",null,null,"N/A","N/A"]
[1168,"$B$4",322,"Onaga-Havensville-Wheaton","Jackson",3449,{"$f":"IFERROR(IF(OR(AND(Application!$A$9=\"Yes\",IFERROR(MATCH(C1153,Application!$K$11:$K$297,0)>0,\"\")),AND(Application!$A$9=\"No\",C1153=Application!$A$13)),F1153,\"\"),\"\")","v":""},"USD 322 - Off Site Non Public Buildings","Special Ed Program - Off Site Community Based",null,null,null,null,null,null,null,null,null,null,null,null,null,null,null,null,null,"N/A",null,null,"N/A","N/A"]
[1169,"$B$4",322,"Onaga-Havensville-Wheaton","Pottawatomie",3450,{"$f":"IFERROR(IF(OR(AND(Application!$A$9=\"Yes\",IFERROR(MATCH(C1154,Application!$K$11:$K$297,0)>0,\"\")),AND(Application!$A$9=\"No\",C1154=Application!$A$13)),F1154,\"\"),\"\")","v":""},"USD 322 - Home","Special Ed Program - Home",null,null,null,null,null,null,null,null,null,null,null,null,null,null,null,null,null,"N/A",null,null,"N/A","N/A"]
[1170,"$B$4",322,"Onaga-Havensville-Wheaton","Pottawatomie",3451,{"$f":"IFERROR(IF(OR(AND(Application!$A$9=\"Yes\",IFERROR(MATCH(C1155,Application!$K$11:$K$297,0)>0,\"\")),AND(Application!$A$9=\"No\",C1155=Application!$A$13)),F1155,\"\"),\"\")","v":""},"USD 322 - Community-Based Preschool","Special Ed Program - Community Based Preschool",null,null,null,null,null,null,null,null,null,null,null,null,null,null,null,null,null,"N/A",null,null,"N/A","N/A"]
[1171,"$B$4",322,"Onaga-Havensville-Wheaton","Pottawatomie",3453,{"$f":"IFERROR(IF(OR(AND(Application!$A$9=\"Yes\",IFERROR(MATCH(C1156,Application!$K$11:$K$297,0)>0,\"\")),AND(Application!$A$9=\"No\",C1156=Application!$A$13)),F1156,\"\"),\"\")","v":""},"USD 322 - K Time Program W/O SPED","Early Childhood Program - General",null,null,null,null,null,null,null,null,null,null,null,null,null,null,null,null,null,"N/A",null,null,"N/A","N/A"]
[1172,"$B$4",322,"Onaga-Havensville-Wheaton","Pottawatomie",3456,{"$f":"IFERROR(IF(OR(AND(Application!$A$9=\"Yes\",IFERROR(MATCH(C1157,Application!$K$11:$K$297,0)>0,\"\")),AND(Application!$A$9=\"No\",C1157=Application!$A$13)),F1157,\"\"),\"\")","v":""},"Onaga Elem","Elementary",null,null,null,null,null,null,null,null,null,null,null,null,null,null,null,null,null,219,null,null,73,0.33329999999999999]
[1173,"$B$4",322,"Onaga-Havensville-Wheaton","Pottawatomie",3458,{"$f":"IFERROR(IF(OR(AND(Application!$A$9=\"Yes\",IFERROR(MATCH(C1158,Application!$K$11:$K$297,0)>0,\"\")),AND(Application!$A$9=\"No\",C1158=Application!$A$13)),F1158,\"\"),\"\")","v":""},"Onaga Senior High","High School",null,null,null,null,null,null,null,null,null,null,null,null,null,null,null,null,null,94,null,null,29,0.3085]
[1174,"$B$4",323,"Rock Creek","Pottawatomie",3479,{"$f":"IFERROR(IF(OR(AND(Application!$A$9=\"Yes\",IFERROR(MATCH(C1159,Application!$K$11:$K$297,0)>0,\"\")),AND(Application!$A$9=\"No\",C1159=Application!$A$13)),F1159,\"\"),\"\")","v":""},"USD 323 - Off Site Non Public Buildings","Special Ed Program - Off Site Community Based",null,null,null,null,null,null,null,null,null,null,null,null,null,null,null,null,null,"N/A",null,null,"N/A","N/A"]
[1175,"$B$4",323,"Rock Creek","Pottawatomie",3480,{"$f":"IFERROR(IF(OR(AND(Application!$A$9=\"Yes\",IFERROR(MATCH(C1160,Application!$K$11:$K$297,0)>0,\"\")),AND(Application!$A$9=\"No\",C1160=Application!$A$13)),F1160,\"\"),\"\")","v":""},"USD 323 - Home","Special Ed Program - Home",null,null,null,null,null,null,null,null,null,null,null,null,null,null,null,null,null,"N/A",null,null,"N/A","N/A"]
[1176,"$B$4",323,"Rock Creek","Pottawatomie",3482,{"$f":"IFERROR(IF(OR(AND(Application!$A$9=\"Yes\",IFERROR(MATCH(C1161,Application!$K$11:$K$297,0)>0,\"\")),AND(Application!$A$9=\"No\",C1161=Application!$A$13)),F1161,\"\"),\"\")","v":""},"USD 323 - K Time Program W/O SPED","Early Childhood Program - General",null,null,null,null,null,null,null,null,null,null,null,null,null,null,null,null,null,"N/A",null,null,"N/A","N/A"]
[1177,"$B$4",323,"Rock Creek","Pottawatomie",3483,{"$f":"IFERROR(IF(OR(AND(Application!$A$9=\"Yes\",IFERROR(MATCH(C1162,Application!$K$11:$K$297,0)>0,\"\")),AND(Application!$A$9=\"No\",C1162=Application!$A$13)),F1162,\"\"),\"\")","v":""},"Parents as Teachers","Early Childhood Program - Parents as Teachers",null,null,null,null,null,null,null,null,null,null,null,null,null,null,null,null,null,"N/A",null,null,"N/A","N/A"]
[1178,"$B$4",323,"Rock Creek","Pottawatomie",3484,{"$f":"IFERROR(IF(OR(AND(Application!$A$9=\"Yes\",IFERROR(MATCH(C1163,Application!$K$11:$K$297,0)>0,\"\")),AND(Application!$A$9=\"No\",C1163=Application!$A$13)),F1163,\"\"),\"\")","v":""},"Community Based Preschool","Special Ed Program - Community Based Preschool",null,null,null,null,null,null,null,null,null,null,null,null,null,null,null,null,null,"N/A",null,null,"N/A","N/A"]
[1179,"$B$4",323,"Rock Creek","Pottawatomie",3485,{"$f":"IFERROR(IF(OR(AND(Application!$A$9=\"Yes\",IFERROR(MATCH(C1164,Application!$K$11:$K$297,0)>0,\"\")),AND(Application!$A$9=\"No\",C1164=Application!$A$13)),F1164,\"\"),\"\")","v":""},"Rock Creek Middle School","Middle School",null,null,null,null,null,null,null,null,null,null,null,null,null,null,null,null,null,424,null,null,88,0.20749999999999999]
[1180,"$B$4",323,"Rock Creek","Pottawatomie",3488,{"$f":"IFERROR(IF(OR(AND(Application!$A$9=\"Yes\",IFERROR(MATCH(C1165,Application!$K$11:$K$297,0)>0,\"\")),AND(Application!$A$9=\"No\",C1165=Application!$A$13)),F1165,\"\"),\"\")","v":""},"St George Elem","Elementary",null,null,null,null,null,null,null,null,null,null,null,null,null,null,null,null,null,387,null,null,73,0.18859999999999999]
[1181,"$B$4",323,"Rock Creek","Pottawatomie",3492,{"$f":"IFERROR(IF(OR(AND(Application!$A$9=\"Yes\",IFERROR(MATCH(C1166,Application!$K$11:$K$297,0)>0,\"\")),AND(Application!$A$9=\"No\",C1166=Application!$A$13)),F1166,\"\"),\"\")","v":""},"Westmoreland Elem","Elementary",null,null,null,null,null,null,null,null,null,null,null,null,null,null,null,null,null,142,null,null,45,0.31690000000000002]
[1182,"$B$4",323,"Rock Creek","Pottawatomie",3495,{"$f":"IFERROR(IF(OR(AND(Application!$A$9=\"Yes\",IFERROR(MATCH(C1167,Application!$K$11:$K$297,0)>0,\"\")),AND(Application!$A$9=\"No\",C1167=Application!$A$13)),F1167,\"\"),\"\")","v":""},"Rock Creek High School","High School",null,null,null,null,null,null,null,null,null,null,null,null,null,null,null,null,null,379,null,null,80,0.21110000000000001]
[1183,"$B$4",325,"Phillipsburg","Phillips",3527,{"$f":"IFERROR(IF(OR(AND(Application!$A$9=\"Yes\",IFERROR(MATCH(C1168,Application!$K$11:$K$297,0)>0,\"\")),AND(Application!$A$9=\"No\",C1168=Application!$A$13)),F1168,\"\"),\"\")","v":""},"USD 325 - Off Site Non Public Buildings","Special Ed Program - Off Site Community Based",null,null,null,null,null,null,null,null,null,null,null,null,null,null,null,null,null,"N/A",null,null,"N/A","N/A"]
[1184,"$B$4",325,"Phillipsburg","Phillips",3528,{"$f":"IFERROR(IF(OR(AND(Application!$A$9=\"Yes\",IFERROR(MATCH(C1169,Application!$K$11:$K$297,0)>0,\"\")),AND(Application!$A$9=\"No\",C1169=Application!$A$13)),F1169,\"\"),\"\")","v":""},"USD 325 - Home","Special Ed Program - Home",null,null,null,null,null,null,null,null,null,null,null,null,null,null,null,null,null,"N/A",null,null,"N/A","N/A"]
[1185,"$B$4",325,"Phillipsburg","Phillips",3529,{"$f":"IFERROR(IF(OR(AND(Application!$A$9=\"Yes\",IFERROR(MATCH(C1170,Application!$K$11:$K$297,0)>0,\"\")),AND(Application!$A$9=\"No\",C1170=Application!$A$13)),F1170,\"\"),\"\")","v":""},"USD 325 - K Time Program W/O SPED","Early Childhood Program - General",null,null,null,null,null,null,null,null,null,null,null,null,null,null,null,null,null,"N/A",null,null,"N/A","N/A"]
[1186,"$B$4",325,"Phillipsburg","Phillips",3531,{"$f":"IFERROR(IF(OR(AND(Application!$A$9=\"Yes\",IFERROR(MATCH(C1171,Application!$K$11:$K$297,0)>0,\"\")),AND(Application!$A$9=\"No\",C1171=Application!$A$13)),F1171,\"\"),\"\")","v":""},"Early Childhood Program - Parents As Teachers","Early Childhood Program - Parents as Teachers",null,null,null,null,null,null,null,null,null,null,null,null,null,null,null,null,null,"N/A",null,null,"N/A","N/A"]
[1187,"$B$4",325,"Phillipsburg","Phillips",3538,{"$f":"IFERROR(IF(OR(AND(Application!$A$9=\"Yes\",IFERROR(MATCH(C1172,Application!$K$11:$K$297,0)>0,\"\")),AND(Application!$A$9=\"No\",C1172=Application!$A$13)),F1172,\"\"),\"\")","v":""},"Phillipsburg Elem","Elementary",null,null,null,null,null,null,null,null,null,null,null,null,null,null,null,null,null,218,null,null,92,0.42199999999999999]
[1188,"$B$4",325,"Phillipsburg","Phillips",3540,{"$f":"IFERROR(IF(OR(AND(Application!$A$9=\"Yes\",IFERROR(MATCH(C1173,Application!$K$11:$K$297,0)>0,\"\")),AND(Application!$A$9=\"No\",C1173=Application!$A$13)),F1173,\"\"),\"\")","v":""},"Phillipsburg Middle","Middle School",null,null,null,null,null,null,null,null,null,null,null,null,null,null,null,null,null,178,null,null,67,0.37640000000000001]
[1189,"$B$4",325,"Phillipsburg","Phillips",3542,{"$f":"IFERROR(IF(OR(AND(Application!$A$9=\"Yes\",IFERROR(MATCH(C1174,Application!$K$11:$K$297,0)>0,\"\")),AND(Application!$A$9=\"No\",C1174=Application!$A$13)),F1174,\"\"),\"\")","v":""},"Phillipsburg High","High School",null,null,null,null,null,null,null,null,null,null,null,null,null,null,null,null,null,180,null,null,53,0.2944]
[1190,"$B$4",326,"Logan","Phillips",3557,{"$f":"IFERROR(IF(OR(AND(Application!$A$9=\"Yes\",IFERROR(MATCH(C1175,Application!$K$11:$K$297,0)>0,\"\")),AND(Application!$A$9=\"No\",C1175=Application!$A$13)),F1175,\"\"),\"\")","v":""},"USD 326 - Off Site Non Public Buildings","Special Ed Program - Off Site Community Based",null,null,null,null,null,null,null,null,null,null,null,null,null,null,null,null,null,"N/A",null,null,"N/A","N/A"]
[1191,"$B$4",326,"Logan","Phillips",3558,{"$f":"IFERROR(IF(OR(AND(Application!$A$9=\"Yes\",IFERROR(MATCH(C1176,Application!$K$11:$K$297,0)>0,\"\")),AND(Application!$A$9=\"No\",C1176=Application!$A$13)),F1176,\"\"),\"\")","v":""},"USD 326 - Home","Special Ed Program - Home",null,null,null,null,null,null,null,null,null,null,null,null,null,null,null,null,null,"N/A",null,null,"N/A","N/A"]
[1192,"$B$4",326,"Logan","Phillips",3559,{"$f":"IFERROR(IF(OR(AND(Application!$A$9=\"Yes\",IFERROR(MATCH(C1177,Application!$K$11:$K$297,0)>0,\"\")),AND(Application!$A$9=\"No\",C1177=Application!$A$13)),F1177,\"\"),\"\")","v":""},"USD 326 - K Time Program W/O SPED","Early Childhood Program - General",null,null,null,null,null,null,null,null,null,null,null,null,null,null,null,null,null,"N/A",null,null,"N/A","N/A"]
[1193,"$B$4",326,"Logan","Phillips",3562,{"$f":"IFERROR(IF(OR(AND(Application!$A$9=\"Yes\",IFERROR(MATCH(C1178,Application!$K$11:$K$297,0)>0,\"\")),AND(Application!$A$9=\"No\",C1178=Application!$A$13)),F1178,\"\"),\"\")","v":""},"Logan Elem","Elementary",null,null,null,null,null,null,null,null,null,null,null,null,null,null,null,null,null,78,null,null,32,0.4103]
[1194,"$B$4",326,"Logan","Phillips",3564,{"$f":"IFERROR(IF(OR(AND(Application!$A$9=\"Yes\",IFERROR(MATCH(C1179,Application!$K$11:$K$297,0)>0,\"\")),AND(Application!$A$9=\"No\",C1179=Application!$A$13)),F1179,\"\"),\"\")","v":""},"Logan High","High School",null,null,null,null,null,null,null,null,null,null,null,null,null,null,null,null,null,45,null,null,18,0.4]
[1195,"$B$4",327,"Ellsworth","Ellsworth",3579,{"$f":"IFERROR(IF(OR(AND(Application!$A$9=\"Yes\",IFERROR(MATCH(C1180,Application!$K$11:$K$297,0)>0,\"\")),AND(Application!$A$9=\"No\",C1180=Application!$A$13)),F1180,\"\"),\"\")","v":""},"USD 327 - Off Site Non Public Buildings","Special Ed Program - Off Site Community Based",null,null,null,null,null,null,null,null,null,null,null,null,null,null,null,null,null,"N/A",null,null,"N/A","N/A"]
[1196,"$B$4",327,"Ellsworth","Ellsworth",3580,{"$f":"IFERROR(IF(OR(AND(Application!$A$9=\"Yes\",IFERROR(MATCH(C1181,Application!$K$11:$K$297,0)>0,\"\")),AND(Application!$A$9=\"No\",C1181=Application!$A$13)),F1181,\"\"),\"\")","v":""},"USD 327 - Public Off-Site Preschools","Special Ed Program - Off Site Preschool",null,null,null,null,null,null,null,null,null,null,null,null,null,null,null,null,null,"N/A",null,null,"N/A","N/A"]
[1197,"$B$4",327,"Ellsworth","Ellsworth",3581,{"$f":"IFERROR(IF(OR(AND(Application!$A$9=\"Yes\",IFERROR(MATCH(C1182,Application!$K$11:$K$297,0)>0,\"\")),AND(Application!$A$9=\"No\",C1182=Application!$A$13)),F1182,\"\"),\"\")","v":""},"USD 327 - Home","Special Ed Program - Home",null,null,null,null,null,null,null,null,null,null,null,null,null,null,null,null,null,"N/A",null,null,"N/A","N/A"]
[1198,"$B$4",327,"Ellsworth","Ellsworth",3582,{"$f":"IFERROR(IF(OR(AND(Application!$A$9=\"Yes\",IFERROR(MATCH(C1183,Application!$K$11:$K$297,0)>0,\"\")),AND(Application!$A$9=\"No\",C1183=Application!$A$13)),F1183,\"\"),\"\")","v":""},"USD 327 - K Time Program W/O SPED","Early Childhood Program - General",null,null,null,null,null,null,null,null,null,null,null,null,null,null,null,null,null,"N/A",null,null,"N/A","N/A"]
[1199,"$B$4",327,"Ellsworth","Ellsworth",3594,{"$f":"IFERROR(IF(OR(AND(Application!$A$9=\"Yes\",IFERROR(MATCH(C1184,Application!$K$11:$K$297,0)>0,\"\")),AND(Application!$A$9=\"No\",C1184=Application!$A$13)),F1184,\"\"),\"\")","v":""},"Ellsworth Elem","Elementary",null,null,null,null,null,null,null,null,null,null,null,null,null,null,null,null,null,189,null,null,71,0.37569999999999998]
[1200,"$B$4",327,"Ellsworth","Ellsworth",3598,{"$f":"IFERROR(IF(OR(AND(Application!$A$9=\"Yes\",IFERROR(MATCH(C1185,Application!$K$11:$K$297,0)>0,\"\")),AND(Application!$A$9=\"No\",C1185=Application!$A$13)),F1185,\"\"),\"\")","v":""},"Ellsworth High","High School",null,null,null,null,null,null,null,null,null,null,null,null,null,null,null,null,null,303,null,null,88,0.29039999999999999]
[1201,"$B$4",327,"Ellsworth","Ellsworth",3600,{"$f":"IFERROR(IF(OR(AND(Application!$A$9=\"Yes\",IFERROR(MATCH(C1186,Application!$K$11:$K$297,0)>0,\"\")),AND(Application!$A$9=\"No\",C1186=Application!$A$13)),F1186,\"\"),\"\")","v":""},"Kanopolis Middle","Middle School",null,null,null,null,null,null,null,null,null,null,null,null,null,null,null,null,null,153,null,null,43,0.28100000000000003]
[1202,"$B$4",329,"Wabaunsee","Wabaunsee",3649,{"$f":"IFERROR(IF(OR(AND(Application!$A$9=\"Yes\",IFERROR(MATCH(C1187,Application!$K$11:$K$297,0)>0,\"\")),AND(Application!$A$9=\"No\",C1187=Application!$A$13)),F1187,\"\"),\"\")","v":""},"USD 329 - Off Site Non Public Buildings","Special Ed Program - Off Site Community Based",null,null,null,null,null,null,null,null,null,null,null,null,null,null,null,null,null,"N/A",null,null,"N/A","N/A"]
[1203,"$B$4",329,"Wabaunsee","Wabaunsee",3650,{"$f":"IFERROR(IF(OR(AND(Application!$A$9=\"Yes\",IFERROR(MATCH(C1188,Application!$K$11:$K$297,0)>0,\"\")),AND(Application!$A$9=\"No\",C1188=Application!$A$13)),F1188,\"\"),\"\")","v":""},"Alma Elementary School","Elementary",null,null,null,null,null,null,null,null,null,null,null,null,null,null,null,null,null,107,null,null,26,0.24299999999999999]
[1204,"$B$4",329,"Wabaunsee","Wabaunsee",3651,{"$f":"IFERROR(IF(OR(AND(Application!$A$9=\"Yes\",IFERROR(MATCH(C1189,Application!$K$11:$K$297,0)>0,\"\")),AND(Application!$A$9=\"No\",C1189=Application!$A$13)),F1189,\"\"),\"\")","v":""},"USD 329 - Home","Special Ed Program - Home",null,null,null,null,null,null,null,null,null,null,null,null,null,null,null,null,null,"N/A",null,null,"N/A","N/A"]
[1205,"$B$4",329,"Wabaunsee","Wabaunsee",3652,{"$f":"IFERROR(IF(OR(AND(Application!$A$9=\"Yes\",IFERROR(MATCH(C1190,Application!$K$11:$K$297,0)>0,\"\")),AND(Application!$A$9=\"No\",C1190=Application!$A$13)),F1190,\"\"),\"\")","v":""},"Wabaunsee Sr High","High School",null,null,null,null,null,null,null,null,null,null,null,null,null,null,null,null,null,131,null,null,21,0.1603]
[1206,"$B$4",329,"Wabaunsee","Wabaunsee",3654,{"$f":"IFERROR(IF(OR(AND(Application!$A$9=\"Yes\",IFERROR(MATCH(C1191,Application!$K$11:$K$297,0)>0,\"\")),AND(Application!$A$9=\"No\",C1191=Application!$A$13)),F1191,\"\"),\"\")","v":""},"USD 329 - K Time Program W/O SPED","Early Childhood Program - General",null,null,null,null,null,null,null,null,null,null,null,null,null,null,null,null,null,"N/A",null,null,"N/A","N/A"]
[1207,"$B$4",329,"Wabaunsee","Wabaunsee",3655,{"$f":"IFERROR(IF(OR(AND(Application!$A$9=\"Yes\",IFERROR(MATCH(C1192,Application!$K$11:$K$297,0)>0,\"\")),AND(Application!$A$9=\"No\",C1192=Application!$A$13)),F1192,\"\"),\"\")","v":""},"Community Based PreSchool","Special Ed Program - Off Site Community Based",null,null,null,null,null,null,null,null,null,null,null,null,null,null,null,null,null,"N/A",null,null,"N/A","N/A"]
[1208,"$B$4",329,"Wabaunsee","Wabaunsee",3665,{"$f":"IFERROR(IF(OR(AND(Application!$A$9=\"Yes\",IFERROR(MATCH(C1193,Application!$K$11:$K$297,0)>0,\"\")),AND(Application!$A$9=\"No\",C1193=Application!$A$13)),F1193,\"\"),\"\")","v":""},"Wabaunsee Junior High","Junior High School",null,null,null,null,null,null,null,null,null,null,null,null,null,null,null,null,null,69,null,null,8,0.1159]
[1209,"$B$4",329,"Wabaunsee","Wabaunsee",3667,{"$f":"IFERROR(IF(OR(AND(Application!$A$9=\"Yes\",IFERROR(MATCH(C1194,Application!$K$11:$K$297,0)>0,\"\")),AND(Application!$A$9=\"No\",C1194=Application!$A$13)),F1194,\"\"),\"\")","v":""},"Maple Hill Elem","Elementary",null,null,null,null,null,null,null,null,null,null,null,null,null,null,null,null,null,89,null,null,37,0.41570000000000001]
[1210,"$B$4",330,"Mission Valley","Wabaunsee",3679,{"$f":"IFERROR(IF(OR(AND(Application!$A$9=\"Yes\",IFERROR(MATCH(C1195,Application!$K$11:$K$297,0)>0,\"\")),AND(Application!$A$9=\"No\",C1195=Application!$A$13)),F1195,\"\"),\"\")","v":""},"USD 330 - Off Site Non Public Buildings","Special Ed Program - Off Site Community Based",null,null,null,null,null,null,null,null,null,null,null,null,null,null,null,null,null,"N/A",null,null,"N/A","N/A"]
[1211,"$B$4",330,"Mission Valley","Wabaunsee",3681,{"$f":"IFERROR(IF(OR(AND(Application!$A$9=\"Yes\",IFERROR(MATCH(C1196,Application!$K$11:$K$297,0)>0,\"\")),AND(Application!$A$9=\"No\",C1196=Application!$A$13)),F1196,\"\"),\"\")","v":""},"USD 330 - Home","Special Ed Program - Home",null,null,null,null,null,null,null,null,null,null,null,null,null,null,null,null,null,"N/A",null,null,"N/A","N/A"]
[1212,"$B$4",330,"Mission Valley","Wabaunsee",3683,{"$f":"IFERROR(IF(OR(AND(Application!$A$9=\"Yes\",IFERROR(MATCH(C1197,Application!$K$11:$K$297,0)>0,\"\")),AND(Application!$A$9=\"No\",C1197=Application!$A$13)),F1197,\"\"),\"\")","v":""},"USD 330 - K Time Program W/O SPED","Early Childhood Program - General",null,null,null,null,null,null,null,null,null,null,null,null,null,null,null,null,null,"N/A",null,null,"N/A","N/A"]
[1213,"$B$4",330,"Mission Valley","Wabaunsee",3686,{"$f":"IFERROR(IF(OR(AND(Application!$A$9=\"Yes\",IFERROR(MATCH(C1198,Application!$K$11:$K$297,0)>0,\"\")),AND(Application!$A$9=\"No\",C1198=Application!$A$13)),F1198,\"\"),\"\")","v":""},"Mission Valley Junior and Senior High School","High School",null,null,null,null,null,null,null,null,null,null,null,null,null,null,null,null,null,218,null,null,56,0.25690000000000002]
[1214,"$B$4",330,"Mission Valley","Wabaunsee",3687,{"$f":"IFERROR(IF(OR(AND(Application!$A$9=\"Yes\",IFERROR(MATCH(C1199,Application!$K$11:$K$297,0)>0,\"\")),AND(Application!$A$9=\"No\",C1199=Application!$A$13)),F1199,\"\"),\"\")","v":""},"Mission  Valley Elementary","Elementary",null,null,null,null,null,null,null,null,null,null,null,null,null,null,null,null,null,243,null,null,74,0.30449999999999999]
[1215,"$B$4",331,"Kingman - Norwich","Kingman",3705,{"$f":"IFERROR(IF(OR(AND(Application!$A$9=\"Yes\",IFERROR(MATCH(C1200,Application!$K$11:$K$297,0)>0,\"\")),AND(Application!$A$9=\"No\",C1200=Application!$A$13)),F1200,\"\"),\"\")","v":""},"USD 331 - Off Site Non Public Buildings","Special Ed Program - Off Site Community Based",null,null,null,null,null,null,null,null,null,null,null,null,null,null,null,null,null,"N/A",null,null,"N/A","N/A"]
[1216,"$B$4",331,"Kingman - Norwich","Kingman",3706,{"$f":"IFERROR(IF(OR(AND(Application!$A$9=\"Yes\",IFERROR(MATCH(C1201,Application!$K$11:$K$297,0)>0,\"\")),AND(Application!$A$9=\"No\",C1201=Application!$A$13)),F1201,\"\"),\"\")","v":""},"USD 331 - Home","Special Ed Program - Home",null,null,null,null,null,null,null,null,null,null,null,null,null,null,null,null,null,"N/A",null,null,"N/A","N/A"]
[1217,"$B$4",331,"Kingman - Norwich","Kingman",3707,{"$f":"IFERROR(IF(OR(AND(Application!$A$9=\"Yes\",IFERROR(MATCH(C1202,Application!$K$11:$K$297,0)>0,\"\")),AND(Application!$A$9=\"No\",C1202=Application!$A$13)),F1202,\"\"),\"\")","v":""},"USD 331 - Community-Based Preschool","Special Ed Program - Community Based Preschool",null,null,null,null,null,null,null,null,null,null,null,null,null,null,null,null,null,"N/A",null,null,"N/A","N/A"]
[1218,"$B$4",331,"Kingman - Norwich","Kingman",3708,{"$f":"IFERROR(IF(OR(AND(Application!$A$9=\"Yes\",IFERROR(MATCH(C1203,Application!$K$11:$K$297,0)>0,\"\")),AND(Application!$A$9=\"No\",C1203=Application!$A$13)),F1203,\"\"),\"\")","v":""},"USD 331 - K Time Program W/O SPED","Early Childhood Program - General",null,null,null,null,null,null,null,null,null,null,null,null,null,null,null,null,null,"N/A",null,null,"N/A","N/A"]
[1219,"$B$4",331,"Kingman - Norwich","Kingman",3709,{"$f":"IFERROR(IF(OR(AND(Application!$A$9=\"Yes\",IFERROR(MATCH(C1204,Application!$K$11:$K$297,0)>0,\"\")),AND(Application!$A$9=\"No\",C1204=Application!$A$13)),F1204,\"\"),\"\")","v":""},"Kingman Elementary School","Elementary",null,null,null,null,null,null,null,null,null,null,null,null,null,null,null,null,null,351,null,null,179,0.51]
[1220,"$B$4",331,"Kingman - Norwich","Kingman",3710,{"$f":"IFERROR(IF(OR(AND(Application!$A$9=\"Yes\",IFERROR(MATCH(C1205,Application!$K$11:$K$297,0)>0,\"\")),AND(Application!$A$9=\"No\",C1205=Application!$A$13)),F1205,\"\"),\"\")","v":""},"Kingman Middle School","Middle School",null,null,null,null,null,null,null,null,null,null,null,null,null,null,null,null,null,94,null,null,42,0.44679999999999997]
[1221,"$B$4",331,"Kingman - Norwich","Kingman",3711,{"$f":"IFERROR(IF(OR(AND(Application!$A$9=\"Yes\",IFERROR(MATCH(C1206,Application!$K$11:$K$297,0)>0,\"\")),AND(Application!$A$9=\"No\",C1206=Application!$A$13)),F1206,\"\"),\"\")","v":""},"Norwich Middle School","Middle School",null,null,null,null,null,null,null,null,null,null,null,null,null,null,null,null,null,46,null,null,11,0.23910000000000001]
[1222,"$B$4",331,"Kingman - Norwich","Kingman",3712,{"$f":"IFERROR(IF(OR(AND(Application!$A$9=\"Yes\",IFERROR(MATCH(C1207,Application!$K$11:$K$297,0)>0,\"\")),AND(Application!$A$9=\"No\",C1207=Application!$A$13)),F1207,\"\"),\"\")","v":""},"Norwich Elementary School","Elementary",null,null,null,null,null,null,null,null,null,null,null,null,null,null,null,null,null,135,null,null,51,0.37780000000000002]
[1223,"$B$4",331,"Kingman - Norwich","Kingman",3713,{"$f":"IFERROR(IF(OR(AND(Application!$A$9=\"Yes\",IFERROR(MATCH(C1208,Application!$K$11:$K$297,0)>0,\"\")),AND(Application!$A$9=\"No\",C1208=Application!$A$13)),F1208,\"\"),\"\")","v":""},"USD 331 Virtual School","High School",null,null,null,null,null,null,null,null,null,null,null,null,null,null,null,null,null,54,null,null,11,0.20369999999999999]
[1224,"$B$4",331,"Kingman - Norwich","Kingman",3716,{"$f":"IFERROR(IF(OR(AND(Application!$A$9=\"Yes\",IFERROR(MATCH(C1209,Application!$K$11:$K$297,0)>0,\"\")),AND(Application!$A$9=\"No\",C1209=Application!$A$13)),F1209,\"\"),\"\")","v":""},"Kingman High","High School",null,null,null,null,null,null,null,null,null,null,null,null,null,null,null,null,null,203,null,null,65,0.32019999999999998]
[1225,"$B$4",331,"Kingman - Norwich","Kingman",3724,{"$f":"IFERROR(IF(OR(AND(Application!$A$9=\"Yes\",IFERROR(MATCH(C1210,Application!$K$11:$K$297,0)>0,\"\")),AND(Application!$A$9=\"No\",C1210=Application!$A$13)),F1210,\"\"),\"\")","v":""},"Norwich High","High School",null,null,null,null,null,null,null,null,null,null,null,null,null,null,null,null,null,73,null,null,23,0.31509999999999999]
[1226,"$B$4",332,"Cunningham","Kingman",3747,{"$f":"IFERROR(IF(OR(AND(Application!$A$9=\"Yes\",IFERROR(MATCH(C1211,Application!$K$11:$K$297,0)>0,\"\")),AND(Application!$A$9=\"No\",C1211=Application!$A$13)),F1211,\"\"),\"\")","v":""},"USD 332 - Off Site Non Public Buildings","Special Ed Program - Off Site Community Based",null,null,null,null,null,null,null,null,null,null,null,null,null,null,null,null,null,"N/A",null,null,"N/A","N/A"]
[1227,"$B$4",332,"Cunningham","Kingman",3748,{"$f":"IFERROR(IF(OR(AND(Application!$A$9=\"Yes\",IFERROR(MATCH(C1212,Application!$K$11:$K$297,0)>0,\"\")),AND(Application!$A$9=\"No\",C1212=Application!$A$13)),F1212,\"\"),\"\")","v":""},"Cunningham Elem","Elementary",null,null,null,null,null,null,null,null,null,null,null,null,null,null,null,null,null,121,null,null,36,0.29749999999999999]
[1228,"$B$4",332,"Cunningham","Kingman",3749,{"$f":"IFERROR(IF(OR(AND(Application!$A$9=\"Yes\",IFERROR(MATCH(C1213,Application!$K$11:$K$297,0)>0,\"\")),AND(Application!$A$9=\"No\",C1213=Application!$A$13)),F1213,\"\"),\"\")","v":""},"USD 332 - Home","Special Ed Program - Home",null,null,null,null,null,null,null,null,null,null,null,null,null,null,null,null,null,"N/A",null,null,"N/A","N/A"]
[1229,"$B$4",332,"Cunningham","Kingman",3750,{"$f":"IFERROR(IF(OR(AND(Application!$A$9=\"Yes\",IFERROR(MATCH(C1214,Application!$K$11:$K$297,0)>0,\"\")),AND(Application!$A$9=\"No\",C1214=Application!$A$13)),F1214,\"\"),\"\")","v":""},"Cunningham High","High School",null,null,null,null,null,null,null,null,null,null,null,null,null,null,null,null,null,85,null,null,15,0.17649999999999999]
[1230,"$B$4",332,"Cunningham","Kingman",3752,{"$f":"IFERROR(IF(OR(AND(Application!$A$9=\"Yes\",IFERROR(MATCH(C1215,Application!$K$11:$K$297,0)>0,\"\")),AND(Application!$A$9=\"No\",C1215=Application!$A$13)),F1215,\"\"),\"\")","v":""},"USD 332 - K Time Program W/O SPED","Early Childhood Program - General",null,null,null,null,null,null,null,null,null,null,null,null,null,null,null,null,null,"N/A",null,null,"N/A","N/A"]
[1231,"$B$4",333,"Concordia","Cloud",3777,{"$f":"IFERROR(IF(OR(AND(Application!$A$9=\"Yes\",IFERROR(MATCH(C1216,Application!$K$11:$K$297,0)>0,\"\")),AND(Application!$A$9=\"No\",C1216=Application!$A$13)),F1216,\"\"),\"\")","v":""},"USD 333 - Off Site Non Public Buildings","Special Ed Program - Off Site Community Based",null,null,null,null,null,null,null,null,null,null,null,null,null,null,null,null,null,"N/A",null,null,"N/A","N/A"]
[1235,"$B$4",333,"Concordia","Cloud",3778,{"$f":"IFERROR(IF(OR(AND(Application!$A$9=\"Yes\",IFERROR(MATCH(C1217,Application!$K$11:$K$297,0)>0,\"\")),AND(Application!$A$9=\"No\",C1217=Application!$A$13)),F1217,\"\"),\"\")","v":""},"USD 333 - Home","Special Ed Program - Home",null,null,null,null,null,null,null,null,null,null,null,null,null,null,null,null,null,"N/A",null,null,"N/A","N/A"]
[1236,"$B$4",333,"Concordia","Cloud",3779,{"$f":"IFERROR(IF(OR(AND(Application!$A$9=\"Yes\",IFERROR(MATCH(C1218,Application!$K$11:$K$297,0)>0,\"\")),AND(Application!$A$9=\"No\",C1218=Application!$A$13)),F1218,\"\"),\"\")","v":""},"USD 333 - Community-Based Preschool","Special Ed Program - Community Based Preschool",null,null,null,null,null,null,null,null,null,null,null,null,null,null,null,null,null,"N/A",null,null,"N/A","N/A"]
[1237,"$B$4",333,"Concordia","Cloud",3780,{"$f":"IFERROR(IF(OR(AND(Application!$A$9=\"Yes\",IFERROR(MATCH(C1219,Application!$K$11:$K$297,0)>0,\"\")),AND(Application!$A$9=\"No\",C1219=Application!$A$13)),F1219,\"\"),\"\")","v":""},"Concordia Elementary","Elementary",null,null,null,null,null,null,null,null,null,null,null,null,null,null,null,null,null,449,null,null,221,0.49220000000000003]
[1238,"$B$4",333,"Concordia","Cloud",3783,{"$f":"IFERROR(IF(OR(AND(Application!$A$9=\"Yes\",IFERROR(MATCH(C1220,Application!$K$11:$K$297,0)>0,\"\")),AND(Application!$A$9=\"No\",C1220=Application!$A$13)),F1220,\"\"),\"\")","v":""},"USD 333 - Public Off Campus","Special Ed Program - Public School Administered",null,null,null,null,null,null,null,null,null,null,null,null,null,null,null,null,null,"N/A",null,null,"N/A","N/A"]
[1239,"$B$4",333,"Concordia","Cloud",3784,{"$f":"IFERROR(IF(OR(AND(Application!$A$9=\"Yes\",IFERROR(MATCH(C1221,Application!$K$11:$K$297,0)>0,\"\")),AND(Application!$A$9=\"No\",C1221=Application!$A$13)),F1221,\"\"),\"\")","v":""},"USD 333 - K Time Program W/O SPED","Early Childhood Program - General",null,null,null,null,null,null,null,null,null,null,null,null,null,null,null,null,null,"N/A",null,null,"N/A","N/A"]
[1240,"$B$4",333,"Concordia","Cloud",3785,{"$f":"IFERROR(IF(OR(AND(Application!$A$9=\"Yes\",IFERROR(MATCH(C1222,Application!$K$11:$K$297,0)>0,\"\")),AND(Application!$A$9=\"No\",C1222=Application!$A$13)),F1222,\"\"),\"\")","v":""},"CCDC","Special Ed Program - Public School Administered",null,null,null,null,null,null,null,null,null,null,null,null,null,null,null,null,null,"N/A",null,null,"N/A","N/A"]
[1241,"$B$4",333,"Concordia","Cloud",3787,{"$f":"IFERROR(IF(OR(AND(Application!$A$9=\"Yes\",IFERROR(MATCH(C1223,Application!$K$11:$K$297,0)>0,\"\")),AND(Application!$A$9=\"No\",C1223=Application!$A$13)),F1223,\"\"),\"\")","v":""},"Cloud County Headstart","Early Childhood Program - Head Start",null,null,null,null,null,null,null,null,null,null,null,null,null,null,null,null,null,"N/A",null,null,"N/A","N/A"]
[1242,"$B$4",333,"Concordia","Cloud",3793,{"$f":"IFERROR(IF(OR(AND(Application!$A$9=\"Yes\",IFERROR(MATCH(C1224,Application!$K$11:$K$297,0)>0,\"\")),AND(Application!$A$9=\"No\",C1224=Application!$A$13)),F1224,\"\"),\"\")","v":""},"Concordia Middle","Middle School",null,null,null,null,null,null,null,null,null,null,null,null,null,null,null,null,null,187,null,null,91,0.48659999999999998]
[1243,"$B$4",333,"Concordia","Cloud",3794,{"$f":"IFERROR(IF(OR(AND(Application!$A$9=\"Yes\",IFERROR(MATCH(C1225,Application!$K$11:$K$297,0)>0,\"\")),AND(Application!$A$9=\"No\",C1225=Application!$A$13)),F1225,\"\"),\"\")","v":""},"Concordia Jr-Sr High","High School",null,null,null,null,null,null,null,null,null,null,null,null,null,null,null,null,null,485,null,null,184,0.37940000000000002]
[1244,"$B$4",334,"Southern Cloud","Cloud",3831,{"$f":"IFERROR(IF(OR(AND(Application!$A$9=\"Yes\",IFERROR(MATCH(C1226,Application!$K$11:$K$297,0)>0,\"\")),AND(Application!$A$9=\"No\",C1226=Application!$A$13)),F1226,\"\"),\"\")","v":""},"USD 334 - Off Site Non Public Buildings","Special Ed Program - Off Site Community Based",null,null,null,null,null,null,null,null,null,null,null,null,null,null,null,null,null,"N/A",null,null,"N/A","N/A"]
[1245,"$B$4",334,"Southern Cloud","Cloud",3832,{"$f":"IFERROR(IF(OR(AND(Application!$A$9=\"Yes\",IFERROR(MATCH(C1227,Application!$K$11:$K$297,0)>0,\"\")),AND(Application!$A$9=\"No\",C1227=Application!$A$13)),F1227,\"\"),\"\")","v":""},"Glasco Elem","Elementary",null,null,null,null,null,null,null,null,null,null,null,null,null,null,null,null,null,59,null,null,33,0.55930000000000002]
[1246,"$B$4",334,"Southern Cloud","Cloud",3833,{"$f":"IFERROR(IF(OR(AND(Application!$A$9=\"Yes\",IFERROR(MATCH(C1228,Application!$K$11:$K$297,0)>0,\"\")),AND(Application!$A$9=\"No\",C1228=Application!$A$13)),F1228,\"\"),\"\")","v":""},"USD 334 - Home","Special Ed Program - Home",null,null,null,null,null,null,null,null,null,null,null,null,null,null,null,null,null,"N/A",null,null,"N/A","N/A"]
[1247,"$B$4",334,"Southern Cloud","Cloud",3834,{"$f":"IFERROR(IF(OR(AND(Application!$A$9=\"Yes\",IFERROR(MATCH(C1229,Application!$K$11:$K$297,0)>0,\"\")),AND(Application!$A$9=\"No\",C1229=Application!$A$13)),F1229,\"\"),\"\")","v":""},"Glasco High","High School",null,null,null,null,null,null,null,null,null,null,null,null,null,null,null,null,null,22,null,null,10,0.45450000000000002]
[1248,"$B$4",334,"Southern Cloud","Cloud",3835,{"$f":"IFERROR(IF(OR(AND(Application!$A$9=\"Yes\",IFERROR(MATCH(C1230,Application!$K$11:$K$297,0)>0,\"\")),AND(Application!$A$9=\"No\",C1230=Application!$A$13)),F1230,\"\"),\"\")","v":""},"USD 334 - K Time Program W/O SPED","Early Childhood Program - General",null,null,null,null,null,null,null,null,null,null,null,null,null,null,null,null,null,"N/A",null,null,"N/A","N/A"]
[1249,"$B$4",334,"Southern Cloud","Cloud",3836,{"$f":"IFERROR(IF(OR(AND(Application!$A$9=\"Yes\",IFERROR(MATCH(C1231,Application!$K$11:$K$297,0)>0,\"\")),AND(Application!$A$9=\"No\",C1231=Application!$A$13)),F1231,\"\"),\"\")","v":""},"Miltonvale Elem","Elementary",null,null,null,null,null,null,null,null,null,null,null,null,null,null,null,null,null,47,null,null,32,0.68089999999999995]
[1250,"$B$4",334,"Southern Cloud","Cloud",3838,{"$f":"IFERROR(IF(OR(AND(Application!$A$9=\"Yes\",IFERROR(MATCH(C1232,Application!$K$11:$K$297,0)>0,\"\")),AND(Application!$A$9=\"No\",C1232=Application!$A$13)),F1232,\"\"),\"\")","v":""},"Miltonvale High","High School",null,null,null,null,null,null,null,null,null,null,null,null,null,null,null,null,null,35,null,null,14,0.4]
[1251,"$B$4",335,"North Jackson","Jackson",3853,{"$f":"IFERROR(IF(OR(AND(Application!$A$9=\"Yes\",IFERROR(MATCH(C1233,Application!$K$11:$K$297,0)>0,\"\")),AND(Application!$A$9=\"No\",C1233=Application!$A$13)),F1233,\"\"),\"\")","v":""},"USD 335 - Off Site Non Public Buildings","Special Ed Program - Off Site Community Based",null,null,null,null,null,null,null,null,null,null,null,null,null,null,null,null,null,"N/A",null,null,"N/A","N/A"]
[1252,"$B$4",335,"North Jackson","Jackson",3854,{"$f":"IFERROR(IF(OR(AND(Application!$A$9=\"Yes\",IFERROR(MATCH(C1234,Application!$K$11:$K$297,0)>0,\"\")),AND(Application!$A$9=\"No\",C1234=Application!$A$13)),F1234,\"\"),\"\")","v":""},"USD 335 - Home","Special Ed Program - Home",null,null,null,null,null,null,null,null,null,null,null,null,null,null,null,null,null,"N/A",null,null,"N/A","N/A"]
[1253,"$B$4",335,"North Jackson","Jackson",3855,{"$f":"IFERROR(IF(OR(AND(Application!$A$9=\"Yes\",IFERROR(MATCH(C1235,Application!$K$11:$K$297,0)>0,\"\")),AND(Application!$A$9=\"No\",C1235=Application!$A$13)),F1235,\"\"),\"\")","v":""},"USD 335 - Community-Based Preschool","Special Ed Program - Community Based Preschool",null,null,null,null,null,null,null,null,null,null,null,null,null,null,null,null,null,"N/A",null,null,"N/A","N/A"]
[1254,"$B$4",335,"North Jackson","Jackson",3856,{"$f":"IFERROR(IF(OR(AND(Application!$A$9=\"Yes\",IFERROR(MATCH(C1236,Application!$K$11:$K$297,0)>0,\"\")),AND(Application!$A$9=\"No\",C1236=Application!$A$13)),F1236,\"\"),\"\")","v":""},"USD 335 - Public Off Campus","Special Ed Program - Public School Administered",null,null,null,null,null,null,null,null,null,null,null,null,null,null,null,null,null,"N/A",null,null,"N/A","N/A"]
[1255,"$B$4",335,"North Jackson","Jackson",3857,{"$f":"IFERROR(IF(OR(AND(Application!$A$9=\"Yes\",IFERROR(MATCH(C1237,Application!$K$11:$K$297,0)>0,\"\")),AND(Application!$A$9=\"No\",C1237=Application!$A$13)),F1237,\"\"),\"\")","v":""},"USD 335 - K Time Program W/O SPED","Early Childhood Program - General",null,null,null,null,null,null,null,null,null,null,null,null,null,null,null,null,null,"N/A",null,null,"N/A","N/A"]
[1256,"$B$4",335,"North Jackson","Jackson",3871,{"$f":"IFERROR(IF(OR(AND(Application!$A$9=\"Yes\",IFERROR(MATCH(C1238,Application!$K$11:$K$297,0)>0,\"\")),AND(Application!$A$9=\"No\",C1238=Application!$A$13)),F1238,\"\"),\"\")","v":""},"Jackson Heights Elementary School","Elementary",null,null,null,null,null,null,null,null,null,null,null,null,null,null,null,null,null,218,null,null,74,0.33939999999999998]
[1257,"$B$4",335,"North Jackson","Jackson",3872,{"$f":"IFERROR(IF(OR(AND(Application!$A$9=\"Yes\",IFERROR(MATCH(C1239,Application!$K$11:$K$297,0)>0,\"\")),AND(Application!$A$9=\"No\",C1239=Application!$A$13)),F1239,\"\"),\"\")","v":""},"Jackson Heights High School and Middle School","High School",null,null,null,null,null,null,null,null,null,null,null,null,null,null,null,null,null,176,null,null,67,0.38069999999999998]
[1258,"$B$4",336,"Holton","Jackson",3880,{"$f":"IFERROR(IF(OR(AND(Application!$A$9=\"Yes\",IFERROR(MATCH(C1240,Application!$K$11:$K$297,0)>0,\"\")),AND(Application!$A$9=\"No\",C1240=Application!$A$13)),F1240,\"\"),\"\")","v":""},"Holton Dist Jackson Co","Central Office",null,null,null,null,null,null,null,null,null,null,null,null,null,null,null,null,null,"N/A",null,null,"N/A","N/A"]
[1259,"$B$4",336,"Holton","Jackson",3881,{"$f":"IFERROR(IF(OR(AND(Application!$A$9=\"Yes\",IFERROR(MATCH(C1241,Application!$K$11:$K$297,0)>0,\"\")),AND(Application!$A$9=\"No\",C1241=Application!$A$13)),F1241,\"\"),\"\")","v":""},"USD 336 - Off Site Non Public Buildings","Special Ed Program - Off Site Community Based",null,null,null,null,null,null,null,null,null,null,null,null,null,null,null,null,null,"N/A",null,null,"N/A","N/A"]
[1260,"$B$4",336,"Holton","Jackson",3882,{"$f":"IFERROR(IF(OR(AND(Application!$A$9=\"Yes\",IFERROR(MATCH(C1242,Application!$K$11:$K$297,0)>0,\"\")),AND(Application!$A$9=\"No\",C1242=Application!$A$13)),F1242,\"\"),\"\")","v":""},"USD 336 - Home","Special Ed Program - Home",null,null,null,null,null,null,null,null,null,null,null,null,null,null,null,null,null,"N/A",null,null,"N/A","N/A"]
[1261,"$B$4",336,"Holton","Jackson",3883,{"$f":"IFERROR(IF(OR(AND(Application!$A$9=\"Yes\",IFERROR(MATCH(C1243,Application!$K$11:$K$297,0)>0,\"\")),AND(Application!$A$9=\"No\",C1243=Application!$A$13)),F1243,\"\"),\"\")","v":""},"USD 336 - Community-Based Preschool","Special Ed Program - Community Based Preschool",null,null,null,null,null,null,null,null,null,null,null,null,null,null,null,null,null,"N/A",null,null,"N/A","N/A"]
[1262,"$B$4",336,"Holton","Jackson",3884,{"$f":"IFERROR(IF(OR(AND(Application!$A$9=\"Yes\",IFERROR(MATCH(C1244,Application!$K$11:$K$297,0)>0,\"\")),AND(Application!$A$9=\"No\",C1244=Application!$A$13)),F1244,\"\"),\"\")","v":""},"USD 336 - K Time Program W/O SPED","Early Childhood Program - General",null,null,null,null,null,null,null,null,null,null,null,null,null,null,null,null,null,"N/A",null,null,"N/A","N/A"]
[1263,"$B$4",336,"Holton","Jackson",3885,{"$f":"IFERROR(IF(OR(AND(Application!$A$9=\"Yes\",IFERROR(MATCH(C1245,Application!$K$11:$K$297,0)>0,\"\")),AND(Application!$A$9=\"No\",C1245=Application!$A$13)),F1245,\"\"),\"\")","v":""},"Head Start--Jackson County","Special Ed Program - Off Site Community Based",null,null,null,null,null,null,null,null,null,null,null,null,null,null,null,null,null,"N/A",null,null,"N/A","N/A"]
[1264,"$B$4",336,"Holton","Jackson",3887,{"$f":"IFERROR(IF(OR(AND(Application!$A$9=\"Yes\",IFERROR(MATCH(C1246,Application!$K$11:$K$297,0)>0,\"\")),AND(Application!$A$9=\"No\",C1246=Application!$A$13)),F1246,\"\"),\"\")","v":""},"Holton Elementary School","Elementary",null,null,null,null,null,null,null,null,null,null,null,null,null,null,null,null,null,504,null,null,235,0.46629999999999999]
[1265,"$B$4",336,"Holton","Jackson",3889,{"$f":"IFERROR(IF(OR(AND(Application!$A$9=\"Yes\",IFERROR(MATCH(C1247,Application!$K$11:$K$297,0)>0,\"\")),AND(Application!$A$9=\"No\",C1247=Application!$A$13)),F1247,\"\"),\"\")","v":""},"Fresh Start (Virtual)","Special School",null,null,null,null,null,null,null,null,null,null,null,null,null,null,null,null,null,59,null,null,0,0]
[1266,"$B$4",336,"Holton","Jackson",3890,{"$f":"IFERROR(IF(OR(AND(Application!$A$9=\"Yes\",IFERROR(MATCH(C1248,Application!$K$11:$K$297,0)>0,\"\")),AND(Application!$A$9=\"No\",C1248=Application!$A$13)),F1248,\"\"),\"\")","v":""},"Holton Middle","Middle School",null,null,null,null,null,null,null,null,null,null,null,null,null,null,null,null,null,227,null,null,88,0.38769999999999999]
[1267,"$B$4",336,"Holton","Jackson",3892,{"$f":"IFERROR(IF(OR(AND(Application!$A$9=\"Yes\",IFERROR(MATCH(C1249,Application!$K$11:$K$297,0)>0,\"\")),AND(Application!$A$9=\"No\",C1249=Application!$A$13)),F1249,\"\"),\"\")","v":""},"Holton High","High School",null,null,null,null,null,null,null,null,null,null,null,null,null,null,null,null,null,323,null,null,93,0.28789999999999999]
[1268,"$B$4",337,"Royal Valley","Jackson",3909,{"$f":"IFERROR(IF(OR(AND(Application!$A$9=\"Yes\",IFERROR(MATCH(C1250,Application!$K$11:$K$297,0)>0,\"\")),AND(Application!$A$9=\"No\",C1250=Application!$A$13)),F1250,\"\"),\"\")","v":""},"USD 337 - Off Site Non Public Buildings","Special Ed Program - Off Site Community Based",null,null,null,null,null,null,null,null,null,null,null,null,null,null,null,null,null,"N/A",null,null,"N/A","N/A"]
[1269,"$B$4",337,"Royal Valley","Jackson",3910,{"$f":"IFERROR(IF(OR(AND(Application!$A$9=\"Yes\",IFERROR(MATCH(C1251,Application!$K$11:$K$297,0)>0,\"\")),AND(Application!$A$9=\"No\",C1251=Application!$A$13)),F1251,\"\"),\"\")","v":""},"USD 337 - Public Off-Site Preschools","Special Ed Program - Off Site Preschool",null,null,null,null,null,null,null,null,null,null,null,null,null,null,null,null,null,"N/A",null,null,"N/A","N/A"]
[1270,"$B$4",337,"Royal Valley","Jackson",3911,{"$f":"IFERROR(IF(OR(AND(Application!$A$9=\"Yes\",IFERROR(MATCH(C1252,Application!$K$11:$K$297,0)>0,\"\")),AND(Application!$A$9=\"No\",C1252=Application!$A$13)),F1252,\"\"),\"\")","v":""},"USD 337 - Home","Special Ed Program - Home",null,null,null,null,null,null,null,null,null,null,null,null,null,null,null,null,null,"N/A",null,null,"N/A","N/A"]
[1271,"$B$4",337,"Royal Valley","Jackson",3912,{"$f":"IFERROR(IF(OR(AND(Application!$A$9=\"Yes\",IFERROR(MATCH(C1253,Application!$K$11:$K$297,0)>0,\"\")),AND(Application!$A$9=\"No\",C1253=Application!$A$13)),F1253,\"\"),\"\")","v":""},"USD 337 - Community-Based Preschool","Special Ed Program - Community Based Preschool",null,null,null,null,null,null,null,null,null,null,null,null,null,null,null,null,null,"N/A",null,null,"N/A","N/A"]
[1272,"$B$4",337,"Royal Valley","Jackson",3913,{"$f":"IFERROR(IF(OR(AND(Application!$A$9=\"Yes\",IFERROR(MATCH(C1254,Application!$K$11:$K$297,0)>0,\"\")),AND(Application!$A$9=\"No\",C1254=Application!$A$13)),F1254,\"\"),\"\")","v":""},"USD 337 - K Time Program W/O SPED","Early Childhood Program - General",null,null,null,null,null,null,null,null,null,null,null,null,null,null,null,null,null,"N/A",null,null,"N/A","N/A"]
[1273,"$B$4",337,"Royal Valley","Jackson",3914,{"$f":"IFERROR(IF(OR(AND(Application!$A$9=\"Yes\",IFERROR(MATCH(C1255,Application!$K$11:$K$297,0)>0,\"\")),AND(Application!$A$9=\"No\",C1255=Application!$A$13)),F1255,\"\"),\"\")","v":""},"Parents as Teachers","Early Childhood Program - Parents as Teachers",null,null,null,null,null,null,null,null,null,null,null,null,null,null,null,null,null,"N/A",null,null,"N/A","N/A"]
[1274,"$B$4",337,"Royal Valley","Jackson",3916,{"$f":"IFERROR(IF(OR(AND(Application!$A$9=\"Yes\",IFERROR(MATCH(C1256,Application!$K$11:$K$297,0)>0,\"\")),AND(Application!$A$9=\"No\",C1256=Application!$A$13)),F1256,\"\"),\"\")","v":""},"Royal Valley Elementary","Elementary",null,null,null,null,null,null,null,null,null,null,null,null,null,null,null,null,null,356,null,null,180,0.50560000000000005]
[1275,"$B$4",337,"Royal Valley","Jackson",3918,{"$f":"IFERROR(IF(OR(AND(Application!$A$9=\"Yes\",IFERROR(MATCH(C1257,Application!$K$11:$K$297,0)>0,\"\")),AND(Application!$A$9=\"No\",C1257=Application!$A$13)),F1257,\"\"),\"\")","v":""},"Royal Valley High","High School",null,null,null,null,null,null,null,null,null,null,null,null,null,null,null,null,null,244,null,null,67,0.27460000000000001]
[1276,"$B$4",337,"Royal Valley","Jackson",3921,{"$f":"IFERROR(IF(OR(AND(Application!$A$9=\"Yes\",IFERROR(MATCH(C1258,Application!$K$11:$K$297,0)>0,\"\")),AND(Application!$A$9=\"No\",C1258=Application!$A$13)),F1258,\"\"),\"\")","v":""},"Royal Valley Middle School","Middle School",null,null,null,null,null,null,null,null,null,null,null,null,null,null,null,null,null,247,null,null,101,0.40889999999999999]
[1232,"$B$4",338,"Valley Falls","Jefferson",3935,{"$f":"IFERROR(IF(OR(AND(Application!$A$9=\"Yes\",IFERROR(MATCH(C1259,Application!$K$11:$K$297,0)>0,\"\")),AND(Application!$A$9=\"No\",C1259=Application!$A$13)),F1259,\"\"),\"\")","v":""},"USD 338 - Off Site Non Public Buildings","Special Ed Program - Off Site Community Based",null,null,null,null,null,null,null,null,null,null,null,null,null,null,null,null,null,"N/A",null,null,"N/A","N/A"]
[1233,"$B$4",338,"Valley Falls","Jefferson",3936,{"$f":"IFERROR(IF(OR(AND(Application!$A$9=\"Yes\",IFERROR(MATCH(C1260,Application!$K$11:$K$297,0)>0,\"\")),AND(Application!$A$9=\"No\",C1260=Application!$A$13)),F1260,\"\"),\"\")","v":""},"Valley Falls Elem","Elementary",null,null,null,null,null,null,null,null,null,null,null,null,null,null,null,null,null,268,null,null,88,0.32840000000000003]
[1234,"$B$4",338,"Valley Falls","Jefferson",3937,{"$f":"IFERROR(IF(OR(AND(Application!$A$9=\"Yes\",IFERROR(MATCH(C1261,Application!$K$11:$K$297,0)>0,\"\")),AND(Application!$A$9=\"No\",C1261=Application!$A$13)),F1261,\"\"),\"\")","v":""},"USD 338 - Home","Special Ed Program - Home",null,null,null,null,null,null,null,null,null,null,null,null,null,null,null,null,null,"N/A",null,null,"N/A","N/A"]
[1277,"$B$4",338,"Valley Falls","Jefferson",3938,{"$f":"IFERROR(IF(OR(AND(Application!$A$9=\"Yes\",IFERROR(MATCH(C1262,Application!$K$11:$K$297,0)>0,\"\")),AND(Application!$A$9=\"No\",C1262=Application!$A$13)),F1262,\"\"),\"\")","v":""},"Valley Falls High","High School",null,null,null,null,null,null,null,null,null,null,null,null,null,null,null,null,null,116,null,null,33,0.28449999999999998]
[1278,"$B$4",338,"Valley Falls","Jefferson",3940,{"$f":"IFERROR(IF(OR(AND(Application!$A$9=\"Yes\",IFERROR(MATCH(C1263,Application!$K$11:$K$297,0)>0,\"\")),AND(Application!$A$9=\"No\",C1263=Application!$A$13)),F1263,\"\"),\"\")","v":""},"USD 338 - Community-Based Preschool","Special Ed Program - Community Based Preschool",null,null,null,null,null,null,null,null,null,null,null,null,null,null,null,null,null,"N/A",null,null,"N/A","N/A"]
[1279,"$B$4",338,"Valley Falls","Jefferson",3941,null,"USD 338 - K Time Program W/O SPED","Early Childhood Program - General",null,null,null,null,null,null,null,null,null,null,null,null,null,null,null,null,null,"N/A",null,null,"N/A","N/A"]
[1280,"$B$4",339,"Jefferson County North","Jefferson",3943,null,"USD 339 - Off Site Non Public Buildings","Special Ed Program - Off Site Community Based",null,null,null,null,null,null,null,null,null,null,null,null,null,null,null,null,null,"N/A",null,null,"N/A","N/A"]
[1281,"$B$4",339,"Jefferson County North","Jefferson",3944,null,"USD 339 - Home","Special Ed Program - Home",null,null,null,null,null,null,null,null,null,null,null,null,null,null,null,null,null,"N/A",null,null,"N/A","N/A"]
[1282,"$B$4",339,"Jefferson County North","Jefferson",3945,null,"USD 339 - Community-Based Preschool","Special Ed Program - Community Based Preschool",null,null,null,null,null,null,null,null,null,null,null,null,null,null,null,null,null,"N/A",null,null,"N/A","N/A"]
[1283,"$B$4",339,"Jefferson County North","Jefferson",3946,null,"USD 339 - K Time Program W/O SPED","Early Childhood Program - General",null,null,null,null,null,null,null,null,null,null,null,null,null,null,null,null,null,"N/A",null,null,"N/A","N/A"]
[1284,"$B$4",339,"Jefferson County North","Jefferson",3948,null,"Jefferson Co North High","High School",null,null,null,null,null,null,null,null,null,null,null,null,null,null,null,null,null,115,null,null,36,0.313]
[1285,"$B$4",339,"Jefferson County North","Jefferson",3950,null,"Jefferson County North Elem/Middle","Elementary",null,null,null,null,null,null,null,null,null,null,null,null,null,null,null,null,null,319,null,null,94,0.29470000000000002]
[1286,"$B$4",340,"Jefferson West","Jefferson",3966,null,"Jefferson West Dist Jefferson Co","Central Office",null,null,null,null,null,null,null,null,null,null,null,null,null,null,null,null,null,"N/A",null,null,"N/A","N/A"]
[1287,"$B$4",340,"Jefferson West","Jefferson",3967,null,"USD 340 - Off Site Non Public Buildings","Special Ed Program - Off Site Community Based",null,null,null,null,null,null,null,null,null,null,null,null,null,null,null,null,null,"N/A",null,null,"N/A","N/A"]
[1288,"$B$4",340,"Jefferson West","Jefferson",3970,null,"Jefferson West High","High School",null,null,null,null,null,null,null,null,null,null,null,null,null,null,null,null,null,258,null,null,51,0.19769999999999999]
[1289,"$B$4",340,"Jefferson West","Jefferson",3971,null,"USD 340 - Home","Special Ed Program - Home",null,null,null,null,null,null,null,null,null,null,null,null,null,null,null,null,null,"N/A",null,null,"N/A","N/A"]
[1290,"$B$4",340,"Jefferson West","Jefferson",3972,null,"Jefferson West Middle","Middle School",null,null,null,null,null,null,null,null,null,null,null,null,null,null,null,null,null,262,null,null,71,0.27100000000000002]
[1291,"$B$4",340,"Jefferson West","Jefferson",3973,null,"USD 340 - Community-Based Preschool","Special Ed Program - Community Based Preschool",null,null,null,null,null,null,null,null,null,null,null,null,null,null,null,null,null,"N/A",null,null,"N/A","N/A"]
[1292,"$B$4",340,"Jefferson West","Jefferson",3974,null,"USD 340 - K Time Program W/O SPED","Early Childhood Program - General",null,null,null,null,null,null,null,null,null,null,null,null,null,null,null,null,null,"N/A",null,null,"N/A","N/A"]
[1293,"$B$4",340,"Jefferson West","Jefferson",3975,null,"Jefferson West Elementary School","Elementary",null,null,null,null,null,null,null,null,null,null,null,null,null,null,null,null,null,307,null,null,80,0.2606]
[1294,"$B$4",341,"Oskaloosa Public Schools","Jefferson",3986,null,"Oskaloosa Dist Jefferson Co","Central Office",null,null,null,null,null,null,null,null,null,null,null,null,null,null,null,null,null,"N/A",null,null,"N/A","N/A"]
[1295,"$B$4",341,"Oskaloosa Public Schools","Jefferson",3987,null,"USD 341 - Off Site Non Public Buildings","Special Ed Program - Off Site Community Based",null,null,null,null,null,null,null,null,null,null,null,null,null,null,null,null,null,"N/A",null,null,"N/A","N/A"]
[1296,"$B$4",341,"Oskaloosa Public Schools","Jefferson",3988,null,"Oskaloosa Elem","Elementary",null,null,null,null,null,null,null,null,null,null,null,null,null,null,null,null,null,292,null,null,113,0.38700000000000001]
[1297,"$B$4",341,"Oskaloosa Public Schools","Jefferson",3991,null,"Oskaloosa JR-SR High School","High School",null,null,null,null,null,null,null,null,null,null,null,null,null,null,null,null,null,260,null,null,103,0.3962]
[1298,"$B$4",341,"Oskaloosa Public Schools","Jefferson",3993,null,"USD 341 - Home","Special Ed Program - Home",null,null,null,null,null,null,null,null,null,null,null,null,null,null,null,null,null,"N/A",null,null,"N/A","N/A"]
[1299,"$B$4",341,"Oskaloosa Public Schools","Jefferson",3994,null,"USD 341 - Community-Based Preschool","Special Ed Program - Community Based Preschool",null,null,null,null,null,null,null,null,null,null,null,null,null,null,null,null,null,"N/A",null,null,"N/A","N/A"]
[1300,"$B$4",341,"Oskaloosa Public Schools","Jefferson",3995,null,"USD 341 - K Time Program W/O SPED","Early Childhood Program - General",null,null,null,null,null,null,null,null,null,null,null,null,null,null,null,null,null,"N/A",null,null,"N/A","N/A"]
[1301,"$B$4",342,"McLouth","Jefferson",4003,null,"USD 342 - Off Site Non Public Buildings","Special Ed Program - Off Site Community Based",null,null,null,null,null,null,null,null,null,null,null,null,null,null,null,null,null,"N/A",null,null,"N/A","N/A"]
[1302,"$B$4",342,"McLouth","Jefferson",4004,null,"USD 342 - Home","Special Ed Program - Home",null,null,null,null,null,null,null,null,null,null,null,null,null,null,null,null,null,"N/A",null,null,"N/A","N/A"]
[1303,"$B$4",342,"McLouth","Jefferson",4005,null,"USD 342 - Community-Based Preschool","Special Ed Program - Community Based Preschool",null,null,null,null,null,null,null,null,null,null,null,null,null,null,null,null,null,"N/A",null,null,"N/A","N/A"]
[1304,"$B$4",342,"McLouth","Jefferson",4006,null,"McLouth Elem","Elementary",null,null,null,null,null,null,null,null,null,null,null,null,null,null,null,null,null,233,null,null,92,0.39479999999999998]
[1305,"$B$4",342,"McLouth","Jefferson",4007,null,"McLouth Middle","Middle School",null,null,null,null,null,null,null,null,null,null,null,null,null,null,null,null,null,92,null,null,31,0.33700000000000002]
[1306,"$B$4",342,"McLouth","Jefferson",4008,null,"McLouth High","High School",null,null,null,null,null,null,null,null,null,null,null,null,null,null,null,null,null,124,null,null,44,0.3548]
[1307,"$B$4",342,"McLouth","Jefferson",4009,null,"USD 342 - K Time Program W/O SPED","Early Childhood Program - General",null,null,null,null,null,null,null,null,null,null,null,null,null,null,null,null,null,"N/A",null,null,"N/A","N/A"]
[1308,"$B$4",343,"Perry Public Schools","Jefferson",4019,null,"USD 343 - Off Site Non Public Buildings","Special Ed Program - Off Site Community Based",null,null,null,null,null,null,null,null,null,null,null,null,null,null,null,null,null,"N/A",null,null,"N/A","N/A"]
[1309,"$B$4",343,"Perry Public Schools","Jefferson",4021,null,"USD 343 - Home","Special Ed Program - Home",null,null,null,null,null,null,null,null,null,null,null,null,null,null,null,null,null,"N/A",null,null,"N/A","N/A"]
[1310,"$B$4",343,"Perry Public Schools","Jefferson",4022,null,"Lecompton Elem","Elementary",null,null,null,null,null,null,null,null,null,null,null,null,null,null,null,null,null,273,null,null,102,0.37359999999999999]
[1311,"$B$4",343,"Perry Public Schools","Jefferson",4023,null,"USD 343 - Community-Based Preschool","Special Ed Program - Community Based Preschool",null,null,null,null,null,null,null,null,null,null,null,null,null,null,null,null,null,"N/A",null,null,"N/A","N/A"]
[1312,"$B$4",343,"Perry Public Schools","Jefferson",4024,null,"USD 343 - K Time Program W/O SPED","Early Childhood Program - General",null,null,null,null,null,null,null,null,null,null,null,null,null,null,null,null,null,"N/A",null,null,"N/A","N/A"]
[1313,"$B$4",343,"Perry Public Schools","Jefferson",4029,null,"Perry-Lecompton Middle","Middle School",null,null,null,null,null,null,null,null,null,null,null,null,null,null,null,null,null,207,null,null,66,0.31879999999999997]
[1314,"$B$4",343,"Perry Public Schools","Jefferson",4030,null,"Perry Lecompton High","High School",null,null,null,null,null,null,null,null,null,null,null,null,null,null,null,null,null,279,null,null,94,0.33689999999999998]
[1315,"$B$4",344,"Pleasanton","Linn",4035,null,"USD 344 - Off Site Non Public Buildings","Special Ed Program - Off Site Community Based",null,null,null,null,null,null,null,null,null,null,null,null,null,null,null,null,null,"N/A",null,null,"N/A","N/A"]
[1316,"$B$4",344,"Pleasanton","Linn",4036,null,"USD 344 - Public Off-Site Preschools","Special Ed Program - Off Site Preschool",null,null,null,null,null,null,null,null,null,null,null,null,null,null,null,null,null,"N/A",null,null,"N/A","N/A"]
[1317,"$B$4",344,"Pleasanton","Linn",4037,null,"USD 344 - Home","Special Ed Program - Home",null,null,null,null,null,null,null,null,null,null,null,null,null,null,null,null,null,"N/A",null,null,"N/A","N/A"]
[1318,"$B$4",344,"Pleasanton","Linn",4038,null,"Pleasanton Elem","Elementary",null,null,null,null,null,null,null,null,null,null,null,null,null,null,null,null,null,181,null,null,93,0.51380000000000003]
[1319,"$B$4",344,"Pleasanton","Linn",4039,null,"USD 344 - K Time Program W/O SPED","Early Childhood Program - General",null,null,null,null,null,null,null,null,null,null,null,null,null,null,null,null,null,"N/A",null,null,"N/A","N/A"]
[1320,"$B$4",344,"Pleasanton","Linn",4040,null,"Pleasanton High","High School",null,null,null,null,null,null,null,null,null,null,null,null,null,null,null,null,null,178,null,null,91,0.51119999999999999]
[1321,"$B$4",345,"Seaman","Shawnee",4053,null,"Mathes Early Learning Center","Special Ed Program - Public School Administered",null,null,null,null,null,null,null,null,null,null,null,null,null,null,null,null,null,"N/A",null,null,"N/A","N/A"]
[1322,"$B$4",345,"Seaman","Shawnee",4054,null,"Logan Elementary","Elementary",null,null,null,null,null,null,null,null,null,null,null,null,null,null,null,null,null,565,null,null,332,0.58760000000000001]
[1323,"$B$4",345,"Seaman","Shawnee",4055,null,"North Fairview","Elementary",null,null,null,null,null,null,null,null,null,null,null,null,null,null,null,null,null,305,null,null,82,0.26889999999999997]
[1324,"$B$4",345,"Seaman","Shawnee",4057,null,"USD 345 - Off Site Non Public Buildings","Special Ed Program - Off Site Community Based",null,null,null,null,null,null,null,null,null,null,null,null,null,null,null,null,null,"N/A",null,null,"N/A","N/A"]
[1325,"$B$4",345,"Seaman","Shawnee",4058,null,"Elmont Elem","Elementary",null,null,null,null,null,null,null,null,null,null,null,null,null,null,null,null,null,324,null,null,66,0.20369999999999999]
[1326,"$B$4",345,"Seaman","Shawnee",4059,null,"USD 345 - Public Off-Site Preschools","Special Ed Program - Off Site Preschool",null,null,null,null,null,null,null,null,null,null,null,null,null,null,null,null,null,"N/A",null,null,"N/A","N/A"]
[1327,"$B$4",345,"Seaman","Shawnee",4061,null,"USD 345 - Home","Special Ed Program - Home",null,null,null,null,null,null,null,null,null,null,null,null,null,null,null,null,null,"N/A",null,null,"N/A","N/A"]
[1328,"$B$4",345,"Seaman","Shawnee",4063,null,"USD 345 - Community-Based Preschool","Special Ed Program - Community Based Preschool",null,null,null,null,null,null,null,null,null,null,null,null,null,null,null,null,null,"N/A",null,null,"N/A","N/A"]
[1329,"$B$4",345,"Seaman","Shawnee",4065,null,"Public Off Campus (LEAP Program)","Special Ed Program - Public School Administered",null,null,null,null,null,null,null,null,null,null,null,null,null,null,null,null,null,"N/A",null,null,"N/A","N/A"]
[1330,"$B$4",345,"Seaman","Shawnee",4067,null,"USD 345 - K Time Program W/O SPED","Early Childhood Program - General",null,null,null,null,null,null,null,null,null,null,null,null,null,null,null,null,null,"N/A",null,null,"N/A","N/A"]
[1331,"$B$4",345,"Seaman","Shawnee",4069,null,"Northern Hills Elementary","Elementary",null,null,null,null,null,null,null,null,null,null,null,null,null,null,null,null,null,387,null,null,137,0.35399999999999998]
[1332,"$B$4",345,"Seaman","Shawnee",4071,null,"Pleasant HIll Learning Campus","Other",null,null,null,null,null,null,null,null,null,null,null,null,null,null,null,null,null,"N/A",null,null,"N/A","N/A"]
[1333,"$B$4",345,"Seaman","Shawnee",4072,null,"West Indianola Elem","Elementary",null,null,null,null,null,null,null,null,null,null,null,null,null,null,null,null,null,426,null,null,88,0.20660000000000001]
[1334,"$B$4",345,"Seaman","Shawnee",4075,null,"Seaman Middle School","Middle School",null,null,null,null,null,null,null,null,null,null,null,null,null,null,null,null,null,585,null,null,192,0.32819999999999999]
[1335,"$B$4",345,"Seaman","Shawnee",4076,null,"Seaman High","High School",null,null,null,null,null,null,null,null,null,null,null,null,null,null,null,null,null,1239,null,null,333,0.26879999999999998]
[1336,"$B$4",346,"Jayhawk","Miami",4087,null,"USD 346 - Off Site Non Public Buildings","Special Ed Program - Off Site Community Based",null,null,null,null,null,null,null,null,null,null,null,null,null,null,null,null,null,"N/A",null,null,"N/A","N/A"]
[1337,"$B$4",346,"Jayhawk","Linn",4089,null,"USD 346 - Public Off-Site Preschools","Special Ed Program - Off Site Preschool",null,null,null,null,null,null,null,null,null,null,null,null,null,null,null,null,null,"N/A",null,null,"N/A","N/A"]
[1338,"$B$4",346,"Jayhawk","Linn",4090,null,"USD 346 - Home","Special Ed Program - Home",null,null,null,null,null,null,null,null,null,null,null,null,null,null,null,null,null,"N/A",null,null,"N/A","N/A"]
[1339,"$B$4",346,"Jayhawk","Linn",4091,null,"USD 346 - Community-Based Preschool","Special Ed Program - Community Based Preschool",null,null,null,null,null,null,null,null,null,null,null,null,null,null,null,null,null,"N/A",null,null,"N/A","N/A"]
[null,null,346,"Jayhawk","Linn",4092,null,"Jayhawk Elementary","Elementary",null,null,null,null,null,null,null,null,null,null,null,null,null,null,null,null,null,306,null,null,169,0.55230000000000001]
[null,null,346,"Jayhawk","Linn",4094,null,"Jayhawk-Linn High","High School",null,null,null,null,null,null,null,null,null,null,null,null,null,null,null,null,null,259,null,null,102,0.39379999999999998]
[null,null,346,"Jayhawk","Linn",4095,null,"USD 346 - K Time Program W/O SPED","Early Childhood Program - General",null,null,null,null,null,null,null,null,null,null,null,null,null,null,null,null,null,"N/A",null,null,"N/A","N/A"]
[null,null,347,"Kinsley-Offerle","Edwards",4111,null,"USD 347 - Off Site Non Public Buildings","Special Ed Program - Off Site Community Based",null,null,null,null,null,null,null,null,null,null,null,null,null,null,null,null,null,"N/A",null,null,"N/A","N/A"]
[null,null,347,"Kinsley-Offerle","Edwards",4113,null,"USD 347 - Public Off-Site Preschools","Special Ed Program - Off Site Preschool",null,null,null,null,null,null,null,null,null,null,null,null,null,null,null,null,null,"N/A",null,null,"N/A","N/A"]
[null,null,347,"Kinsley-Offerle","Edwards",4115,null,"USD 347 - Home","Special Ed Program - Home",null,null,null,null,null,null,null,null,null,null,null,null,null,null,null,null,null,"N/A",null,null,"N/A","N/A"]
[null,null,347,"Kinsley-Offerle","Edwards",4116,null,"USD 347 - K Time Program W/O SPED","Early Childhood Program - General",null,null,null,null,null,null,null,null,null,null,null,null,null,null,null,null,null,"N/A",null,null,"N/A","N/A"]
[null,null,347,"Kinsley-Offerle","Edwards",4117,null,"Kinsley Jr/Sr High School","High School",null,null,null,null,null,null,null,null,null,null,null,null,null,null,null,null,null,157,null,null,67,0.42680000000000001]
[null,null,347,"Kinsley-Offerle","Edwards",4120,null,"Kinsley-Offerle Elementary Pre-K-5","Elementary",null,null,null,null,null,null,null,null,null,null,null,null,null,null,null,null,null,123,null,null,66,0.53659999999999997]
[null,null,348,"Baldwin City","Douglas",4138,null,"Baldwin Dist Douglas Co","Central Office",null,null,null,null,null,null,null,null,null,null,null,null,null,null,null,null,null,"N/A",null,null,"N/A","N/A"]
[null,null,348,"Baldwin City","Douglas",4139,null,"USD 348 - Off Site Non Public Buildings","Special Ed Program - Off Site Community Based",null,null,null,null,null,null,null,null,null,null,null,null,null,null,null,null,null,"N/A",null,null,"N/A","N/A"]
[null,null,348,"Baldwin City","Douglas",4141,null,"Baldwin Junior High School","Junior High School",null,null,null,null,null,null,null,null,null,null,null,null,null,null,null,null,null,313,null,null,77,0.246]
[null,null,348,"Baldwin City","Douglas",4142,null,"Baldwin High School","High School",null,null,null,null,null,null,null,null,null,null,null,null,null,null,null,null,null,428,null,null,87,0.20330000000000001]
[null,null,348,"Baldwin City","Douglas",4147,null,"USD 348 - Home","Special Ed Program - Home",null,null,null,null,null,null,null,null,null,null,null,null,null,null,null,null,null,"N/A",null,null,"N/A","N/A"]
[null,null,348,"Baldwin City","Douglas",4148,null,"USD 348 - Community-Based Preschool","Special Ed Program - Community Based Preschool",null,null,null,null,null,null,null,null,null,null,null,null,null,null,null,null,null,"N/A",null,null,"N/A","N/A"]
[null,null,348,"Baldwin City","Douglas",4149,null,"USD 348 - K Time Program W/O SPED","Early Childhood Program - General",null,null,null,null,null,null,null,null,null,null,null,null,null,null,null,null,null,"N/A",null,null,"N/A","N/A"]
[null,null,348,"Baldwin City","Douglas",4150,null,"Baldwin Elementary Primary Center","Elementary",null,null,null,null,null,null,null,null,null,null,null,null,null,null,null,null,null,346,null,null,82,0.23699999999999999]
[null,null,348,"Baldwin City","Douglas",4151,null,"Baldwin Elementary Intermediate Center","Elementary",null,null,null,null,null,null,null,null,null,null,null,null,null,null,null,null,null,271,null,null,57,0.21029999999999999]
[null,null,349,"Stafford","Stafford",4156,null,"Stafford Dist Stafford Co","Central Office",null,null,null,null,null,null,null,null,null,null,null,null,null,null,null,null,null,"N/A",null,null,"N/A","N/A"]
[null,null,349,"Stafford","Stafford",4157,null,"USD 349 - Off Site Non Public Buildings","Special Ed Program - Off Site Community Based",null,null,null,null,null,null,null,null,null,null,null,null,null,null,null,null,null,"N/A",null,null,"N/A","N/A"]
[null,null,349,"Stafford","Stafford",4158,null,"Stafford Elementary","Elementary",null,null,null,null,null,null,null,null,null,null,null,null,null,null,null,null,null,131,null,null,74,0.56489999999999996]
[null,null,349,"Stafford","Stafford",4159,null,"USD 349 - Hospital","Special Ed Program - Hospital",null,null,null,null,null,null,null,null,null,null,null,null,null,null,null,null,null,"N/A",null,null,"N/A","N/A"]
[null,null,349,"Stafford","Stafford",4160,null,"USD 349 - Home","Special Ed Program - Home",null,null,null,null,null,null,null,null,null,null,null,null,null,null,null,null,null,"N/A",null,null,"N/A","N/A"]
[null,null,349,"Stafford","Stafford",4161,null,"USD 349 - Community-Based Preschool","Special Ed Program - Community Based Preschool",null,null,null,null,null,null,null,null,null,null,null,null,null,null,null,null,null,"N/A",null,null,"N/A","N/A"]
[null,null,349,"Stafford","Stafford",4162,null,"USD 349 - K Time Program W/O SPED","Early Childhood Program - General",null,null,null,null,null,null,null,null,null,null,null,null,null,null,null,null,null,"N/A",null,null,"N/A","N/A"]
[null,null,349,"Stafford","Stafford",4164,null,"Stafford Middle School/High School","High School",null,null,null,null,null,null,null,null,null,null,null,null,null,null,null,null,null,95,null,null,48,0.50529999999999997]
[null,null,350,"St John-Hudson","Stafford",4175,null,"USD 350 - Off Site Non Public Buildings","Special Ed Program - Off Site Community Based",null,null,null,null,null,null,null,null,null,null,null,null,null,null,null,null,null,"N/A",null,null,"N/A","N/A"]
[null,null,350,"St John-Hudson","Stafford",4177,null,"USD 350 - Hospital","Special Ed Program - Hospital",null,null,null,null,null,null,null,null,null,null,null,null,null,null,null,null,null,"N/A",null,null,"N/A","N/A"]
[null,null,350,"St John-Hudson","Stafford",4179,null,"USD 350 - Home","Special Ed Program - Home",null,null,null,null,null,null,null,null,null,null,null,null,null,null,null,null,null,"N/A",null,null,"N/A","N/A"]
[null,null,350,"St John-Hudson","Stafford",4180,null,"St John Elem","Elementary",null,null,null,null,null,null,null,null,null,null,null,null,null,null,null,null,null,187,null,null,67,0.35830000000000001]
[null,null,350,"St John-Hudson","Stafford",4181,null,"USD 350 - K Time Program W/O SPED","Early Childhood Program - General",null,null,null,null,null,null,null,null,null,null,null,null,null,null,null,null,null,"N/A",null,null,"N/A","N/A"]
[null,null,350,"St John-Hudson","Stafford",4182,null,"St John High","High School",null,null,null,null,null,null,null,null,null,null,null,null,null,null,null,null,null,139,null,null,67,0.48199999999999998]
[null,null,351,"Macksville","Stafford",4193,null,"USD 351 - Off Site Non Public Buildings","Special Ed Program - Off Site Community Based",null,null,null,null,null,null,null,null,null,null,null,null,null,null,null,null,null,"N/A",null,null,"N/A","N/A"]
[null,null,351,"Macksville","Stafford",4194,null,"USD 351 - Home","Special Ed Program - Home",null,null,null,null,null,null,null,null,null,null,null,null,null,null,null,null,null,"N/A",null,null,"N/A","N/A"]
[null,null,351,"Macksville","Stafford",4195,null,"USD 351 - K Time Program W/O SPED","Early Childhood Program - General",null,null,null,null,null,null,null,null,null,null,null,null,null,null,null,null,null,"N/A",null,null,"N/A","N/A"]
[null,null,351,"Macksville","Stafford",4196,null,"Macksville Elem","Elementary",null,null,null,null,null,null,null,null,null,null,null,null,null,null,null,null,null,106,null,null,58,0.54720000000000002]
[null,null,351,"Macksville","Stafford",4200,null,"Macksville High","High School",null,null,null,null,null,null,null,null,null,null,null,null,null,null,null,null,null,86,null,null,49,0.56979999999999997]
[null,null,352,"Goodland","Sherman",4220,null,"Goodland Dist Sherman Co","Central Office",null,null,null,null,null,null,null,null,null,null,null,null,null,null,null,null,null,"N/A",null,null,"N/A","N/A"]
[null,null,352,"Goodland","Sherman",4221,null,"USD 352 - Off Site Non Public Buildings","Special Ed Program - Off Site Community Based",null,null,null,null,null,null,null,null,null,null,null,null,null,null,null,null,null,"N/A",null,null,"N/A","N/A"]
[null,null,352,"Goodland","Sherman",4223,null,"USD 352 - Home","Special Ed Program - Home",null,null,null,null,null,null,null,null,null,null,null,null,null,null,null,null,null,"N/A",null,null,"N/A","N/A"]
[null,null,352,"Goodland","Sherman",4225,null,"USD 352 - Community-Based Preschool","Special Ed Program - Community Based Preschool",null,null,null,null,null,null,null,null,null,null,null,null,null,null,null,null,null,"N/A",null,null,"N/A","N/A"]
[null,null,352,"Goodland","Sherman",4226,null,"USD 352 - K Time Program W/O SPED","Early Childhood Program - General",null,null,null,null,null,null,null,null,null,null,null,null,null,null,null,null,null,"N/A",null,null,"N/A","N/A"]
[null,null,352,"Goodland","Sherman",4228,null,"Goodland Jr-Sr. High School","High School",null,null,null,null,null,null,null,null,null,null,null,null,null,null,null,null,null,413,null,null,148,0.3584]
[null,null,352,"Goodland","Sherman",4230,null,"North Elementary","Elementary",null,null,null,null,null,null,null,null,null,null,null,null,null,null,null,null,null,259,null,null,110,0.42470000000000002]
[null,null,352,"Goodland","Sherman",4232,null,"Sherman County Early Childhood Center","Special Ed Program - Off Site Preschool",null,null,null,null,null,null,null,null,null,null,null,null,null,null,null,null,null,"N/A",null,null,"N/A","N/A"]
[null,null,352,"Goodland","Sherman",4233,null,"Goodland Virtual School","High School",null,null,null,null,null,null,null,null,null,null,null,null,null,null,null,null,null,1,null,null,0,0]
[null,null,352,"Goodland","Sherman",4234,null,"Goodland Learning Center","High School",null,null,null,null,null,null,null,null,null,null,null,null,null,null,null,null,null,6,null,null,0,0]
[null,null,352,"Goodland","Sherman",4239,null,"West Elementary","Elementary",null,null,null,null,null,null,null,null,null,null,null,null,null,null,null,null,null,234,null,null,127,0.54269999999999996]
[null,null,353,"Wellington","Sumner",4247,null,"USD 353 - Off Site Non Public Buildings","Special Ed Program - Off Site Community Based",null,null,null,null,null,null,null,null,null,null,null,null,null,null,null,null,null,"N/A",null,null,"N/A","N/A"]
[null,null,353,"Wellington","Sumner",4248,null,"USD 353 - Home","Special Ed Program - Home",null,null,null,null,null,null,null,null,null,null,null,null,null,null,null,null,null,"N/A",null,null,"N/A","N/A"]
[null,null,353,"Wellington","Sumner",4251,null,"USD 353 - Public Off Campus","Special Ed Program - Public School Administered",null,null,null,null,null,null,null,null,null,null,null,null,null,null,null,null,null,"N/A",null,null,"N/A","N/A"]
[null,null,353,"Wellington","Sumner",4252,null,"USD 353 - K Time Program W/O SPED","Early Childhood Program - General",null,null,null,null,null,null,null,null,null,null,null,null,null,null,null,null,null,"N/A",null,null,"N/A","N/A"]
[null,null,353,"Wellington","Sumner",4253,null,"Wee Too Preschool","Special Ed Program - Off Site Preschool",null,null,null,null,null,null,null,null,null,null,null,null,null,null,null,null,null,"N/A",null,null,"N/A","N/A"]
[null,null,353,"Wellington","Sumner",4255,null,"Wellington Virtual School","High School",null,null,null,null,null,null,null,null,null,null,null,null,null,null,null,null,null,1,null,null,0,0]
[null,null,353,"Wellington","Sumner",4260,null,"Eisenhower Elem","Elementary",null,null,null,null,null,null,null,null,null,null,null,null,null,null,null,null,null,261,null,null,106,0.40610000000000002]
[null,null,353,"Wellington","Sumner",4265,null,"Kennedy Elem","Elementary",null,null,null,null,null,null,null,null,null,null,null,null,null,null,null,null,null,129,null,null,93,0.72089999999999999]
[null,null,353,"Wellington","Sumner",4266,null,"Lincoln Elem","Elementary",null,null,null,null,null,null,null,null,null,null,null,null,null,null,null,null,null,151,null,null,112,0.74170000000000003]
[null,null,353,"Wellington","Sumner",4274,null,"Washington Elem","Elementary",null,null,null,null,null,null,null,null,null,null,null,null,null,null,null,null,null,90,null,null,53,0.58889999999999998]
[null,null,353,"Wellington","Sumner",4276,null,"Wellington Middle School","Middle School",null,null,null,null,null,null,null,null,null,null,null,null,null,null,null,null,null,375,null,null,212,0.56530000000000002]
[null,null,353,"Wellington","Sumner",4280,null,"Wellington High School","High School",null,null,null,null,null,null,null,null,null,null,null,null,null,null,null,null,null,478,null,null,222,0.46439999999999998]
[null,null,355,"Ellinwood Public Schools","Barton",4316,null,"Ellinwood Dist Barton Co","Central Office",null,null,null,null,null,null,null,null,null,null,null,null,null,null,null,null,null,"N/A",null,null,"N/A","N/A"]
[null,null,355,"Ellinwood Public Schools","Barton",4317,null,"USD 355 - Off Site Non Public Buildings","Special Ed Program - Off Site Community Based",null,null,null,null,null,null,null,null,null,null,null,null,null,null,null,null,null,"N/A",null,null,"N/A","N/A"]
[null,null,355,"Ellinwood Public Schools","Barton",4318,null,"Ellinwood Elem","Elementary",null,null,null,null,null,null,null,null,null,null,null,null,null,null,null,null,null,232,null,null,94,0.4052]
[null,null,355,"Ellinwood Public Schools","Barton",4319,null,"USD 355 - Home","Special Ed Program - Home",null,null,null,null,null,null,null,null,null,null,null,null,null,null,null,null,null,"N/A",null,null,"N/A","N/A"]
[null,null,355,"Ellinwood Public Schools","Barton",4320,null,"Ellinwood  Middle School","Middle School",null,null,null,null,null,null,null,null,null,null,null,null,null,null,null,null,null,76,null,null,19,0.25]
[null,null,355,"Ellinwood Public Schools","Barton",4321,null,"USD 355 - Community-Based Preschool","Special Ed Program - Community Based Preschool",null,null,null,null,null,null,null,null,null,null,null,null,null,null,null,null,null,"N/A",null,null,"N/A","N/A"]
[null,null,355,"Ellinwood Public Schools","Barton",4322,null,"Ellinwood High","High School",null,null,null,null,null,null,null,null,null,null,null,null,null,null,null,null,null,156,null,null,53,0.3397]
[null,null,355,"Ellinwood Public Schools","Barton",4323,null,"USD 355 - K Time Program W/O SPED","Early Childhood Program - General",null,null,null,null,null,null,null,null,null,null,null,null,null,null,null,null,null,"N/A",null,null,"N/A","N/A"]
[null,null,356,"Conway Springs","Sumner",4337,null,"USD 356 - Off Site Non Public Buildings","Special Ed Program - Off Site Community Based",null,null,null,null,null,null,null,null,null,null,null,null,null,null,null,null,null,"N/A",null,null,"N/A","N/A"]
[null,null,356,"Conway Springs","Sumner",4338,null,"USD 356 - Home","Special Ed Program - Home",null,null,null,null,null,null,null,null,null,null,null,null,null,null,null,null,null,"N/A",null,null,"N/A","N/A"]
[null,null,356,"Conway Springs","Sumner",4339,null,"USD 356 - Community-Based Preschool","Special Ed Program - Community Based Preschool",null,null,null,null,null,null,null,null,null,null,null,null,null,null,null,null,null,"N/A",null,null,"N/A","N/A"]
[null,null,356,"Conway Springs","Sumner",4340,null,"Conway Springs Kyle Trueblood","Elementary",null,null,null,null,null,null,null,null,null,null,null,null,null,null,null,null,null,227,null,null,62,0.27310000000000001]
[null,null,356,"Conway Springs","Sumner",4341,null,"Conway Springs Middle School","Middle School",null,null,null,null,null,null,null,null,null,null,null,null,null,null,null,null,null,103,null,null,28,0.27179999999999999]
[null,null,356,"Conway Springs","Sumner",4342,null,"Conway Springs High School","High School",null,null,null,null,null,null,null,null,null,null,null,null,null,null,null,null,null,149,null,null,27,0.1812]
[null,null,356,"Conway Springs","Sumner",4343,null,"USD 356 - K Time Program W/O SPED","Early Childhood Program - General",null,null,null,null,null,null,null,null,null,null,null,null,null,null,null,null,null,"N/A",null,null,"N/A","N/A"]
[null,null,357,"Belle Plaine","Sumner",4360,null,"Belle Plaine Dist Sumner Co","Central Office",null,null,null,null,null,null,null,null,null,null,null,null,null,null,null,null,null,"N/A",null,null,"N/A","N/A"]
[null,null,357,"Belle Plaine","Sumner",4361,null,"USD 357 - Off Site Non Public Buildings","Special Ed Program - Off Site Community Based",null,null,null,null,null,null,null,null,null,null,null,null,null,null,null,null,null,"N/A",null,null,"N/A","N/A"]
[null,null,357,"Belle Plaine","Sumner",4362,null,"Belle Plaine Elem","Elementary",null,null,null,null,null,null,null,null,null,null,null,null,null,null,null,null,null,200,null,null,87,0.435]
[null,null,357,"Belle Plaine","Sumner",4363,null,"Belle Plaine Middle","Middle School",null,null,null,null,null,null,null,null,null,null,null,null,null,null,null,null,null,175,null,null,83,0.4743]
[null,null,357,"Belle Plaine","Sumner",4364,null,"Belle Plaine High","High School",null,null,null,null,null,null,null,null,null,null,null,null,null,null,null,null,null,176,null,null,64,0.36359999999999998]
[null,null,357,"Belle Plaine","Sumner",4365,null,"USD 357 - Home","Special Ed Program - Home",null,null,null,null,null,null,null,null,null,null,null,null,null,null,null,null,null,"N/A",null,null,"N/A","N/A"]
[null,null,357,"Belle Plaine","Sumner",4366,null,"USD 357 - K Time Program W/O SPED","Early Childhood Program - General",null,null,null,null,null,null,null,null,null,null,null,null,null,null,null,null,null,"N/A",null,null,"N/A","N/A"]
[null,null,357,"Belle Plaine","Sumner",4367,null,"Orion Diploma Completion Center","Special Ed Program - Public School Administered",null,null,null,null,null,null,null,null,null,null,null,null,null,null,null,null,null,"N/A",null,null,"N/A","N/A"]
[null,null,358,"Oxford","Sumner",4379,null,"Oxford Online Virtual School","Other",null,null,null,null,null,null,null,null,null,null,null,null,null,null,null,null,null,43,null,null,2,4.65E-2]
[null,null,358,"Oxford","Sumner",4381,null,"USD 358 - Off Site Non Public Buildings","Special Ed Program - Off Site Community Based",null,null,null,null,null,null,null,null,null,null,null,null,null,null,null,null,null,"N/A",null,null,"N/A","N/A"]
[null,null,358,"Oxford","Sumner",4382,null,"USD 358 - Home","Special Ed Program - Home",null,null,null,null,null,null,null,null,null,null,null,null,null,null,null,null,null,"N/A",null,null,"N/A","N/A"]
[null,null,358,"Oxford","Sumner",4384,null,"USD 358 - K Time Program W/O SPED","Early Childhood Program - General",null,null,null,null,null,null,null,null,null,null,null,null,null,null,null,null,null,"N/A",null,null,"N/A","N/A"]
[null,null,358,"Oxford","Sumner",4388,null,"Oxford Elem","Elementary",null,null,null,null,null,null,null,null,null,null,null,null,null,null,null,null,null,198,null,null,80,0.40400000000000003]
[null,null,358,"Oxford","Sumner",4390,null,"Oxford Jr/Sr High","High School",null,null,null,null,null,null,null,null,null,null,null,null,null,null,null,null,null,221,null,null,64,0.28960000000000002]
[null,null,359,"Argonia Public Schools","Sumner",4403,null,"USD 359 - Off Site Non Public Buildings","Special Ed Program - Off Site Community Based",null,null,null,null,null,null,null,null,null,null,null,null,null,null,null,null,null,"N/A",null,null,"N/A","N/A"]
[null,null,359,"Argonia Public Schools","Sumner",4404,null,"Argonia Elem","Elementary",null,null,null,null,null,null,null,null,null,null,null,null,null,null,null,null,null,64,null,null,29,0.4531]
[null,null,359,"Argonia Public Schools","Sumner",4405,null,"USD 359 - Home","Special Ed Program - Home",null,null,null,null,null,null,null,null,null,null,null,null,null,null,null,null,null,"N/A",null,null,"N/A","N/A"]
[null,null,359,"Argonia Public Schools","Sumner",4406,null,"Argonia High","High School",null,null,null,null,null,null,null,null,null,null,null,null,null,null,null,null,null,81,null,null,28,0.34570000000000001]
[null,null,359,"Argonia Public Schools","Sumner",4407,null,"USD 359 - K Time Program W/O SPED","Early Childhood Program - General",null,null,null,null,null,null,null,null,null,null,null,null,null,null,null,null,null,"N/A",null,null,"N/A","N/A"]
[null,null,360,"Caldwell","Sumner",4419,null,"USD 360 - Off Site Non Public Buildings","Special Ed Program - Off Site Community Based",null,null,null,null,null,null,null,null,null,null,null,null,null,null,null,null,null,"N/A",null,null,"N/A","N/A"]
[null,null,360,"Caldwell","Sumner",4420,null,"Caldwell Elem","Elementary",null,null,null,null,null,null,null,null,null,null,null,null,null,null,null,null,null,133,null,null,80,0.60150000000000003]
[null,null,360,"Caldwell","Sumner",4422,null,"Caldwell Secondary School","High School",null,null,null,null,null,null,null,null,null,null,null,null,null,null,null,null,null,106,null,null,54,0.50939999999999996]
[null,null,360,"Caldwell","Sumner",4423,null,"USD 360 - Home","Special Ed Program - Home",null,null,null,null,null,null,null,null,null,null,null,null,null,null,null,null,null,"N/A",null,null,"N/A","N/A"]
[null,null,360,"Caldwell","Sumner",4427,null,"USD 360 - K Time Program W/O SPED","Early Childhood Program - General",null,null,null,null,null,null,null,null,null,null,null,null,null,null,null,null,null,"N/A",null,null,"N/A","N/A"]
[null,null,360,"Caldwell","Sumner",4428,null,"Caldwell Secondary School-Chisholm Trail eLea","High School",null,null,null,null,null,null,null,null,null,null,null,null,null,null,null,null,null,9,null,null,1,0.1111]
[null,null,361,"Chaparral Schools","Harper",4435,null,"USD 361 - Off Site Non Public Buildings","Special Ed Program - Off Site Community Based",null,null,null,null,null,null,null,null,null,null,null,null,null,null,null,null,null,"N/A",null,null,"N/A","N/A"]
[null,null,361,"Chaparral Schools","Harper",4437,null,"USD 361 - Home","Special Ed Program - Home",null,null,null,null,null,null,null,null,null,null,null,null,null,null,null,null,null,"N/A",null,null,"N/A","N/A"]
[null,null,361,"Chaparral Schools","Harper",4438,null,"Anthony Elem","Elementary",null,null,null,null,null,null,null,null,null,null,null,null,null,null,null,null,null,210,null,null,112,0.5333]
[null,null,361,"Chaparral Schools","Harper",4439,null,"USD 361 - Community-Based Preschool","Special Ed Program - Community Based Preschool",null,null,null,null,null,null,null,null,null,null,null,null,null,null,null,null,null,"N/A",null,null,"N/A","N/A"]
[null,null,361,"Chaparral Schools","Harper",4440,null,"USD 361 - K Time Program W/O SPED","Early Childhood Program - General",null,null,null,null,null,null,null,null,null,null,null,null,null,null,null,null,null,"N/A",null,null,"N/A","N/A"]
[null,null,361,"Chaparral Schools","Harper",4441,null,"Chaparral Virtual School","High School",null,null,null,null,null,null,null,null,null,null,null,null,null,null,null,null,null,11,null,null,0,0]
[null,null,361,"Chaparral Schools","Harper",4442,null,"Chaparral Jr/Sr High","High School",null,null,null,null,null,null,null,null,null,null,null,null,null,null,null,null,null,350,null,null,176,0.50290000000000001]
[null,null,361,"Chaparral Schools","Harper",4458,null,"Harper Elem","Elementary",null,null,null,null,null,null,null,null,null,null,null,null,null,null,null,null,null,243,null,null,143,0.58850000000000002]
[null,null,362,"Prairie View","Linn",4483,null,"USD 362 - Off Site Non Public Buildings","Special Ed Program - Off Site Community Based",null,null,null,null,null,null,null,null,null,null,null,null,null,null,null,null,null,"N/A",null,null,"N/A","N/A"]
[null,null,362,"Prairie View","Linn",4484,null,"USD 362 - Home","Special Ed Program - Home",null,null,null,null,null,null,null,null,null,null,null,null,null,null,null,null,null,"N/A",null,null,"N/A","N/A"]
[null,null,362,"Prairie View","Miami",4485,null,"USD 362 - K Time Program W/O SPED","Early Childhood Program - General",null,null,null,null,null,null,null,null,null,null,null,null,null,null,null,null,null,"N/A",null,null,"N/A","N/A"]
[null,null,362,"Prairie View","Linn",4496,null,"Lacygne Elem","Elementary",null,null,null,null,null,null,null,null,null,null,null,null,null,null,null,null,null,195,null,null,101,0.51790000000000003]
[null,null,362,"Prairie View","Linn",4502,null,"Parker Elem","Elementary",null,null,null,null,null,null,null,null,null,null,null,null,null,null,null,null,null,217,null,null,89,0.41010000000000002]
[null,null,362,"Prairie View","Linn",4504,null,"Prairie View Middle","Middle School",null,null,null,null,null,null,null,null,null,null,null,null,null,null,null,null,null,198,null,null,75,0.37880000000000003]
[null,null,362,"Prairie View","Linn",4505,null,"Prairie View High","High School",null,null,null,null,null,null,null,null,null,null,null,null,null,null,null,null,null,239,null,null,92,0.38490000000000002]
[null,null,363,"Holcomb","Finney",4515,null,"USD 363 - Off Site Non Public Buildings","Special Ed Program - Off Site Community Based",null,null,null,null,null,null,null,null,null,null,null,null,null,null,null,null,null,"N/A",null,null,"N/A","N/A"]
[null,null,363,"Holcomb","Finney",4516,null,"Holcomb Elem 3-5","Elementary",null,null,null,null,null,null,null,null,null,null,null,null,null,null,null,null,null,202,null,null,97,0.48020000000000002]
[null,null,363,"Holcomb","Finney",4517,null,"Holcomb Middle","Middle School",null,null,null,null,null,null,null,null,null,null,null,null,null,null,null,null,null,219,null,null,113,0.51600000000000001]
[null,null,363,"Holcomb","Finney",4518,null,"Holcomb High","High School",null,null,null,null,null,null,null,null,null,null,null,null,null,null,null,null,null,301,null,null,127,0.4219]
[null,null,363,"Holcomb","Finney",4519,null,"Wiley Elem","Elementary",null,null,null,null,null,null,null,null,null,null,null,null,null,null,null,null,null,228,null,null,118,0.51749999999999996]
[null,null,363,"Holcomb","Finney",4520,null,"USD 363 - Home","Special Ed Program - Home",null,null,null,null,null,null,null,null,null,null,null,null,null,null,null,null,null,"N/A",null,null,"N/A","N/A"]
[null,null,363,"Holcomb","Finney",4521,null,"USD 363 - K Time Program W/O SPED","Early Childhood Program - General",null,null,null,null,null,null,null,null,null,null,null,null,null,null,null,null,null,"N/A",null,null,"N/A","N/A"]
[null,null,363,"Holcomb","Finney",4522,null,"USD 363 Virtual Academy","High School",null,null,null,null,null,null,null,null,null,null,null,null,null,null,null,null,null,10,null,null,7,0.7]
[null,null,364,"Marysville","Marshall",4529,null,"USD 364 - Off Site Non Public Buildings","Special Ed Program - Off Site Community Based",null,null,null,null,null,null,null,null,null,null,null,null,null,null,null,null,null,"N/A",null,null,"N/A","N/A"]
[null,null,364,"Marysville","Marshall",4531,null,"USD 364 - Home","Special Ed Program - Home",null,null,null,null,null,null,null,null,null,null,null,null,null,null,null,null,null,"N/A",null,null,"N/A","N/A"]
[null,null,364,"Marysville","Marshall",4532,null,"USD 364 - Community-Based Preschool","Special Ed Program - Community Based Preschool",null,null,null,null,null,null,null,null,null,null,null,null,null,null,null,null,null,"N/A",null,null,"N/A","N/A"]
[null,null,364,"Marysville","Marshall",4533,null,"USD 364 - Public Off Campus","Special Ed Program - Public School Administered",null,null,null,null,null,null,null,null,null,null,null,null,null,null,null,null,null,"N/A",null,null,"N/A","N/A"]
[null,null,364,"Marysville","Marshall",4534,null,"USD 364 - K Time Program W/O SPED","Early Childhood Program - General",null,null,null,null,null,null,null,null,null,null,null,null,null,null,null,null,null,"N/A",null,null,"N/A","N/A"]
[null,null,364,"Marysville","Marshall",4545,null,"Marysville Elem","Elementary",null,null,null,null,null,null,null,null,null,null,null,null,null,null,null,null,null,388,null,null,193,0.49740000000000001]
[null,null,364,"Marysville","Marshall",4548,null,"Marysville Jr/Sr High","High School",null,null,null,null,null,null,null,null,null,null,null,null,null,null,null,null,null,391,null,null,139,0.35549999999999998]
[null,null,364,"Marysville","Marshall",4551,null,"Special Services","Special School",null,null,null,null,null,null,null,null,null,null,null,null,null,null,null,null,null,"N/A",null,null,"N/A","N/A"]
[null,null,365,"Garnett","Anderson",4575,null,"USD 365 - Off Site Non Public Buildings","Special Ed Program - Off Site Community Based",null,null,null,null,null,null,null,null,null,null,null,null,null,null,null,null,null,"N/A",null,null,"N/A","N/A"]
[null,null,365,"Garnett","Anderson",4576,null,"USD 365 - Home","Special Ed Program - Home",null,null,null,null,null,null,null,null,null,null,null,null,null,null,null,null,null,"N/A",null,null,"N/A","N/A"]
[null,null,365,"Garnett","Anderson",4577,null,"USD 365 - Community-Based Preschool","Special Ed Program - Community Based Preschool",null,null,null,null,null,null,null,null,null,null,null,null,null,null,null,null,null,"N/A",null,null,"N/A","N/A"]
[null,null,365,"Garnett","Anderson",4579,null,"USD 365 - K Time Program W/O SPED","Early Childhood Program - General",null,null,null,null,null,null,null,null,null,null,null,null,null,null,null,null,null,"N/A",null,null,"N/A","N/A"]
[null,null,365,"Garnett","Anderson",4580,null,"Garnett Elementary School","Elementary",null,null,null,null,null,null,null,null,null,null,null,null,null,null,null,null,null,421,null,null,216,0.5131]
[null,null,365,"Garnett","Anderson",4581,null,"Head Start - 365","Special Ed Program - Off Site Preschool",null,null,null,null,null,null,null,null,null,null,null,null,null,null,null,null,null,"N/A",null,null,"N/A","N/A"]
[null,null,365,"Garnett","Anderson",4592,null,"Greeley Elem","Elementary",null,null,null,null,null,null,null,null,null,null,null,null,null,null,null,null,null,45,null,null,22,0.4889]
[null,null,365,"Garnett","Anderson",4610,null,"Westphalia","Elementary",null,null,null,null,null,null,null,null,null,null,null,null,null,null,null,null,null,52,null,null,14,0.26919999999999999]
[null,null,365,"Garnett","Anderson",4612,null,"Anderson County Jr/Sr High School","High School",null,null,null,null,null,null,null,null,null,null,null,null,null,null,null,null,null,426,null,null,145,0.34039999999999998]
[null,null,366,"Woodson","Woodson",4629,null,"USD 366 - Off Site Non Public Buildings","Special Ed Program - Off Site Community Based",null,null,null,null,null,null,null,null,null,null,null,null,null,null,null,null,null,"N/A",null,null,"N/A","N/A"]
[null,null,366,"Woodson","Woodson",4631,null,"USD 366 - Home","Special Ed Program - Home",null,null,null,null,null,null,null,null,null,null,null,null,null,null,null,null,null,"N/A",null,null,"N/A","N/A"]
[null,null,366,"Woodson","Woodson",4634,null,"USD 366 - K Time Program W/O SPED","Early Childhood Program - General",null,null,null,null,null,null,null,null,null,null,null,null,null,null,null,null,null,"N/A",null,null,"N/A","N/A"]
[null,null,366,"Woodson","Woodson",4639,null,"Yates Center Elem","Elementary",null,null,null,null,null,null,null,null,null,null,null,null,null,null,null,null,null,300,null,null,145,0.48330000000000001]
[null,null,366,"Woodson","Woodson",4646,null,"Yates Center High","High School",null,null,null,null,null,null,null,null,null,null,null,null,null,null,null,null,null,103,null,null,46,0.4466]
[null,null,367,"Osawatomie","Miami",4657,null,"USD 367 - Off Site Non Public Buildings","Special Ed Program - Off Site Community Based",null,null,null,null,null,null,null,null,null,null,null,null,null,null,null,null,null,"N/A",null,null,"N/A","N/A"]
[null,null,367,"Osawatomie","Miami",4658,null,"USD 367 - Public Off-Site Preschools","Special Ed Program - Off Site Preschool",null,null,null,null,null,null,null,null,null,null,null,null,null,null,null,null,null,"N/A",null,null,"N/A","N/A"]
[null,null,367,"Osawatomie","Miami",4659,null,"USD 367 - Home","Special Ed Program - Home",null,null,null,null,null,null,null,null,null,null,null,null,null,null,null,null,null,"N/A",null,null,"N/A","N/A"]
[null,null,367,"Osawatomie","Miami",4661,null,"USD 367 - Community-Based Preschool","Special Ed Program - Community Based Preschool",null,null,null,null,null,null,null,null,null,null,null,null,null,null,null,null,null,"N/A",null,null,"N/A","N/A"]
[null,null,367,"Osawatomie","Miami",4662,null,"Trojan Elem","Elementary",null,null,null,null,null,null,null,null,null,null,null,null,null,null,null,null,null,377,null,null,241,0.63929999999999998]
[null,null,367,"Osawatomie","Miami",4664,null,"Swenson Early Childhood Education Center","Elementary",null,null,null,null,null,null,null,null,null,null,null,null,null,null,null,null,null,169,null,null,113,0.66859999999999997]
[null,null,367,"Osawatomie","Miami",4665,null,"Osawatomie Middle School","Middle School",null,null,null,null,null,null,null,null,null,null,null,null,null,null,null,null,null,227,null,null,114,0.50219999999999998]
[null,null,367,"Osawatomie","Miami",4666,null,"Osawatomie High","High School",null,null,null,null,null,null,null,null,null,null,null,null,null,null,null,null,null,286,null,null,144,0.50349999999999995]
[null,null,367,"Osawatomie","Miami",4667,null,"USD 367 - K Time Program W/O SPED","Early Childhood Program - General",null,null,null,null,null,null,null,null,null,null,null,null,null,null,null,null,null,"N/A",null,null,"N/A","N/A"]
[null,null,367,"Osawatomie","Miami",4669,null,"Head Start","Early Childhood Program - Other",null,null,null,null,null,null,null,null,null,null,null,null,null,null,null,null,null,"N/A",null,null,"N/A","N/A"]
[null,null,367,"Osawatomie","Miami",4671,null,"Osawatomie Virtual School","High School",null,null,null,null,null,null,null,null,null,null,null,null,null,null,null,null,null,5,null,null,2,0.4]
[null,null,368,"Paola","Miami",4686,null,"Paola Dist Miami Co","Central Office",null,null,null,null,null,null,null,null,null,null,null,null,null,null,null,null,null,"N/A",null,null,"N/A","N/A"]
[null,null,368,"Paola","Miami",4688,null,"USD 368 - Off Site Non Public Buildings","Special Ed Program - Off Site Community Based",null,null,null,null,null,null,null,null,null,null,null,null,null,null,null,null,null,"N/A",null,null,"N/A","N/A"]
[null,null,368,"Paola","Miami",4689,null,"USD 368 - Public Off-Site Preschools","Special Ed Program - Off Site Preschool",null,null,null,null,null,null,null,null,null,null,null,null,null,null,null,null,null,"N/A",null,null,"N/A","N/A"]
[null,null,368,"Paola","Miami",4690,null,"Sunflower Elem","Elementary",null,null,null,null,null,null,null,null,null,null,null,null,null,null,null,null,null,403,null,null,134,0.33250000000000002]
[null,null,368,"Paola","Miami",4691,null,"USD 368 - Home","Special Ed Program - Home",null,null,null,null,null,null,null,null,null,null,null,null,null,null,null,null,null,"N/A",null,null,"N/A","N/A"]
[null,null,368,"Paola","Miami",4693,null,"USD 368 - Community-Based Preschool","Special Ed Program - Community Based Preschool",null,null,null,null,null,null,null,null,null,null,null,null,null,null,null,null,null,"N/A",null,null,"N/A","N/A"]
[null,null,368,"Paola","Miami",4694,null,"Paola Middle","Middle School",null,null,null,null,null,null,null,null,null,null,null,null,null,null,null,null,null,431,null,null,119,0.27610000000000001]
[null,null,368,"Paola","Miami",4697,null,"USD 368 - K Time Program W/O SPED","Early Childhood Program - General",null,null,null,null,null,null,null,null,null,null,null,null,null,null,null,null,null,"N/A",null,null,"N/A","N/A"]
[null,null,368,"Paola","Miami",4699,null,"Head Start","Early Childhood Program - Community Preschool or Child Care Center",null,null,null,null,null,null,null,null,null,null,null,null,null,null,null,null,null,"N/A",null,null,"N/A","N/A"]
[null,null,368,"Paola","Miami",4700,null,"Paola High","High School",null,null,null,null,null,null,null,null,null,null,null,null,null,null,null,null,null,558,null,null,143,0.25629999999999997]
[null,null,368,"Paola","Miami",4701,null,"Cottonwood Elem","Elementary",null,null,null,null,null,null,null,null,null,null,null,null,null,null,null,null,null,382,null,null,124,0.3246]
[null,null,368,"Paola","Miami",4703,null,"Lakemary Center, Inc.","Juvenile Detention Center",null,null,null,null,null,null,null,null,null,null,null,null,null,null,null,null,null,"N/A",null,null,"N/A","N/A"]
[null,null,369,"Burrton","Harvey",4733,null,"USD 369 - Off Site Non Public Buildings","Special Ed Program - Off Site Community Based",null,null,null,null,null,null,null,null,null,null,null,null,null,null,null,null,null,"N/A",null,null,"N/A","N/A"]
[null,null,369,"Burrton","Harvey",4734,null,"Burrton Elem","Elementary",null,null,null,null,null,null,null,null,null,null,null,null,null,null,null,null,null,74,null,null,28,0.37840000000000001]
[null,null,369,"Burrton","Harvey",4735,null,"USD 369 - Home","Special Ed Program - Home",null,null,null,null,null,null,null,null,null,null,null,null,null,null,null,null,null,"N/A",null,null,"N/A","N/A"]
[null,null,369,"Burrton","Harvey",4736,null,"Burrton MS/HS","High School",null,null,null,null,null,null,null,null,null,null,null,null,null,null,null,null,null,89,null,null,36,0.40450000000000003]
[null,null,369,"Burrton","Sedgwick",4737,null,"USD 369 - Community-Based Preschool","Special Ed Program - Community Based Preschool",null,null,null,null,null,null,null,null,null,null,null,null,null,null,null,null,null,"N/A",null,null,"N/A","N/A"]
[null,null,369,"Burrton","Harvey",4738,null,"USD 369 - K Time Program W/O SPED","Early Childhood Program - General",null,null,null,null,null,null,null,null,null,null,null,null,null,null,null,null,null,"N/A",null,null,"N/A","N/A"]
[null,null,371,"Montezuma","Gray",4760,null,"Montezuma Dist Gray Co","Central Office",null,null,null,null,null,null,null,null,null,null,null,null,null,null,null,null,null,"N/A",null,null,"N/A","N/A"]
[null,null,371,"Montezuma","Gray",4761,null,"USD 371 - Off Site Non Public Buildings","Special Ed Program - Off Site Community Based",null,null,null,null,null,null,null,null,null,null,null,null,null,null,null,null,null,"N/A",null,null,"N/A","N/A"]
[null,null,371,"Montezuma","Gray",4762,null,"Montezuma Elem","Elementary",null,null,null,null,null,null,null,null,null,null,null,null,null,null,null,null,null,91,null,null,12,0.13189999999999999]
[null,null,371,"Montezuma","Gray",4764,null,"South Gray High","High School",null,null,null,null,null,null,null,null,null,null,null,null,null,null,null,null,null,64,null,null,15,0.2344]
[null,null,371,"Montezuma","Gray",4765,null,"USD 371 - Home","Special Ed Program - Home",null,null,null,null,null,null,null,null,null,null,null,null,null,null,null,null,null,"N/A",null,null,"N/A","N/A"]
[null,null,371,"Montezuma","Gray",4766,null,"USD 371 - K Time Program W/O SPED","Early Childhood Program - General",null,null,null,null,null,null,null,null,null,null,null,null,null,null,null,null,null,"N/A",null,null,"N/A","N/A"]
[null,null,371,"Montezuma","Gray",4767,null,"South Gray Community Learning Center","High School",null,null,null,null,null,null,null,null,null,null,null,null,null,null,null,null,null,22,null,null,0,0]
[null,null,372,"Silver Lake","Shawnee",4775,null,"USD 372 - Off Site Non Public Buildings","Special Ed Program - Off Site Community Based",null,null,null,null,null,null,null,null,null,null,null,null,null,null,null,null,null,"N/A",null,null,"N/A","N/A"]
[null,null,372,"Silver Lake","Shawnee",4776,null,"Silver Lake Elem","Elementary",null,null,null,null,null,null,null,null,null,null,null,null,null,null,null,null,null,344,null,null,61,0.17730000000000001]
[null,null,372,"Silver Lake","Shawnee",4777,null,"USD 372 - Home","Special Ed Program - Home",null,null,null,null,null,null,null,null,null,null,null,null,null,null,null,null,null,"N/A",null,null,"N/A","N/A"]
[null,null,372,"Silver Lake","Shawnee",4778,null,"Silver Lake Jr-Sr High","High School",null,null,null,null,null,null,null,null,null,null,null,null,null,null,null,null,null,330,null,null,55,0.16669999999999999]
[null,null,372,"Silver Lake","Shawnee",4779,null,"USD 372 - K Time Program W/O SPED","Early Childhood Program - General",null,null,null,null,null,null,null,null,null,null,null,null,null,null,null,null,null,"N/A",null,null,"N/A","N/A"]
[null,null,373,"Newton","Harvey",4788,null,"Newton Dist Harvey Co","Central Office",null,null,null,null,null,null,null,null,null,null,null,null,null,null,null,null,null,"N/A",null,null,"N/A","N/A"]
[null,null,373,"Newton","Harvey",4789,null,"USD 373 - Off Site Non Public Buildings","Special Ed Program - Off Site Community Based",null,null,null,null,null,null,null,null,null,null,null,null,null,null,null,null,null,"N/A",null,null,"N/A","N/A"]
[null,null,373,"Newton","Harvey",4793,null,"Cooper Early Education Center","Special Ed Program - Off Site Preschool",null,null,null,null,null,null,null,null,null,null,null,null,null,null,null,null,null,"N/A",null,null,"N/A","N/A"]
[null,null,373,"Newton","Harvey",4795,null,"USD 373 - Home","Special Ed Program - Home",null,null,null,null,null,null,null,null,null,null,null,null,null,null,null,null,null,"N/A",null,null,"N/A","N/A"]
[null,null,373,"Newton","Harvey",4797,null,"USD 373 - Incarceration","Special Ed Program - Incarcerated",null,null,null,null,null,null,null,null,null,null,null,null,null,null,null,null,null,"N/A",null,null,"N/A","N/A"]
[null,null,373,"Newton","Harvey",4808,null,"USD 373 - Community-Based Preschool","Special Ed Program - Community Based Preschool",null,null,null,null,null,null,null,null,null,null,null,null,null,null,null,null,null,"N/A",null,null,"N/A","N/A"]
[null,null,373,"Newton","Harvey",4810,null,"Newton Sr High","High School",null,null,null,null,null,null,null,null,null,null,null,null,null,null,null,null,null,957,null,null,421,0.43990000000000001]
[null,null,373,"Newton","Harvey",4813,null,"USD 373 - K Time Program W/O SPED","Early Childhood Program - General",null,null,null,null,null,null,null,null,null,null,null,null,null,null,null,null,null,"N/A",null,null,"N/A","N/A"]
[null,null,373,"Newton","Harvey",4819,null,"Prairie View","Juvenile Detention Center",null,null,null,null,null,null,null,null,null,null,null,null,null,null,null,null,null,"N/A",null,null,"N/A","N/A"]
[null,null,373,"Newton","Harvey",4821,null,"Chisholm Middle School","Middle School",null,null,null,null,null,null,null,null,null,null,null,null,null,null,null,null,null,489,null,null,237,0.48470000000000002]
[null,null,373,"Newton","Harvey",4823,null,"Northridge Elementary","Elementary",null,null,null,null,null,null,null,null,null,null,null,null,null,null,null,null,null,241,null,null,108,0.4481]
[null,null,373,"Newton","Harvey",4824,null,"Santa Fe 5/6 Center","Elementary",null,null,null,null,null,null,null,null,null,null,null,null,null,null,null,null,null,451,null,null,229,0.50780000000000003]
[null,null,373,"Newton","Harvey",4827,null,"Slate Creek Elementary","Elementary",null,null,null,null,null,null,null,null,null,null,null,null,null,null,null,null,null,268,null,null,129,0.48130000000000001]
[null,null,373,"Newton","Harvey",4831,null,"South Breeze Elementary","Elementary",null,null,null,null,null,null,null,null,null,null,null,null,null,null,null,null,null,335,null,null,171,0.51039999999999996]
[null,null,374,"Sublette","Haskell",4833,null,"USD 374 - Off Site Non Public Buildings","Special Ed Program - Off Site Community Based",null,null,null,null,null,null,null,null,null,null,null,null,null,null,null,null,null,"N/A",null,null,"N/A","N/A"]
[null,null,374,"Sublette","Haskell",4834,null,"Sublette Elem","Elementary",null,null,null,null,null,null,null,null,null,null,null,null,null,null,null,null,null,199,null,null,129,0.6482]
[null,null,374,"Sublette","Haskell",4835,null,"USD 374 - Hospital","Special Ed Program - Hospital",null,null,null,null,null,null,null,null,null,null,null,null,null,null,null,null,null,"N/A",null,null,"N/A","N/A"]
[null,null,374,"Sublette","Haskell",4836,null,"Sublette High","High School",null,null,null,null,null,null,null,null,null,null,null,null,null,null,null,null,null,131,null,null,65,0.49619999999999997]
[null,null,374,"Sublette","Haskell",4837,null,"USD 374 - Home","Special Ed Program - Home",null,null,null,null,null,null,null,null,null,null,null,null,null,null,null,null,null,"N/A",null,null,"N/A","N/A"]
[null,null,374,"Sublette","Haskell",4838,null,"Sublette Middle","Middle School",null,null,null,null,null,null,null,null,null,null,null,null,null,null,null,null,null,58,null,null,24,0.4138]
[null,null,374,"Sublette","Haskell",4840,null,"USD 374 - Public Off Campus","Special Ed Program - Public School Administered",null,null,null,null,null,null,null,null,null,null,null,null,null,null,null,null,null,"N/A",null,null,"N/A","N/A"]
[null,null,374,"Sublette","Haskell",4841,null,"USD 374 - K Time Program W/O SPED","Early Childhood Program - General",null,null,null,null,null,null,null,null,null,null,null,null,null,null,null,null,null,"N/A",null,null,"N/A","N/A"]
[null,null,373,"Newton","Harvey",4842,null,"Sunset Elementary","Elementary",null,null,null,null,null,null,null,null,null,null,null,null,null,null,null,null,null,212,null,null,135,0.63680000000000003]
[null,null,373,"Newton","Harvey",4843,null,"Walton Rural Life Center","Elementary",null,null,null,null,null,null,null,null,null,null,null,null,null,null,null,null,null,132,null,null,60,0.45450000000000002]
[null,null,373,"Newton","Harvey",4845,null,"Parents as Teachers","Early Childhood Program - Parents as Teachers",null,null,null,null,null,null,null,null,null,null,null,null,null,null,null,null,null,"N/A",null,null,"N/A","N/A"]
[null,null,373,"Newton","Harvey",4847,null,"Opportunity Academy","Special School",null,null,null,null,null,null,null,null,null,null,null,null,null,null,null,null,null,59,null,null,48,0.81359999999999999]
[null,null,375,"Circle","Butler",4848,null,"Circle Dist Butler Co","Central Office",null,null,null,null,null,null,null,null,null,null,null,null,null,null,null,null,null,"N/A",null,null,"N/A","N/A"]
[null,null,375,"Circle","Butler",4849,null,"USD 375 - Off Site Non Public Buildings","Special Ed Program - Off Site Community Based",null,null,null,null,null,null,null,null,null,null,null,null,null,null,null,null,null,"N/A",null,null,"N/A","N/A"]
[null,null,375,"Circle","Butler",4850,null,"Circle Benton Elementary","Elementary",null,null,null,null,null,null,null,null,null,null,null,null,null,null,null,null,null,270,null,null,67,0.24809999999999999]
[null,null,375,"Circle","Butler",4852,null,"Circle High","High School",null,null,null,null,null,null,null,null,null,null,null,null,null,null,null,null,null,601,null,null,153,0.25459999999999999]
[null,null,375,"Circle","Butler",4853,null,"USD 375 - Public Off-Site Preschools","Special Ed Program - Off Site Preschool",null,null,null,null,null,null,null,null,null,null,null,null,null,null,null,null,null,"N/A",null,null,"N/A","N/A"]
[null,null,375,"Circle","Butler",4854,null,"Circle Oil Hill Elementary","Elementary",null,null,null,null,null,null,null,null,null,null,null,null,null,null,null,null,null,242,null,null,97,0.40079999999999999]
[null,null,375,"Circle","Butler",4855,null,"USD 375 - Home","Special Ed Program - Home",null,null,null,null,null,null,null,null,null,null,null,null,null,null,null,null,null,"N/A",null,null,"N/A","N/A"]
[null,null,375,"Circle","Butler",4856,null,"Circle Towanda Elementary","Elementary",null,null,null,null,null,null,null,null,null,null,null,null,null,null,null,null,null,295,null,null,134,0.45419999999999999]
[null,null,375,"Circle","Butler",4859,null,"Circle Middle School","Middle School",null,null,null,null,null,null,null,null,null,null,null,null,null,null,null,null,null,303,null,null,80,0.26400000000000001]
[null,null,376,"Sterling","Rice",4860,null,"Sterling Dist Rice Co","Central Office",null,null,null,null,null,null,null,null,null,null,null,null,null,null,null,null,null,"N/A",null,null,"N/A","N/A"]
[null,null,376,"Sterling","Rice",4863,null,"USD 376 - Off Site Non Public Buildings","Special Ed Program - Off Site Community Based",null,null,null,null,null,null,null,null,null,null,null,null,null,null,null,null,null,"N/A",null,null,"N/A","N/A"]
[null,null,376,"Sterling","Rice",4864,null,"Sterling Grade School","Elementary",null,null,null,null,null,null,null,null,null,null,null,null,null,null,null,null,null,254,null,null,83,0.32679999999999998]
[null,null,376,"Sterling","Rice",4866,null,"Sterling Junior High/Senior High","High School",null,null,null,null,null,null,null,null,null,null,null,null,null,null,null,null,null,214,null,null,60,0.28039999999999998]
[null,null,376,"Sterling","Rice",4867,null,"USD 376 - Home","Special Ed Program - Home",null,null,null,null,null,null,null,null,null,null,null,null,null,null,null,null,null,"N/A",null,null,"N/A","N/A"]
[null,null,375,"Circle","Butler",4871,null,"USD 375 - Community-Based Preschool","Special Ed Program - Community Based Preschool",null,null,null,null,null,null,null,null,null,null,null,null,null,null,null,null,null,"N/A",null,null,"N/A","N/A"]
[null,null,376,"Sterling","Rice",4872,null,"USD 376 - Community-Based Preschool","Special Ed Program - Community Based Preschool",null,null,null,null,null,null,null,null,null,null,null,null,null,null,null,null,null,"N/A",null,null,"N/A","N/A"]
[null,null,375,"Circle","Butler",4874,null,"USD 375 - K Time Program W/O SPED","Early Childhood Program - General",null,null,null,null,null,null,null,null,null,null,null,null,null,null,null,null,null,"N/A",null,null,"N/A","N/A"]
[null,null,376,"Sterling","Rice",4875,null,"USD 376 - K Time Program W/O SPED","Early Childhood Program - General",null,null,null,null,null,null,null,null,null,null,null,null,null,null,null,null,null,"N/A",null,null,"N/A","N/A"]
[null,null,375,"Circle","Sedgwick",4876,null,"Circle Greenwich Elementary","Elementary",null,null,null,null,null,null,null,null,null,null,null,null,null,null,null,null,null,324,null,null,63,0.19439999999999999]
[null,null,377,"Atchison Co Comm Schools","Atchison",4881,null,"USD 377 - Off Site Non Public Buildings","Special Ed Program - Off Site Community Based",null,null,null,null,null,null,null,null,null,null,null,null,null,null,null,null,null,"N/A",null,null,"N/A","N/A"]
[null,null,377,"Atchison Co Comm Schools","Atchison",4882,null,"USD 377 - Public Off-Site Preschools","Special Ed Program - Off Site Preschool",null,null,null,null,null,null,null,null,null,null,null,null,null,null,null,null,null,"N/A",null,null,"N/A","N/A"]
[null,null,377,"Atchison Co Comm Schools","Atchison",4883,null,"USD 377 - Home","Special Ed Program - Home",null,null,null,null,null,null,null,null,null,null,null,null,null,null,null,null,null,"N/A",null,null,"N/A","N/A"]
[null,null,377,"Atchison Co Comm Schools","Atchison",4884,null,"USD 377 - Community-Based Preschool","Special Ed Program - Community Based Preschool",null,null,null,null,null,null,null,null,null,null,null,null,null,null,null,null,null,"N/A",null,null,"N/A","N/A"]
[null,null,377,"Atchison Co Comm Schools","Atchison",4885,null,"USD 377 - K Time Program W/O SPED","Early Childhood Program - General",null,null,null,null,null,null,null,null,null,null,null,null,null,null,null,null,null,"N/A",null,null,"N/A","N/A"]
[null,null,377,"Atchison Co Comm Schools","Atchison",4889,null,"Atchison County Community Elementary School","Elementary",null,null,null,null,null,null,null,null,null,null,null,null,null,null,null,null,null,236,null,null,82,0.34749999999999998]
[null,null,377,"Atchison Co Comm Schools","Atchison",4891,null,"Atchison County Community JR/SR High","High School",null,null,null,null,null,null,null,null,null,null,null,null,null,null,null,null,null,264,null,null,101,0.3826]
[null,null,378,"Riley County","Riley",4945,null,"USD 378 - Off Site Non Public Buildings","Special Ed Program - Off Site Community Based",null,null,null,null,null,null,null,null,null,null,null,null,null,null,null,null,null,"N/A",null,null,"N/A","N/A"]
[null,null,378,"Riley County","Riley",4946,null,"USD 378 - Home","Special Ed Program - Home",null,null,null,null,null,null,null,null,null,null,null,null,null,null,null,null,null,"N/A",null,null,"N/A","N/A"]
[null,null,378,"Riley County","Riley",4947,null,"USD 378 - K Time Program W/O SPED","Early Childhood Program - General",null,null,null,null,null,null,null,null,null,null,null,null,null,null,null,null,null,"N/A",null,null,"N/A","N/A"]
[null,null,378,"Riley County","Riley",4950,null,"Riley County Grade School","Elementary",null,null,null,null,null,null,null,null,null,null,null,null,null,null,null,null,null,476,null,null,90,0.18909999999999999]
[null,null,378,"Riley County","Riley",4952,null,"Riley County High School","High School",null,null,null,null,null,null,null,null,null,null,null,null,null,null,null,null,null,204,null,null,33,0.1618]
[null,null,379,"Clay County","Clay",4963,null,"USD 379 - Off Site Non Public Buildings","Special Ed Program - Off Site Community Based",null,null,null,null,null,null,null,null,null,null,null,null,null,null,null,null,null,"N/A",null,null,"N/A","N/A"]
[null,null,379,"Clay County","Clay",4964,null,"USD 379 - Hospital","Special Ed Program - Hospital",null,null,null,null,null,null,null,null,null,null,null,null,null,null,null,null,null,"N/A",null,null,"N/A","N/A"]
[null,null,379,"Clay County","Clay",4966,null,"USD 379 - Home","Special Ed Program - Home",null,null,null,null,null,null,null,null,null,null,null,null,null,null,null,null,null,"N/A",null,null,"N/A","N/A"]
[null,null,379,"Clay County","Clay",4967,null,"USD 379 - Community-Based Preschool","Special Ed Program - Community Based Preschool",null,null,null,null,null,null,null,null,null,null,null,null,null,null,null,null,null,"N/A",null,null,"N/A","N/A"]
[null,null,379,"Clay County","Clay",4968,null,"USD 379 - Public Off Campus","Special Ed Program - Public School Administered",null,null,null,null,null,null,null,null,null,null,null,null,null,null,null,null,null,"N/A",null,null,"N/A","N/A"]
[null,null,379,"Clay County","Clay",4969,null,"USD 379 - K Time Program W/O SPED","Early Childhood Program - General",null,null,null,null,null,null,null,null,null,null,null,null,null,null,null,null,null,"N/A",null,null,"N/A","N/A"]
[null,null,379,"Clay County","Clay",4970,null,"Garfield Elem","Elementary",null,null,null,null,null,null,null,null,null,null,null,null,null,null,null,null,null,151,null,null,50,0.33110000000000001]
[null,null,379,"Clay County","Clay",4972,null,"Lincoln Elem","Elementary",null,null,null,null,null,null,null,null,null,null,null,null,null,null,null,null,null,360,null,null,148,0.41110000000000002]
[null,null,379,"Clay County","Clay",4973,null,"eLearn 379 Virtual School","High School",null,null,null,null,null,null,null,null,null,null,null,null,null,null,null,null,null,6,null,null,3,0.5]
[null,null,379,"Clay County","Clay",4974,null,"Clay Center Community Middle","Middle School",null,null,null,null,null,null,null,null,null,null,null,null,null,null,null,null,null,246,null,null,86,0.34960000000000002]
[null,null,379,"Clay County","Clay",4976,null,"Clay Center Community High","High School",null,null,null,null,null,null,null,null,null,null,null,null,null,null,null,null,null,335,null,null,97,0.28960000000000002]
[null,null,379,"Clay County","Clay",5014,null,"Wakefield Elem","Elementary",null,null,null,null,null,null,null,null,null,null,null,null,null,null,null,null,null,151,null,null,68,0.45029999999999998]
[null,null,379,"Clay County","Clay",5016,null,"Wakefield High","High School",null,null,null,null,null,null,null,null,null,null,null,null,null,null,null,null,null,71,null,null,23,0.32390000000000002]
[null,null,380,"Vermillion","Marshall",5031,null,"USD 380 - Off Site Non Public Buildings","Special Ed Program - Off Site Community Based",null,null,null,null,null,null,null,null,null,null,null,null,null,null,null,null,null,"N/A",null,null,"N/A","N/A"]
[null,null,380,"Vermillion","Nemaha",5032,null,"Centralia Elem","Elementary",null,null,null,null,null,null,null,null,null,null,null,null,null,null,null,null,null,206,null,null,51,0.24759999999999999]
[null,null,380,"Vermillion","Marshall",5033,null,"USD 380 - Public Off-Site Preschools","Special Ed Program - Off Site Preschool",null,null,null,null,null,null,null,null,null,null,null,null,null,null,null,null,null,"N/A",null,null,"N/A","N/A"]
[null,null,380,"Vermillion","Marshall",5034,null,"Centralia High","High School",null,null,null,null,null,null,null,null,null,null,null,null,null,null,null,null,null,128,null,null,29,0.2266]
[null,null,380,"Vermillion","Marshall",5035,null,"USD 380 - Home","Special Ed Program - Home",null,null,null,null,null,null,null,null,null,null,null,null,null,null,null,null,null,"N/A",null,null,"N/A","N/A"]
[null,null,380,"Vermillion","Marshall",5036,null,"Frankfort Elem","Elementary",null,null,null,null,null,null,null,null,null,null,null,null,null,null,null,null,null,167,null,null,43,0.25750000000000001]
[null,null,380,"Vermillion","Marshall",5037,null,"USD 380 - Community-Based Preschool","Special Ed Program - Community Based Preschool",null,null,null,null,null,null,null,null,null,null,null,null,null,null,null,null,null,"N/A",null,null,"N/A","N/A"]
[null,null,380,"Vermillion","Marshall",5038,null,"Frankfort High","High School",null,null,null,null,null,null,null,null,null,null,null,null,null,null,null,null,null,127,null,null,42,0.33069999999999999]
[null,null,380,"Vermillion","Marshall",5039,null,"USD 380 - K Time Program W/O SPED","Early Childhood Program - General",null,null,null,null,null,null,null,null,null,null,null,null,null,null,null,null,null,"N/A",null,null,"N/A","N/A"]
[null,null,381,"Spearville","Ford",5057,null,"USD 381 - Off Site Non Public Buildings","Special Ed Program - Off Site Community Based",null,null,null,null,null,null,null,null,null,null,null,null,null,null,null,null,null,"N/A",null,null,"N/A","N/A"]
[null,null,381,"Spearville","Ford",5058,null,"Spearville Elem","Elementary",null,null,null,null,null,null,null,null,null,null,null,null,null,null,null,null,null,159,null,null,48,0.3019]
[null,null,381,"Spearville","Ford",5059,null,"USD 381 - Home","Special Ed Program - Home",null,null,null,null,null,null,null,null,null,null,null,null,null,null,null,null,null,"N/A",null,null,"N/A","N/A"]
[null,null,381,"Spearville","Ford",5060,null,"Spearville Jr/Sr High","High School",null,null,null,null,null,null,null,null,null,null,null,null,null,null,null,null,null,168,null,null,35,0.20830000000000001]
[null,null,381,"Spearville","Ford",5061,null,"USD 381 - K Time Program W/O SPED","Early Childhood Program - General",null,null,null,null,null,null,null,null,null,null,null,null,null,null,null,null,null,"N/A",null,null,"N/A","N/A"]
[null,null,382,"Pratt","Pratt",5077,null,"USD 382 - Off Site Non Public Buildings","Special Ed Program - Off Site Community Based",null,null,null,null,null,null,null,null,null,null,null,null,null,null,null,null,null,"N/A",null,null,"N/A","N/A"]
[null,null,382,"Pratt","Pratt",5078,null,"Early Childhood Center","Child Care (Pre-Elementary)",null,null,null,null,null,null,null,null,null,null,null,null,null,null,null,null,null,"N/A",null,null,"N/A","N/A"]
[null,null,382,"Pratt","Pratt",5079,null,"USD 382 - Hospital","Special Ed Program - Hospital",null,null,null,null,null,null,null,null,null,null,null,null,null,null,null,null,null,"N/A",null,null,"N/A","N/A"]
[null,null,382,"Pratt","Pratt",5080,null,"USD 382 - Home","Special Ed Program - Home",null,null,null,null,null,null,null,null,null,null,null,null,null,null,null,null,null,"N/A",null,null,"N/A","N/A"]
[null,null,382,"Pratt","Pratt",5081,null,"USD 382 - Public Offsite Preschool","Special Ed Program - Off Site Preschool",null,null,null,null,null,null,null,null,null,null,null,null,null,null,null,null,null,"N/A",null,null,"N/A","N/A"]
[null,null,382,"Pratt","Pratt",5082,null,"USD 382 - K Time Program W/O SPED","Early Childhood Program - General",null,null,null,null,null,null,null,null,null,null,null,null,null,null,null,null,null,"N/A",null,null,"N/A","N/A"]
[null,null,382,"Pratt","Pratt",5085,null,"Pratt Learning Center","Other",null,null,null,null,null,null,null,null,null,null,null,null,null,null,null,null,null,35,null,null,5,0.1429]
[null,null,382,"Pratt","Pratt",5088,null,"Southwest Elem","Elementary",null,null,null,null,null,null,null,null,null,null,null,null,null,null,null,null,null,464,null,null,195,0.42030000000000001]
[null,null,382,"Pratt","Pratt",5090,null,"Liberty Middle School","Middle School",null,null,null,null,null,null,null,null,null,null,null,null,null,null,null,null,null,329,null,null,143,0.43469999999999998]
[null,null,382,"Pratt","Pratt",5092,null,"Pratt Sr High","High School",null,null,null,null,null,null,null,null,null,null,null,null,null,null,null,null,null,325,null,null,118,0.36309999999999998]
[null,null,383,"Manhattan-Ogden","Riley",5112,null,"Amanda Arnold Elem","Elementary",null,null,null,null,null,null,null,null,null,null,null,null,null,null,null,null,null,439,null,null,87,0.19819999999999999]
[null,null,383,"Manhattan-Ogden","Riley",5113,null,"Frank V Bergman Elem","Elementary",null,null,null,null,null,null,null,null,null,null,null,null,null,null,null,null,null,477,null,null,177,0.37109999999999999]
[null,null,383,"Manhattan-Ogden","Riley",5114,null,"Bluemont Elementary School","Elementary",null,null,null,null,null,null,null,null,null,null,null,null,null,null,null,null,null,210,null,null,88,0.41899999999999998]
[null,null,383,"Manhattan-Ogden","Riley",5115,null,"USD 383 - Off Site Non Public Buildings","Special Ed Program - Off Site Community Based",null,null,null,null,null,null,null,null,null,null,null,null,null,null,null,null,null,"N/A",null,null,"N/A","N/A"]
[null,null,383,"Manhattan-Ogden","Riley",5116,null,"College Hill Preschool","Special Ed Program - Off Site Community Based",null,null,null,null,null,null,null,null,null,null,null,null,null,null,null,null,null,"N/A",null,null,"N/A","N/A"]
[null,null,383,"Manhattan-Ogden","Riley",5119,null,"USD 383 - Public Off-Site Preschools","Special Ed Program - Off Site Preschool",null,null,null,null,null,null,null,null,null,null,null,null,null,null,null,null,null,"N/A",null,null,"N/A","N/A"]
[null,null,383,"Manhattan-Ogden","Riley",5120,null,"USD 383 - Home","Special Ed Program - Home",null,null,null,null,null,null,null,null,null,null,null,null,null,null,null,null,null,"N/A",null,null,"N/A","N/A"]
[null,null,383,"Manhattan-Ogden","Riley",5121,null,"USD 383 - Community-Based Preschool","Special Ed Program - Community Based Preschool",null,null,null,null,null,null,null,null,null,null,null,null,null,null,null,null,null,"N/A",null,null,"N/A","N/A"]
[null,null,383,"Manhattan-Ogden","Riley",5124,null,"Lee Elem","Elementary",null,null,null,null,null,null,null,null,null,null,null,null,null,null,null,null,null,320,null,null,154,0.48130000000000001]
[null,null,383,"Manhattan-Ogden","Riley",5125,null,"Eugene Field Early Learning Center","Early Childhood Program - Other",null,null,null,null,null,null,null,null,null,null,null,null,null,null,null,null,null,"N/A",null,null,"N/A","N/A"]
[null,null,383,"Manhattan-Ogden","Riley",5126,null,"Marlatt Elem","Elementary",null,null,null,null,null,null,null,null,null,null,null,null,null,null,null,null,null,447,null,null,78,0.17449999999999999]
[null,null,383,"Manhattan-Ogden","Riley",5127,null,"USD 383 - Community-Based Preschool","Special Ed Program - Community Based Preschool",null,null,null,null,null,null,null,null,null,null,null,null,null,null,null,null,null,"N/A",null,null,"N/A","N/A"]
[null,null,383,"Manhattan-Ogden","Riley",5128,null,"Northview Elem","Elementary",null,null,null,null,null,null,null,null,null,null,null,null,null,null,null,null,null,376,null,null,203,0.53990000000000005]
[null,null,383,"Manhattan-Ogden","Riley",5130,null,"Theo Roosevelt Elem","Elementary",null,null,null,null,null,null,null,null,null,null,null,null,null,null,null,null,null,389,null,null,153,0.39329999999999998]
[null,null,383,"Manhattan-Ogden","Riley",5131,null,"USD 383 - Public Off Campus","Special Ed Program - Public School Administered",null,null,null,null,null,null,null,null,null,null,null,null,null,null,null,null,null,"N/A",null,null,"N/A","N/A"]
[null,null,383,"Manhattan-Ogden","Riley",5132,null,"Woodrow Wilson Elem","Elementary",null,null,null,null,null,null,null,null,null,null,null,null,null,null,null,null,null,219,null,null,96,0.43840000000000001]
[null,null,383,"Manhattan-Ogden","Riley",5133,null,"USD 383 - K Time Program W/O SPED","Early Childhood Program - General",null,null,null,null,null,null,null,null,null,null,null,null,null,null,null,null,null,"N/A",null,null,"N/A","N/A"]
[null,null,383,"Manhattan-Ogden","Riley",5135,null,"Susan B Anthony Middle School","Middle School",null,null,null,null,null,null,null,null,null,null,null,null,null,null,null,null,null,747,null,null,185,0.2477]
[null,null,383,"Manhattan-Ogden","Riley",5136,null,"Manhattan High School West/East Campus","High School",null,null,null,null,null,null,null,null,null,null,null,null,null,null,null,null,null,1955,null,null,564,0.28849999999999998]
[null,null,383,"Manhattan-Ogden","Riley",5137,null,"Dwight D Eisenhower Middle School","Middle School",null,null,null,null,null,null,null,null,null,null,null,null,null,null,null,null,null,740,null,null,288,0.38919999999999999]
[null,null,383,"Manhattan-Ogden","Riley",5138,null,"Ogden Elem","Elementary",null,null,null,null,null,null,null,null,null,null,null,null,null,null,null,null,null,134,null,null,79,0.58960000000000001]
[null,null,383,"Manhattan-Ogden","Pottawatomie",5139,null,"Oliver Brown Elementary","Elementary",null,null,null,null,null,null,null,null,null,null,null,null,null,null,null,null,null,302,null,null,51,0.16889999999999999]
[null,null,383,"Manhattan-Ogden","Pottawatomie",5141,null,"Central Kitchen Manhattan","Kitchen Unit",null,null,null,null,null,null,null,null,null,null,null,null,null,null,null,null,null,"N/A",null,null,"N/A","N/A"]
[null,null,383,"Manhattan-Ogden","Riley",5142,null,"Flint Hills Job Corps Center","Juvenile Detention Center",null,null,null,null,null,null,null,null,null,null,null,null,null,null,null,null,null,"N/A",null,null,"N/A","N/A"]
[null,null,383,"Manhattan-Ogden","Riley",5143,null,"Manhattan Virtual Academy","Other",null,null,null,null,null,null,null,null,null,null,null,null,null,null,null,null,null,193,null,null,31,0.16059999999999999]
[null,null,384,"Blue Valley","Riley",5157,null,"USD 384 - Off Site Non Public Buildings","Special Ed Program - Off Site Community Based",null,null,null,null,null,null,null,null,null,null,null,null,null,null,null,null,null,"N/A",null,null,"N/A","N/A"]
[null,null,384,"Blue Valley","Riley",5159,null,"USD 384 - Home","Special Ed Program - Home",null,null,null,null,null,null,null,null,null,null,null,null,null,null,null,null,null,"N/A",null,null,"N/A","N/A"]
[null,null,384,"Blue Valley","Riley",5160,null,"McCormick Elementary","Elementary",null,null,null,null,null,null,null,null,null,null,null,null,null,null,null,null,null,107,null,null,15,0.14019999999999999]
[null,null,384,"Blue Valley","Riley",5161,null,"USD 384 - K Time Program W/O SPED","Early Childhood Program - General",null,null,null,null,null,null,null,null,null,null,null,null,null,null,null,null,null,"N/A",null,null,"N/A","N/A"]
[null,null,384,"Blue Valley","Riley",5164,null,"Randolph Middle","Middle School",null,null,null,null,null,null,null,null,null,null,null,null,null,null,null,null,null,72,null,null,9,0.125]
[null,null,384,"Blue Valley","Riley",5166,null,"Blue Valley High","High School",null,null,null,null,null,null,null,null,null,null,null,null,null,null,null,null,null,75,null,null,11,0.1467]
[null,null,385,"Andover","Butler",5177,null,"Cottonwood Elementary","Elementary",null,null,null,null,null,null,null,null,null,null,null,null,null,null,null,null,null,417,null,null,97,0.2326]
[null,null,385,"Andover","Butler",5179,null,"Andover Middle School","Middle School",null,null,null,null,null,null,null,null,null,null,null,null,null,null,null,null,null,726,null,null,127,0.1749]
[null,null,385,"Andover","Butler",5180,null,"Andover High","High School",null,null,null,null,null,null,null,null,null,null,null,null,null,null,null,null,null,1014,null,null,151,0.1489]
[null,null,385,"Andover","Butler",5181,null,"Robert M. Martin Elementary","Elementary",null,null,null,null,null,null,null,null,null,null,null,null,null,null,null,null,null,506,null,null,48,9.4899999999999998E-2]
[null,null,385,"Andover","Butler",5182,null,"Meadowlark Elementary","Elementary",null,null,null,null,null,null,null,null,null,null,null,null,null,null,null,null,null,367,null,null,60,0.16350000000000001]
[null,null,385,"Andover","Butler",5183,null,"Prairie Creek Elementary","Elementary",null,null,null,null,null,null,null,null,null,null,null,null,null,null,null,null,null,392,null,null,111,0.28320000000000001]
[null,null,385,"Andover","Butler",5184,null,"Sunflower Elementary School","Elementary",null,null,null,null,null,null,null,null,null,null,null,null,null,null,null,null,null,363,null,null,85,0.23419999999999999]
[null,null,385,"Andover","Butler",5185,null,"Andover Central Middle School","Middle School",null,null,null,null,null,null,null,null,null,null,null,null,null,null,null,null,null,601,null,null,112,0.18640000000000001]
[null,null,385,"Andover","Butler",5186,null,"Andover Central High School","High School",null,null,null,null,null,null,null,null,null,null,null,null,null,null,null,null,null,856,null,null,127,0.1484]
[null,null,385,"Andover","Sedgwick",5187,null,"Wheatland Elementary","Elementary",null,null,null,null,null,null,null,null,null,null,null,null,null,null,null,null,null,433,null,null,32,7.3899999999999993E-2]
[null,null,385,"Andover","Butler",5188,null,"USD 385 - Off Site Non Public Buildings","Special Ed Program - Off Site Community Based",null,null,null,null,null,null,null,null,null,null,null,null,null,null,null,null,null,"N/A",null,null,"N/A","N/A"]
[null,null,385,"Andover","Butler",5190,null,"USD 385 - Public Off-Site Preschools","Special Ed Program - Off Site Preschool",null,null,null,null,null,null,null,null,null,null,null,null,null,null,null,null,null,"N/A",null,null,"N/A","N/A"]
[null,null,385,"Andover","Butler",5191,null,"USD 385 - Home","Special Ed Program - Home",null,null,null,null,null,null,null,null,null,null,null,null,null,null,null,null,null,"N/A",null,null,"N/A","N/A"]
[null,null,386,"Madison-Virgil","Greenwood",5193,null,"USD 386 - Off Site Non Public Buildings","Special Ed Program - Off Site Community Based",null,null,null,null,null,null,null,null,null,null,null,null,null,null,null,null,null,"N/A",null,null,"N/A","N/A"]
[null,null,386,"Madison-Virgil","Greenwood",5194,null,"USD 386 - Home","Special Ed Program - Home",null,null,null,null,null,null,null,null,null,null,null,null,null,null,null,null,null,"N/A",null,null,"N/A","N/A"]
[null,null,385,"Andover","Butler",5197,null,"USD 385 - Community-Based Preschool","Special Ed Program - Community Based Preschool",null,null,null,null,null,null,null,null,null,null,null,null,null,null,null,null,null,"N/A",null,null,"N/A","N/A"]
[null,null,386,"Madison-Virgil","Greenwood",5198,null,"Madison Elem","Elementary",null,null,null,null,null,null,null,null,null,null,null,null,null,null,null,null,null,143,null,null,77,0.53849999999999998]
[null,null,386,"Madison-Virgil","Greenwood",5199,null,"USD 386 - Community-Based Preschool","Special Ed Program - Community Based Preschool",null,null,null,null,null,null,null,null,null,null,null,null,null,null,null,null,null,"N/A",null,null,"N/A","N/A"]
[null,null,385,"Andover","Butler",5201,null,"USD 385 - K Time Program W/O SPED","Early Childhood Program - General",null,null,null,null,null,null,null,null,null,null,null,null,null,null,null,null,null,"N/A",null,null,"N/A","N/A"]
[null,null,386,"Madison-Virgil","Greenwood",5202,null,"Madison High","High School",null,null,null,null,null,null,null,null,null,null,null,null,null,null,null,null,null,95,null,null,38,0.4]
[null,null,386,"Madison-Virgil","Greenwood",5203,null,"USD 386 - K Time Program W/O SPED","Early Childhood Program - General",null,null,null,null,null,null,null,null,null,null,null,null,null,null,null,null,null,"N/A",null,null,"N/A","N/A"]
[null,null,385,"Andover","Butler",5204,null,"Andover eCademy","High School",null,null,null,null,null,null,null,null,null,null,null,null,null,null,null,null,null,3395,null,null,1,2.9999999999999997E-4]
[null,null,387,"Altoona-Midway","Wilson",5213,null,"USD 387 - Off Site Non Public Buildings","Special Ed Program - Off Site Community Based",null,null,null,null,null,null,null,null,null,null,null,null,null,null,null,null,null,"N/A",null,null,"N/A","N/A"]
[null,null,387,"Altoona-Midway","Wilson",5215,null,"Altoona-Midway Elementary","Elementary",null,null,null,null,null,null,null,null,null,null,null,null,null,null,null,null,null,66,null,null,45,0.68179999999999996]
[null,null,387,"Altoona-Midway","Wilson",5219,null,"USD 387 - Home","Special Ed Program - Home",null,null,null,null,null,null,null,null,null,null,null,null,null,null,null,null,null,"N/A",null,null,"N/A","N/A"]
[null,null,387,"Altoona-Midway","Wilson",5221,null,"USD 387 - Community-Based Preschool","Special Ed Program - Community Based Preschool",null,null,null,null,null,null,null,null,null,null,null,null,null,null,null,null,null,"N/A",null,null,"N/A","N/A"]
[null,null,387,"Altoona-Midway","Wilson",5223,null,"Altoona-Midway Middle/High School","Middle School",null,null,null,null,null,null,null,null,null,null,null,null,null,null,null,null,null,79,null,null,51,0.64559999999999995]
[null,null,387,"Altoona-Midway","Wilson",5224,null,"USD 387 - K Time Program W/O SPED","Early Childhood Program - General",null,null,null,null,null,null,null,null,null,null,null,null,null,null,null,null,null,"N/A",null,null,"N/A","N/A"]
[null,null,388,"Ellis","Ellis",5232,null,"Ellis Dist Ellis Co","Central Office",null,null,null,null,null,null,null,null,null,null,null,null,null,null,null,null,null,"N/A",null,null,"N/A","N/A"]
[null,null,388,"Ellis","Ellis",5233,null,"USD 388 - Off Site Non Public Buildings","Special Ed Program - Off Site Community Based",null,null,null,null,null,null,null,null,null,null,null,null,null,null,null,null,null,"N/A",null,null,"N/A","N/A"]
[null,null,388,"Ellis","Ellis",5234,null,"USD 388 - Public Off-Site Preschools","Special Ed Program - Off Site Preschool",null,null,null,null,null,null,null,null,null,null,null,null,null,null,null,null,null,"N/A",null,null,"N/A","N/A"]
[null,null,388,"Ellis","Ellis",5235,null,"USD 388 - Home","Special Ed Program - Home",null,null,null,null,null,null,null,null,null,null,null,null,null,null,null,null,null,"N/A",null,null,"N/A","N/A"]
[null,null,388,"Ellis","Ellis",5236,null,"Washington Elem","Elementary",null,null,null,null,null,null,null,null,null,null,null,null,null,null,null,null,null,218,null,null,50,0.22939999999999999]
[null,null,388,"Ellis","Ellis",5237,null,"USD 388 - K Time Program W/O SPED","Early Childhood Program - General",null,null,null,null,null,null,null,null,null,null,null,null,null,null,null,null,null,"N/A",null,null,"N/A","N/A"]
[null,null,388,"Ellis","Ellis",5238,null,"Ellis Jr/Sr High","High School",null,null,null,null,null,null,null,null,null,null,null,null,null,null,null,null,null,169,null,null,33,0.1953]
[null,null,389,"Eureka","Greenwood",5255,null,"USD 389 - Off Site Non Public Buildings","Special Ed Program - Off Site Community Based",null,null,null,null,null,null,null,null,null,null,null,null,null,null,null,null,null,"N/A",null,null,"N/A","N/A"]
[null,null,389,"Eureka","Greenwood",5256,null,"USD 389 - Home","Special Ed Program - Home",null,null,null,null,null,null,null,null,null,null,null,null,null,null,null,null,null,"N/A",null,null,"N/A","N/A"]
[null,null,389,"Eureka","Greenwood",5257,null,"USD 389 - K Time Program W/O SPED","Early Childhood Program - General",null,null,null,null,null,null,null,null,null,null,null,null,null,null,null,null,null,"N/A",null,null,"N/A","N/A"]
[null,null,389,"Eureka","Greenwood",5268,null,"Eureka Jr/Sr High","High School",null,null,null,null,null,null,null,null,null,null,null,null,null,null,null,null,null,252,null,null,122,0.48409999999999997]
[null,null,389,"Eureka","Greenwood",5287,null,"Marshall Elementary School","Elementary",null,null,null,null,null,null,null,null,null,null,null,null,null,null,null,null,null,296,null,null,178,0.60140000000000005]
[null,null,390,"Hamilton","Greenwood",5294,null,"Hamilton Dist Greenwood Co","Central Office",null,null,null,null,null,null,null,null,null,null,null,null,null,null,null,null,null,"N/A",null,null,"N/A","N/A"]
[null,null,390,"Hamilton","Greenwood",5295,null,"USD 390 - Off Site Non Public Buildings","Special Ed Program - Off Site Community Based",null,null,null,null,null,null,null,null,null,null,null,null,null,null,null,null,null,"N/A",null,null,"N/A","N/A"]
[null,null,390,"Hamilton","Greenwood",5296,null,"Hamilton Elem","Elementary",null,null,null,null,null,null,null,null,null,null,null,null,null,null,null,null,null,49,null,null,29,0.59179999999999999]
[null,null,390,"Hamilton","Greenwood",5297,null,"USD 390 - Home","Special Ed Program - Home",null,null,null,null,null,null,null,null,null,null,null,null,null,null,null,null,null,"N/A",null,null,"N/A","N/A"]
[null,null,390,"Hamilton","Greenwood",5298,null,"Hamilton High","High School",null,null,null,null,null,null,null,null,null,null,null,null,null,null,null,null,null,53,null,null,23,0.434]
[null,null,390,"Hamilton","Greenwood",5300,null,"USD 390 - K Time Program W/O SPED","Early Childhood Program - General",null,null,null,null,null,null,null,null,null,null,null,null,null,null,null,null,null,"N/A",null,null,"N/A","N/A"]
[null,null,392,"Osborne County","Osborne",5319,null,"USD 392 - Off Site Non Public Buildings","Special Ed Program - Off Site Community Based",null,null,null,null,null,null,null,null,null,null,null,null,null,null,null,null,null,"N/A",null,null,"N/A","N/A"]
[null,null,392,"Osborne County","Osborne",5321,null,"USD 392 - Home","Special Ed Program - Home",null,null,null,null,null,null,null,null,null,null,null,null,null,null,null,null,null,"N/A",null,null,"N/A","N/A"]
[null,null,392,"Osborne County","Osborne",5323,null,"USD 392 - Incarceration","Special Ed Program - Incarcerated",null,null,null,null,null,null,null,null,null,null,null,null,null,null,null,null,null,"N/A",null,null,"N/A","N/A"]
[null,null,392,"Osborne County","Osborne",5324,null,"USD 392 - K Time Program W/O SPED","Early Childhood Program - General",null,null,null,null,null,null,null,null,null,null,null,null,null,null,null,null,null,"N/A",null,null,"N/A","N/A"]
[null,null,392,"Osborne County","Osborne",5325,null,"Offsite Preschool","Special Ed Program - Off Site Preschool",null,null,null,null,null,null,null,null,null,null,null,null,null,null,null,null,null,"N/A",null,null,"N/A","N/A"]
[null,null,392,"Osborne County","Osborne",5332,null,"Osborne Elem","Elementary",null,null,null,null,null,null,null,null,null,null,null,null,null,null,null,null,null,179,null,null,68,0.37990000000000002]
[null,null,392,"Osborne County","Osborne",5334,null,"Osborne Junior/Senior High","High School",null,null,null,null,null,null,null,null,null,null,null,null,null,null,null,null,null,160,null,null,49,0.30630000000000002]
[null,null,393,"Solomon","Dickinson",5349,null,"USD 393 - Off Site Non Public Buildings","Special Ed Program - Off Site Community Based",null,null,null,null,null,null,null,null,null,null,null,null,null,null,null,null,null,"N/A",null,null,"N/A","N/A"]
[null,null,393,"Solomon","Dickinson",5350,null,"USD 393 - Home","Special Ed Program - Home",null,null,null,null,null,null,null,null,null,null,null,null,null,null,null,null,null,"N/A",null,null,"N/A","N/A"]
[null,null,393,"Solomon","Dickinson",5351,null,"USD 393 - K Time Program W/O SPED","Early Childhood Program - General",null,null,null,null,null,null,null,null,null,null,null,null,null,null,null,null,null,"N/A",null,null,"N/A","N/A"]
[null,null,393,"Solomon","Dickinson",5354,null,"Solomon Elem","Elementary",null,null,null,null,null,null,null,null,null,null,null,null,null,null,null,null,null,254,null,null,126,0.49609999999999999]
[null,null,393,"Solomon","Dickinson",5356,null,"Solomon High","High School",null,null,null,null,null,null,null,null,null,null,null,null,null,null,null,null,null,97,null,null,36,0.37109999999999999]
[null,null,394,"Rose Hill Public Schools","Butler",5369,null,"USD 394 - Off Site Non Public Buildings","Special Ed Program - Off Site Community Based",null,null,null,null,null,null,null,null,null,null,null,null,null,null,null,null,null,"N/A",null,null,"N/A","N/A"]
[null,null,394,"Rose Hill Public Schools","Butler",5370,null,"Rose Hill Primary","Elementary",null,null,null,null,null,null,null,null,null,null,null,null,null,null,null,null,null,438,null,null,125,0.28539999999999999]
[null,null,394,"Rose Hill Public Schools","Butler",5371,null,"Rose Hill Middle","Middle School",null,null,null,null,null,null,null,null,null,null,null,null,null,null,null,null,null,378,null,null,114,0.30159999999999998]
[null,null,394,"Rose Hill Public Schools","Butler",5372,null,"Rose Hill High","High School",null,null,null,null,null,null,null,null,null,null,null,null,null,null,null,null,null,567,null,null,144,0.254]
[null,null,394,"Rose Hill Public Schools","Butler",5374,null,"Rose Hill Intermediate","Elementary",null,null,null,null,null,null,null,null,null,null,null,null,null,null,null,null,null,306,null,null,81,0.26469999999999999]
[null,null,394,"Rose Hill Public Schools","Butler",5376,null,"USD 394 - Public Off-Site Preschools","Special Ed Program - Off Site Preschool",null,null,null,null,null,null,null,null,null,null,null,null,null,null,null,null,null,"N/A",null,null,"N/A","N/A"]
[null,null,394,"Rose Hill Public Schools","Butler",5377,null,"USD 394 - Home","Special Ed Program - Home",null,null,null,null,null,null,null,null,null,null,null,null,null,null,null,null,null,"N/A",null,null,"N/A","N/A"]
[null,null,394,"Rose Hill Public Schools","Butler",5380,null,"USD 394 - Community-Based Preschool","Special Ed Program - Community Based Preschool",null,null,null,null,null,null,null,null,null,null,null,null,null,null,null,null,null,"N/A",null,null,"N/A","N/A"]
[null,null,395,"LaCrosse","Rush",5382,null,"La Crosse Dist Rush Co","Central Office",null,null,null,null,null,null,null,null,null,null,null,null,null,null,null,null,null,"N/A",null,null,"N/A","N/A"]
[null,null,395,"LaCrosse","Rush",5383,null,"USD 395 - Off Site Non Public Buildings","Special Ed Program - Off Site Community Based",null,null,null,null,null,null,null,null,null,null,null,null,null,null,null,null,null,"N/A",null,null,"N/A","N/A"]
[null,null,395,"LaCrosse","Rush",5384,null,"USD 395 - Public Off-Site Preschools","Special Ed Program - Off Site Preschool",null,null,null,null,null,null,null,null,null,null,null,null,null,null,null,null,null,"N/A",null,null,"N/A","N/A"]
[null,null,395,"LaCrosse","Rush",5385,null,"USD 395 - Home","Special Ed Program - Home",null,null,null,null,null,null,null,null,null,null,null,null,null,null,null,null,null,"N/A",null,null,"N/A","N/A"]
[null,null,394,"Rose Hill Public Schools","Butler",5386,null,"USD 394 - K Time Program W/O SPED","Early Childhood Program - General",null,null,null,null,null,null,null,null,null,null,null,null,null,null,null,null,null,"N/A",null,null,"N/A","N/A"]
[null,null,395,"LaCrosse","Rush",5387,null,"USD 395 - K Time Program W/O SPED","Early Childhood Program - General",null,null,null,null,null,null,null,null,null,null,null,null,null,null,null,null,null,"N/A",null,null,"N/A","N/A"]
[null,null,395,"LaCrosse","Rush",5389,null,"La Crosse Elementary","Elementary",null,null,null,null,null,null,null,null,null,null,null,null,null,null,null,null,null,146,null,null,60,0.41099999999999998]
[null,null,395,"LaCrosse","Rush",5390,null,"La Crosse High","High School",null,null,null,null,null,null,null,null,null,null,null,null,null,null,null,null,null,101,null,null,45,0.44550000000000001]
[null,null,395,"LaCrosse","Rush",5396,null,"La Crosse Middle School","Middle School",null,null,null,null,null,null,null,null,null,null,null,null,null,null,null,null,null,48,null,null,22,0.45829999999999999]
[null,null,396,"Douglass Public Schools","Butler",5411,null,"Leonard C Seal Elem","Elementary",null,null,null,null,null,null,null,null,null,null,null,null,null,null,null,null,null,279,null,null,109,0.39069999999999999]
[null,null,396,"Douglass Public Schools","Butler",5412,null,"USD 396 - Off Site Non Public Buildings","Special Ed Program - Off Site Community Based",null,null,null,null,null,null,null,null,null,null,null,null,null,null,null,null,null,"N/A",null,null,"N/A","N/A"]
[null,null,396,"Douglass Public Schools","Butler",5413,null,"Marvin Sisk Middle School","Middle School",null,null,null,null,null,null,null,null,null,null,null,null,null,null,null,null,null,145,null,null,56,0.38619999999999999]
[null,null,396,"Douglass Public Schools","Butler",5414,null,"Douglass High","High School",null,null,null,null,null,null,null,null,null,null,null,null,null,null,null,null,null,213,null,null,52,0.24410000000000001]
[null,null,396,"Douglass Public Schools","Butler",5416,null,"USD 396 - Public Off-Site Preschools","Special Ed Program - Off Site Preschool",null,null,null,null,null,null,null,null,null,null,null,null,null,null,null,null,null,"N/A",null,null,"N/A","N/A"]
[null,null,396,"Douglass Public Schools","Butler",5417,null,"USD 396 - Home","Special Ed Program - Home",null,null,null,null,null,null,null,null,null,null,null,null,null,null,null,null,null,"N/A",null,null,"N/A","N/A"]
[null,null,396,"Douglass Public Schools","Butler",5420,null,"USD 396 - Community-Based Preschool","Special Ed Program - Community Based Preschool",null,null,null,null,null,null,null,null,null,null,null,null,null,null,null,null,null,"N/A",null,null,"N/A","N/A"]
[null,null,396,"Douglass Public Schools","Butler",5422,null,"USD 396 - K Time Program W/O SPED","Early Childhood Program - General",null,null,null,null,null,null,null,null,null,null,null,null,null,null,null,null,null,"N/A",null,null,"N/A","N/A"]
[null,null,397,"Centre","Marion",5429,null,"USD 397 - Off Site Non Public Buildings","Special Ed Program - Off Site Community Based",null,null,null,null,null,null,null,null,null,null,null,null,null,null,null,null,null,"N/A",null,null,"N/A","N/A"]
[null,null,397,"Centre","Marion",5430,null,"USD 397 - Public Off-Site Preschools","Special Ed Program - Off Site Preschool",null,null,null,null,null,null,null,null,null,null,null,null,null,null,null,null,null,"N/A",null,null,"N/A","N/A"]
[null,null,397,"Centre","Marion",5431,null,"USD 397 - Home","Special Ed Program - Home",null,null,null,null,null,null,null,null,null,null,null,null,null,null,null,null,null,"N/A",null,null,"N/A","N/A"]
[null,null,397,"Centre","Marion",5432,null,"USD 397 - Community-Based Preschool","Special Ed Program - Community Based Preschool",null,null,null,null,null,null,null,null,null,null,null,null,null,null,null,null,null,"N/A",null,null,"N/A","N/A"]
[null,null,397,"Centre","Marion",5433,null,"USD 397 - K Time Program W/O SPED","Early Childhood Program - General",null,null,null,null,null,null,null,null,null,null,null,null,null,null,null,null,null,"N/A",null,null,"N/A","N/A"]
[null,null,397,"Centre","Marion",5435,null,"Centre","High School",null,null,null,null,null,null,null,null,null,null,null,null,null,null,null,null,null,182,null,null,63,0.34620000000000001]
[null,null,397,"Centre","Marion",5437,null,"Kansas Online Learning Program","Other",null,null,null,null,null,null,null,null,null,null,null,null,null,null,null,null,null,341,null,null,42,0.1232]
[null,null,398,"Peabody-Burns","Marion",5455,null,"USD 398 - Off Site Non Public Buildings","Special Ed Program - Off Site Community Based",null,null,null,null,null,null,null,null,null,null,null,null,null,null,null,null,null,"N/A",null,null,"N/A","N/A"]
[null,null,398,"Peabody-Burns","Marion",5458,null,"USD 398 - Public Off-Site Preschools","Special Ed Program - Off Site Preschool",null,null,null,null,null,null,null,null,null,null,null,null,null,null,null,null,null,"N/A",null,null,"N/A","N/A"]
[null,null,398,"Peabody-Burns","Marion",5459,null,"USD 398 - Home","Special Ed Program - Home",null,null,null,null,null,null,null,null,null,null,null,null,null,null,null,null,null,"N/A",null,null,"N/A","N/A"]
[null,null,398,"Peabody-Burns","Marion",5460,null,"Peabody-Burns Elementary","Elementary",null,null,null,null,null,null,null,null,null,null,null,null,null,null,null,null,null,107,null,null,63,0.58879999999999999]
[null,null,398,"Peabody-Burns","Marion",5462,null,"Peabody-Burns Jr/Sr High School","High School",null,null,null,null,null,null,null,null,null,null,null,null,null,null,null,null,null,112,null,null,48,0.42859999999999998]
[null,null,398,"Peabody-Burns","Marion",5463,null,"USD 398 - Community-Based Preschool","Special Ed Program - Community Based Preschool",null,null,null,null,null,null,null,null,null,null,null,null,null,null,null,null,null,"N/A",null,null,"N/A","N/A"]
[null,null,398,"Peabody-Burns","Marion",5464,null,"USD 398 - K Time Program W/O SPED","Early Childhood Program - General",null,null,null,null,null,null,null,null,null,null,null,null,null,null,null,null,null,"N/A",null,null,"N/A","N/A"]
[null,null,399,"Paradise","Russell",5475,null,"USD 399 - Off Site Non Public Buildings","Special Ed Program - Off Site Community Based",null,null,null,null,null,null,null,null,null,null,null,null,null,null,null,null,null,"N/A",null,null,"N/A","N/A"]
[null,null,399,"Paradise","Russell",5476,null,"USD 399 - Home","Special Ed Program - Home",null,null,null,null,null,null,null,null,null,null,null,null,null,null,null,null,null,"N/A",null,null,"N/A","N/A"]
[null,null,399,"Paradise","Russell",5477,null,"USD 399 - K Time Program W/O SPED","Early Childhood Program - General",null,null,null,null,null,null,null,null,null,null,null,null,null,null,null,null,null,"N/A",null,null,"N/A","N/A"]
[null,null,399,"Paradise","Russell",5486,null,"Natoma Elem","Elementary",null,null,null,null,null,null,null,null,null,null,null,null,null,null,null,null,null,52,null,null,28,0.53849999999999998]
[null,null,399,"Paradise","Russell",5488,null,"Natoma High (6-12)","High School",null,null,null,null,null,null,null,null,null,null,null,null,null,null,null,null,null,59,null,null,29,0.49149999999999999]
[null,null,400,"Smoky Valley","McPherson",5494,null,"Smoky Valley Dist McPherson Co","Central Office",null,null,null,null,null,null,null,null,null,null,null,null,null,null,null,null,null,"N/A",null,null,"N/A","N/A"]
[null,null,400,"Smoky Valley","McPherson",5495,null,"USD 400 - Off Site Non Public Buildings","Special Ed Program - Off Site Community Based",null,null,null,null,null,null,null,null,null,null,null,null,null,null,null,null,null,"N/A",null,null,"N/A","N/A"]
[null,null,400,"Smoky Valley","McPherson",5498,null,"Smoky Valley Virtual Charter School","High School",null,null,null,null,null,null,null,null,null,null,null,null,null,null,null,null,null,296,null,null,32,0.1081]
[null,null,400,"Smoky Valley","McPherson",5504,null,"Soderstrom Elem","Elementary",null,null,null,null,null,null,null,null,null,null,null,null,null,null,null,null,null,304,null,null,85,0.27960000000000002]
[null,null,400,"Smoky Valley","McPherson",5505,null,"Smoky Valley Middle School","Middle School",null,null,null,null,null,null,null,null,null,null,null,null,null,null,null,null,null,246,null,null,79,0.3211]
[null,null,400,"Smoky Valley","McPherson",5506,null,"Smoky Valley High","High School",null,null,null,null,null,null,null,null,null,null,null,null,null,null,null,null,null,253,null,null,65,0.25690000000000002]
[null,null,400,"Smoky Valley","McPherson",5520,null,"USD 400 - Home","Special Ed Program - Home",null,null,null,null,null,null,null,null,null,null,null,null,null,null,null,null,null,"N/A",null,null,"N/A","N/A"]
[null,null,400,"Smoky Valley","McPherson",5521,null,"USD 400 - K Time Program W/O SPED","Early Childhood Program - General",null,null,null,null,null,null,null,null,null,null,null,null,null,null,null,null,null,"N/A",null,null,"N/A","N/A"]
[null,null,401,"Chase-Raymond","Rice",5529,null,"USD 401 - Off Site Non Public Buildings","Special Ed Program - Off Site Community Based",null,null,null,null,null,null,null,null,null,null,null,null,null,null,null,null,null,"N/A",null,null,"N/A","N/A"]
[null,null,401,"Chase-Raymond","Rice",5530,null,"USD 401 - Home","Special Ed Program - Home",null,null,null,null,null,null,null,null,null,null,null,null,null,null,null,null,null,"N/A",null,null,"N/A","N/A"]
[null,null,401,"Chase-Raymond","Rice",5531,null,"USD 401 - Community-Based Preschool","Special Ed Program - Community Based Preschool",null,null,null,null,null,null,null,null,null,null,null,null,null,null,null,null,null,"N/A",null,null,"N/A","N/A"]
[null,null,401,"Chase-Raymond","Rice",5532,null,"USD 401 - K Time Program W/O SPED","Early Childhood Program - General",null,null,null,null,null,null,null,null,null,null,null,null,null,null,null,null,null,"N/A",null,null,"N/A","N/A"]
[null,null,401,"Chase-Raymond","Rice",5534,null,"Chase Elem","Elementary",null,null,null,null,null,null,null,null,null,null,null,null,null,null,null,null,null,66,null,null,46,0.69699999999999995]
[null,null,401,"Chase-Raymond","Rice",5536,null,"Chase High","High School",null,null,null,null,null,null,null,null,null,null,null,null,null,null,null,null,null,44,null,null,33,0.75]
[null,null,401,"Chase-Raymond","Rice",5538,null,"Raymond Jr High","Junior High School",null,null,null,null,null,null,null,null,null,null,null,null,null,null,null,null,null,33,null,null,26,0.78790000000000004]
[null,null,402,"Augusta","Butler",5552,null,"Augusta Dist Butler Co","Central Office",null,null,null,null,null,null,null,null,null,null,null,null,null,null,null,null,null,"N/A",null,null,"N/A","N/A"]
[null,null,402,"Augusta","Butler",5553,null,"USD 402 - Off Site Non Public Buildings","Special Ed Program - Off Site Community Based",null,null,null,null,null,null,null,null,null,null,null,null,null,null,null,null,null,"N/A",null,null,"N/A","N/A"]
[null,null,402,"Augusta","Butler",5554,null,"Garfield Elem","Elementary",null,null,null,null,null,null,null,null,null,null,null,null,null,null,null,null,null,249,null,null,92,0.3695]
[null,null,402,"Augusta","Butler",5555,null,"Ewalt Elementary","Elementary",null,null,null,null,null,null,null,null,null,null,null,null,null,null,null,null,null,356,null,null,139,0.39040000000000002]
[null,null,402,"Augusta","Butler",5556,null,"Lincoln Elem","Elementary",null,null,null,null,null,null,null,null,null,null,null,null,null,null,null,null,null,351,null,null,164,0.4672]
[null,null,402,"Augusta","Butler",5559,null,"USD 402 - Public Off-Site Preschools","Special Ed Program - Off Site Preschool",null,null,null,null,null,null,null,null,null,null,null,null,null,null,null,null,null,"N/A",null,null,"N/A","N/A"]
[null,null,402,"Augusta","Butler",5560,null,"Augusta Middle School","Middle School",null,null,null,null,null,null,null,null,null,null,null,null,null,null,null,null,null,457,null,null,167,0.3654]
[null,null,402,"Augusta","Butler",5561,null,"USD 402 - Home","Special Ed Program - Home",null,null,null,null,null,null,null,null,null,null,null,null,null,null,null,null,null,"N/A",null,null,"N/A","N/A"]
[null,null,402,"Augusta","Butler",5562,null,"Augusta Sr High","High School",null,null,null,null,null,null,null,null,null,null,null,null,null,null,null,null,null,634,null,null,202,0.31859999999999999]
[null,null,402,"Augusta","Butler",5565,null,"Central Kitchen","Kitchen Unit",null,null,null,null,null,null,null,null,null,null,null,null,null,null,null,null,null,"N/A",null,null,"N/A","N/A"]
[null,null,402,"Augusta","Butler",5568,null,"USD 402 - Community-Based Preschool","Special Ed Program - Community Based Preschool",null,null,null,null,null,null,null,null,null,null,null,null,null,null,null,null,null,"N/A",null,null,"N/A","N/A"]
[null,null,402,"Augusta","Butler",5570,null,"USD 402 - K Time Program W/O SPED","Early Childhood Program - General",null,null,null,null,null,null,null,null,null,null,null,null,null,null,null,null,null,"N/A",null,null,"N/A","N/A"]
[null,null,402,"Augusta","Butler",5571,null,"Alternative Learning Center","Other",null,null,null,null,null,null,null,null,null,null,null,null,null,null,null,null,null,"N/A",null,null,"N/A","N/A"]
[null,null,403,"Otis-Bison","Rush",5582,null,"Otis-Bison Dist Rush Co","Central Office",null,null,null,null,null,null,null,null,null,null,null,null,null,null,null,null,null,"N/A",null,null,"N/A","N/A"]
[null,null,403,"Otis-Bison","Barton",5583,null,"USD 403 - Off Site Non Public Buildings","Special Ed Program - Off Site Community Based",null,null,null,null,null,null,null,null,null,null,null,null,null,null,null,null,null,"N/A",null,null,"N/A","N/A"]
[null,null,403,"Otis-Bison","Rush",5585,null,"USD 403 - Home","Special Ed Program - Home",null,null,null,null,null,null,null,null,null,null,null,null,null,null,null,null,null,"N/A",null,null,"N/A","N/A"]
[null,null,403,"Otis-Bison","Rush",5586,null,"USD 403 - K Time Program W/O SPED","Early Childhood Program - General",null,null,null,null,null,null,null,null,null,null,null,null,null,null,null,null,null,"N/A",null,null,"N/A","N/A"]
[null,null,403,"Otis-Bison","Rush",5587,null,"SouthWinds Academy","High School",null,null,null,null,null,null,null,null,null,null,null,null,null,null,null,null,null,43,null,null,8,0.186]
[null,null,403,"Otis-Bison","Rush",5598,null,"Otis-Bison Elementary","Elementary",null,null,null,null,null,null,null,null,null,null,null,null,null,null,null,null,null,91,null,null,21,0.23080000000000001]
[null,null,403,"Otis-Bison","Rush",5600,null,"Otis-Bison Junior/Senior High School","High School",null,null,null,null,null,null,null,null,null,null,null,null,null,null,null,null,null,98,null,null,27,0.27550000000000002]
[null,null,404,"Riverton","Cherokee",5619,null,"USD 404 - Off Site Non Public Buildings","Special Ed Program - Off Site Community Based",null,null,null,null,null,null,null,null,null,null,null,null,null,null,null,null,null,"N/A",null,null,"N/A","N/A"]
[null,null,404,"Riverton","Cherokee",5620,null,"Riverton Elem","Elementary",null,null,null,null,null,null,null,null,null,null,null,null,null,null,null,null,null,311,null,null,153,0.49199999999999999]
[null,null,404,"Riverton","Cherokee",5621,null,"Riverton Middle","Middle School",null,null,null,null,null,null,null,null,null,null,null,null,null,null,null,null,null,170,null,null,71,0.41760000000000003]
[null,null,404,"Riverton","Cherokee",5622,null,"Riverton High","High School",null,null,null,null,null,null,null,null,null,null,null,null,null,null,null,null,null,223,null,null,104,0.46639999999999998]
[null,null,404,"Riverton","Cherokee",5623,null,"USD 404 - Public Off-Site Preschools","Special Ed Program - Off Site Preschool",null,null,null,null,null,null,null,null,null,null,null,null,null,null,null,null,null,"N/A",null,null,"N/A","N/A"]
[null,null,404,"Riverton","Cherokee",5624,null,"USD 404 - Home","Special Ed Program - Home",null,null,null,null,null,null,null,null,null,null,null,null,null,null,null,null,null,"N/A",null,null,"N/A","N/A"]
[null,null,404,"Riverton","Cherokee",5625,null,"USD 404 - Community-Based Preschool","Special Ed Program - Community Based Preschool",null,null,null,null,null,null,null,null,null,null,null,null,null,null,null,null,null,"N/A",null,null,"N/A","N/A"]
[null,null,404,"Riverton","Cherokee",5626,null,"USD 404 - K Time Program W/O SPED","Early Childhood Program - General",null,null,null,null,null,null,null,null,null,null,null,null,null,null,null,null,null,"N/A",null,null,"N/A","N/A"]
[null,null,405,"Lyons","Rice",5632,null,"Lyons Dist Rice Co","Central Office",null,null,null,null,null,null,null,null,null,null,null,null,null,null,null,null,null,"N/A",null,null,"N/A","N/A"]
[null,null,405,"Lyons","Rice",5633,null,"USD 405 - Off Site Non Public Buildings","Special Ed Program - Off Site Community Based",null,null,null,null,null,null,null,null,null,null,null,null,null,null,null,null,null,"N/A",null,null,"N/A","N/A"]
[null,null,405,"Lyons","Rice",5634,null,"USD 405 - Home","Special Ed Program - Home",null,null,null,null,null,null,null,null,null,null,null,null,null,null,null,null,null,"N/A",null,null,"N/A","N/A"]
[null,null,405,"Lyons","Rice",5636,null,"Lyons Central Elementary","Elementary",null,null,null,null,null,null,null,null,null,null,null,null,null,null,null,null,null,157,null,null,106,0.67520000000000002]
[null,null,405,"Lyons","Rice",5637,null,"USD 405 - Public Off Campus","Special Ed Program - Public School Administered",null,null,null,null,null,null,null,null,null,null,null,null,null,null,null,null,null,"N/A",null,null,"N/A","N/A"]
[null,null,405,"Lyons","Rice",5638,null,"Lyons Park Elementary","Elementary",null,null,null,null,null,null,null,null,null,null,null,null,null,null,null,null,null,162,null,null,97,0.5988]
[null,null,405,"Lyons","Rice",5639,null,"USD 405 - K Time Program W/O SPED","Early Childhood Program - General",null,null,null,null,null,null,null,null,null,null,null,null,null,null,null,null,null,"N/A",null,null,"N/A","N/A"]
[null,null,405,"Lyons","Rice",5640,null,"Lyons Middle School","Middle School",null,null,null,null,null,null,null,null,null,null,null,null,null,null,null,null,null,187,null,null,130,0.69520000000000004]
[null,null,405,"Lyons","Rice",5641,null,"Early Childhood Program - PAT","Early Childhood Program - Parents as Teachers",null,null,null,null,null,null,null,null,null,null,null,null,null,null,null,null,null,"N/A",null,null,"N/A","N/A"]
[null,null,405,"Lyons","Rice",5642,null,"Lyons High School","High School",null,null,null,null,null,null,null,null,null,null,null,null,null,null,null,null,null,212,null,null,148,0.69810000000000005]
[null,null,405,"Lyons","Rice",5643,null,"Rice County Corrections","Special Ed Program - Incarcerated",null,null,null,null,null,null,null,null,null,null,null,null,null,null,null,null,null,"N/A",null,null,"N/A","N/A"]
[null,null,405,"Lyons","Rice",5644,null,"Cornerstone Daycare","Special Ed Program - Community Based Preschool",null,null,null,null,null,null,null,null,null,null,null,null,null,null,null,null,null,"N/A",null,null,"N/A","N/A"]
[null,null,407,"Russell County","Russell",5689,null,"USD 407 - Off Site Non Public Buildings","Special Ed Program - Off Site Community Based",null,null,null,null,null,null,null,null,null,null,null,null,null,null,null,null,null,"N/A",null,null,"N/A","N/A"]
[null,null,407,"Russell County","Russell",5690,null,"USD 407 - Home","Special Ed Program - Home",null,null,null,null,null,null,null,null,null,null,null,null,null,null,null,null,null,"N/A",null,null,"N/A","N/A"]
[null,null,407,"Russell County","Russell",5691,null,"USD 407 - Incarceration","Special Ed Program - Incarcerated",null,null,null,null,null,null,null,null,null,null,null,null,null,null,null,null,null,"N/A",null,null,"N/A","N/A"]
[null,null,407,"Russell County","Russell",5692,null,"USD 407 - Community-Based Preschool","Special Ed Program - Community Based Preschool",null,null,null,null,null,null,null,null,null,null,null,null,null,null,null,null,null,"N/A",null,null,"N/A","N/A"]
[null,null,407,"Russell County","Russell",5693,null,"USD 407 - Public Off Campus","Special Ed Program - Public School Administered",null,null,null,null,null,null,null,null,null,null,null,null,null,null,null,null,null,"N/A",null,null,"N/A","N/A"]
[null,null,407,"Russell County","Russell",5694,null,"USD 407 - K Time Program W/O SPED","Early Childhood Program - General",null,null,null,null,null,null,null,null,null,null,null,null,null,null,null,null,null,"N/A",null,null,"N/A","N/A"]
[null,null,407,"Russell County","Russell",5695,null,"Parents As Teachers","Early Childhood Program - Parents as Teachers",null,null,null,null,null,null,null,null,null,null,null,null,null,null,null,null,null,"N/A",null,null,"N/A","N/A"]
[null,null,407,"Russell County","Russell",5718,null,"Bickerdyke Elem","Elementary",null,null,null,null,null,null,null,null,null,null,null,null,null,null,null,null,null,228,null,null,108,0.47370000000000001]
[null,null,407,"Russell County","Russell",5720,null,"Simpson Elem","Elementary",null,null,null,null,null,null,null,null,null,null,null,null,null,null,null,null,null,150,null,null,76,0.50670000000000004]
[null,null,407,"Russell County","Russell",5722,null,"Ruppenthal Middle","Middle School",null,null,null,null,null,null,null,null,null,null,null,null,null,null,null,null,null,186,null,null,89,0.47849999999999998]
[null,null,407,"Russell County","Russell",5724,null,"Russell High","High School",null,null,null,null,null,null,null,null,null,null,null,null,null,null,null,null,null,207,null,null,94,0.4541]
[null,null,407,"Russell County","Russell",5726,null,"Russell County Learning Center","Special Ed Program - Public School Administered",null,null,null,null,null,null,null,null,null,null,null,null,null,null,null,null,null,"N/A",null,null,"N/A","N/A"]
[null,null,408,"Marion-Florence","Marion",5741,null,"USD 408 - Off Site Non Public Buildings","Special Ed Program - Off Site Community Based",null,null,null,null,null,null,null,null,null,null,null,null,null,null,null,null,null,"N/A",null,null,"N/A","N/A"]
[null,null,408,"Marion-Florence","Marion",5742,null,"USD 408 - Public Off-Site Preschools","Special Ed Program - Off Site Preschool",null,null,null,null,null,null,null,null,null,null,null,null,null,null,null,null,null,"N/A",null,null,"N/A","N/A"]
[null,null,408,"Marion-Florence","Marion",5743,null,"USD 408 - Home","Special Ed Program - Home",null,null,null,null,null,null,null,null,null,null,null,null,null,null,null,null,null,"N/A",null,null,"N/A","N/A"]
[null,null,408,"Marion-Florence","Marion",5745,null,"USD 408 - Community-Based Preschool","Special Ed Program - Community Based Preschool",null,null,null,null,null,null,null,null,null,null,null,null,null,null,null,null,null,"N/A",null,null,"N/A","N/A"]
[null,null,408,"Marion-Florence","Marion",5746,null,"Marion Middle","Middle School",null,null,null,null,null,null,null,null,null,null,null,null,null,null,null,null,null,127,null,null,52,0.40939999999999999]
[null,null,408,"Marion-Florence","Marion",5747,null,"USD 408 - K Time Program W/O SPED","Early Childhood Program - General",null,null,null,null,null,null,null,null,null,null,null,null,null,null,null,null,null,"N/A",null,null,"N/A","N/A"]
[null,null,408,"Marion-Florence","Marion",5748,null,"Marion High","High School",null,null,null,null,null,null,null,null,null,null,null,null,null,null,null,null,null,142,null,null,54,0.38030000000000003]
[null,null,408,"Marion-Florence","Marion",5750,null,"Marion Elem","Elementary",null,null,null,null,null,null,null,null,null,null,null,null,null,null,null,null,null,233,null,null,97,0.4163]
[null,null,409,"Atchison Public Schools","Atchison",5761,null,"Atchison Elementary School","Elementary",null,null,null,null,null,null,null,null,null,null,null,null,null,null,null,null,null,703,null,null,439,0.62450000000000006]
[null,null,409,"Atchison Public Schools","Atchison",5763,null,"USD 409 - Home","Special Ed Program - Home",null,null,null,null,null,null,null,null,null,null,null,null,null,null,null,null,null,"N/A",null,null,"N/A","N/A"]
[null,null,409,"Atchison Public Schools","Atchison",5765,null,"USD 409 - Community-Based Preschool","Special Ed Program - Community Based Preschool",null,null,null,null,null,null,null,null,null,null,null,null,null,null,null,null,null,"N/A",null,null,"N/A","N/A"]
[null,null,409,"Atchison Public Schools","Atchison",5767,null,"USD 409 - Community-Based Preschool","Special Ed Program - Community Based Preschool",null,null,null,null,null,null,null,null,null,null,null,null,null,null,null,null,null,"N/A",null,null,"N/A","N/A"]
[null,null,409,"Atchison Public Schools","Atchison",5770,null,"Atchison High  School","High School",null,null,null,null,null,null,null,null,null,null,null,null,null,null,null,null,null,429,null,null,209,0.48720000000000002]
[null,null,409,"Atchison Public Schools","Atchison",5771,null,"USD 409 - K Time Program W/O SPED","Early Childhood Program - General",null,null,null,null,null,null,null,null,null,null,null,null,null,null,null,null,null,"N/A",null,null,"N/A","N/A"]
[null,null,409,"Atchison Public Schools","Atchison",5775,null,"Central School","Special School",null,null,null,null,null,null,null,null,null,null,null,null,null,null,null,null,null,53,null,null,45,0.84909999999999997]
[null,null,409,"Atchison Public Schools","Atchison",5776,null,"Atchison Middle School","Middle School",null,null,null,null,null,null,null,null,null,null,null,null,null,null,null,null,null,313,null,null,172,0.54949999999999999]
[null,null,409,"Atchison Public Schools","Atchison",5779,null,"USD 409 - Off Site Non Public Buildings","Special Ed Program - Off Site Community Based",null,null,null,null,null,null,null,null,null,null,null,null,null,null,null,null,null,"N/A",null,null,"N/A","N/A"]
[null,null,410,"Durham-Hillsboro-Lehigh","Marion",5807,null,"USD 410 - Off Site Non Public Buildings","Special Ed Program - Off Site Community Based",null,null,null,null,null,null,null,null,null,null,null,null,null,null,null,null,null,"N/A",null,null,"N/A","N/A"]
[null,null,410,"Durham-Hillsboro-Lehigh","Marion",5808,null,"USD 410 - Public Off-Site Preschools","Special Ed Program - Off Site Preschool",null,null,null,null,null,null,null,null,null,null,null,null,null,null,null,null,null,"N/A",null,null,"N/A","N/A"]
[null,null,410,"Durham-Hillsboro-Lehigh","Marion",5809,null,"USD 410 - Home","Special Ed Program - Home",null,null,null,null,null,null,null,null,null,null,null,null,null,null,null,null,null,"N/A",null,null,"N/A","N/A"]
[null,null,410,"Durham-Hillsboro-Lehigh","Marion",5811,null,"USD 410 - Community-Based Preschool","Special Ed Program - Community Based Preschool",null,null,null,null,null,null,null,null,null,null,null,null,null,null,null,null,null,"N/A",null,null,"N/A","N/A"]
[null,null,410,"Durham-Hillsboro-Lehigh","Marion",5812,null,"Hillsboro Elem","Elementary",null,null,null,null,null,null,null,null,null,null,null,null,null,null,null,null,null,302,null,null,123,0.4073]
[null,null,410,"Durham-Hillsboro-Lehigh","Marion",5813,null,"USD 410 - Public Off Campus","Special Ed Program - Public School Administered",null,null,null,null,null,null,null,null,null,null,null,null,null,null,null,null,null,"N/A",null,null,"N/A","N/A"]
[null,null,410,"Durham-Hillsboro-Lehigh","Marion",5814,null,"Hillsboro Middle/High School","High School",null,null,null,null,null,null,null,null,null,null,null,null,null,null,null,null,null,327,null,null,95,0.29049999999999998]
[null,null,410,"Durham-Hillsboro-Lehigh","Marion",5815,null,"USD 410 - K Time Program W/O SPED","Early Childhood Program - General",null,null,null,null,null,null,null,null,null,null,null,null,null,null,null,null,null,"N/A",null,null,"N/A","N/A"]
[null,null,410,"Durham-Hillsboro-Lehigh","Marion",5816,null,"Parents As Teachers (USD #410)","Early Childhood Program - Parents as Teachers",null,null,null,null,null,null,null,null,null,null,null,null,null,null,null,null,null,"N/A",null,null,"N/A","N/A"]
[null,null,411,"Goessel","Marion",5833,null,"USD 411 - Off Site Non Public Buildings","Special Ed Program - Off Site Community Based",null,null,null,null,null,null,null,null,null,null,null,null,null,null,null,null,null,"N/A",null,null,"N/A","N/A"]
[null,null,411,"Goessel","Marion",5834,null,"Goessel Elem","Elementary",null,null,null,null,null,null,null,null,null,null,null,null,null,null,null,null,null,125,null,null,43,0.34399999999999997]
[null,null,411,"Goessel","Marion",5836,null,"Goessel High","High School",null,null,null,null,null,null,null,null,null,null,null,null,null,null,null,null,null,160,null,null,26,0.16250000000000001]
[null,null,411,"Goessel","Marion",5837,null,"USD 411 - Public Off-Site Preschools","Special Ed Program - Off Site Preschool",null,null,null,null,null,null,null,null,null,null,null,null,null,null,null,null,null,"N/A",null,null,"N/A","N/A"]
[null,null,411,"Goessel","Marion",5838,null,"USD 411 - Home","Special Ed Program - Home",null,null,null,null,null,null,null,null,null,null,null,null,null,null,null,null,null,"N/A",null,null,"N/A","N/A"]
[null,null,411,"Goessel","Marion",5839,null,"USD 411 - Community-Based Preschool","Special Ed Program - Community Based Preschool",null,null,null,null,null,null,null,null,null,null,null,null,null,null,null,null,null,"N/A",null,null,"N/A","N/A"]
[null,null,411,"Goessel","Marion",5840,null,"USD 411 - K Time Program W/O SPED","Early Childhood Program - General",null,null,null,null,null,null,null,null,null,null,null,null,null,null,null,null,null,"N/A",null,null,"N/A","N/A"]
[null,null,412,"Hoxie Community Schools","Logan",5849,null,"USD 412 - Off Site Non Public Buildings","Special Ed Program - Off Site Community Based",null,null,null,null,null,null,null,null,null,null,null,null,null,null,null,null,null,"N/A",null,null,"N/A","N/A"]
[null,null,412,"Hoxie Community Schools","Sheridan",5850,null,"USD 412 - Home","Special Ed Program - Home",null,null,null,null,null,null,null,null,null,null,null,null,null,null,null,null,null,"N/A",null,null,"N/A","N/A"]
[null,null,412,"Hoxie Community Schools","Sheridan",5851,null,"USD 412 - Community-Based Preschool","Special Ed Program - Community Based Preschool",null,null,null,null,null,null,null,null,null,null,null,null,null,null,null,null,null,"N/A",null,null,"N/A","N/A"]
[null,null,412,"Hoxie Community Schools","Sheridan",5852,null,"Hoxie Elem","Elementary",null,null,null,null,null,null,null,null,null,null,null,null,null,null,null,null,null,221,null,null,66,0.29859999999999998]
[null,null,412,"Hoxie Community Schools","Sheridan",5853,null,"USD 412 - K Time Program W/O SPED","Early Childhood Program - General",null,null,null,null,null,null,null,null,null,null,null,null,null,null,null,null,null,"N/A",null,null,"N/A","N/A"]
[null,null,412,"Hoxie Community Schools","Sheridan",5854,null,"Hoxie High","High School",null,null,null,null,null,null,null,null,null,null,null,null,null,null,null,null,null,194,null,null,40,0.20619999999999999]
[null,null,413,"Chanute Public Schools","Neosho",5869,null,"USD 413 - Off Site Non Public Buildings","Special Ed Program - Off Site Community Based",null,null,null,null,null,null,null,null,null,null,null,null,null,null,null,null,null,"N/A",null,null,"N/A","N/A"]
[null,null,413,"Chanute Public Schools","Neosho",5871,null,"Chanute Elementary School","Elementary",null,null,null,null,null,null,null,null,null,null,null,null,null,null,null,null,null,792,null,null,498,0.62880000000000003]
[null,null,413,"Chanute Public Schools","Neosho",5874,null,"Lincoln Early Learning Center","Early Childhood Program - Other",null,null,null,null,null,null,null,null,null,null,null,null,null,null,null,null,null,"N/A",null,null,"N/A","N/A"]
[null,null,413,"Chanute Public Schools","Neosho",5875,null,"USD 413 - Home","Special Ed Program - Home",null,null,null,null,null,null,null,null,null,null,null,null,null,null,null,null,null,"N/A",null,null,"N/A","N/A"]
[null,null,413,"Chanute Public Schools","Neosho",5879,null,"USD 413 - Community-Based Preschool","Special Ed Program - Community Based Preschool",null,null,null,null,null,null,null,null,null,null,null,null,null,null,null,null,null,"N/A",null,null,"N/A","N/A"]
[null,null,413,"Chanute Public Schools","Neosho",5880,null,"Royster Middle School","Middle School",null,null,null,null,null,null,null,null,null,null,null,null,null,null,null,null,null,391,null,null,216,0.5524]
[null,null,413,"Chanute Public Schools","Neosho",5881,null,"USD 413 - K Time Program W/O SPED","Early Childhood Program - General",null,null,null,null,null,null,null,null,null,null,null,null,null,null,null,null,null,"N/A",null,null,"N/A","N/A"]
[null,null,413,"Chanute Public Schools","Neosho",5882,null,"Chanute High","High School",null,null,null,null,null,null,null,null,null,null,null,null,null,null,null,null,null,615,null,null,308,0.50080000000000002]
[null,null,415,"Hiawatha","Brown",5927,null,"USD 415 - Off Site Non Public Buildings","Special Ed Program - Off Site Community Based",null,null,null,null,null,null,null,null,null,null,null,null,null,null,null,null,null,"N/A",null,null,"N/A","N/A"]
[null,null,415,"Hiawatha","Brown",5928,null,"USD 415 - Home","Special Ed Program - Home",null,null,null,null,null,null,null,null,null,null,null,null,null,null,null,null,null,"N/A",null,null,"N/A","N/A"]
[null,null,415,"Hiawatha","Brown",5929,null,"USD 415 - Community-Based Preschool","Special Ed Program - Community Based Preschool",null,null,null,null,null,null,null,null,null,null,null,null,null,null,null,null,null,"N/A",null,null,"N/A","N/A"]
[null,null,415,"Hiawatha","Brown",5930,null,"USD 415 - Community-Based Preschool","Special Ed Program - Community Based Preschool",null,null,null,null,null,null,null,null,null,null,null,null,null,null,null,null,null,"N/A",null,null,"N/A","N/A"]
[null,null,415,"Hiawatha","Brown",5931,null,"USD 415 - Community-Based Preschool","Special Ed Program - Community Based Preschool",null,null,null,null,null,null,null,null,null,null,null,null,null,null,null,null,null,"N/A",null,null,"N/A","N/A"]
[null,null,415,"Hiawatha","Brown",5932,null,"USD 415 - Public Off Campus","Special Ed Program - Public School Administered",null,null,null,null,null,null,null,null,null,null,null,null,null,null,null,null,null,"N/A",null,null,"N/A","N/A"]
[null,null,415,"Hiawatha","Brown",5933,null,"USD 415 - K Time Program W/O SPED","Early Childhood Program - General",null,null,null,null,null,null,null,null,null,null,null,null,null,null,null,null,null,"N/A",null,null,"N/A","N/A"]
[null,null,415,"Hiawatha","Brown",5934,null,"Little Hands Incorporated","Early Childhood Program - Other",null,null,null,null,null,null,null,null,null,null,null,null,null,null,null,null,null,"N/A",null,null,"N/A","N/A"]
[null,null,415,"Hiawatha","Brown",5936,null,"Hiawatha Elem","Elementary",null,null,null,null,null,null,null,null,null,null,null,null,null,null,null,null,null,351,null,null,180,0.51280000000000003]
[null,null,415,"Hiawatha","Brown",5940,null,"Hiawatha Sr High","High School",null,null,null,null,null,null,null,null,null,null,null,null,null,null,null,null,null,267,null,null,116,0.4345]
[null,null,415,"Hiawatha","Brown",5950,null,"Hiawatha Middle School","Middle School",null,null,null,null,null,null,null,null,null,null,null,null,null,null,null,null,null,276,null,null,130,0.47099999999999997]
[null,null,416,"Louisburg","Miami",5965,null,"USD 416 - Off Site Non Public Buildings","Special Ed Program - Off Site Community Based",null,null,null,null,null,null,null,null,null,null,null,null,null,null,null,null,null,"N/A",null,null,"N/A","N/A"]
[null,null,416,"Louisburg","Miami",5967,null,"USD 416 - Public Off-Site Preschools","Special Ed Program - Off Site Preschool",null,null,null,null,null,null,null,null,null,null,null,null,null,null,null,null,null,"N/A",null,null,"N/A","N/A"]
[null,null,416,"Louisburg","Miami",5969,null,"USD 416 - Home","Special Ed Program - Home",null,null,null,null,null,null,null,null,null,null,null,null,null,null,null,null,null,"N/A",null,null,"N/A","N/A"]
[null,null,416,"Louisburg","Miami",5970,null,"Broadmoor Elementary","Elementary",null,null,null,null,null,null,null,null,null,null,null,null,null,null,null,null,null,363,null,null,67,0.18459999999999999]
[null,null,416,"Louisburg","Miami",5971,null,"USD 416 - K Time Program W/O SPED","Early Childhood Program - General",null,null,null,null,null,null,null,null,null,null,null,null,null,null,null,null,null,"N/A",null,null,"N/A","N/A"]
[null,null,416,"Louisburg","Miami",5972,null,"Louisburg High","High School",null,null,null,null,null,null,null,null,null,null,null,null,null,null,null,null,null,564,null,null,82,0.1454]
[null,null,416,"Louisburg","Miami",5973,null,"Louisburg Virtual Program","High School",null,null,null,null,null,null,null,null,null,null,null,null,null,null,null,null,null,15,null,null,5,0.33329999999999999]
[null,null,416,"Louisburg","Miami",5978,null,"Louisburg Middle","Middle School",null,null,null,null,null,null,null,null,null,null,null,null,null,null,null,null,null,376,null,null,49,0.1303]
[null,null,416,"Louisburg","Miami",5980,null,"Rockville Elementary School","Elementary",null,null,null,null,null,null,null,null,null,null,null,null,null,null,null,null,null,416,null,null,87,0.20910000000000001]
[null,null,417,"Morris County","Wabaunsee",5987,null,"Prairie Heights Elementary School","Elementary",null,null,null,null,null,null,null,null,null,null,null,null,null,null,null,null,null,85,null,null,38,0.4471]
[null,null,417,"Morris County","Morris",5988,null,"USD 417 - Off Site Non Public Buildings","Special Ed Program - Off Site Community Based",null,null,null,null,null,null,null,null,null,null,null,null,null,null,null,null,null,"N/A",null,null,"N/A","N/A"]
[null,null,417,"Morris County","Lyon",5989,null,"USD 417 - Home","Special Ed Program - Home",null,null,null,null,null,null,null,null,null,null,null,null,null,null,null,null,null,"N/A",null,null,"N/A","N/A"]
[null,null,417,"Morris County","Morris",5990,null,"Council Grove Elementary School","Elementary",null,null,null,null,null,null,null,null,null,null,null,null,null,null,null,null,null,345,null,null,171,0.49569999999999997]
[null,null,417,"Morris County","Morris",5991,null,"USD 417 - Community-Based Preschool","Special Ed Program - Community Based Preschool",null,null,null,null,null,null,null,null,null,null,null,null,null,null,null,null,null,"N/A",null,null,"N/A","N/A"]
[null,null,417,"Morris County","Lyon",5992,null,"USD 417 - K Time Program W/O SPED","Early Childhood Program - General",null,null,null,null,null,null,null,null,null,null,null,null,null,null,null,null,null,"N/A",null,null,"N/A","N/A"]
[null,null,417,"Morris County","Morris",5994,null,"Council Grove Junior Senior High School","High School",null,null,null,null,null,null,null,null,null,null,null,null,null,null,null,null,null,350,null,null,148,0.4229]
[null,null,418,"McPherson","McPherson",6018,null,"McPherson Dist McPherson Co","Central Office",null,null,null,null,null,null,null,null,null,null,null,null,null,null,null,null,null,"N/A",null,null,"N/A","N/A"]
[null,null,418,"McPherson","McPherson",6019,null,"USD 418 - Off Site Non Public Buildings","Special Ed Program - Off Site Community Based",null,null,null,null,null,null,null,null,null,null,null,null,null,null,null,null,null,"N/A",null,null,"N/A","N/A"]
[null,null,418,"McPherson","McPherson",6020,null,"USD 418 - Home","Special Ed Program - Home",null,null,null,null,null,null,null,null,null,null,null,null,null,null,null,null,null,"N/A",null,null,"N/A","N/A"]
[null,null,418,"McPherson","McPherson",6021,null,"USD 418 - Community-Based Preschool","Special Ed Program - Community Based Preschool",null,null,null,null,null,null,null,null,null,null,null,null,null,null,null,null,null,"N/A",null,null,"N/A","N/A"]
[null,null,418,"McPherson","McPherson",6024,null,"USD 418 - K Time Program W/O SPED","Early Childhood Program - General",null,null,null,null,null,null,null,null,null,null,null,null,null,null,null,null,null,"N/A",null,null,"N/A","N/A"]
[null,null,418,"McPherson","McPherson",6028,null,"Eisenhower Elementary","Elementary",null,null,null,null,null,null,null,null,null,null,null,null,null,null,null,null,null,260,null,null,60,0.23080000000000001]
[null,null,418,"McPherson","McPherson",6030,null,"Lincoln Elem","Elementary",null,null,null,null,null,null,null,null,null,null,null,null,null,null,null,null,null,252,null,null,95,0.377]
[null,null,418,"McPherson","McPherson",6032,null,"Roosevelt Elem","Elementary",null,null,null,null,null,null,null,null,null,null,null,null,null,null,null,null,null,258,null,null,145,0.56200000000000006]
[null,null,418,"McPherson","McPherson",6034,null,"Washington Elem","Elementary",null,null,null,null,null,null,null,null,null,null,null,null,null,null,null,null,null,283,null,null,109,0.38519999999999999]
[null,null,418,"McPherson","McPherson",6038,null,"McPherson Middle School","Middle School",null,null,null,null,null,null,null,null,null,null,null,null,null,null,null,null,null,492,null,null,174,0.35370000000000001]
[null,null,418,"McPherson","McPherson",6040,null,"McPherson High","High School",null,null,null,null,null,null,null,null,null,null,null,null,null,null,null,null,null,710,null,null,215,0.30280000000000001]
[null,null,419,"Canton-Galva","McPherson",6063,null,"USD 419 - Off Site Non Public Buildings","Special Ed Program - Off Site Community Based",null,null,null,null,null,null,null,null,null,null,null,null,null,null,null,null,null,"N/A",null,null,"N/A","N/A"]
[null,null,419,"Canton-Galva","McPherson",6065,null,"USD 419 - Home","Special Ed Program - Home",null,null,null,null,null,null,null,null,null,null,null,null,null,null,null,null,null,"N/A",null,null,"N/A","N/A"]
[null,null,419,"Canton-Galva","McPherson",6066,null,"Canton-Galva Jr./Sr. High","High School",null,null,null,null,null,null,null,null,null,null,null,null,null,null,null,null,null,139,null,null,30,0.21579999999999999]
[null,null,419,"Canton-Galva","McPherson",6069,null,"USD 419 - K Time Program W/O SPED","Early Childhood Program - General",null,null,null,null,null,null,null,null,null,null,null,null,null,null,null,null,null,"N/A",null,null,"N/A","N/A"]
[null,null,419,"Canton-Galva","McPherson",6070,null,"Canton-Galva Elementary","Elementary",null,null,null,null,null,null,null,null,null,null,null,null,null,null,null,null,null,194,null,null,66,0.3402]
[null,null,419,"Canton-Galva","McPherson",6071,null,"Community Based Pre-school","Special Ed Program - Off Site Community Based",null,null,null,null,null,null,null,null,null,null,null,null,null,null,null,null,null,"N/A",null,null,"N/A","N/A"]
[null,null,420,"Osage City","Osage",6087,null,"USD 420 - Off Site Non Public Buildings","Special Ed Program - Off Site Community Based",null,null,null,null,null,null,null,null,null,null,null,null,null,null,null,null,null,"N/A",null,null,"N/A","N/A"]
[null,null,420,"Osage City","Osage",6088,null,"Osage City Elem","Elementary",null,null,null,null,null,null,null,null,null,null,null,null,null,null,null,null,null,327,null,null,181,0.55349999999999999]
[null,null,420,"Osage City","Osage",6089,null,"USD 420 - Home","Special Ed Program - Home",null,null,null,null,null,null,null,null,null,null,null,null,null,null,null,null,null,"N/A",null,null,"N/A","N/A"]
[null,null,420,"Osage City","Osage",6090,null,"Osage City High","High School",null,null,null,null,null,null,null,null,null,null,null,null,null,null,null,null,null,228,null,null,95,0.41670000000000001]
[null,null,420,"Osage City","Osage",6091,null,"Osage City Middle School","Middle School",null,null,null,null,null,null,null,null,null,null,null,null,null,null,null,null,null,147,null,null,64,0.43540000000000001]
[null,null,420,"Osage City","Osage",6092,null,"USD 420 - Community-Based Preschool","Special Ed Program - Community Based Preschool",null,null,null,null,null,null,null,null,null,null,null,null,null,null,null,null,null,"N/A",null,null,"N/A","N/A"]
[null,null,420,"Osage City","Osage",6093,null,"USD 420 - K Time Program W/O SPED","Early Childhood Program - General",null,null,null,null,null,null,null,null,null,null,null,null,null,null,null,null,null,"N/A",null,null,"N/A","N/A"]
[null,null,421,"Lyndon","Osage",6101,null,"USD 421 - Off Site Non Public Buildings","Special Ed Program - Off Site Community Based",null,null,null,null,null,null,null,null,null,null,null,null,null,null,null,null,null,"N/A",null,null,"N/A","N/A"]
[null,null,421,"Lyndon","Osage",6102,null,"Lyndon Elem","Elementary",null,null,null,null,null,null,null,null,null,null,null,null,null,null,null,null,null,287,null,null,108,0.37630000000000002]
[null,null,421,"Lyndon","Osage",6103,null,"USD 421 - Home","Special Ed Program - Home",null,null,null,null,null,null,null,null,null,null,null,null,null,null,null,null,null,"N/A",null,null,"N/A","N/A"]
[null,null,421,"Lyndon","Osage",6104,null,"Lyndon High","High School",null,null,null,null,null,null,null,null,null,null,null,null,null,null,null,null,null,133,null,null,27,0.20300000000000001]
[null,null,421,"Lyndon","Osage",6105,null,"USD 421 - Community-Based Preschool","Special Ed Program - Community Based Preschool",null,null,null,null,null,null,null,null,null,null,null,null,null,null,null,null,null,"N/A",null,null,"N/A","N/A"]
[null,null,421,"Lyndon","Osage",6106,null,"USD 421 - K Time Program W/O SPED","Early Childhood Program - General",null,null,null,null,null,null,null,null,null,null,null,null,null,null,null,null,null,"N/A",null,null,"N/A","N/A"]
[null,null,422,"Kiowa County","Kiowa",6117,null,"USD 422 - Off Site Non Public Buildings","Special Ed Program - Off Site Community Based",null,null,null,null,null,null,null,null,null,null,null,null,null,null,null,null,null,"N/A",null,null,"N/A","N/A"]
[null,null,422,"Kiowa County","Kiowa",6118,null,"Kiowa County Elem/Jr. High","Elementary",null,null,null,null,null,null,null,null,null,null,null,null,null,null,null,null,null,232,null,null,98,0.4224]
[null,null,422,"Kiowa County","Kiowa",6119,null,"USD 422 - Home","Special Ed Program - Home",null,null,null,null,null,null,null,null,null,null,null,null,null,null,null,null,null,"N/A",null,null,"N/A","N/A"]
[null,null,422,"Kiowa County","Kiowa",6120,null,"USD 422 - K Time Program W/O SPED","Early Childhood Program - General",null,null,null,null,null,null,null,null,null,null,null,null,null,null,null,null,null,"N/A",null,null,"N/A","N/A"]
[null,null,422,"Kiowa County","Kiowa",6121,null,"21st Century Learning Academy/Kiowa County","Other",null,null,null,null,null,null,null,null,null,null,null,null,null,null,null,null,null,135,null,null,12,8.8900000000000007E-2]
[null,null,422,"Kiowa County","Kiowa",6122,null,"Kiowa County High School","High School",null,null,null,null,null,null,null,null,null,null,null,null,null,null,null,null,null,62,null,null,15,0.2419]
[null,null,423,"Moundridge","McPherson",6132,null,"Moundridge Dist McPherson Co","Central Office",null,null,null,null,null,null,null,null,null,null,null,null,null,null,null,null,null,"N/A",null,null,"N/A","N/A"]
[null,null,423,"Moundridge","McPherson",6133,null,"USD 423 - Off Site Non Public Buildings","Special Ed Program - Off Site Community Based",null,null,null,null,null,null,null,null,null,null,null,null,null,null,null,null,null,"N/A",null,null,"N/A","N/A"]
[null,null,423,"Moundridge","McPherson",6135,null,"USD 423 - Home","Special Ed Program - Home",null,null,null,null,null,null,null,null,null,null,null,null,null,null,null,null,null,"N/A",null,null,"N/A","N/A"]
[null,null,423,"Moundridge","McPherson",6138,null,"USD 423 - K Time Program W/O SPED","Early Childhood Program - General",null,null,null,null,null,null,null,null,null,null,null,null,null,null,null,null,null,"N/A",null,null,"N/A","N/A"]
[null,null,423,"Moundridge","McPherson",6139,null,"USD 423 Community Based Preschool","Special Ed Program - Community Based Preschool",null,null,null,null,null,null,null,null,null,null,null,null,null,null,null,null,null,"N/A",null,null,"N/A","N/A"]
[null,null,423,"Moundridge","McPherson",6140,null,"Moundridge Elem","Elementary",null,null,null,null,null,null,null,null,null,null,null,null,null,null,null,null,null,175,null,null,58,0.33139999999999997]
[null,null,423,"Moundridge","McPherson",6142,null,"Moundridge High","High School",null,null,null,null,null,null,null,null,null,null,null,null,null,null,null,null,null,133,null,null,34,0.25559999999999999]
[null,null,423,"Moundridge","McPherson",6146,null,"Moundridge Middle","Middle School",null,null,null,null,null,null,null,null,null,null,null,null,null,null,null,null,null,177,null,null,59,0.33329999999999999]
[null,null,426,"Pike Valley","Republic",6191,null,"USD 426 - Off Site Non Public Buildings","Special Ed Program - Off Site Community Based",null,null,null,null,null,null,null,null,null,null,null,null,null,null,null,null,null,"N/A",null,null,"N/A","N/A"]
[null,null,426,"Pike Valley","Republic",6192,null,"Pike Valley Elem","Elementary",null,null,null,null,null,null,null,null,null,null,null,null,null,null,null,null,null,139,null,null,44,0.3165]
[null,null,426,"Pike Valley","Republic",6193,null,"USD 426 - Public Off-Site Preschools","Special Ed Program - Off Site Preschool",null,null,null,null,null,null,null,null,null,null,null,null,null,null,null,null,null,"N/A",null,null,"N/A","N/A"]
[null,null,426,"Pike Valley","Republic",6194,null,"Pike Valley Jr High","Junior High School",null,null,null,null,null,null,null,null,null,null,null,null,null,null,null,null,null,30,null,null,8,0.26669999999999999]
[null,null,426,"Pike Valley","Republic",6195,null,"USD 426 - Home","Special Ed Program - Home",null,null,null,null,null,null,null,null,null,null,null,null,null,null,null,null,null,"N/A",null,null,"N/A","N/A"]
[null,null,426,"Pike Valley","Republic",6196,null,"USD 426 - K Time Program W/O SPED","Early Childhood Program - General",null,null,null,null,null,null,null,null,null,null,null,null,null,null,null,null,null,"N/A",null,null,"N/A","N/A"]
[null,null,426,"Pike Valley","Republic",6206,null,"Pike Valley High","High School",null,null,null,null,null,null,null,null,null,null,null,null,null,null,null,null,null,52,null,null,14,0.26919999999999999]
[null,null,428,"Great Bend","Barton",6254,null,"Great Bend Dist Barton Co","Central Office",null,null,null,null,null,null,null,null,null,null,null,null,null,null,null,null,null,"N/A",null,null,"N/A","N/A"]
[null,null,428,"Great Bend","Barton",6255,null,"USD 428 - Off Site Non Public Buildings","Special Ed Program - Off Site Community Based",null,null,null,null,null,null,null,null,null,null,null,null,null,null,null,null,null,"N/A",null,null,"N/A","N/A"]
[null,null,428,"Great Bend","Barton",6256,null,"Eisenhower Elem","Elementary",null,null,null,null,null,null,null,null,null,null,null,null,null,null,null,null,null,295,null,null,195,0.66100000000000003]
[null,null,428,"Great Bend","Barton",6257,null,"USD 428 - Public Off-Site Preschools","Special Ed Program - Off Site Preschool",null,null,null,null,null,null,null,null,null,null,null,null,null,null,null,null,null,"N/A",null,null,"N/A","N/A"]
[null,null,428,"Great Bend","Barton",6258,null,"USD 428 - Home","Special Ed Program - Home",null,null,null,null,null,null,null,null,null,null,null,null,null,null,null,null,null,"N/A",null,null,"N/A","N/A"]
[null,null,428,"Great Bend","Barton",6261,null,"USD 428 - K Time Program W/O SPED","Early Childhood Program - General",null,null,null,null,null,null,null,null,null,null,null,null,null,null,null,null,null,"N/A",null,null,"N/A","N/A"]
[null,null,428,"Great Bend","Barton",6268,null,"Jefferson Elem","Elementary",null,null,null,null,null,null,null,null,null,null,null,null,null,null,null,null,null,301,null,null,114,0.37869999999999998]
[null,null,428,"Great Bend","Barton",6270,null,"Lincoln Elem","Elementary",null,null,null,null,null,null,null,null,null,null,null,null,null,null,null,null,null,221,null,null,109,0.49320000000000003]
[null,null,428,"Great Bend","Barton",6274,null,"Park Elem","Elementary",null,null,null,null,null,null,null,null,null,null,null,null,null,null,null,null,null,251,null,null,191,0.76100000000000001]
[null,null,428,"Great Bend","Barton",6276,null,"Riley Elem","Elementary",null,null,null,null,null,null,null,null,null,null,null,null,null,null,null,null,null,286,null,null,236,0.82520000000000004]
[null,null,428,"Great Bend","Barton",6280,null,"Great Bend Middle School","Middle School",null,null,null,null,null,null,null,null,null,null,null,null,null,null,null,null,null,460,null,null,271,0.58909999999999996]
[null,null,428,"Great Bend","Barton",6284,null,"Great Bend High School","High School",null,null,null,null,null,null,null,null,null,null,null,null,null,null,null,null,null,913,null,null,471,0.51590000000000003]
[null,null,428,"Great Bend","Barton",6292,null,"Barton Coop Of Special Services","Other",null,null,null,null,null,null,null,null,null,null,null,null,null,null,null,null,null,"N/A",null,null,"N/A","N/A"]
[null,null,428,"Great Bend","Barton",6300,null,"Great Bend Kitchen Unit","Kitchen Unit",null,null,null,null,null,null,null,null,null,null,null,null,null,null,null,null,null,"N/A",null,null,"N/A","N/A"]
[null,null,428,"Great Bend","Barton",6301,null,"Early Childhood Special Education","Special Ed Program - Off Site Preschool",null,null,null,null,null,null,null,null,null,null,null,null,null,null,null,null,null,"N/A",null,null,"N/A","N/A"]
[null,null,429,"Troy Public Schools","Doniphan",6313,null,"USD 429 - Off Site Non Public Buildings","Special Ed Program - Off Site Community Based",null,null,null,null,null,null,null,null,null,null,null,null,null,null,null,null,null,"N/A",null,null,"N/A","N/A"]
[null,null,429,"Troy Public Schools","Doniphan",6314,null,"USD 429 - Home","Special Ed Program - Home",null,null,null,null,null,null,null,null,null,null,null,null,null,null,null,null,null,"N/A",null,null,"N/A","N/A"]
[null,null,429,"Troy Public Schools","Doniphan",6315,null,"USD 429 - Community-Based Preschool","Special Ed Program - Community Based Preschool",null,null,null,null,null,null,null,null,null,null,null,null,null,null,null,null,null,"N/A",null,null,"N/A","N/A"]
[null,null,429,"Troy Public Schools","Doniphan",6316,null,"USD 429 - K Time Program W/O SPED","Early Childhood Program - General",null,null,null,null,null,null,null,null,null,null,null,null,null,null,null,null,null,"N/A",null,null,"N/A","N/A"]
[null,null,429,"Troy Public Schools","Doniphan",6324,null,"Troy Elem","Elementary",null,null,null,null,null,null,null,null,null,null,null,null,null,null,null,null,null,149,null,null,44,0.29530000000000001]
[null,null,429,"Troy Public Schools","Doniphan",6326,null,"Troy High and Middle School","High School",null,null,null,null,null,null,null,null,null,null,null,null,null,null,null,null,null,165,null,null,31,0.18790000000000001]
[null,null,430,"South Brown County","Brown",6339,null,"USD 430 - Off Site Non Public Buildings","Special Ed Program - Off Site Community Based",null,null,null,null,null,null,null,null,null,null,null,null,null,null,null,null,null,"N/A",null,null,"N/A","N/A"]
[null,null,430,"South Brown County","Brown",6340,null,"USD 430 - Home","Special Ed Program - Home",null,null,null,null,null,null,null,null,null,null,null,null,null,null,null,null,null,"N/A",null,null,"N/A","N/A"]
[null,null,430,"South Brown County","Brown",6341,null,"USD 430 - Community-Based Preschool","Special Ed Program - Community Based Preschool",null,null,null,null,null,null,null,null,null,null,null,null,null,null,null,null,null,"N/A",null,null,"N/A","N/A"]
[null,null,430,"South Brown County","Brown",6342,null,"USD 430 - Community-Based Preschool","Special Ed Program - Community Based Preschool",null,null,null,null,null,null,null,null,null,null,null,null,null,null,null,null,null,"N/A",null,null,"N/A","N/A"]
[null,null,430,"South Brown County","Brown",6343,null,"USD 430 - K Time Program W/O SPED","Early Childhood Program - General",null,null,null,null,null,null,null,null,null,null,null,null,null,null,null,null,null,"N/A",null,null,"N/A","N/A"]
[null,null,430,"South Brown County","Brown",6344,null,"Everest Middle","Middle School",null,null,null,null,null,null,null,null,null,null,null,null,null,null,null,null,null,174,null,null,92,0.52869999999999995]
[null,null,430,"South Brown County","Brown",6348,null,"Horton Elem","Elementary",null,null,null,null,null,null,null,null,null,null,null,null,null,null,null,null,null,192,null,null,111,0.57809999999999995]
[null,null,430,"South Brown County","Brown",6350,null,"Horton High","High School",null,null,null,null,null,null,null,null,null,null,null,null,null,null,null,null,null,163,null,null,83,0.50919999999999999]
[null,null,431,"Hoisington","Barton",6366,null,"Hoisington Dist Barton Co","Central Office",null,null,null,null,null,null,null,null,null,null,null,null,null,null,null,null,null,"N/A",null,null,"N/A","N/A"]
[null,null,431,"Hoisington","Barton",6367,null,"USD 431 - Off Site Non Public Buildings","Special Ed Program - Off Site Community Based",null,null,null,null,null,null,null,null,null,null,null,null,null,null,null,null,null,"N/A",null,null,"N/A","N/A"]
[null,null,431,"Hoisington","Barton",6368,null,"USD 431 - Public Off-Site Preschools","Special Ed Program - Off Site Preschool",null,null,null,null,null,null,null,null,null,null,null,null,null,null,null,null,null,"N/A",null,null,"N/A","N/A"]
[null,null,431,"Hoisington","Barton",6369,null,"USD 431 - Home","Special Ed Program - Home",null,null,null,null,null,null,null,null,null,null,null,null,null,null,null,null,null,"N/A",null,null,"N/A","N/A"]
[null,null,431,"Hoisington","Barton",6373,null,"USD 431 - K Time Program W/O SPED","Early Childhood Program - General",null,null,null,null,null,null,null,null,null,null,null,null,null,null,null,null,null,"N/A",null,null,"N/A","N/A"]
[null,null,431,"Hoisington","Barton",6375,null,"Lincoln Elementary","Elementary",null,null,null,null,null,null,null,null,null,null,null,null,null,null,null,null,null,212,null,null,113,0.53300000000000003]
[null,null,431,"Hoisington","Barton",6377,null,"Roosevelt Elementary","Elementary",null,null,null,null,null,null,null,null,null,null,null,null,null,null,null,null,null,118,null,null,56,0.47460000000000002]
[null,null,431,"Hoisington","Barton",6378,null,"Hoisington Middle","Middle School",null,null,null,null,null,null,null,null,null,null,null,null,null,null,null,null,null,197,null,null,91,0.46189999999999998]
[null,null,431,"Hoisington","Barton",6380,null,"Hoisington High","High School",null,null,null,null,null,null,null,null,null,null,null,null,null,null,null,null,null,201,null,null,80,0.39800000000000002]
[null,null,432,"Victoria","Ellis",6395,null,"USD 432 - Off Site Non Public Buildings","Special Ed Program - Off Site Community Based",null,null,null,null,null,null,null,null,null,null,null,null,null,null,null,null,null,"N/A",null,null,"N/A","N/A"]
[null,null,432,"Victoria","Ellis",6396,null,"USD 432 - Home","Special Ed Program - Home",null,null,null,null,null,null,null,null,null,null,null,null,null,null,null,null,null,"N/A",null,null,"N/A","N/A"]
[null,null,432,"Victoria","Ellis",6397,null,"USD 432 - K Time Program W/O SPED","Early Childhood Program - General",null,null,null,null,null,null,null,null,null,null,null,null,null,null,null,null,null,"N/A",null,null,"N/A","N/A"]
[null,null,432,"Victoria","Ellis",6399,null,"Victoria Elementary","Elementary",null,null,null,null,null,null,null,null,null,null,null,null,null,null,null,null,null,154,null,null,38,0.24679999999999999]
[null,null,432,"Victoria","Ellis",6403,null,"Victoria Junior-Senior High School","High School",null,null,null,null,null,null,null,null,null,null,null,null,null,null,null,null,null,120,null,null,21,0.17499999999999999]
[null,null,434,"Santa Fe Trail","Osage",6439,null,"USD 434 - Off Site Non Public Buildings","Special Ed Program - Off Site Community Based",null,null,null,null,null,null,null,null,null,null,null,null,null,null,null,null,null,"N/A",null,null,"N/A","N/A"]
[null,null,434,"Santa Fe Trail","Osage",6440,null,"Carbondale Attendance Center","Elementary",null,null,null,null,null,null,null,null,null,null,null,null,null,null,null,null,null,392,null,null,163,0.4158]
[null,null,434,"Santa Fe Trail","Osage",6441,null,"USD 434 - Home","Special Ed Program - Home",null,null,null,null,null,null,null,null,null,null,null,null,null,null,null,null,null,"N/A",null,null,"N/A","N/A"]
[null,null,434,"Santa Fe Trail","Osage",6442,null,"USD 434 - Community-Based Preschool","Special Ed Program - Community Based Preschool",null,null,null,null,null,null,null,null,null,null,null,null,null,null,null,null,null,"N/A",null,null,"N/A","N/A"]
[null,null,434,"Santa Fe Trail","Osage",6443,null,"USD 434 - K Time Program W/O SPED","Early Childhood Program - General",null,null,null,null,null,null,null,null,null,null,null,null,null,null,null,null,null,"N/A",null,null,"N/A","N/A"]
[null,null,434,"Santa Fe Trail","Osage",6444,null,"Overbrook Attendance Center","Elementary",null,null,null,null,null,null,null,null,null,null,null,null,null,null,null,null,null,351,null,null,141,0.4017]
[null,null,434,"Santa Fe Trail","Osage",6446,null,"Santa Fe Trail High","High School",null,null,null,null,null,null,null,null,null,null,null,null,null,null,null,null,null,309,null,null,122,0.39479999999999998]
[null,null,434,"Santa Fe Trail","Osage",6447,null,"Santa Fe Trail USD 434 Preschool","Special Ed Program - Community Based Preschool",null,null,null,null,null,null,null,null,null,null,null,null,null,null,null,null,null,"N/A",null,null,"N/A","N/A"]
[null,null,435,"Abilene","Dickinson",6464,null,"Dwight D. Eisenhower Elementary","Elementary",null,null,null,null,null,null,null,null,null,null,null,null,null,null,null,null,null,216,null,null,107,0.49540000000000001]
[null,null,435,"Abilene","Dickinson",6465,null,"USD 435 - Off Site Non Public Buildings","Special Ed Program - Off Site Community Based",null,null,null,null,null,null,null,null,null,null,null,null,null,null,null,null,null,"N/A",null,null,"N/A","N/A"]
[null,null,435,"Abilene","Dickinson",6466,null,"Kennedy Elem","Elementary",null,null,null,null,null,null,null,null,null,null,null,null,null,null,null,null,null,254,null,null,100,0.39369999999999999]
[null,null,435,"Abilene","Dickinson",6467,null,"USD 435 - Public Off-Site Preschools","Special Ed Program - Off Site Preschool",null,null,null,null,null,null,null,null,null,null,null,null,null,null,null,null,null,"N/A",null,null,"N/A","N/A"]
[null,null,435,"Abilene","Dickinson",6468,null,"USD 435 - Home","Special Ed Program - Home",null,null,null,null,null,null,null,null,null,null,null,null,null,null,null,null,null,"N/A",null,null,"N/A","N/A"]
[null,null,435,"Abilene","Dickinson",6470,null,"McKinley Elem","Elementary",null,null,null,null,null,null,null,null,null,null,null,null,null,null,null,null,null,222,null,null,104,0.46850000000000003]
[null,null,435,"Abilene","Dickinson",6471,null,"USD 435 - K Time Program W/O SPED","Early Childhood Program - General",null,null,null,null,null,null,null,null,null,null,null,null,null,null,null,null,null,"N/A",null,null,"N/A","N/A"]
[null,null,435,"Abilene","Dickinson",6472,null,"Abilene Virtual School","High School",null,null,null,null,null,null,null,null,null,null,null,null,null,null,null,null,null,10,null,null,4,0.4]
[null,null,435,"Abilene","Dickinson",6475,null,"Abilene Middle School","Middle School",null,null,null,null,null,null,null,null,null,null,null,null,null,null,null,null,null,338,null,null,144,0.42599999999999999]
[null,null,435,"Abilene","Dickinson",6476,null,"Abilene High School","High School",null,null,null,null,null,null,null,null,null,null,null,null,null,null,null,null,null,457,null,null,157,0.34350000000000003]
[null,null,436,"Caney Valley","Montgomery",6490,null,"Lincoln Memorial Elem","Elementary",null,null,null,null,null,null,null,null,null,null,null,null,null,null,null,null,null,439,null,null,177,0.4032]
[null,null,436,"Caney Valley","Montgomery",6491,null,"Caney Valley Charter Academy","High School",null,null,null,null,null,null,null,null,null,null,null,null,null,null,null,null,null,3,null,null,1,0.33329999999999999]
[null,null,436,"Caney Valley","Montgomery",6492,null,"Caney Valley High","High School",null,null,null,null,null,null,null,null,null,null,null,null,null,null,null,null,null,327,null,null,113,0.34560000000000002]
[null,null,436,"Caney Valley","Montgomery",6493,null,"USD 436 - Off Site Non Public Buildings","Special Ed Program - Off Site Community Based",null,null,null,null,null,null,null,null,null,null,null,null,null,null,null,null,null,"N/A",null,null,"N/A","N/A"]
[null,null,436,"Caney Valley","Montgomery",6494,null,"USD 436 - Home","Special Ed Program - Home",null,null,null,null,null,null,null,null,null,null,null,null,null,null,null,null,null,"N/A",null,null,"N/A","N/A"]
[null,null,436,"Caney Valley","Montgomery",6496,null,"USD 436 - K Time Program W/O SPED","Early Childhood Program - General",null,null,null,null,null,null,null,null,null,null,null,null,null,null,null,null,null,"N/A",null,null,"N/A","N/A"]
[null,null,437,"Auburn Washburn","Shawnee",6510,null,"Washburn Dist Shawnee Co","Central Office",null,null,null,null,null,null,null,null,null,null,null,null,null,null,null,null,null,"N/A",null,null,"N/A","N/A"]
[null,null,437,"Auburn Washburn","Shawnee",6511,null,"USD 437 - Off Site Non Public Buildings","Special Ed Program - Off Site Community Based",null,null,null,null,null,null,null,null,null,null,null,null,null,null,null,null,null,"N/A",null,null,"N/A","N/A"]
[null,null,437,"Auburn Washburn","Shawnee",6512,null,"Auburn Elementary","Elementary",null,null,null,null,null,null,null,null,null,null,null,null,null,null,null,null,null,377,null,null,104,0.27589999999999998]
[null,null,437,"Auburn Washburn","Shawnee",6513,null,"Farley Elementary","Elementary",null,null,null,null,null,null,null,null,null,null,null,null,null,null,null,null,null,611,null,null,163,0.26679999999999998]
[null,null,437,"Auburn Washburn","Shawnee",6515,null,"USD 437 - Home","Special Ed Program - Home",null,null,null,null,null,null,null,null,null,null,null,null,null,null,null,null,null,"N/A",null,null,"N/A","N/A"]
[null,null,437,"Auburn Washburn","Shawnee",6517,null,"Indian Hills Elementary","Elementary",null,null,null,null,null,null,null,null,null,null,null,null,null,null,null,null,null,474,null,null,91,0.192]
[null,null,437,"Auburn Washburn","Shawnee",6518,null,"Pauline Central Primary","Elementary",null,null,null,null,null,null,null,null,null,null,null,null,null,null,null,null,null,408,null,null,271,0.66420000000000001]
[null,null,437,"Auburn Washburn","Shawnee",6519,null,"USD 437 - Community-Based Preschool","Special Ed Program - Community Based Preschool",null,null,null,null,null,null,null,null,null,null,null,null,null,null,null,null,null,"N/A",null,null,"N/A","N/A"]
[null,null,437,"Auburn Washburn","Shawnee",6520,null,"USD 437 - Public Off Campus","Special Ed Program - Public School Administered",null,null,null,null,null,null,null,null,null,null,null,null,null,null,null,null,null,"N/A",null,null,"N/A","N/A"]
[null,null,437,"Auburn Washburn","Shawnee",6521,null,"USD 437 - K Time Program W/O SPED","Early Childhood Program - General",null,null,null,null,null,null,null,null,null,null,null,null,null,null,null,null,null,"N/A",null,null,"N/A","N/A"]
[null,null,437,"Auburn Washburn","Shawnee",6522,null,"Pauline South Intermediate","Elementary",null,null,null,null,null,null,null,null,null,null,null,null,null,null,null,null,null,299,null,null,183,0.61199999999999999]
[null,null,437,"Auburn Washburn","Shawnee",6523,null,"Pathways Learning Center","Special School",null,null,null,null,null,null,null,null,null,null,null,null,null,null,null,null,null,"N/A",null,null,"N/A","N/A"]
[null,null,437,"Auburn Washburn","Shawnee",6524,null,"Tallgrass Student Learning Center","Special School",null,null,null,null,null,null,null,null,null,null,null,null,null,null,null,null,null,"N/A",null,null,"N/A","N/A"]
[null,null,437,"Auburn Washburn","Shawnee",6525,null,"The Villages","Juvenile Detention Center",null,null,null,null,null,null,null,null,null,null,null,null,null,null,null,null,null,"N/A",null,null,"N/A","N/A"]
[null,null,437,"Auburn Washburn","Shawnee",6526,null,"New Beginnings","Other",null,null,null,null,null,null,null,null,null,null,null,null,null,null,null,null,null,"N/A",null,null,"N/A","N/A"]
[null,null,437,"Auburn Washburn","Shawnee",6527,null,"Washburn Rural Middle School","Middle School",null,null,null,null,null,null,null,null,null,null,null,null,null,null,null,null,null,943,null,null,286,0.30330000000000001]
[null,null,437,"Auburn Washburn","Shawnee",6528,null,"Wanamaker Elem","Elementary",null,null,null,null,null,null,null,null,null,null,null,null,null,null,null,null,null,482,null,null,158,0.32779999999999998]
[null,null,437,"Auburn Washburn","Shawnee",6530,null,"Jay Shideler Elementary","Elementary",null,null,null,null,null,null,null,null,null,null,null,null,null,null,null,null,null,567,null,null,71,0.12520000000000001]
[null,null,437,"Auburn Washburn","Shawnee",6532,null,"Washburn Rural High","High School",null,null,null,null,null,null,null,null,null,null,null,null,null,null,null,null,null,1886,null,null,485,0.25719999999999998]
[null,null,437,"Auburn Washburn","Shawnee",6533,null,"Washburn Rural Alternative High School","High School",null,null,null,null,null,null,null,null,null,null,null,null,null,null,null,null,null,"N/A",null,null,"N/A","N/A"]
[null,null,438,"Skyline Schools","Pratt",6543,null,"USD 438 - Off Site Non Public Buildings","Special Ed Program - Off Site Community Based",null,null,null,null,null,null,null,null,null,null,null,null,null,null,null,null,null,"N/A",null,null,"N/A","N/A"]
[null,null,438,"Skyline Schools","Pratt",6544,null,"USD 438 - Home","Special Ed Program - Home",null,null,null,null,null,null,null,null,null,null,null,null,null,null,null,null,null,"N/A",null,null,"N/A","N/A"]
[null,null,438,"Skyline Schools","Pratt",6545,null,"USD 438 - K Time Program W/O SPED","Early Childhood Program - General",null,null,null,null,null,null,null,null,null,null,null,null,null,null,null,null,null,"N/A",null,null,"N/A","N/A"]
[null,null,438,"Skyline Schools","Pratt",6559,null,"Skyline Elem","Elementary",null,null,null,null,null,null,null,null,null,null,null,null,null,null,null,null,null,268,null,null,133,0.49630000000000002]
[null,null,438,"Skyline Schools","Pratt",6560,null,"Skyline High","High School",null,null,null,null,null,null,null,null,null,null,null,null,null,null,null,null,null,105,null,null,32,0.30480000000000002]
[null,null,439,"Sedgwick Public Schools","Sedgwick",6571,null,"USD 439 - Off Site Non Public Buildings","Special Ed Program - Off Site Community Based",null,null,null,null,null,null,null,null,null,null,null,null,null,null,null,null,null,"N/A",null,null,"N/A","N/A"]
[null,null,439,"Sedgwick Public Schools","Harvey",6572,null,"R L Wright  Elem","Elementary",null,null,null,null,null,null,null,null,null,null,null,null,null,null,null,null,null,271,null,null,91,0.33579999999999999]
[null,null,439,"Sedgwick Public Schools","Sedgwick",6573,null,"USD 439 - Home","Special Ed Program - Home",null,null,null,null,null,null,null,null,null,null,null,null,null,null,null,null,null,"N/A",null,null,"N/A","N/A"]
[null,null,439,"Sedgwick Public Schools","Harvey",6574,null,"Sedgwick High","High School",null,null,null,null,null,null,null,null,null,null,null,null,null,null,null,null,null,235,null,null,50,0.21279999999999999]
[null,null,439,"Sedgwick Public Schools","Sedgwick",6575,null,"USD 439 - Community-Based Preschool","Special Ed Program - Community Based Preschool",null,null,null,null,null,null,null,null,null,null,null,null,null,null,null,null,null,"N/A",null,null,"N/A","N/A"]
[null,null,439,"Sedgwick Public Schools","Sedgwick",6576,null,"USD 439 - K Time Program W/O SPED","Early Childhood Program - General",null,null,null,null,null,null,null,null,null,null,null,null,null,null,null,null,null,"N/A",null,null,"N/A","N/A"]
[null,null,440,"Halstead","Harvey",6585,null,"USD 440 - Off Site Non Public Buildings","Special Ed Program - Off Site Community Based",null,null,null,null,null,null,null,null,null,null,null,null,null,null,null,null,null,"N/A",null,null,"N/A","N/A"]
[null,null,440,"Halstead","Harvey",6586,null,"Bentley Primary School","Elementary",null,null,null,null,null,null,null,null,null,null,null,null,null,null,null,null,null,217,null,null,90,0.41470000000000001]
[null,null,440,"Halstead","Harvey",6587,null,"USD 440 - Home","Special Ed Program - Home",null,null,null,null,null,null,null,null,null,null,null,null,null,null,null,null,null,"N/A",null,null,"N/A","N/A"]
[null,null,440,"Halstead","Harvey",6588,null,"USD 440 - Community-Based Preschool","Special Ed Program - Community Based Preschool",null,null,null,null,null,null,null,null,null,null,null,null,null,null,null,null,null,"N/A",null,null,"N/A","N/A"]
[null,null,440,"Halstead","Harvey",6589,null,"USD 440 - K Time Program W/O SPED","Early Childhood Program - General",null,null,null,null,null,null,null,null,null,null,null,null,null,null,null,null,null,"N/A",null,null,"N/A","N/A"]
[null,null,440,"Halstead","Harvey",6592,null,"Halstead Middle School","Middle School",null,null,null,null,null,null,null,null,null,null,null,null,null,null,null,null,null,361,null,null,134,0.37119999999999997]
[null,null,440,"Halstead","Harvey",6594,null,"Halstead High","High School",null,null,null,null,null,null,null,null,null,null,null,null,null,null,null,null,null,240,null,null,74,0.30830000000000002]
[null,null,443,"Dodge City","Ford",6672,null,"USD 443 - Off Site Non Public Buildings","Special Ed Program - Off Site Community Based",null,null,null,null,null,null,null,null,null,null,null,null,null,null,null,null,null,"N/A",null,null,"N/A","N/A"]
[null,null,443,"Dodge City","Ford",6673,null,"Bright Beginnings Early Childhood Center","Early Childhood Program - Other",null,null,null,null,null,null,null,null,null,null,null,null,null,null,null,null,null,"N/A",null,null,"N/A","N/A"]
[null,null,443,"Dodge City","Ford",6674,null,"Central Elem","Elementary",null,null,null,null,null,null,null,null,null,null,null,null,null,null,null,null,null,360,null,null,289,0.80279999999999996]
[null,null,443,"Dodge City","Ford",6675,null,"USD 443 - Home","Special Ed Program - Home",null,null,null,null,null,null,null,null,null,null,null,null,null,null,null,null,null,"N/A",null,null,"N/A","N/A"]
[null,null,443,"Dodge City","Ford",6677,null,"USD 443 - Public Off Campus","Special Ed Program - Public School Administered",null,null,null,null,null,null,null,null,null,null,null,null,null,null,null,null,null,"N/A",null,null,"N/A","N/A"]
[null,null,443,"Dodge City","Ford",6678,null,"Miller Elem","Elementary",null,null,null,null,null,null,null,null,null,null,null,null,null,null,null,null,null,742,null,null,581,0.78300000000000003]
[null,null,443,"Dodge City","Ford",6679,null,"USD 443 - Public Off Campus","Special Ed Program - Public School Administered",null,null,null,null,null,null,null,null,null,null,null,null,null,null,null,null,null,"N/A",null,null,"N/A","N/A"]
[null,null,443,"Dodge City","Ford",6680,null,"Northwest Elem","Elementary",null,null,null,null,null,null,null,null,null,null,null,null,null,null,null,null,null,392,null,null,235,0.59950000000000003]
[null,null,443,"Dodge City","Ford",6682,null,"Sunnyside Elem","Elementary",null,null,null,null,null,null,null,null,null,null,null,null,null,null,null,null,null,386,null,null,325,0.84199999999999997]
[null,null,443,"Dodge City","Ford",6683,null,"USD 443 - K Time Program W/O SPED","Early Childhood Program - General",null,null,null,null,null,null,null,null,null,null,null,null,null,null,null,null,null,"N/A",null,null,"N/A","N/A"]
[null,null,443,"Dodge City","Ford",6684,null,"Dodge City Middle School","Middle School",null,null,null,null,null,null,null,null,null,null,null,null,null,null,null,null,null,809,null,null,546,0.67490000000000006]
[null,null,443,"Dodge City","Ford",6685,null,"Ross Elementary School","Elementary",null,null,null,null,null,null,null,null,null,null,null,null,null,null,null,null,null,498,null,null,274,0.55020000000000002]
[null,null,443,"Dodge City","Ford",6686,null,"Dodge City High School","High School",null,null,null,null,null,null,null,null,null,null,null,null,null,null,null,null,null,2084,null,null,1285,0.61660000000000004]
[null,null,443,"Dodge City","Ford",6687,null,"Beeson Elementary","Elementary",null,null,null,null,null,null,null,null,null,null,null,null,null,null,null,null,null,366,null,null,287,0.78420000000000001]
[null,null,443,"Dodge City","Ford",6688,null,"Linn Elementary","Elementary",null,null,null,null,null,null,null,null,null,null,null,null,null,null,null,null,null,367,null,null,262,0.71389999999999998]
[null,null,443,"Dodge City","Ford",6689,null,"Soule Elementary School","Elementary",null,null,null,null,null,null,null,null,null,null,null,null,null,null,null,null,null,403,null,null,273,0.6774]
[null,null,443,"Dodge City","Ford",6690,null,"USD 443 PAT Program","Early Childhood Program - Parents as Teachers",null,null,null,null,null,null,null,null,null,null,null,null,null,null,null,null,null,"N/A",null,null,"N/A","N/A"]
[null,null,443,"Dodge City","Ford",6707,null,"Comanche Middle School","Middle School",null,null,null,null,null,null,null,null,null,null,null,null,null,null,null,null,null,795,null,null,518,0.65159999999999996]
[null,null,444,"Little River","Rice",6720,null,"Little River Dist Rice Co","Central Office",null,null,null,null,null,null,null,null,null,null,null,null,null,null,null,null,null,"N/A",null,null,"N/A","N/A"]
[null,null,444,"Little River","Rice",6721,null,"USD 444 - Off Site Non Public Buildings","Special Ed Program - Off Site Community Based",null,null,null,null,null,null,null,null,null,null,null,null,null,null,null,null,null,"N/A",null,null,"N/A","N/A"]
[null,null,444,"Little River","Rice",6723,null,"USD 444 - Home","Special Ed Program - Home",null,null,null,null,null,null,null,null,null,null,null,null,null,null,null,null,null,"N/A",null,null,"N/A","N/A"]
[null,null,444,"Little River","Rice",6726,null,"Little River Junior High","Junior High School",null,null,null,null,null,null,null,null,null,null,null,null,null,null,null,null,null,40,null,null,10,0.25]
[null,null,444,"Little River","Rice",6728,null,"Little River High","High School",null,null,null,null,null,null,null,null,null,null,null,null,null,null,null,null,null,96,null,null,21,0.21879999999999999]
[null,null,444,"Little River","Rice",6729,null,"USD 444 - K Time Program W/O SPED","Early Childhood Program - General",null,null,null,null,null,null,null,null,null,null,null,null,null,null,null,null,null,"N/A",null,null,"N/A","N/A"]
[null,null,444,"Little River","Rice",6734,null,"Windom Elem","Elementary",null,null,null,null,null,null,null,null,null,null,null,null,null,null,null,null,null,146,null,null,38,0.26029999999999998]
[null,null,445,"Coffeyville","Montgomery",6747,null,"USD 445 - Off Site Non Public Buildings","Special Ed Program - Off Site Community Based",null,null,null,null,null,null,null,null,null,null,null,null,null,null,null,null,null,"N/A",null,null,"N/A","N/A"]
[null,null,445,"Coffeyville","Montgomery",6748,null,"USD 445 - Home","Special Ed Program - Home",null,null,null,null,null,null,null,null,null,null,null,null,null,null,null,null,null,"N/A",null,null,"N/A","N/A"]
[null,null,445,"Coffeyville","Montgomery",6750,null,"USD 445 - Community-Based Preschool","Special Ed Program - Community Based Preschool",null,null,null,null,null,null,null,null,null,null,null,null,null,null,null,null,null,"N/A",null,null,"N/A","N/A"]
[null,null,445,"Coffeyville","Montgomery",6751,null,"USD 445 - K Time Program W/O SPED","Early Childhood Program - General",null,null,null,null,null,null,null,null,null,null,null,null,null,null,null,null,null,"N/A",null,null,"N/A","N/A"]
[null,null,445,"Coffeyville","Montgomery",6752,null,"Coffeyville Virtual Program","High School",null,null,null,null,null,null,null,null,null,null,null,null,null,null,null,null,null,41,null,null,30,0.73170000000000002]
[null,null,445,"Coffeyville","Montgomery",6756,null,"Community Elementary","Elementary",null,null,null,null,null,null,null,null,null,null,null,null,null,null,null,null,null,931,null,null,658,0.70679999999999998]
[null,null,445,"Coffeyville","Montgomery",6770,null,"Roosevelt Middle","Middle School",null,null,null,null,null,null,null,null,null,null,null,null,null,null,null,null,null,235,null,null,149,0.63400000000000001]
[null,null,445,"Coffeyville","Montgomery",6772,null,"Field Kindley High","High School",null,null,null,null,null,null,null,null,null,null,null,null,null,null,null,null,null,479,null,null,276,0.57620000000000005]
[null,null,445,"Coffeyville","Montgomery",6788,null,"USD 445 Food Service Center","Kitchen Unit",null,null,null,null,null,null,null,null,null,null,null,null,null,null,null,null,null,"N/A",null,null,"N/A","N/A"]
[null,null,446,"Independence","Montgomery",6814,null,"Independence Dist Montgomery Co","Central Office",null,null,null,null,null,null,null,null,null,null,null,null,null,null,null,null,null,"N/A",null,null,"N/A","N/A"]
[null,null,446,"Independence","Montgomery",6815,null,"USD 446 - Off Site Non Public Buildings","Special Ed Program - Off Site Community Based",null,null,null,null,null,null,null,null,null,null,null,null,null,null,null,null,null,"N/A",null,null,"N/A","N/A"]
[null,null,446,"Independence","Montgomery",6816,null,"USD 446 - Home","Special Ed Program - Home",null,null,null,null,null,null,null,null,null,null,null,null,null,null,null,null,null,"N/A",null,null,"N/A","N/A"]
[null,null,446,"Independence","Montgomery",6820,null,"USD 446 - Community-Based Preschool","Special Ed Program - Community Based Preschool",null,null,null,null,null,null,null,null,null,null,null,null,null,null,null,null,null,"N/A",null,null,"N/A","N/A"]
[null,null,446,"Independence","Montgomery",6821,null,"Eisenhower Elem","Elementary",null,null,null,null,null,null,null,null,null,null,null,null,null,null,null,null,null,391,null,null,260,0.66500000000000004]
[null,null,446,"Independence","Montgomery",6823,null,"USD 446 - K Time Program W/O SPED","Early Childhood Program - General",null,null,null,null,null,null,null,null,null,null,null,null,null,null,null,null,null,"N/A",null,null,"N/A","N/A"]
[null,null,446,"Independence","Montgomery",6825,null,"Jefferson School","Elementary",null,null,null,null,null,null,null,null,null,null,null,null,null,null,null,null,null,391,null,null,260,0.66500000000000004]
[null,null,446,"Independence","Montgomery",6828,null,"Independence Middle","Middle School",null,null,null,null,null,null,null,null,null,null,null,null,null,null,null,null,null,437,null,null,277,0.63390000000000002]
[null,null,446,"Independence","Montgomery",6829,null,"Riley Early Learning Center","Special Ed Program - Off Site Preschool",null,null,null,null,null,null,null,null,null,null,null,null,null,null,null,null,null,"N/A",null,null,"N/A","N/A"]
[null,null,446,"Independence","Montgomery",6830,null,"Independence Sr High","High School",null,null,null,null,null,null,null,null,null,null,null,null,null,null,null,null,null,563,null,null,261,0.46360000000000001]
[null,null,446,"Independence","Montgomery",6831,null,"BRIDGES Academy","High School",null,null,null,null,null,null,null,null,null,null,null,null,null,null,null,null,null,34,null,null,25,0.73529999999999995]
[null,null,447,"Cherryvale","Montgomery",6867,null,"USD 447 - Off Site Non Public Buildings","Special Ed Program - Off Site Community Based",null,null,null,null,null,null,null,null,null,null,null,null,null,null,null,null,null,"N/A",null,null,"N/A","N/A"]
[null,null,447,"Cherryvale","Montgomery",6868,null,"USD 447 - Home","Special Ed Program - Home",null,null,null,null,null,null,null,null,null,null,null,null,null,null,null,null,null,"N/A",null,null,"N/A","N/A"]
[null,null,447,"Cherryvale","Montgomery",6869,null,"USD 447 - K Time Program W/O SPED","Early Childhood Program - General",null,null,null,null,null,null,null,null,null,null,null,null,null,null,null,null,null,"N/A",null,null,"N/A","N/A"]
[null,null,447,"Cherryvale","Montgomery",6870,null,"Lincoln Central Elem","Elementary",null,null,null,null,null,null,null,null,null,null,null,null,null,null,null,null,null,281,null,null,164,0.58360000000000001]
[null,null,447,"Cherryvale","Neosho",6871,null,"Thayer Schools","Elementary",null,null,null,null,null,null,null,null,null,null,null,null,null,null,null,null,null,119,null,null,48,0.40339999999999998]
[null,null,447,"Cherryvale","Montgomery",6876,null,"Cherryvale Sr / Middle School","High School",null,null,null,null,null,null,null,null,null,null,null,null,null,null,null,null,null,290,null,null,147,0.50690000000000002]
[null,null,448,"Inman","McPherson",6891,null,"USD 448 - Off Site Non Public Buildings","Special Ed Program - Off Site Community Based",null,null,null,null,null,null,null,null,null,null,null,null,null,null,null,null,null,"N/A",null,null,"N/A","N/A"]
[null,null,448,"Inman","McPherson",6892,null,"USD 448 - Home","Special Ed Program - Home",null,null,null,null,null,null,null,null,null,null,null,null,null,null,null,null,null,"N/A",null,null,"N/A","N/A"]
[null,null,448,"Inman","McPherson",6893,null,"USD 448 - K Time Program W/O SPED","Early Childhood Program - General",null,null,null,null,null,null,null,null,null,null,null,null,null,null,null,null,null,"N/A",null,null,"N/A","N/A"]
[null,null,448,"Inman","McPherson",6895,null,"USD 448 - Community Based Preschool","Special Ed Program - Community Based Preschool",null,null,null,null,null,null,null,null,null,null,null,null,null,null,null,null,null,"N/A",null,null,"N/A","N/A"]
[null,null,448,"Inman","McPherson",6896,null,"Inman Elem","Elementary",null,null,null,null,null,null,null,null,null,null,null,null,null,null,null,null,null,216,null,null,72,0.33329999999999999]
[null,null,448,"Inman","McPherson",6898,null,"Inman Jr/Sr High School","High School",null,null,null,null,null,null,null,null,null,null,null,null,null,null,null,null,null,199,null,null,35,0.1759]
[null,null,449,"Easton","Leavenworth",6913,null,"USD 449 - Off Site Non Public Buildings","Special Ed Program - Off Site Community Based",null,null,null,null,null,null,null,null,null,null,null,null,null,null,null,null,null,"N/A",null,null,"N/A","N/A"]
[null,null,449,"Easton","Leavenworth",6914,null,"USD 449 - Home","Special Ed Program - Home",null,null,null,null,null,null,null,null,null,null,null,null,null,null,null,null,null,"N/A",null,null,"N/A","N/A"]
[null,null,449,"Easton","Leavenworth",6917,null,"Pleasant Ridge Middle","Middle School",null,null,null,null,null,null,null,null,null,null,null,null,null,null,null,null,null,137,null,null,28,0.2044]
[null,null,449,"Easton","Leavenworth",6918,null,"Pleasant Ridge High","High School",null,null,null,null,null,null,null,null,null,null,null,null,null,null,null,null,null,162,null,null,34,0.2099]
[null,null,449,"Easton","Leavenworth",6919,null,"Pleasant Ridge Elementary","Elementary",null,null,null,null,null,null,null,null,null,null,null,null,null,null,null,null,null,343,null,null,66,0.19239999999999999]
[null,null,449,"Easton","Leavenworth",6920,null,"USD 449 - Community-Based Preschool","Special Ed Program - Community Based Preschool",null,null,null,null,null,null,null,null,null,null,null,null,null,null,null,null,null,"N/A",null,null,"N/A","N/A"]
[null,null,449,"Easton","Leavenworth",6921,null,"USD 449 - K Time Program W/O SPED","Early Childhood Program - General",null,null,null,null,null,null,null,null,null,null,null,null,null,null,null,null,null,"N/A",null,null,"N/A","N/A"]
[null,null,450,"Shawnee Heights","Shawnee",6936,null,"Shawnee Heights Dist Shawnee Co","Central Office",null,null,null,null,null,null,null,null,null,null,null,null,null,null,null,null,null,"N/A",null,null,"N/A","N/A"]
[null,null,450,"Shawnee Heights","Shawnee",6937,null,"USD 450 - Off Site Non Public Buildings","Special Ed Program - Off Site Community Based",null,null,null,null,null,null,null,null,null,null,null,null,null,null,null,null,null,"N/A",null,null,"N/A","N/A"]
[null,null,450,"Shawnee Heights","Shawnee",6938,null,"Berryton Elem","Elementary",null,null,null,null,null,null,null,null,null,null,null,null,null,null,null,null,null,499,null,null,125,0.2505]
[null,null,450,"Shawnee Heights","Shawnee",6939,null,"USD 450 - Home","Special Ed Program - Home",null,null,null,null,null,null,null,null,null,null,null,null,null,null,null,null,null,"N/A",null,null,"N/A","N/A"]
[null,null,450,"Shawnee Heights","Shawnee",6940,null,"Shawnee Heights Elem","Elementary",null,null,null,null,null,null,null,null,null,null,null,null,null,null,null,null,null,438,null,null,120,0.27400000000000002]
[null,null,450,"Shawnee Heights","Shawnee",6943,null,"USD 450 - Community-Based Preschool","Special Ed Program - Community Based Preschool",null,null,null,null,null,null,null,null,null,null,null,null,null,null,null,null,null,"N/A",null,null,"N/A","N/A"]
[null,null,450,"Shawnee Heights","Shawnee",6944,null,"Shawnee Heights High","High School",null,null,null,null,null,null,null,null,null,null,null,null,null,null,null,null,null,1295,null,null,330,0.25480000000000003]
[null,null,450,"Shawnee Heights","Shawnee",6945,null,"Shawnee Heights Middle","Middle School",null,null,null,null,null,null,null,null,null,null,null,null,null,null,null,null,null,538,null,null,163,0.30299999999999999]
[null,null,450,"Shawnee Heights","Shawnee",6946,null,"Tecumseh North Elem","Elementary",null,null,null,null,null,null,null,null,null,null,null,null,null,null,null,null,null,462,null,null,222,0.48049999999999998]
[null,null,450,"Shawnee Heights","Shawnee",6947,null,"USD 450 - K Time Program W/O SPED","Early Childhood Program - General",null,null,null,null,null,null,null,null,null,null,null,null,null,null,null,null,null,"N/A",null,null,"N/A","N/A"]
[null,null,450,"Shawnee Heights","Shawnee",6948,null,"Tecumseh South Elem","Elementary",null,null,null,null,null,null,null,null,null,null,null,null,null,null,null,null,null,486,null,null,160,0.32919999999999999]
[null,null,452,"Stanton County","Stanton",6979,null,"USD 452 - Off Site Non Public Buildings","Special Ed Program - Off Site Community Based",null,null,null,null,null,null,null,null,null,null,null,null,null,null,null,null,null,"N/A",null,null,"N/A","N/A"]
[null,null,452,"Stanton County","Stanton",6981,null,"USD 452 - Home","Special Ed Program - Home",null,null,null,null,null,null,null,null,null,null,null,null,null,null,null,null,null,"N/A",null,null,"N/A","N/A"]
[null,null,452,"Stanton County","Stanton",6982,null,"Stanton County Elementary","Elementary",null,null,null,null,null,null,null,null,null,null,null,null,null,null,null,null,null,219,null,null,111,0.50680000000000003]
[null,null,452,"Stanton County","Stanton",6983,null,"USD 452 - Community-Based Preschool","Special Ed Program - Community Based Preschool",null,null,null,null,null,null,null,null,null,null,null,null,null,null,null,null,null,"N/A",null,null,"N/A","N/A"]
[null,null,452,"Stanton County","Stanton",6984,null,"Stanton County Jr./Sr. High School","High School",null,null,null,null,null,null,null,null,null,null,null,null,null,null,null,null,null,191,null,null,88,0.4607]
[null,null,452,"Stanton County","Stanton",6985,null,"USD 452 - K Time Program W/O SPED","Early Childhood Program - General",null,null,null,null,null,null,null,null,null,null,null,null,null,null,null,null,null,"N/A",null,null,"N/A","N/A"]
[null,null,453,"Leavenworth","Leavenworth",6999,null,"USD 453 - Off Site Non Public Buildings","Special Ed Program - Off Site Community Based",null,null,null,null,null,null,null,null,null,null,null,null,null,null,null,null,null,"N/A",null,null,"N/A","N/A"]
[null,null,453,"Leavenworth","Leavenworth",7003,null,"USD 453 - Public Off-Site Preschools","Special Ed Program - Off Site Preschool",null,null,null,null,null,null,null,null,null,null,null,null,null,null,null,null,null,"N/A",null,null,"N/A","N/A"]
[null,null,453,"Leavenworth","Leavenworth",7005,null,"USD 453 - Home","Special Ed Program - Home",null,null,null,null,null,null,null,null,null,null,null,null,null,null,null,null,null,"N/A",null,null,"N/A","N/A"]
[null,null,453,"Leavenworth","Leavenworth",7011,null,"USD 453 - Community-Based Preschool","Special Ed Program - Community Based Preschool",null,null,null,null,null,null,null,null,null,null,null,null,null,null,null,null,null,"N/A",null,null,"N/A","N/A"]
[null,null,453,"Leavenworth","Leavenworth",7020,null,"Leavenworth Sr High","High School",null,null,null,null,null,null,null,null,null,null,null,null,null,null,null,null,null,1253,null,null,495,0.39510000000000001]
[null,null,453,"Leavenworth","Leavenworth",7023,null,"USD 453 - K Time Program W/O SPED","Early Childhood Program - General",null,null,null,null,null,null,null,null,null,null,null,null,null,null,null,null,null,"N/A",null,null,"N/A","N/A"]
[null,null,453,"Leavenworth","Leavenworth",7026,null,"Leavenworth Virtual School","Special School",null,null,null,null,null,null,null,null,null,null,null,null,null,null,null,null,null,36,null,null,20,0.55559999999999998]
[null,null,453,"Leavenworth","Leavenworth",7028,null,"Henry Leavenworth","Elementary",null,null,null,null,null,null,null,null,null,null,null,null,null,null,null,null,null,330,null,null,149,0.45150000000000001]
[null,null,453,"Leavenworth","Leavenworth",7029,null,"Anthony Elementary","Elementary",null,null,null,null,null,null,null,null,null,null,null,null,null,null,null,null,null,306,null,null,229,0.74839999999999995]
[null,null,453,"Leavenworth","Leavenworth",7031,null,"David Brewer Elementary","Elementary",null,null,null,null,null,null,null,null,null,null,null,null,null,null,null,null,null,361,null,null,228,0.63160000000000005]
[null,null,453,"Leavenworth","Leavenworth",7033,null,"Richard Warren Middle School","Middle School",null,null,null,null,null,null,null,null,null,null,null,null,null,null,null,null,null,479,null,null,265,0.55320000000000003]
[null,null,453,"Leavenworth","Leavenworth",7041,null,"Learning Support Services","Special Ed Program - Public School Administered",null,null,null,null,null,null,null,null,null,null,null,null,null,null,null,null,null,"N/A",null,null,"N/A","N/A"]
[null,null,453,"Leavenworth","Leavenworth",7043,null,"Quest1821","Special Ed Program - Public School Administered",null,null,null,null,null,null,null,null,null,null,null,null,null,null,null,null,null,"N/A",null,null,"N/A","N/A"]
[null,null,453,"Leavenworth","Leavenworth",7045,null,"Third Avenue School","Special School",null,null,null,null,null,null,null,null,null,null,null,null,null,null,null,null,null,"N/A",null,null,"N/A","N/A"]
[null,null,453,"Leavenworth","Leavenworth",7046,null,"Richard Warren Intermediate School","Middle School",null,null,null,null,null,null,null,null,null,null,null,null,null,null,null,null,null,481,null,null,282,0.58630000000000004]
[null,null,453,"Leavenworth","Leavenworth",7047,null,"Earl Lawson Early Education Center","Elementary",null,null,null,null,null,null,null,null,null,null,null,null,null,null,null,null,null,362,null,null,243,0.67130000000000001]
[null,null,454,"Burlingame Public School","Osage",7055,null,"USD 454 - Off Site Non Public Buildings","Special Ed Program - Off Site Community Based",null,null,null,null,null,null,null,null,null,null,null,null,null,null,null,null,null,"N/A",null,null,"N/A","N/A"]
[null,null,454,"Burlingame Public School","Osage",7057,null,"Burlingame Elementary","Elementary",null,null,null,null,null,null,null,null,null,null,null,null,null,null,null,null,null,137,null,null,61,0.44529999999999997]
[null,null,454,"Burlingame Public School","Osage",7058,null,"Burlingame Junior/Senior High","High School",null,null,null,null,null,null,null,null,null,null,null,null,null,null,null,null,null,157,null,null,73,0.46500000000000002]
[null,null,454,"Burlingame Public School","Osage",7059,null,"USD 454 - Home","Special Ed Program - Home",null,null,null,null,null,null,null,null,null,null,null,null,null,null,null,null,null,"N/A",null,null,"N/A","N/A"]
[null,null,454,"Burlingame Public School","Osage",7061,null,"USD 454 - Community-Based Preschool","Special Ed Program - Community Based Preschool",null,null,null,null,null,null,null,null,null,null,null,null,null,null,null,null,null,"N/A",null,null,"N/A","N/A"]
[null,null,454,"Burlingame Public School","Osage",7062,null,"USD 454 - K Time Program W/O SPED","Early Childhood Program - General",null,null,null,null,null,null,null,null,null,null,null,null,null,null,null,null,null,"N/A",null,null,"N/A","N/A"]
[null,null,456,"Marais Des Cygnes Valley","Osage",7093,null,"USD 456 - Off Site Non Public Buildings","Special Ed Program - Off Site Community Based",null,null,null,null,null,null,null,null,null,null,null,null,null,null,null,null,null,"N/A",null,null,"N/A","N/A"]
[null,null,456,"Marais Des Cygnes Valley","Osage",7094,null,"Marais Des Cygnes Valley Elem","Elementary",null,null,null,null,null,null,null,null,null,null,null,null,null,null,null,null,null,87,null,null,45,0.51719999999999999]
[null,null,456,"Marais Des Cygnes Valley","Osage",7095,null,"USD 456 - Home","Special Ed Program - Home",null,null,null,null,null,null,null,null,null,null,null,null,null,null,null,null,null,"N/A",null,null,"N/A","N/A"]
[null,null,456,"Marais Des Cygnes Valley","Osage",7096,null,"Marais Des Cygnes Valley High","High School",null,null,null,null,null,null,null,null,null,null,null,null,null,null,null,null,null,73,null,null,33,0.4521]
[null,null,456,"Marais Des Cygnes Valley","Osage",7097,null,"USD 456 - K Time Program W/O SPED","Early Childhood Program - General",null,null,null,null,null,null,null,null,null,null,null,null,null,null,null,null,null,"N/A",null,null,"N/A","N/A"]
[null,null,456,"Marais Des Cygnes Valley","Osage",7104,null,"Marais Des Cygnes Valley Middle","Middle School",null,null,null,null,null,null,null,null,null,null,null,null,null,null,null,null,null,38,null,null,24,0.63160000000000005]
[null,null,457,"Garden City","Finney",7114,null,"Garden City Dist Finney Co","Central Office",null,null,null,null,null,null,null,null,null,null,null,null,null,null,null,null,null,"N/A",null,null,"N/A","N/A"]
[null,null,457,"Garden City","Finney",7115,null,"Edith Scheuerman Elem","Elementary",null,null,null,null,null,null,null,null,null,null,null,null,null,null,null,null,null,180,null,null,141,0.7833]
[null,null,457,"Garden City","Finney",7118,null,"Alta Brown Elem","Elementary",null,null,null,null,null,null,null,null,null,null,null,null,null,null,null,null,null,308,null,null,224,0.72729999999999995]
[null,null,457,"Garden City","Finney",7119,null,"Florence Wilson Elem","Elementary",null,null,null,null,null,null,null,null,null,null,null,null,null,null,null,null,null,335,null,null,197,0.58809999999999996]
[null,null,457,"Garden City","Finney",7120,null,"Abe Hubert Elementary School","Elementary",null,null,null,null,null,null,null,null,null,null,null,null,null,null,null,null,null,337,null,null,258,0.76559999999999995]
[null,null,457,"Garden City","Finney",7124,null,"Buffalo Jones Elem","Elementary",null,null,null,null,null,null,null,null,null,null,null,null,null,null,null,null,null,228,null,null,172,0.75439999999999996]
[null,null,457,"Garden City","Finney",7126,null,"Georgia Matthews Elem","Elementary",null,null,null,null,null,null,null,null,null,null,null,null,null,null,null,null,null,109,null,null,75,0.68810000000000004]
[null,null,457,"Garden City","Finney",7127,null,"USD 457 - Off Site Non Public Buildings","Special Ed Program - Off Site Community Based",null,null,null,null,null,null,null,null,null,null,null,null,null,null,null,null,null,"N/A",null,null,"N/A","N/A"]
[null,null,457,"Garden City","Finney",7128,null,"Horace J. Good Middle School","Middle School",null,null,null,null,null,null,null,null,null,null,null,null,null,null,null,null,null,698,null,null,413,0.5917]
[null,null,457,"Garden City","Finney",7129,null,"USD 457 - Home","Special Ed Program - Home",null,null,null,null,null,null,null,null,null,null,null,null,null,null,null,null,null,"N/A",null,null,"N/A","N/A"]
[null,null,457,"Garden City","Finney",7130,null,"Garden City High School","High School",null,null,null,null,null,null,null,null,null,null,null,null,null,null,null,null,null,1973,null,null,1036,0.52510000000000001]
[null,null,457,"Garden City","Finney",7131,null,"Gertrude Walker Elem","Elementary",null,null,null,null,null,null,null,null,null,null,null,null,null,null,null,null,null,208,null,null,150,0.72119999999999995]
[null,null,457,"Garden City","Finney",7132,null,"Jennie Barker Elem","Elementary",null,null,null,null,null,null,null,null,null,null,null,null,null,null,null,null,null,165,null,null,50,0.30299999999999999]
[null,null,457,"Garden City","Finney",7133,null,"Jennie Wilson Elem","Elementary",null,null,null,null,null,null,null,null,null,null,null,null,null,null,null,null,null,604,null,null,392,0.64900000000000002]
[null,null,457,"Garden City","Finney",7138,null,"Kenneth Henderson Middle","Middle School",null,null,null,null,null,null,null,null,null,null,null,null,null,null,null,null,null,384,null,null,201,0.52339999999999998]
[null,null,457,"Garden City","Finney",7140,null,"Plymell Elementary","Elementary",null,null,null,null,null,null,null,null,null,null,null,null,null,null,null,null,null,141,null,null,39,0.27660000000000001]
[null,null,457,"Garden City","Finney",7143,null,"Victor Ornelas Elem","Elementary",null,null,null,null,null,null,null,null,null,null,null,null,null,null,null,null,null,411,null,null,291,0.70799999999999996]
[null,null,457,"Garden City","Finney",7147,null,"Bernadine Sitts Intermediate Ctr","Middle School",null,null,null,null,null,null,null,null,null,null,null,null,null,null,null,null,null,404,null,null,288,0.71289999999999998]
[null,null,457,"Garden City","Finney",7148,null,"Charles O Stones Intermediate Ctr","Middle School",null,null,null,null,null,null,null,null,null,null,null,null,null,null,null,null,null,343,null,null,226,0.65890000000000004]
[null,null,457,"Garden City","Finney",7149,null,"SW Kansas Regional Juvenile Detention Center","Juvenile Detention Center",null,null,null,null,null,null,null,null,null,null,null,null,null,null,null,null,null,"N/A",null,null,"N/A","N/A"]
[null,null,457,"Garden City","Finney",7150,null,"USD 457 - Community-Based Preschool","Special Ed Program - Community Based Preschool",null,null,null,null,null,null,null,null,null,null,null,null,null,null,null,null,null,"N/A",null,null,"N/A","N/A"]
[null,null,457,"Garden City","Finney",7153,null,"USD 457 - Community-Based Preschool","Special Ed Program - Community Based Preschool",null,null,null,null,null,null,null,null,null,null,null,null,null,null,null,null,null,"N/A",null,null,"N/A","N/A"]
[null,null,458,"Basehor-Linwood","Leavenworth",7158,null,"Basehor Dist Leavenworth Co","Central Office",null,null,null,null,null,null,null,null,null,null,null,null,null,null,null,null,null,"N/A",null,null,"N/A","N/A"]
[null,null,458,"Basehor-Linwood","Leavenworth",7159,null,"USD 458 - Off Site Non Public Buildings","Special Ed Program - Off Site Community Based",null,null,null,null,null,null,null,null,null,null,null,null,null,null,null,null,null,"N/A",null,null,"N/A","N/A"]
[null,null,458,"Basehor-Linwood","Leavenworth",7160,null,"Basehor Elementary School","Elementary",null,null,null,null,null,null,null,null,null,null,null,null,null,null,null,null,null,477,null,null,69,0.1447]
[null,null,458,"Basehor-Linwood","Leavenworth",7162,null,"USD 458 - Public Off-Site Preschools","Special Ed Program - Off Site Preschool",null,null,null,null,null,null,null,null,null,null,null,null,null,null,null,null,null,"N/A",null,null,"N/A","N/A"]
[null,null,458,"Basehor-Linwood","Leavenworth",7163,null,"USD 458 - Home","Special Ed Program - Home",null,null,null,null,null,null,null,null,null,null,null,null,null,null,null,null,null,"N/A",null,null,"N/A","N/A"]
[null,null,458,"Basehor-Linwood","Leavenworth",7164,null,"Basehor-Linwood High School","High School",null,null,null,null,null,null,null,null,null,null,null,null,null,null,null,null,null,864,null,null,106,0.1227]
[null,null,458,"Basehor-Linwood","Leavenworth",7166,null,"USD 458 - Community-Based Preschool","Special Ed Program - Community Based Preschool",null,null,null,null,null,null,null,null,null,null,null,null,null,null,null,null,null,"N/A",null,null,"N/A","N/A"]
[null,null,457,"Garden City","Finney",7168,null,"USD 457 - K Time Program W/O SPED","Early Childhood Program - General",null,null,null,null,null,null,null,null,null,null,null,null,null,null,null,null,null,"N/A",null,null,"N/A","N/A"]
[null,null,458,"Basehor-Linwood","Leavenworth",7169,null,"USD 458 - K Time Program W/O SPED","Early Childhood Program - General",null,null,null,null,null,null,null,null,null,null,null,null,null,null,null,null,null,"N/A",null,null,"N/A","N/A"]
[null,null,458,"Basehor-Linwood","Leavenworth",7170,null,"Linwood Elementary School","Elementary",null,null,null,null,null,null,null,null,null,null,null,null,null,null,null,null,null,237,null,null,34,0.14349999999999999]
[null,null,458,"Basehor-Linwood","Leavenworth",7172,null,"Basehor-Linwood Middle School","Middle School",null,null,null,null,null,null,null,null,null,null,null,null,null,null,null,null,null,660,null,null,79,0.1197]
[null,null,458,"Basehor-Linwood","Leavenworth",7175,null,"Glenwood Ridge Elementary School","Elementary",null,null,null,null,null,null,null,null,null,null,null,null,null,null,null,null,null,327,null,null,37,0.11310000000000001]
[null,null,457,"Garden City","Finney",7176,null,"Garfield Early Childhood Center","Special Ed Program - Off Site Preschool",null,null,null,null,null,null,null,null,null,null,null,null,null,null,null,null,null,"N/A",null,null,"N/A","N/A"]
[null,null,457,"Garden City","Finney",7177,null,"GC Achieve at J.D. Adams Hall","Other",null,null,null,null,null,null,null,null,null,null,null,null,null,null,null,null,null,114,null,null,82,0.71930000000000005]
[null,null,458,"Basehor-Linwood","Leavenworth",7178,null,"Pathways TBLSEC","Special Ed Program - Public School Administered",null,null,null,null,null,null,null,null,null,null,null,null,null,null,null,null,null,"N/A",null,null,"N/A","N/A"]
[null,null,458,"Basehor-Linwood","Leavenworth",7179,null,"Choices TBLSEC","Special Ed Program - Public School Administered",null,null,null,null,null,null,null,null,null,null,null,null,null,null,null,null,null,"N/A",null,null,"N/A","N/A"]
[null,null,458,"Basehor-Linwood","Leavenworth",7180,null,"Basehor-Linwood Early Learning Center","Early Childhood Program - Community Preschool or Child Care Center",null,null,null,null,null,null,null,null,null,null,null,null,null,null,null,null,null,"N/A",null,null,"N/A","N/A"]
[null,null,458,"Basehor-Linwood","Leavenworth",7181,null,"Gray Hawk Elementary School","Elementary",null,null,null,null,null,null,null,null,null,null,null,null,null,null,null,null,null,272,null,null,44,0.1618]
[null,null,459,"Bucklin","Ford",7183,null,"USD 459 - Off Site Non Public Buildings","Special Ed Program - Off Site Community Based",null,null,null,null,null,null,null,null,null,null,null,null,null,null,null,null,null,"N/A",null,null,"N/A","N/A"]
[null,null,459,"Bucklin","Ford",7184,null,"Bucklin Elem","Elementary",null,null,null,null,null,null,null,null,null,null,null,null,null,null,null,null,null,147,null,null,63,0.42859999999999998]
[null,null,459,"Bucklin","Ford",7185,null,"USD 459 - Home","Special Ed Program - Home",null,null,null,null,null,null,null,null,null,null,null,null,null,null,null,null,null,"N/A",null,null,"N/A","N/A"]
[null,null,459,"Bucklin","Ford",7186,null,"Bucklin High","High School",null,null,null,null,null,null,null,null,null,null,null,null,null,null,null,null,null,71,null,null,20,0.28170000000000001]
[null,null,459,"Bucklin","Ford",7187,null,"USD 459 - K Time Program W/O SPED","Early Childhood Program - General",null,null,null,null,null,null,null,null,null,null,null,null,null,null,null,null,null,"N/A",null,null,"N/A","N/A"]
[null,null,458,"Basehor-Linwood","Leavenworth",7188,null,"Basehor-Linwood Virtual School","Other",null,null,null,null,null,null,null,null,null,null,null,null,null,null,null,null,null,162,null,null,30,0.1852]
[null,null,457,"Garden City","Finney",7189,null,"USD 457 Virtual Academy","High School",null,null,null,null,null,null,null,null,null,null,null,null,null,null,null,null,null,96,null,null,46,0.47920000000000001]
[null,null,460,"Hesston","Harvey",7203,null,"USD 460 - Off Site Non Public Buildings","Special Ed Program - Off Site Community Based",null,null,null,null,null,null,null,null,null,null,null,null,null,null,null,null,null,"N/A",null,null,"N/A","N/A"]
[null,null,460,"Hesston","Harvey",7204,null,"USD 460 - Home","Special Ed Program - Home",null,null,null,null,null,null,null,null,null,null,null,null,null,null,null,null,null,"N/A",null,null,"N/A","N/A"]
[null,null,460,"Hesston","Harvey",7205,null,"USD 460 - Community-Based Preschool","Special Ed Program - Community Based Preschool",null,null,null,null,null,null,null,null,null,null,null,null,null,null,null,null,null,"N/A",null,null,"N/A","N/A"]
[null,null,460,"Hesston","Harvey",7206,null,"Hesston Elem","Elementary",null,null,null,null,null,null,null,null,null,null,null,null,null,null,null,null,null,304,null,null,55,0.18090000000000001]
[null,null,460,"Hesston","Harvey",7207,null,"USD 460 - K Time Program W/O SPED","Early Childhood Program - General",null,null,null,null,null,null,null,null,null,null,null,null,null,null,null,null,null,"N/A",null,null,"N/A","N/A"]
[null,null,460,"Hesston","Harvey",7208,null,"Hesston Middle","Middle School",null,null,null,null,null,null,null,null,null,null,null,null,null,null,null,null,null,294,null,null,60,0.2041]
[null,null,460,"Hesston","Harvey",7210,null,"Hesston High","High School",null,null,null,null,null,null,null,null,null,null,null,null,null,null,null,null,null,272,null,null,55,0.20219999999999999]
[null,null,461,"Neodesha","Wilson",7223,null,"USD 461 - Off Site Non Public Buildings","Special Ed Program - Off Site Community Based",null,null,null,null,null,null,null,null,null,null,null,null,null,null,null,null,null,"N/A",null,null,"N/A","N/A"]
[null,null,461,"Neodesha","Wilson",7224,null,"USD 461 - Home","Special Ed Program - Home",null,null,null,null,null,null,null,null,null,null,null,null,null,null,null,null,null,"N/A",null,null,"N/A","N/A"]
[null,null,461,"Neodesha","Wilson",7225,null,"USD 461 - Community-Based Preschool","Special Ed Program - Community Based Preschool",null,null,null,null,null,null,null,null,null,null,null,null,null,null,null,null,null,"N/A",null,null,"N/A","N/A"]
[null,null,461,"Neodesha","Wilson",7226,null,"Heller Elem","Elementary",null,null,null,null,null,null,null,null,null,null,null,null,null,null,null,null,null,236,null,null,150,0.63560000000000005]
[null,null,461,"Neodesha","Wilson",7227,null,"USD 461 - K Time Program W/O SPED","Early Childhood Program - General",null,null,null,null,null,null,null,null,null,null,null,null,null,null,null,null,null,"N/A",null,null,"N/A","N/A"]
[null,null,461,"Neodesha","Wilson",7228,null,"North Lawn Elem","Elementary",null,null,null,null,null,null,null,null,null,null,null,null,null,null,null,null,null,178,null,null,97,0.54490000000000005]
[null,null,461,"Neodesha","Wilson",7232,null,"Neodesha High","High School",null,null,null,null,null,null,null,null,null,null,null,null,null,null,null,null,null,341,null,null,161,0.47210000000000002]
[null,null,462,"Central","Cowley",7245,null,"USD 462 - Off Site Non Public Buildings","Special Ed Program - Off Site Community Based",null,null,null,null,null,null,null,null,null,null,null,null,null,null,null,null,null,"N/A",null,null,"N/A","N/A"]
[null,null,462,"Central","Cowley",7246,null,"Central Elem","Elementary",null,null,null,null,null,null,null,null,null,null,null,null,null,null,null,null,null,152,null,null,73,0.4803]
[null,null,462,"Central","Cowley",7247,null,"USD 462 - Home","Special Ed Program - Home",null,null,null,null,null,null,null,null,null,null,null,null,null,null,null,null,null,"N/A",null,null,"N/A","N/A"]
[null,null,462,"Central","Cowley",7249,null,"USD 462 - K Time Program W/O SPED","Early Childhood Program - General",null,null,null,null,null,null,null,null,null,null,null,null,null,null,null,null,null,"N/A",null,null,"N/A","N/A"]
[null,null,462,"Central","Cowley",7254,null,"Central Jr-Sr High","High School",null,null,null,null,null,null,null,null,null,null,null,null,null,null,null,null,null,136,null,null,71,0.52210000000000001]
[null,null,463,"Udall","Cowley",7267,null,"USD 463 - Off Site Non Public Buildings","Special Ed Program - Off Site Community Based",null,null,null,null,null,null,null,null,null,null,null,null,null,null,null,null,null,"N/A",null,null,"N/A","N/A"]
[null,null,463,"Udall","Cowley",7268,null,"USD 463 - Home","Special Ed Program - Home",null,null,null,null,null,null,null,null,null,null,null,null,null,null,null,null,null,"N/A",null,null,"N/A","N/A"]
[null,null,463,"Udall","Cowley",7269,null,"USD 463 - K Time Program W/O SPED","Early Childhood Program - General",null,null,null,null,null,null,null,null,null,null,null,null,null,null,null,null,null,"N/A",null,null,"N/A","N/A"]
[null,null,463,"Udall","Cowley",7270,null,"Udall Elem","Elementary",null,null,null,null,null,null,null,null,null,null,null,null,null,null,null,null,null,134,null,null,69,0.51490000000000002]
[null,null,463,"Udall","Cowley",7271,null,"Udall Middle School","Middle School",null,null,null,null,null,null,null,null,null,null,null,null,null,null,null,null,null,87,null,null,29,0.33329999999999999]
[null,null,463,"Udall","Cowley",7272,null,"Udall High","High School",null,null,null,null,null,null,null,null,null,null,null,null,null,null,null,null,null,98,null,null,37,0.37759999999999999]
[null,null,463,"Udall","Cowley",7273,null,"Udall Schools Alternative Program","Other",null,null,null,null,null,null,null,null,null,null,null,null,null,null,null,null,null,"N/A",null,null,"N/A","N/A"]
[null,null,463,"Udall","Cowley",7274,null,"Udall Virtual School","Special School",null,null,null,null,null,null,null,null,null,null,null,null,null,null,null,null,null,3,null,null,2,0.66669999999999996]
[null,null,464,"Tonganoxie","Leavenworth",7282,null,"Tonganoxie Dist Leavenworth Co","Central Office",null,null,null,null,null,null,null,null,null,null,null,null,null,null,null,null,null,"N/A",null,null,"N/A","N/A"]
[null,null,464,"Tonganoxie","Leavenworth",7283,null,"USD 464 - Off Site Non Public Buildings","Special Ed Program - Off Site Community Based",null,null,null,null,null,null,null,null,null,null,null,null,null,null,null,null,null,"N/A",null,null,"N/A","N/A"]
[null,null,464,"Tonganoxie","Leavenworth",7284,null,"USD 464 - Public Off-Site Preschools","Special Ed Program - Off Site Preschool",null,null,null,null,null,null,null,null,null,null,null,null,null,null,null,null,null,"N/A",null,null,"N/A","N/A"]
[null,null,464,"Tonganoxie","Leavenworth",7285,null,"USD 464 - Home","Special Ed Program - Home",null,null,null,null,null,null,null,null,null,null,null,null,null,null,null,null,null,"N/A",null,null,"N/A","N/A"]
[null,null,464,"Tonganoxie","Leavenworth",7287,null,"USD 464 - Community-Based Preschool","Special Ed Program - Community Based Preschool",null,null,null,null,null,null,null,null,null,null,null,null,null,null,null,null,null,"N/A",null,null,"N/A","N/A"]
[null,null,464,"Tonganoxie","Leavenworth",7288,null,"USD 464 - K Time Program W/O SPED","Early Childhood Program - General",null,null,null,null,null,null,null,null,null,null,null,null,null,null,null,null,null,"N/A",null,null,"N/A","N/A"]
[null,null,464,"Tonganoxie","Leavenworth",7298,null,"Tonganoxie High","High School",null,null,null,null,null,null,null,null,null,null,null,null,null,null,null,null,null,643,null,null,143,0.22239999999999999]
[null,null,464,"Tonganoxie","Leavenworth",7299,null,"Tonganoxie Middle School","Middle School",null,null,null,null,null,null,null,null,null,null,null,null,null,null,null,null,null,436,null,null,116,0.2661]
[null,null,464,"Tonganoxie","Leavenworth",7300,null,"Tonganoxie Elem","Elementary",null,null,null,null,null,null,null,null,null,null,null,null,null,null,null,null,null,839,null,null,196,0.2336]
[null,null,465,"Winfield","Cowley",7308,null,"Winfield District Cowley Co","Central Office",null,null,null,null,null,null,null,null,null,null,null,null,null,null,null,null,null,"N/A",null,null,"N/A","N/A"]
[null,null,465,"Winfield","Cowley",7309,null,"USD 465 - Off Site Non Public Buildings","Special Ed Program - Off Site Community Based",null,null,null,null,null,null,null,null,null,null,null,null,null,null,null,null,null,"N/A",null,null,"N/A","N/A"]
[null,null,465,"Winfield","Cowley",7310,null,"Country View Elem","Elementary",null,null,null,null,null,null,null,null,null,null,null,null,null,null,null,null,null,132,null,null,57,0.43180000000000002]
[null,null,465,"Winfield","Cowley",7313,null,"USD 465 - Public Off-Site Preschools","Special Ed Program - Off Site Preschool",null,null,null,null,null,null,null,null,null,null,null,null,null,null,null,null,null,"N/A",null,null,"N/A","N/A"]
[null,null,465,"Winfield","Cowley",7315,null,"USD 465 - Home Schoolers","Special Ed Program - Home",null,null,null,null,null,null,null,null,null,null,null,null,null,null,null,null,null,"N/A",null,null,"N/A","N/A"]
[null,null,465,"Winfield","Cowley",7316,null,"USD 465 - Head Start Community Based Preschoo","Special Ed Program - Community Based Preschool",null,null,null,null,null,null,null,null,null,null,null,null,null,null,null,null,null,"N/A",null,null,"N/A","N/A"]
[null,null,465,"Winfield","Cowley",7317,null,"USD 465 - Winfield Community Day School","Special Ed Program - Public School Administered",null,null,null,null,null,null,null,null,null,null,null,null,null,null,null,null,null,"N/A",null,null,"N/A","N/A"]
[null,null,465,"Winfield","Cowley",7318,null,"USD 465 - K Time Program W/O SPED","Early Childhood Program - General",null,null,null,null,null,null,null,null,null,null,null,null,null,null,null,null,null,"N/A",null,null,"N/A","N/A"]
[null,null,465,"Winfield","Cowley",7319,null,"Little Builders Southwestern","Special Ed Program - Community Based Preschool",null,null,null,null,null,null,null,null,null,null,null,null,null,null,null,null,null,"N/A",null,null,"N/A","N/A"]
[null,null,465,"Winfield","Cowley",7321,null,"Winfield Early Learning Center","Special Ed Program - Off Site Preschool",null,null,null,null,null,null,null,null,null,null,null,null,null,null,null,null,null,"N/A",null,null,"N/A","N/A"]
[null,null,465,"Winfield","Cowley",7324,null,"Irving Elem","Elementary",null,null,null,null,null,null,null,null,null,null,null,null,null,null,null,null,null,262,null,null,188,0.71760000000000002]
[null,null,465,"Winfield","Cowley",7326,null,"Lowell Elem","Elementary",null,null,null,null,null,null,null,null,null,null,null,null,null,null,null,null,null,248,null,null,136,0.5484]
[null,null,465,"Winfield","Cowley",7330,null,"Whittier Elem","Elementary",null,null,null,null,null,null,null,null,null,null,null,null,null,null,null,null,null,254,null,null,113,0.44490000000000002]
[null,null,465,"Winfield","Cowley",7332,null,"Winfield High","High School",null,null,null,null,null,null,null,null,null,null,null,null,null,null,null,null,null,689,null,null,302,0.43830000000000002]
[null,null,465,"Winfield","Cowley",7333,null,"Winfield Middle School","Middle School",null,null,null,null,null,null,null,null,null,null,null,null,null,null,null,null,null,499,null,null,250,0.501]
[null,null,465,"Winfield","Cowley",7337,null,"Cowley Cty Special Services Coop","Other",null,null,null,null,null,null,null,null,null,null,null,null,null,null,null,null,null,"N/A",null,null,"N/A","N/A"]
[null,null,466,"Scott County","Scott",7349,null,"USD 466 - Off Site Non Public Buildings","Special Ed Program - Off Site Community Based",null,null,null,null,null,null,null,null,null,null,null,null,null,null,null,null,null,"N/A",null,null,"N/A","N/A"]
[null,null,466,"Scott County","Scott",7351,null,"USD 466 - Public Off-Site Preschools","Special Ed Program - Off Site Preschool",null,null,null,null,null,null,null,null,null,null,null,null,null,null,null,null,null,"N/A",null,null,"N/A","N/A"]
[null,null,466,"Scott County","Scott",7352,null,"USD 466 - Home","Special Ed Program - Home",null,null,null,null,null,null,null,null,null,null,null,null,null,null,null,null,null,"N/A",null,null,"N/A","N/A"]
[null,null,466,"Scott County","Scott",7354,null,"USD 466 - Community-Based Preschool","Special Ed Program - Community Based Preschool",null,null,null,null,null,null,null,null,null,null,null,null,null,null,null,null,null,"N/A",null,null,"N/A","N/A"]
[null,null,466,"Scott County","Scott",7355,null,"USD 466 - Public Off Campus","Special Ed Program - Public School Administered",null,null,null,null,null,null,null,null,null,null,null,null,null,null,null,null,null,"N/A",null,null,"N/A","N/A"]
[null,null,466,"Scott County","Scott",7356,null,"Scott City Lower Elem","Elementary",null,null,null,null,null,null,null,null,null,null,null,null,null,null,null,null,null,235,null,null,92,0.39150000000000001]
[null,null,466,"Scott County","Scott",7357,null,"USD 466 - K Time Program W/O SPED","Early Childhood Program - General",null,null,null,null,null,null,null,null,null,null,null,null,null,null,null,null,null,"N/A",null,null,"N/A","N/A"]
[null,null,466,"Scott County","Scott",7358,null,"Scott City Middle","Middle School",null,null,null,null,null,null,null,null,null,null,null,null,null,null,null,null,null,426,null,null,155,0.36380000000000001]
[null,null,466,"Scott County","Scott",7359,null,"Scott Community Learning Center","High School",null,null,null,null,null,null,null,null,null,null,null,null,null,null,null,null,null,8,null,null,1,0.125]
[null,null,466,"Scott County","Scott",7360,null,"Scott City High","High School",null,null,null,null,null,null,null,null,null,null,null,null,null,null,null,null,null,292,null,null,111,0.38009999999999999]
[null,null,467,"Leoti","Wichita",7377,null,"USD 467 - Off Site Non Public Buildings","Special Ed Program - Off Site Community Based",null,null,null,null,null,null,null,null,null,null,null,null,null,null,null,null,null,"N/A",null,null,"N/A","N/A"]
[null,null,467,"Leoti","Wichita",7378,null,"USD 467 - Home","Special Ed Program - Home",null,null,null,null,null,null,null,null,null,null,null,null,null,null,null,null,null,"N/A",null,null,"N/A","N/A"]
[null,null,467,"Leoti","Wichita",7379,null,"USD 467 - Community-Based Preschool","Special Ed Program - Community Based Preschool",null,null,null,null,null,null,null,null,null,null,null,null,null,null,null,null,null,"N/A",null,null,"N/A","N/A"]
[null,null,467,"Leoti","Wichita",7381,null,"USD 467 - K Time Program W/O SPED","Early Childhood Program - General",null,null,null,null,null,null,null,null,null,null,null,null,null,null,null,null,null,"N/A",null,null,"N/A","N/A"]
[null,null,467,"Leoti","Wichita",7382,null,"Wichita County Elementary","Elementary",null,null,null,null,null,null,null,null,null,null,null,null,null,null,null,null,null,200,null,null,80,0.4]
[null,null,467,"Leoti","Wichita",7385,null,"Wichita County Junior-Senior High School","High School",null,null,null,null,null,null,null,null,null,null,null,null,null,null,null,null,null,182,null,null,64,0.35160000000000002]
[null,null,468,"Healy Public Schools","Lane",7401,null,"USD 468 - Off Site Non Public Buildings","Special Ed Program - Off Site Community Based",null,null,null,null,null,null,null,null,null,null,null,null,null,null,null,null,null,"N/A",null,null,"N/A","N/A"]
[null,null,468,"Healy Public Schools","Lane",7402,null,"Healy Elem","Elementary",null,null,null,null,null,null,null,null,null,null,null,null,null,null,null,null,null,14,null,null,13,0.92859999999999998]
[null,null,468,"Healy Public Schools","Lane",7403,null,"USD 468 - Home","Special Ed Program - Home",null,null,null,null,null,null,null,null,null,null,null,null,null,null,null,null,null,"N/A",null,null,"N/A","N/A"]
[null,null,468,"Healy Public Schools","Lane",7404,null,"Healy High","High School",null,null,null,null,null,null,null,null,null,null,null,null,null,null,null,null,null,24,null,null,21,0.875]
[null,null,468,"Healy Public Schools","Lane",7405,null,"USD 468 - Community-Based Preschool","Special Ed Program - Community Based Preschool",null,null,null,null,null,null,null,null,null,null,null,null,null,null,null,null,null,"N/A",null,null,"N/A","N/A"]
[null,null,468,"Healy Public Schools","Lane",7406,null,"USD 468 - K Time Program W/O SPED","Early Childhood Program - General",null,null,null,null,null,null,null,null,null,null,null,null,null,null,null,null,null,"N/A",null,null,"N/A","N/A"]
[null,null,469,"Lansing","Leavenworth",7414,null,"Lansing Dist Leavenworth Co","Central Office",null,null,null,null,null,null,null,null,null,null,null,null,null,null,null,null,null,"N/A",null,null,"N/A","N/A"]
[null,null,469,"Lansing","Leavenworth",7415,null,"USD 469 - Off Site Non Public Buildings","Special Ed Program - Off Site Community Based",null,null,null,null,null,null,null,null,null,null,null,null,null,null,null,null,null,"N/A",null,null,"N/A","N/A"]
[null,null,469,"Lansing","Leavenworth",7416,null,"USD 469 - Home","Special Ed Program - Home",null,null,null,null,null,null,null,null,null,null,null,null,null,null,null,null,null,"N/A",null,null,"N/A","N/A"]
[null,null,469,"Lansing","Leavenworth",7418,null,"USD 469 - Community-Based Preschool","Special Ed Program - Community Based Preschool",null,null,null,null,null,null,null,null,null,null,null,null,null,null,null,null,null,"N/A",null,null,"N/A","N/A"]
[null,null,469,"Lansing","Leavenworth",7419,null,"USD 469 - K Time Program W/O SPED","Early Childhood Program - General",null,null,null,null,null,null,null,null,null,null,null,null,null,null,null,null,null,"N/A",null,null,"N/A","N/A"]
[null,null,469,"Lansing","Leavenworth",7420,null,"Lansing Middle 6-8","Middle School",null,null,null,null,null,null,null,null,null,null,null,null,null,null,null,null,null,635,null,null,163,0.25669999999999998]
[null,null,469,"Lansing","Leavenworth",7421,null,"Lansing Early Childhood","Special Ed Program - Off Site Preschool",null,null,null,null,null,null,null,null,null,null,null,null,null,null,null,null,null,"N/A",null,null,"N/A","N/A"]
[null,null,469,"Lansing","Leavenworth",7423,null,"Lansing Elementary School","Elementary",null,null,null,null,null,null,null,null,null,null,null,null,null,null,null,null,null,762,null,null,247,0.3241]
[null,null,469,"Lansing","Leavenworth",7426,null,"Lansing High 9-12","High School",null,null,null,null,null,null,null,null,null,null,null,null,null,null,null,null,null,885,null,null,169,0.191]
[null,null,469,"Lansing","Leavenworth",7427,null,"Early Childhood Program - Parents as Teachers","Early Childhood Program - Parents as Teachers",null,null,null,null,null,null,null,null,null,null,null,null,null,null,null,null,null,"N/A",null,null,"N/A","N/A"]
[null,null,469,"Lansing","Leavenworth",7429,null,"LINCS","Special Ed Program - Public School Administered",null,null,null,null,null,null,null,null,null,null,null,null,null,null,null,null,null,"N/A",null,null,"N/A","N/A"]
[null,null,469,"Lansing","Leavenworth",7431,null,"PALS","Special Ed Program - Public School Administered",null,null,null,null,null,null,null,null,null,null,null,null,null,null,null,null,null,"N/A",null,null,"N/A","N/A"]
[null,null,469,"Lansing","Leavenworth",7435,null,"Lansing Intermediate School","Elementary",null,null,null,null,null,null,null,null,null,null,null,null,null,null,null,null,null,368,null,null,123,0.3342]
[null,null,470,"Arkansas City","Cowley",7439,null,"USD 470 - Off Site Non Public Buildings","Special Ed Program - Off Site Community Based",null,null,null,null,null,null,null,null,null,null,null,null,null,null,null,null,null,"N/A",null,null,"N/A","N/A"]
[null,null,470,"Arkansas City","Cowley",7440,null,"Adams Elem","Elementary",null,null,null,null,null,null,null,null,null,null,null,null,null,null,null,null,null,297,null,null,225,0.75760000000000005]
[null,null,470,"Arkansas City","Cowley",7442,null,"Frances Willard Elem","Elementary",null,null,null,null,null,null,null,null,null,null,null,null,null,null,null,null,null,276,null,null,223,0.80800000000000005]
[null,null,470,"Arkansas City","Cowley",7443,null,"Jefferson Elem","Elementary",null,null,null,null,null,null,null,null,null,null,null,null,null,null,null,null,null,269,null,null,181,0.67290000000000005]
[null,null,470,"Arkansas City","Cowley",7445,null,"USD 470 - Home","Special Ed Program - Home",null,null,null,null,null,null,null,null,null,null,null,null,null,null,null,null,null,"N/A",null,null,"N/A","N/A"]
[null,null,470,"Arkansas City","Cowley",7448,null,"Roosevelt Elem","Elementary",null,null,null,null,null,null,null,null,null,null,null,null,null,null,null,null,null,208,null,null,162,0.77880000000000005]
[null,null,470,"Arkansas City","Cowley",7450,null,"USD 470 - Community-Based Preschool","Special Ed Program - Community Based Preschool",null,null,null,null,null,null,null,null,null,null,null,null,null,null,null,null,null,"N/A",null,null,"N/A","N/A"]
[null,null,470,"Arkansas City","Cowley",7451,null,"USD 470 - K Time Program W/O SPED","Early Childhood Program - General",null,null,null,null,null,null,null,null,null,null,null,null,null,null,null,null,null,"N/A",null,null,"N/A","N/A"]
[null,null,470,"Arkansas City","Cowley",7454,null,"Arkansas City Middle Sch","Middle School",null,null,null,null,null,null,null,null,null,null,null,null,null,null,null,null,null,685,null,null,448,0.65400000000000003]
[null,null,470,"Arkansas City","Cowley",7455,null,"USD 470 - Community-Based Preschool","Special Ed Program - Off Site Community Based",null,null,null,null,null,null,null,null,null,null,null,null,null,null,null,null,null,"N/A",null,null,"N/A","N/A"]
[null,null,470,"Arkansas City","Cowley",7456,null,"Arkansas City High","High School",null,null,null,null,null,null,null,null,null,null,null,null,null,null,null,null,null,845,null,null,455,0.53849999999999998]
[null,null,470,"Arkansas City","Cowley",7458,null,"C 4 Elem","Elementary",null,null,null,null,null,null,null,null,null,null,null,null,null,null,null,null,null,111,null,null,44,0.39639999999999997]
[null,null,470,"Arkansas City","Cowley",7466,null,"I X L Elem","Elementary",null,null,null,null,null,null,null,null,null,null,null,null,null,null,null,null,null,197,null,null,147,0.74619999999999997]
[null,null,469,"Lansing","Leavenworth",7467,null,"Lansing PreK","Early Childhood Program - Other",null,null,null,null,null,null,null,null,null,null,null,null,null,null,null,null,null,"N/A",null,null,"N/A","N/A"]
[null,null,470,"Arkansas City","Cowley",7469,null,"Community Day School Arkansas City","Special School",null,null,null,null,null,null,null,null,null,null,null,null,null,null,null,null,null,"N/A",null,null,"N/A","N/A"]
[null,null,471,"Dexter","Cowley",7490,null,"Dexter Dist Cowley Co","Central Office",null,null,null,null,null,null,null,null,null,null,null,null,null,null,null,null,null,"N/A",null,null,"N/A","N/A"]
[null,null,471,"Dexter","Cowley",7491,null,"USD 471 - Off Site Non Public Buildings","Special Ed Program - Off Site Community Based",null,null,null,null,null,null,null,null,null,null,null,null,null,null,null,null,null,"N/A",null,null,"N/A","N/A"]
[null,null,471,"Dexter","Cowley",7492,null,"Dexter Elem","Elementary",null,null,null,null,null,null,null,null,null,null,null,null,null,null,null,null,null,115,null,null,49,0.42609999999999998]
[null,null,471,"Dexter","Cowley",7493,null,"USD 471 - Home","Special Ed Program - Home",null,null,null,null,null,null,null,null,null,null,null,null,null,null,null,null,null,"N/A",null,null,"N/A","N/A"]
[null,null,471,"Dexter","Cowley",7494,null,"Dexter High","High School",null,null,null,null,null,null,null,null,null,null,null,null,null,null,null,null,null,154,null,null,53,0.34420000000000001]
[null,null,471,"Dexter","Cowley",7495,null,"USD 471 - K Time Program W/O SPED","Early Childhood Program - General",null,null,null,null,null,null,null,null,null,null,null,null,null,null,null,null,null,"N/A",null,null,"N/A","N/A"]
[null,null,473,"Chapman","Saline",7533,null,"USD 473 - Off Site Non Public Buildings","Special Ed Program - Off Site Community Based",null,null,null,null,null,null,null,null,null,null,null,null,null,null,null,null,null,"N/A",null,null,"N/A","N/A"]
[null,null,473,"Chapman","Dickinson",7534,null,"Blue Ridge Elem","Elementary",null,null,null,null,null,null,null,null,null,null,null,null,null,null,null,null,null,66,null,null,17,0.2576]
[null,null,473,"Chapman","Dickinson",7535,null,"USD 473 - Public Off-Site Preschools","Special Ed Program - Off Site Preschool",null,null,null,null,null,null,null,null,null,null,null,null,null,null,null,null,null,"N/A",null,null,"N/A","N/A"]
[null,null,473,"Chapman","Dickinson",7536,null,"USD 473 - Home","Special Ed Program - Home",null,null,null,null,null,null,null,null,null,null,null,null,null,null,null,null,null,"N/A",null,null,"N/A","N/A"]
[null,null,473,"Chapman","Dickinson",7537,null,"USD 473 - K Time Program W/O SPED","Early Childhood Program - General",null,null,null,null,null,null,null,null,null,null,null,null,null,null,null,null,null,"N/A",null,null,"N/A","N/A"]
[null,null,473,"Chapman","Dickinson",7538,null,"Wee Lads and Lasses Pre-School","Special Ed Program - Off Site Preschool",null,null,null,null,null,null,null,null,null,null,null,null,null,null,null,null,null,"N/A",null,null,"N/A","N/A"]
[null,null,473,"Chapman","Dickinson",7539,null,"Wee Irish Preschool","Special Ed Program - Community Based Preschool",null,null,null,null,null,null,null,null,null,null,null,null,null,null,null,null,null,"N/A",null,null,"N/A","N/A"]
[null,null,473,"Chapman","Dickinson",7540,null,"Chapman Elem","Elementary",null,null,null,null,null,null,null,null,null,null,null,null,null,null,null,null,null,287,null,null,71,0.24740000000000001]
[null,null,473,"Chapman","Dickinson",7541,null,"Chapman Middle School","Middle School",null,null,null,null,null,null,null,null,null,null,null,null,null,null,null,null,null,278,null,null,92,0.33090000000000003]
[null,null,473,"Chapman","Dickinson",7542,null,"Chapman High","High School",null,null,null,null,null,null,null,null,null,null,null,null,null,null,null,null,null,380,null,null,110,0.28949999999999998]
[null,null,473,"Chapman","Dickinson",7546,null,"Enterprise Elem","Elementary",null,null,null,null,null,null,null,null,null,null,null,null,null,null,null,null,null,85,null,null,44,0.51759999999999995]
[null,null,473,"Chapman","Dickinson",7552,null,"Rural Center Elem","Elementary",null,null,null,null,null,null,null,null,null,null,null,null,null,null,null,null,null,51,null,null,16,0.31369999999999998]
[null,null,474,"Haviland","Kiowa",7570,null,"Haviland Dist Kiowa Co","Central Office",null,null,null,null,null,null,null,null,null,null,null,null,null,null,null,null,null,"N/A",null,null,"N/A","N/A"]
[null,null,474,"Haviland","Kiowa",7571,null,"USD 474 - Off Site Non Public Buildings","Special Ed Program - Off Site Community Based",null,null,null,null,null,null,null,null,null,null,null,null,null,null,null,null,null,"N/A",null,null,"N/A","N/A"]
[null,null,474,"Haviland","Kiowa",7572,null,"USD 474 - Home","Special Ed Program - Home",null,null,null,null,null,null,null,null,null,null,null,null,null,null,null,null,null,"N/A",null,null,"N/A","N/A"]
[null,null,474,"Haviland","Kiowa",7573,null,"USD 474 - K Time Program W/O SPED","Early Childhood Program - General",null,null,null,null,null,null,null,null,null,null,null,null,null,null,null,null,null,"N/A",null,null,"N/A","N/A"]
[null,null,474,"Haviland","Kiowa",7574,null,"Haviland Elem","Elementary",null,null,null,null,null,null,null,null,null,null,null,null,null,null,null,null,null,65,null,null,20,0.30769999999999997]
[null,null,475,"Geary County Schools","Geary",7588,null,"Geary County Dist Geary Co","Central Office",null,null,null,null,null,null,null,null,null,null,null,null,null,null,null,null,null,"N/A",null,null,"N/A","N/A"]
[null,null,475,"Geary County Schools","Geary",7589,null,"USD 475 - Off Site Non Public Buildings","Special Ed Program - Off Site Community Based",null,null,null,null,null,null,null,null,null,null,null,null,null,null,null,null,null,"N/A",null,null,"N/A","N/A"]
[null,null,475,"Geary County Schools","Geary",7590,null,"USD 475 - Home","Special Ed Program - Home",null,null,null,null,null,null,null,null,null,null,null,null,null,null,null,null,null,"N/A",null,null,"N/A","N/A"]
[null,null,475,"Geary County Schools","Geary",7592,null,"Grandview Elem","Elementary",null,null,null,null,null,null,null,null,null,null,null,null,null,null,null,null,null,89,null,null,53,0.59550000000000003]
[null,null,475,"Geary County Schools","Geary",7593,null,"Spring Valley Elementary","Elementary",null,null,null,null,null,null,null,null,null,null,null,null,null,null,null,null,null,447,null,null,148,0.33110000000000001]
[null,null,475,"Geary County Schools","Geary",7594,null,"USD 475 - Community-Based Preschool","Special Ed Program - Community Based Preschool",null,null,null,null,null,null,null,null,null,null,null,null,null,null,null,null,null,"N/A",null,null,"N/A","N/A"]
[null,null,475,"Geary County Schools","Geary",7595,null,"USD 475 - Public Off Campus","Special Ed Program - Public School Administered",null,null,null,null,null,null,null,null,null,null,null,null,null,null,null,null,null,"N/A",null,null,"N/A","N/A"]
[null,null,475,"Geary County Schools","Geary",7597,null,"USD 475 - K Time Program W/O SPED","Early Childhood Program - General",null,null,null,null,null,null,null,null,null,null,null,null,null,null,null,null,null,"N/A",null,null,"N/A","N/A"]
[null,null,475,"Geary County Schools","Geary",7598,null,"Eisenhower Elem","Elementary",null,null,null,null,null,null,null,null,null,null,null,null,null,null,null,null,null,362,null,null,150,0.41439999999999999]
[null,null,475,"Geary County Schools","Geary",7600,null,"Fort Riley Elem","Elementary",null,null,null,null,null,null,null,null,null,null,null,null,null,null,null,null,null,394,null,null,63,0.15989999999999999]
[null,null,475,"Geary County Schools","Geary",7601,null,"LTG Richard J. Seitz Elementary","Elementary",null,null,null,null,null,null,null,null,null,null,null,null,null,null,null,null,null,633,null,null,133,0.21010000000000001]
[null,null,475,"Geary County Schools","Geary",7605,null,"H.D. Karns","Special Ed Program - Public School Administered",null,null,null,null,null,null,null,null,null,null,null,null,null,null,null,null,null,"N/A",null,null,"N/A","N/A"]
[null,null,475,"Geary County Schools","Geary",7606,null,"Lincoln Elem","Elementary",null,null,null,null,null,null,null,null,null,null,null,null,null,null,null,null,null,281,null,null,104,0.37009999999999998]
[null,null,475,"Geary County Schools","Geary",7607,null,"Geary County Secured Care Center","Other",null,null,null,null,null,null,null,null,null,null,null,null,null,null,null,null,null,"N/A",null,null,"N/A","N/A"]
[null,null,475,"Geary County Schools","Geary",7608,null,"Morris Hill Elem","Elementary",null,null,null,null,null,null,null,null,null,null,null,null,null,null,null,null,null,235,null,null,50,0.21279999999999999]
[null,null,475,"Geary County Schools","Geary",7610,null,"Sheridan Elem","Elementary",null,null,null,null,null,null,null,null,null,null,null,null,null,null,null,null,null,297,null,null,151,0.50839999999999996]
[null,null,475,"Geary County Schools","Geary",7612,null,"Washington Elem","Elementary",null,null,null,null,null,null,null,null,null,null,null,null,null,null,null,null,null,350,null,null,315,0.9]
[null,null,475,"Geary County Schools","Geary",7614,null,"Westwood Elem","Elementary",null,null,null,null,null,null,null,null,null,null,null,null,null,null,null,null,null,249,null,null,162,0.65059999999999996]
[null,null,475,"Geary County Schools","Geary",7616,null,"Fort Riley Middle School","Middle School",null,null,null,null,null,null,null,null,null,null,null,null,null,null,null,null,null,543,null,null,100,0.1842]
[null,null,475,"Geary County Schools","Geary",7618,null,"Junction City Middle School","Middle School",null,null,null,null,null,null,null,null,null,null,null,null,null,null,null,null,null,938,null,null,481,0.51280000000000003]
[null,null,475,"Geary County Schools","Geary",7620,null,"Junction City Sr High","High School",null,null,null,null,null,null,null,null,null,null,null,null,null,null,null,null,null,1657,null,null,607,0.36630000000000001]
[null,null,475,"Geary County Schools","Geary",7624,null,"Milford Elem","Elementary",null,null,null,null,null,null,null,null,null,null,null,null,null,null,null,null,null,91,null,null,32,0.35160000000000002]
[null,null,475,"Geary County Schools","Geary",7628,null,"Early Childhood Center","Special School",null,null,null,null,null,null,null,null,null,null,null,null,null,null,null,null,null,"N/A",null,null,"N/A","N/A"]
[null,null,475,"Geary County Schools","Geary",7630,null,"Ware Elem","Elementary",null,null,null,null,null,null,null,null,null,null,null,null,null,null,null,null,null,664,null,null,171,0.25750000000000001]
[null,null,475,"Geary County Schools","Geary",7632,null,"Junction City Juvenile Detention Center","Juvenile Detention Center",null,null,null,null,null,null,null,null,null,null,null,null,null,null,null,null,null,"N/A",null,null,"N/A","N/A"]
[null,null,476,"Copeland","Gray",7644,null,"Copeland Dist Gray Co","Central Office",null,null,null,null,null,null,null,null,null,null,null,null,null,null,null,null,null,"N/A",null,null,"N/A","N/A"]
[null,null,476,"Copeland","Gray",7645,null,"USD 476 - Off Site Non Public Buildings","Special Ed Program - Off Site Community Based",null,null,null,null,null,null,null,null,null,null,null,null,null,null,null,null,null,"N/A",null,null,"N/A","N/A"]
[null,null,476,"Copeland","Gray",7646,null,"USD 476 - Home","Special Ed Program - Home",null,null,null,null,null,null,null,null,null,null,null,null,null,null,null,null,null,"N/A",null,null,"N/A","N/A"]
[null,null,476,"Copeland","Gray",7647,null,"USD 476 - K Time Program W/O SPED","Early Childhood Program - General",null,null,null,null,null,null,null,null,null,null,null,null,null,null,null,null,null,"N/A",null,null,"N/A","N/A"]
[null,null,476,"Copeland","Gray",7648,null,"Copeland Elem","Elementary",null,null,null,null,null,null,null,null,null,null,null,null,null,null,null,null,null,42,null,null,13,0.3095]
[null,null,476,"Copeland","Gray",7651,null,"South Gray Jr High","Junior High School",null,null,null,null,null,null,null,null,null,null,null,null,null,null,null,null,null,27,null,null,9,0.33329999999999999]
[null,null,477,"Ingalls","Ford",7663,null,"USD 477 - Off Site Non Public Buildings","Special Ed Program - Off Site Community Based",null,null,null,null,null,null,null,null,null,null,null,null,null,null,null,null,null,"N/A",null,null,"N/A","N/A"]
[null,null,477,"Ingalls","Gray",7664,null,"Ingalls Elem","Elementary",null,null,null,null,null,null,null,null,null,null,null,null,null,null,null,null,null,110,null,null,40,0.36359999999999998]
[null,null,477,"Ingalls","Ford",7665,null,"USD 477 - Home","Special Ed Program - Home",null,null,null,null,null,null,null,null,null,null,null,null,null,null,null,null,null,"N/A",null,null,"N/A","N/A"]
[null,null,477,"Ingalls","Gray",7666,null,"Ingalls High School/Junior High","High School",null,null,null,null,null,null,null,null,null,null,null,null,null,null,null,null,null,124,null,null,34,0.2742]
[null,null,477,"Ingalls","Ford",7667,null,"USD 477 - K Time Program W/O SPED","Early Childhood Program - General",null,null,null,null,null,null,null,null,null,null,null,null,null,null,null,null,null,"N/A",null,null,"N/A","N/A"]
[null,null,479,"Crest","Anderson",7691,null,"USD 479 - Off Site Non Public Buildings","Special Ed Program - Off Site Community Based",null,null,null,null,null,null,null,null,null,null,null,null,null,null,null,null,null,"N/A",null,null,"N/A","N/A"]
[null,null,479,"Crest","Anderson",7692,null,"Crest Elementary","Elementary",null,null,null,null,null,null,null,null,null,null,null,null,null,null,null,null,null,161,null,null,86,0.53420000000000001]
[null,null,479,"Crest","Anderson",7693,null,"USD 479 - Home","Special Ed Program - Home",null,null,null,null,null,null,null,null,null,null,null,null,null,null,null,null,null,"N/A",null,null,"N/A","N/A"]
[null,null,479,"Crest","Anderson",7694,null,"Crest High","High School",null,null,null,null,null,null,null,null,null,null,null,null,null,null,null,null,null,86,null,null,22,0.25580000000000003]
[null,null,479,"Crest","Anderson",7695,null,"USD 479 - Community-Based Preschool","Special Ed Program - Community Based Preschool",null,null,null,null,null,null,null,null,null,null,null,null,null,null,null,null,null,"N/A",null,null,"N/A","N/A"]
[null,null,479,"Crest","Anderson",7697,null,"USD 479 - K Time Program W/O SPED","Early Childhood Program - General",null,null,null,null,null,null,null,null,null,null,null,null,null,null,null,null,null,"N/A",null,null,"N/A","N/A"]
[null,null,480,"Liberal","Seward",7713,null,"USD 480 - Off Site Non Public Buildings","Special Ed Program - Off Site Community Based",null,null,null,null,null,null,null,null,null,null,null,null,null,null,null,null,null,"N/A",null,null,"N/A","N/A"]
[null,null,480,"Liberal","Seward",7715,null,"Cottonwood Elementary School","Elementary",null,null,null,null,null,null,null,null,null,null,null,null,null,null,null,null,null,498,null,null,360,0.72289999999999999]
[null,null,480,"Liberal","Seward",7717,null,"USD 480 - Home","Special Ed Program - Home",null,null,null,null,null,null,null,null,null,null,null,null,null,null,null,null,null,"N/A",null,null,"N/A","N/A"]
[null,null,480,"Liberal","Seward",7718,null,"MacArthur Elementary School","Elementary",null,null,null,null,null,null,null,null,null,null,null,null,null,null,null,null,null,391,null,null,224,0.57289999999999996]
[null,null,480,"Liberal","Seward",7719,null,"USD 480 - Community-Based Preschool","Special Ed Program - Community Based Preschool",null,null,null,null,null,null,null,null,null,null,null,null,null,null,null,null,null,"N/A",null,null,"N/A","N/A"]
[null,null,480,"Liberal","Seward",7723,null,"USD 480 - Community-Based Presbyterian Presch","Special Ed Program - Community Based Preschool",null,null,null,null,null,null,null,null,null,null,null,null,null,null,null,null,null,"N/A",null,null,"N/A","N/A"]
[null,null,480,"Liberal","Seward",7725,null,"Sunflower Elementary School","Elementary",null,null,null,null,null,null,null,null,null,null,null,null,null,null,null,null,null,545,null,null,393,0.72109999999999996]
[null,null,480,"Liberal","Seward",7729,null,"USD 480 - Community-Based Preschool","Special Ed Program - Community Based Preschool",null,null,null,null,null,null,null,null,null,null,null,null,null,null,null,null,null,"N/A",null,null,"N/A","N/A"]
[null,null,480,"Liberal","Seward",7731,null,"USD 480 - Public Off Campus","Special Ed Program - Public School Administered",null,null,null,null,null,null,null,null,null,null,null,null,null,null,null,null,null,"N/A",null,null,"N/A","N/A"]
[null,null,480,"Liberal","Seward",7732,null,"Liberal Sr High","High School",null,null,null,null,null,null,null,null,null,null,null,null,null,null,null,null,null,1353,null,null,868,0.64149999999999996]
[null,null,480,"Liberal","Seward",7735,null,"USD 480 - K Time Program W/O SPED","Early Childhood Program - General",null,null,null,null,null,null,null,null,null,null,null,null,null,null,null,null,null,"N/A",null,null,"N/A","N/A"]
[null,null,480,"Liberal","Seward",7736,null,"Eisenhower Middle School","Middle School",null,null,null,null,null,null,null,null,null,null,null,null,null,null,null,null,null,559,null,null,361,0.64580000000000004]
[null,null,480,"Liberal","Seward",7737,null,"Prairie View Elementary School","Elementary",null,null,null,null,null,null,null,null,null,null,null,null,null,null,null,null,null,401,null,null,300,0.74809999999999999]
[null,null,480,"Liberal","Seward",7738,null,"Meadowlark Elementary School","Elementary",null,null,null,null,null,null,null,null,null,null,null,null,null,null,null,null,null,379,null,null,332,0.876]
[null,null,480,"Liberal","Seward",7739,null,"Seymour Rogers Middle School","Middle School",null,null,null,null,null,null,null,null,null,null,null,null,null,null,null,null,null,496,null,null,376,0.7581]
[null,null,480,"Liberal","Seward",7740,null,"Bright Start Early Learning Center","Special Ed Program - Off Site Preschool",null,null,null,null,null,null,null,null,null,null,null,null,null,null,null,null,null,"N/A",null,null,"N/A","N/A"]
[null,null,481,"Rural Vista","Dickinson",7749,null,"USD 481 - Off Site Non Public Buildings","Special Ed Program - Off Site Community Based",null,null,null,null,null,null,null,null,null,null,null,null,null,null,null,null,null,"N/A",null,null,"N/A","N/A"]
[null,null,481,"Rural Vista","Dickinson",7750,null,"Hope Elem","Elementary",null,null,null,null,null,null,null,null,null,null,null,null,null,null,null,null,null,67,null,null,27,0.40300000000000002]
[null,null,481,"Rural Vista","Dickinson",7751,null,"USD 481 - Home","Special Ed Program - Home",null,null,null,null,null,null,null,null,null,null,null,null,null,null,null,null,null,"N/A",null,null,"N/A","N/A"]
[null,null,481,"Rural Vista","Dickinson",7752,null,"Hope High","High School",null,null,null,null,null,null,null,null,null,null,null,null,null,null,null,null,null,25,null,null,8,0.32]
[null,null,481,"Rural Vista","Dickinson",7753,null,"USD 481 - K Time Program W/O SPED","Early Childhood Program - General",null,null,null,null,null,null,null,null,null,null,null,null,null,null,null,null,null,"N/A",null,null,"N/A","N/A"]
[null,null,481,"Rural Vista","Morris",7758,null,"White City Elem","Elementary",null,null,null,null,null,null,null,null,null,null,null,null,null,null,null,null,null,122,null,null,54,0.44259999999999999]
[null,null,481,"Rural Vista","Morris",7760,null,"White City High","High School",null,null,null,null,null,null,null,null,null,null,null,null,null,null,null,null,null,47,null,null,19,0.40429999999999999]
[null,null,482,"Dighton","Lane",7772,null,"Dighton Dist Lane Co","Central Office",null,null,null,null,null,null,null,null,null,null,null,null,null,null,null,null,null,"N/A",null,null,"N/A","N/A"]
[268,"$B$4",229,"Blue Valley","Johnson",7773,{"$f":"IFERROR(IF(OR(AND(Application!$A$9=\"Yes\",IFERROR(MATCH(C2382,Application!$K$11:$K$297,0)>0,\"\")),AND(Application!$A$9=\"No\",C2382=Application!$A$13)),F2382,\"\"),\"\")","v":""},"Prairie Star Elementary","Elementary",null,null,null,null,null,null,null,null,null,null,null,null,null,null,null,null,null,386,null,null,24,6.2199999999999998E-2]
[269,"$B$4",229,"Blue Valley","Johnson",7774,{"$f":"IFERROR(IF(OR(AND(Application!$A$9=\"Yes\",IFERROR(MATCH(C2383,Application!$K$11:$K$297,0)>0,\"\")),AND(Application!$A$9=\"No\",C2383=Application!$A$13)),F2383,\"\"),\"\")","v":""},"Blue Valley Northwest High","High School",null,null,null,null,null,null,null,null,null,null,null,null,null,null,null,null,null,1493,null,null,129,8.6400000000000005E-2]
[270,"$B$4",229,"Blue Valley","Johnson",7775,{"$f":"IFERROR(IF(OR(AND(Application!$A$9=\"Yes\",IFERROR(MATCH(C2384,Application!$K$11:$K$297,0)>0,\"\")),AND(Application!$A$9=\"No\",C2384=Application!$A$13)),F2384,\"\"),\"\")","v":""},"Heartland Elementary","Elementary",null,null,null,null,null,null,null,null,null,null,null,null,null,null,null,null,null,360,null,null,40,0.1111]
[271,"$B$4",229,"Blue Valley","Johnson",7776,{"$f":"IFERROR(IF(OR(AND(Application!$A$9=\"Yes\",IFERROR(MATCH(C2385,Application!$K$11:$K$297,0)>0,\"\")),AND(Application!$A$9=\"No\",C2385=Application!$A$13)),F2385,\"\"),\"\")","v":""},"Prairie Star Middle","Middle School",null,null,null,null,null,null,null,null,null,null,null,null,null,null,null,null,null,443,null,null,25,5.6399999999999999E-2]
[272,"$B$4",229,"Blue Valley","Johnson",7777,{"$f":"IFERROR(IF(OR(AND(Application!$A$9=\"Yes\",IFERROR(MATCH(C2386,Application!$K$11:$K$297,0)>0,\"\")),AND(Application!$A$9=\"No\",C2386=Application!$A$13)),F2386,\"\"),\"\")","v":""},"Blue Valley West High","High School",null,null,null,null,null,null,null,null,null,null,null,null,null,null,null,null,null,1592,null,null,117,7.3499999999999996E-2]
[null,null,482,"Dighton","Lane",7778,null,"Dighton Elem","Elementary",null,null,null,null,null,null,null,null,null,null,null,null,null,null,null,null,null,148,null,null,59,0.39860000000000001]
[null,null,482,"Dighton","Ford",7779,null,"USD 482 - Off Site Non Public Buildings","Special Ed Program - Off Site Community Based",null,null,null,null,null,null,null,null,null,null,null,null,null,null,null,null,null,"N/A",null,null,"N/A","N/A"]
[null,null,482,"Dighton","Lane",7781,null,"USD 482 - Home","Special Ed Program - Home",null,null,null,null,null,null,null,null,null,null,null,null,null,null,null,null,null,"N/A",null,null,"N/A","N/A"]
[null,null,482,"Dighton","Lane",7782,null,"Dighton High","High School",null,null,null,null,null,null,null,null,null,null,null,null,null,null,null,null,null,95,null,null,34,0.3579]
[null,null,482,"Dighton","Lane",7783,null,"USD 482 - K Time Program W/O SPED","Early Childhood Program - General",null,null,null,null,null,null,null,null,null,null,null,null,null,null,null,null,null,"N/A",null,null,"N/A","N/A"]
[273,"$B$4",229,"Blue Valley","Johnson",7786,{"$f":"IFERROR(IF(OR(AND(Application!$A$9=\"Yes\",IFERROR(MATCH(C2392,Application!$K$11:$K$297,0)>0,\"\")),AND(Application!$A$9=\"No\",C2392=Application!$A$13)),F2392,\"\"),\"\")","v":""},"Blue River Elementary","Elementary",null,null,null,null,null,null,null,null,null,null,null,null,null,null,null,null,null,484,null,null,44,9.0899999999999995E-2]
[274,"$B$4",229,"Blue Valley","Johnson",7787,{"$f":"IFERROR(IF(OR(AND(Application!$A$9=\"Yes\",IFERROR(MATCH(C2393,Application!$K$11:$K$297,0)>0,\"\")),AND(Application!$A$9=\"No\",C2393=Application!$A$13)),F2393,\"\"),\"\")","v":""},"Pleasant Ridge Middle","Middle School",null,null,null,null,null,null,null,null,null,null,null,null,null,null,null,null,null,608,null,null,35,5.7599999999999998E-2]
[275,"$B$4",229,"Blue Valley","Johnson",7788,{"$f":"IFERROR(IF(OR(AND(Application!$A$9=\"Yes\",IFERROR(MATCH(C2394,Application!$K$11:$K$297,0)>0,\"\")),AND(Application!$A$9=\"No\",C2394=Application!$A$13)),F2394,\"\"),\"\")","v":""},"Sunset Ridge Elementary","Elementary",null,null,null,null,null,null,null,null,null,null,null,null,null,null,null,null,null,387,null,null,25,6.4600000000000005E-2]
[276,"$B$4",229,"Blue Valley","Johnson",7789,{"$f":"IFERROR(IF(OR(AND(Application!$A$9=\"Yes\",IFERROR(MATCH(C2395,Application!$K$11:$K$297,0)>0,\"\")),AND(Application!$A$9=\"No\",C2395=Application!$A$13)),F2395,\"\"),\"\")","v":""},"Blue Valley Academy","Special School",null,null,null,null,null,null,null,null,null,null,null,null,null,null,null,null,null,"N/A",null,null,"N/A","N/A"]
[277,"$B$4",229,"Blue Valley","Johnson",7790,{"$f":"IFERROR(IF(OR(AND(Application!$A$9=\"Yes\",IFERROR(MATCH(C2396,Application!$K$11:$K$297,0)>0,\"\")),AND(Application!$A$9=\"No\",C2396=Application!$A$13)),F2396,\"\"),\"\")","v":""},"Sunrise Point Elementary","Elementary",null,null,null,null,null,null,null,null,null,null,null,null,null,null,null,null,null,465,null,null,36,7.7399999999999997E-2]
[278,"$B$4",229,"Blue Valley","Johnson",7792,{"$f":"IFERROR(IF(OR(AND(Application!$A$9=\"Yes\",IFERROR(MATCH(C2397,Application!$K$11:$K$297,0)>0,\"\")),AND(Application!$A$9=\"No\",C2397=Application!$A$13)),F2397,\"\"),\"\")","v":""},"USD 229 - Public Off Campus","Special Ed Program - Public School Administered",null,null,null,null,null,null,null,null,null,null,null,null,null,null,null,null,null,"N/A",null,null,"N/A","N/A"]
[279,"$B$4",229,"Blue Valley","Johnson",7793,{"$f":"IFERROR(IF(OR(AND(Application!$A$9=\"Yes\",IFERROR(MATCH(C2398,Application!$K$11:$K$297,0)>0,\"\")),AND(Application!$A$9=\"No\",C2398=Application!$A$13)),F2398,\"\"),\"\")","v":""},"USD 229 - Public Off Campus","Special Ed Program - Public School Administered",null,null,null,null,null,null,null,null,null,null,null,null,null,null,null,null,null,"N/A",null,null,"N/A","N/A"]
[280,"$B$4",229,"Blue Valley","Johnson",7794,{"$f":"IFERROR(IF(OR(AND(Application!$A$9=\"Yes\",IFERROR(MATCH(C2399,Application!$K$11:$K$297,0)>0,\"\")),AND(Application!$A$9=\"No\",C2399=Application!$A$13)),F2399,\"\"),\"\")","v":""},"USD 229 - K Time Program W/O SPED","Early Childhood Program - General",null,null,null,null,null,null,null,null,null,null,null,null,null,null,null,null,null,"N/A",null,null,"N/A","N/A"]
[null,null,483,"Kismet-Plains","Seward",7797,null,"USD 483 - Off Site Non Public Buildings","Special Ed Program - Off Site Community Based",null,null,null,null,null,null,null,null,null,null,null,null,null,null,null,null,null,"N/A",null,null,"N/A","N/A"]
[null,null,483,"Kismet-Plains","Seward",7798,null,"Kismet Elem","Elementary",null,null,null,null,null,null,null,null,null,null,null,null,null,null,null,null,null,142,null,null,97,0.68310000000000004]
[null,null,483,"Kismet-Plains","Seward",7799,null,"USD 483 - Home","Special Ed Program - Home",null,null,null,null,null,null,null,null,null,null,null,null,null,null,null,null,null,"N/A",null,null,"N/A","N/A"]
[null,null,483,"Kismet-Plains","Meade",7800,null,"Plains Elem","Elementary",null,null,null,null,null,null,null,null,null,null,null,null,null,null,null,null,null,122,null,null,83,0.68030000000000002]
[null,null,483,"Kismet-Plains","Seward",7801,null,"USD 483 - K Time Program W/O SPED","Early Childhood Program - General",null,null,null,null,null,null,null,null,null,null,null,null,null,null,null,null,null,"N/A",null,null,"N/A","N/A"]
[null,null,483,"Kismet-Plains","Seward",7804,null,"Southwestern Heights Jr/Sr High","High School",null,null,null,null,null,null,null,null,null,null,null,null,null,null,null,null,null,322,null,null,186,0.5776]
[null,null,484,"Fredonia","Montgomery",7815,null,"USD 484 - Off Site Non Public Buildings","Special Ed Program - Off Site Community Based",null,null,null,null,null,null,null,null,null,null,null,null,null,null,null,null,null,"N/A",null,null,"N/A","N/A"]
[null,null,484,"Fredonia","Montgomery",7816,null,"USD 484 - Home","Special Ed Program - Home",null,null,null,null,null,null,null,null,null,null,null,null,null,null,null,null,null,"N/A",null,null,"N/A","N/A"]
[null,null,484,"Fredonia","Montgomery",7818,null,"USD 484 - Community-Based Preschool","Special Ed Program - Community Based Preschool",null,null,null,null,null,null,null,null,null,null,null,null,null,null,null,null,null,"N/A",null,null,"N/A","N/A"]
[null,null,484,"Fredonia","Montgomery",7819,null,"USD 484 - K Time Program W/O SPED","Early Childhood Program - General",null,null,null,null,null,null,null,null,null,null,null,null,null,null,null,null,null,"N/A",null,null,"N/A","N/A"]
[null,null,484,"Fredonia","Wilson",7821,null,"Fredonia Early Learning Center","Elementary",null,null,null,null,null,null,null,null,null,null,null,null,null,null,null,null,null,70,null,null,44,0.62860000000000005]
[null,null,484,"Fredonia","Wilson",7822,null,"Fredonia Virtual Academy","High School",null,null,null,null,null,null,null,null,null,null,null,null,null,null,null,null,null,1,null,null,0,0]
[null,null,484,"Fredonia","Wilson",7832,null,"Lincoln Elementary","Elementary",null,null,null,null,null,null,null,null,null,null,null,null,null,null,null,null,null,286,null,null,144,0.50349999999999995]
[null,null,484,"Fredonia","Wilson",7838,null,"Fredonia Jr./Sr. High School","High School",null,null,null,null,null,null,null,null,null,null,null,null,null,null,null,null,null,293,null,null,139,0.47439999999999999]
[null,null,487,"Herington","Dickinson",7887,null,"USD 487 - Off Site Non Public Buildings","Special Ed Program - Off Site Community Based",null,null,null,null,null,null,null,null,null,null,null,null,null,null,null,null,null,"N/A",null,null,"N/A","N/A"]
[null,null,487,"Herington","Dickinson",7888,null,"Herington Elem","Elementary",null,null,null,null,null,null,null,null,null,null,null,null,null,null,null,null,null,186,null,null,116,0.62370000000000003]
[null,null,487,"Herington","Dickinson",7889,null,"USD 487 - Public Off-Site Preschools","Special Ed Program - Off Site Preschool",null,null,null,null,null,null,null,null,null,null,null,null,null,null,null,null,null,"N/A",null,null,"N/A","N/A"]
[null,null,487,"Herington","Dickinson",7890,null,"Herington Middle Sch","Middle School",null,null,null,null,null,null,null,null,null,null,null,null,null,null,null,null,null,112,null,null,71,0.63390000000000002]
[null,null,487,"Herington","Dickinson",7891,null,"USD 487 - Home","Special Ed Program - Home",null,null,null,null,null,null,null,null,null,null,null,null,null,null,null,null,null,"N/A",null,null,"N/A","N/A"]
[null,null,487,"Herington","Dickinson",7892,null,"Herington High","High School",null,null,null,null,null,null,null,null,null,null,null,null,null,null,null,null,null,151,null,null,94,0.62250000000000005]
[null,null,487,"Herington","Dickinson",7893,null,"USD 487 - K Time Program W/O SPED","Early Childhood Program - General",null,null,null,null,null,null,null,null,null,null,null,null,null,null,null,null,null,"N/A",null,null,"N/A","N/A"]
[null,null,489,"Hays","Ellis",7934,null,"Hays Dist Ellis Co","Central Office",null,null,null,null,null,null,null,null,null,null,null,null,null,null,null,null,null,"N/A",null,null,"N/A","N/A"]
[null,null,489,"Hays","Ellis",7935,null,"USD 489 - Off Site Non Public Buildings","Special Ed Program - Off Site Community Based",null,null,null,null,null,null,null,null,null,null,null,null,null,null,null,null,null,"N/A",null,null,"N/A","N/A"]
[null,null,489,"Hays","Ellis",7936,null,"USD 489 - Public Off-Site Preschools","Special Ed Program - Off Site Preschool",null,null,null,null,null,null,null,null,null,null,null,null,null,null,null,null,null,"N/A",null,null,"N/A","N/A"]
[null,null,489,"Hays","Ellis",7937,null,"USD 489 - Home","Special Ed Program - Home",null,null,null,null,null,null,null,null,null,null,null,null,null,null,null,null,null,"N/A",null,null,"N/A","N/A"]
[null,null,489,"Hays","Ellis",7938,null,"USD 489 - Incarceration","Special Ed Program - Incarcerated",null,null,null,null,null,null,null,null,null,null,null,null,null,null,null,null,null,"N/A",null,null,"N/A","N/A"]
[null,null,489,"Hays","Ellis",7939,null,"USD 489 - Community-Based Preschool","Special Ed Program - Community Based Preschool",null,null,null,null,null,null,null,null,null,null,null,null,null,null,null,null,null,"N/A",null,null,"N/A","N/A"]
[null,null,489,"Hays","Ellis",7940,null,"Westside School","Special Ed Program - Public School Administered",null,null,null,null,null,null,null,null,null,null,null,null,null,null,null,null,null,"N/A",null,null,"N/A","N/A"]
[null,null,489,"Hays","Ellis",7943,null,"USD 489 - K Time Program W/O SPED","Early Childhood Program - General",null,null,null,null,null,null,null,null,null,null,null,null,null,null,null,null,null,"N/A",null,null,"N/A","N/A"]
[null,null,489,"Hays","Ellis",7944,null,"Camber Children's Mental Health Facility","Juvenile Detention Center",null,null,null,null,null,null,null,null,null,null,null,null,null,null,null,null,null,"N/A",null,null,"N/A","N/A"]
[null,null,489,"Hays","Ellis",7945,null,"Hays Virtual School","High School",null,null,null,null,null,null,null,null,null,null,null,null,null,null,null,null,null,154,null,null,2,1.2999999999999999E-2]
[null,null,489,"Hays","Ellis",7946,null,"Lincoln Elem","Elementary",null,null,null,null,null,null,null,null,null,null,null,null,null,null,null,null,null,392,null,null,157,0.40050000000000002]
[null,null,489,"Hays","Ellis",7948,null,"Early Childhood Connections - Washington Site","Early Childhood Program - Other",null,null,null,null,null,null,null,null,null,null,null,null,null,null,null,null,null,"N/A",null,null,"N/A","N/A"]
[null,null,489,"Hays","Ellis",7950,null,"Woodrow Wilson Elem","Elementary",null,null,null,null,null,null,null,null,null,null,null,null,null,null,null,null,null,384,null,null,119,0.30990000000000001]
[null,null,489,"Hays","Ellis",7952,null,"Hays Middle School","Middle School",null,null,null,null,null,null,null,null,null,null,null,null,null,null,null,null,null,739,null,null,272,0.36809999999999998]
[null,null,489,"Hays","Ellis",7954,null,"Hays High","High School",null,null,null,null,null,null,null,null,null,null,null,null,null,null,null,null,null,960,null,null,294,0.30630000000000002]
[null,null,489,"Hays","Ellis",7956,null,"Kathryn O'Loughlin McCarthy Elem","Elementary",null,null,null,null,null,null,null,null,null,null,null,null,null,null,null,null,null,384,null,null,123,0.32029999999999997]
[null,null,489,"Hays","Ellis",7959,null,"Roosevelt Elem","Elementary",null,null,null,null,null,null,null,null,null,null,null,null,null,null,null,null,null,385,null,null,121,0.31430000000000002]
[null,null,490,"El Dorado","Butler",7986,null,"El Dorado Dist Butler Co","Central Office",null,null,null,null,null,null,null,null,null,null,null,null,null,null,null,null,null,"N/A",null,null,"N/A","N/A"]
[null,null,490,"El Dorado","Butler",7987,null,"USD 490 - Off Site Non Public Buildings","Special Ed Program - Off Site Community Based",null,null,null,null,null,null,null,null,null,null,null,null,null,null,null,null,null,"N/A",null,null,"N/A","N/A"]
[null,null,490,"El Dorado","Butler",7990,null,"Grandview Elem","Elementary",null,null,null,null,null,null,null,null,null,null,null,null,null,null,null,null,null,262,null,null,99,0.37790000000000001]
[null,null,490,"El Dorado","Butler",7991,null,"USD 490 - Public Off-Site Preschools","Special Ed Program - Off Site Preschool",null,null,null,null,null,null,null,null,null,null,null,null,null,null,null,null,null,"N/A",null,null,"N/A","N/A"]
[null,null,490,"El Dorado","Butler",7993,null,"USD 490 - Home","Special Ed Program - Home",null,null,null,null,null,null,null,null,null,null,null,null,null,null,null,null,null,"N/A",null,null,"N/A","N/A"]
[null,null,490,"El Dorado","Butler",7999,null,"USD 490 - Community-Based Preschool","Special Ed Program - Community Based Preschool",null,null,null,null,null,null,null,null,null,null,null,null,null,null,null,null,null,"N/A",null,null,"N/A","N/A"]
[null,null,490,"El Dorado","Butler",8000,null,"El Dorado Middle","Middle School",null,null,null,null,null,null,null,null,null,null,null,null,null,null,null,null,null,439,null,null,228,0.51939999999999997]
[null,null,490,"El Dorado","Butler",8002,null,"El Dorado High","High School",null,null,null,null,null,null,null,null,null,null,null,null,null,null,null,null,null,494,null,null,223,0.45140000000000002]
[null,null,490,"El Dorado","Butler",8003,null,"USD 490 - K Time Program W/O SPED","Early Childhood Program - General",null,null,null,null,null,null,null,null,null,null,null,null,null,null,null,null,null,"N/A",null,null,"N/A","N/A"]
[null,null,490,"El Dorado","Butler",8009,null,"Skelly Elementary School","Elementary",null,null,null,null,null,null,null,null,null,null,null,null,null,null,null,null,null,245,null,null,174,0.71020000000000005]
[null,null,490,"El Dorado","Butler",8011,null,"Blackmore Elementary","Elementary",null,null,null,null,null,null,null,null,null,null,null,null,null,null,null,null,null,344,null,null,254,0.73839999999999995]
[null,null,490,"El Dorado","Butler",8012,null,"Rocket Online School KS (ROCS","Other",null,null,null,null,null,null,null,null,null,null,null,null,null,null,null,null,null,268,null,null,44,0.16420000000000001]
[null,null,491,"Eudora","Douglas",8022,null,"Eudora Elementary School","Elementary",null,null,null,null,null,null,null,null,null,null,null,null,null,null,null,null,null,713,null,null,227,0.31840000000000002]
[null,null,491,"Eudora","Douglas",8023,null,"Eudora High  School","High School",null,null,null,null,null,null,null,null,null,null,null,null,null,null,null,null,null,542,null,null,130,0.2399]
[null,null,491,"Eudora","Douglas",8026,null,"Holy Family Bldg SFS","Kitchen Unit",null,null,null,null,null,null,null,null,null,null,null,null,null,null,null,null,null,"N/A",null,null,"N/A","N/A"]
[null,null,491,"Eudora","Douglas",8027,null,"USD 491 - Off Site Non Public Buildings","Special Ed Program - Off Site Community Based",null,null,null,null,null,null,null,null,null,null,null,null,null,null,null,null,null,"N/A",null,null,"N/A","N/A"]
[null,null,491,"Eudora","Douglas",8029,null,"Eudora Middle School","Middle School",null,null,null,null,null,null,null,null,null,null,null,null,null,null,null,null,null,401,null,null,98,0.24440000000000001]
[null,null,491,"Eudora","Douglas",8030,null,"USD 491 - Home","Special Ed Program - Home",null,null,null,null,null,null,null,null,null,null,null,null,null,null,null,null,null,"N/A",null,null,"N/A","N/A"]
[null,null,491,"Eudora","Douglas",8031,null,"USD 491 - K Time Program W/O SPED","Early Childhood Program - General",null,null,null,null,null,null,null,null,null,null,null,null,null,null,null,null,null,"N/A",null,null,"N/A","N/A"]
[null,null,491,"Eudora","Douglas",8032,null,"Eudora West Resource Center","Special Ed Program - Off Site Preschool",null,null,null,null,null,null,null,null,null,null,null,null,null,null,null,null,null,"N/A",null,null,"N/A","N/A"]
[null,null,491,"Eudora","Douglas",8033,null,"Eudora Schools Virtual Learning","High School",null,null,null,null,null,null,null,null,null,null,null,null,null,null,null,null,null,22,null,null,8,0.36359999999999998]
[null,null,492,"Flinthills","Butler",8037,null,"USD 492 - Off Site Non Public Buildings","Special Ed Program - Off Site Community Based",null,null,null,null,null,null,null,null,null,null,null,null,null,null,null,null,null,"N/A",null,null,"N/A","N/A"]
[null,null,492,"Flinthills","Butler",8038,null,"Flinthills Primary School","Elementary",null,null,null,null,null,null,null,null,null,null,null,null,null,null,null,null,null,56,null,null,18,0.32140000000000002]
[null,null,492,"Flinthills","Butler",8040,null,"USD 492 - Public Off-Site Preschools","Special Ed Program - Off Site Preschool",null,null,null,null,null,null,null,null,null,null,null,null,null,null,null,null,null,"N/A",null,null,"N/A","N/A"]
[null,null,492,"Flinthills","Butler",8041,null,"USD 492 - Home","Special Ed Program - Home",null,null,null,null,null,null,null,null,null,null,null,null,null,null,null,null,null,"N/A",null,null,"N/A","N/A"]
[null,null,492,"Flinthills","Butler",8044,null,"USD 492 - Community-Based Preschool","Special Ed Program - Community Based Preschool",null,null,null,null,null,null,null,null,null,null,null,null,null,null,null,null,null,"N/A",null,null,"N/A","N/A"]
[null,null,492,"Flinthills","Butler",8046,null,"Flinthills Intermediate School","Elementary",null,null,null,null,null,null,null,null,null,null,null,null,null,null,null,null,null,59,null,null,30,0.50849999999999995]
[null,null,492,"Flinthills","Butler",8047,null,"USD 492 - K Time Program W/O SPED","Early Childhood Program - General",null,null,null,null,null,null,null,null,null,null,null,null,null,null,null,null,null,"N/A",null,null,"N/A","N/A"]
[null,null,492,"Flinthills","Butler",8050,null,"Flinthills Middle School","Middle School",null,null,null,null,null,null,null,null,null,null,null,null,null,null,null,null,null,64,null,null,33,0.51559999999999995]
[null,null,492,"Flinthills","Butler",8051,null,"Flinthills High School","High School",null,null,null,null,null,null,null,null,null,null,null,null,null,null,null,null,null,102,null,null,46,0.45100000000000001]
[null,null,493,"Columbus","Cherokee",8059,null,"USD 493 - Off Site Non Public Buildings","Special Ed Program - Off Site Community Based",null,null,null,null,null,null,null,null,null,null,null,null,null,null,null,null,null,"N/A",null,null,"N/A","N/A"]
[null,null,493,"Columbus","Cherokee",8060,null,"USD 493 - Home","Special Ed Program - Home",null,null,null,null,null,null,null,null,null,null,null,null,null,null,null,null,null,"N/A",null,null,"N/A","N/A"]
[null,null,493,"Columbus","Cherokee",8062,null,"USD 493 - K Time Program W/O SPED","Early Childhood Program - General",null,null,null,null,null,null,null,null,null,null,null,null,null,null,null,null,null,"N/A",null,null,"N/A","N/A"]
[null,null,493,"Columbus","Cherokee",8063,null,"RISE Center","Special Ed Program - Public School Administered",null,null,null,null,null,null,null,null,null,null,null,null,null,null,null,null,null,"N/A",null,null,"N/A","N/A"]
[null,null,493,"Columbus","Cherokee",8064,null,"Highland Elem","Elementary",null,null,null,null,null,null,null,null,null,null,null,null,null,null,null,null,null,130,null,null,68,0.52310000000000001]
[null,null,493,"Columbus","Cherokee",8065,null,"USD 493 - Community Based Preschool","Special Ed Program - Off Site Community Based",null,null,null,null,null,null,null,null,null,null,null,null,null,null,null,null,null,"N/A",null,null,"N/A","N/A"]
[null,null,493,"Columbus","Cherokee",8066,null,"Park Elem","Elementary",null,null,null,null,null,null,null,null,null,null,null,null,null,null,null,null,null,193,null,null,113,0.58550000000000002]
[null,null,493,"Columbus","Cherokee",8068,null,"Central Elem","Elementary",null,null,null,null,null,null,null,null,null,null,null,null,null,null,null,null,null,188,null,null,98,0.52129999999999999]
[null,null,493,"Columbus","Cherokee",8070,null,"Columbus Junior High and High School","High School",null,null,null,null,null,null,null,null,null,null,null,null,null,null,null,null,null,423,null,null,183,0.43259999999999998]
[null,null,494,"Syracuse","Hamilton",8107,null,"USD 494 - Off Site Non Public Buildings","Special Ed Program - Off Site Community Based",null,null,null,null,null,null,null,null,null,null,null,null,null,null,null,null,null,"N/A",null,null,"N/A","N/A"]
[null,null,494,"Syracuse","Hamilton",8109,null,"USD 494 - Home","Special Ed Program - Home",null,null,null,null,null,null,null,null,null,null,null,null,null,null,null,null,null,"N/A",null,null,"N/A","N/A"]
[null,null,494,"Syracuse","Hamilton",8110,null,"Syracuse Elem","Elementary",null,null,null,null,null,null,null,null,null,null,null,null,null,null,null,null,null,316,null,null,199,0.62970000000000004]
[null,null,494,"Syracuse","Hamilton",8113,null,"USD 494 - Community-Based Preschool","Special Ed Program - Community Based Preschool",null,null,null,null,null,null,null,null,null,null,null,null,null,null,null,null,null,"N/A",null,null,"N/A","N/A"]
[null,null,494,"Syracuse","Hamilton",8114,null,"Syracuse High","High School",null,null,null,null,null,null,null,null,null,null,null,null,null,null,null,null,null,233,null,null,118,0.50639999999999996]
[null,null,494,"Syracuse","Hamilton",8116,null,"USD 494 - K Time Program W/O SPED","Early Childhood Program - General",null,null,null,null,null,null,null,null,null,null,null,null,null,null,null,null,null,"N/A",null,null,"N/A","N/A"]
[null,null,495,"Ft Larned","Pawnee",8125,null,"USD 495 - Off Site Non Public Buildings","Special Ed Program - Off Site Community Based",null,null,null,null,null,null,null,null,null,null,null,null,null,null,null,null,null,"N/A",null,null,"N/A","N/A"]
[null,null,495,"Ft Larned","Pawnee",8126,null,"USD 495 - Home","Special Ed Program - Home",null,null,null,null,null,null,null,null,null,null,null,null,null,null,null,null,null,"N/A",null,null,"N/A","N/A"]
[null,null,495,"Ft Larned","Pawnee",8127,null,"USD 495 - Community-Based Preschool","Special Ed Program - Community Based Preschool",null,null,null,null,null,null,null,null,null,null,null,null,null,null,null,null,null,"N/A",null,null,"N/A","N/A"]
[null,null,495,"Ft Larned","Pawnee",8129,null,"USD 495 - Public Off Campus","Special Ed Program - Public School Administered",null,null,null,null,null,null,null,null,null,null,null,null,null,null,null,null,null,"N/A",null,null,"N/A","N/A"]
[null,null,495,"Ft Larned","Pawnee",8131,null,"USD 495 - K Time Program W/O SPED","Early Childhood Program - General",null,null,null,null,null,null,null,null,null,null,null,null,null,null,null,null,null,"N/A",null,null,"N/A","N/A"]
[null,null,495,"Ft Larned","Pawnee",8133,null,"Fort Larned Elementary School","Elementary",null,null,null,null,null,null,null,null,null,null,null,null,null,null,null,null,null,421,null,null,232,0.55110000000000003]
[null,null,495,"Ft Larned","Pawnee",8140,null,"Larned Middle School","Middle School",null,null,null,null,null,null,null,null,null,null,null,null,null,null,null,null,null,198,null,null,90,0.45450000000000002]
[null,null,495,"Ft Larned","Pawnee",8142,null,"Larned Sr High","High School",null,null,null,null,null,null,null,null,null,null,null,null,null,null,null,null,null,235,null,null,93,0.3957]
[null,null,496,"Pawnee Heights","Pawnee",8163,null,"USD 496 - Off Site Non Public Buildings","Special Ed Program - Off Site Community Based",null,null,null,null,null,null,null,null,null,null,null,null,null,null,null,null,null,"N/A",null,null,"N/A","N/A"]
[null,null,496,"Pawnee Heights","Pawnee",8164,null,"USD 496 - Home","Special Ed Program - Home",null,null,null,null,null,null,null,null,null,null,null,null,null,null,null,null,null,"N/A",null,null,"N/A","N/A"]
[null,null,496,"Pawnee Heights","Pawnee",8165,null,"USD 496 - K Time Program W/O SPED","Early Childhood Program - General",null,null,null,null,null,null,null,null,null,null,null,null,null,null,null,null,null,"N/A",null,null,"N/A","N/A"]
[null,null,496,"Pawnee Heights","Pawnee",8167,null,"Pawnee Heights","High School",null,null,null,null,null,null,null,null,null,null,null,null,null,null,null,null,null,140,null,null,55,0.39290000000000003]
[null,null,496,"Pawnee Heights","Pawnee",8171,null,"Pawnee Heights Primary School","Elementary",null,null,null,null,null,null,null,null,null,null,null,null,null,null,null,null,null,9,null,null,5,0.55559999999999998]
[null,null,497,"Lawrence","Douglas",8184,null,"Lawrence Dist Douglas Co","Central Office",null,null,null,null,null,null,null,null,null,null,null,null,null,null,null,null,null,"N/A",null,null,"N/A","N/A"]
[null,null,497,"Lawrence","Douglas",8185,null,"Lawrence Virtual School","Elementary",null,null,null,null,null,null,null,null,null,null,null,null,null,null,null,null,null,792,null,null,5,6.3E-3]
[null,null,497,"Lawrence","Douglas",8189,null,"Sunflower Elementary","Elementary",null,null,null,null,null,null,null,null,null,null,null,null,null,null,null,null,null,468,null,null,181,0.38679999999999998]
[null,null,497,"Lawrence","Douglas",8190,null,"Prairie Park Elem","Elementary",null,null,null,null,null,null,null,null,null,null,null,null,null,null,null,null,null,376,null,null,176,0.46810000000000002]
[null,null,497,"Lawrence","Douglas",8191,null,"Broken Arrow Elem","Elementary",null,null,null,null,null,null,null,null,null,null,null,null,null,null,null,null,null,266,null,null,110,0.41349999999999998]
[null,null,497,"Lawrence","Douglas",8193,null,"USD 497 - Off Site Non Public Buildings","Special Ed Program - Off Site Community Based",null,null,null,null,null,null,null,null,null,null,null,null,null,null,null,null,null,"N/A",null,null,"N/A","N/A"]
[null,null,497,"Lawrence","Douglas",8194,null,"Cordley Elem","Elementary",null,null,null,null,null,null,null,null,null,null,null,null,null,null,null,null,null,275,null,null,116,0.42180000000000001]
[null,null,497,"Lawrence","Douglas",8195,null,"Deerfield Elem","Elementary",null,null,null,null,null,null,null,null,null,null,null,null,null,null,null,null,null,457,null,null,101,0.221]
[null,null,497,"Lawrence","Douglas",8197,null,"USD 497 - Off Site Non Public Buildings","Special Ed Program - Off Site Community Based",null,null,null,null,null,null,null,null,null,null,null,null,null,null,null,null,null,"N/A",null,null,"N/A","N/A"]
[null,null,497,"Lawrence","Douglas",8198,null,"Hillcrest Elem","Elementary",null,null,null,null,null,null,null,null,null,null,null,null,null,null,null,null,null,346,null,null,173,0.5]
[null,null,497,"Lawrence","Douglas",8199,null,"USD 497 - Hospital","Special Ed Program - Hospital",null,null,null,null,null,null,null,null,null,null,null,null,null,null,null,null,null,"N/A",null,null,"N/A","N/A"]
[null,null,497,"Lawrence","Douglas",8201,null,"USD 497 - Home","Special Ed Program - Home",null,null,null,null,null,null,null,null,null,null,null,null,null,null,null,null,null,"N/A",null,null,"N/A","N/A"]
[null,null,497,"Lawrence","Douglas",8202,null,"Quail Run Elementary","Elementary",null,null,null,null,null,null,null,null,null,null,null,null,null,null,null,null,null,393,null,null,89,0.22650000000000001]
[null,null,497,"Lawrence","Douglas",8203,null,"USD 497 - Community-Based Preschool","Special Ed Program - Community Based Preschool",null,null,null,null,null,null,null,null,null,null,null,null,null,null,null,null,null,"N/A",null,null,"N/A","N/A"]
[null,null,497,"Lawrence","Douglas",8204,null,"New York Elem","Elementary",null,null,null,null,null,null,null,null,null,null,null,null,null,null,null,null,null,355,null,null,188,0.52959999999999996]
[null,null,497,"Lawrence","Douglas",8205,null,"USD 497 - Public Off Campus","Special Ed Program - Public School Administered",null,null,null,null,null,null,null,null,null,null,null,null,null,null,null,null,null,"N/A",null,null,"N/A","N/A"]
[null,null,497,"Lawrence","Douglas",8206,null,"Pinckney Elem","Elementary",null,null,null,null,null,null,null,null,null,null,null,null,null,null,null,null,null,212,null,null,115,0.54249999999999998]
[null,null,497,"Lawrence","Douglas",8207,null,"USD 497 - Public Off Campus","Special Ed Program - Public School Administered",null,null,null,null,null,null,null,null,null,null,null,null,null,null,null,null,null,"N/A",null,null,"N/A","N/A"]
[null,null,497,"Lawrence","Douglas",8208,null,"Schwegler Elem","Elementary",null,null,null,null,null,null,null,null,null,null,null,null,null,null,null,null,null,314,null,null,150,0.47770000000000001]
[null,null,497,"Lawrence","Douglas",8209,null,"USD 497 - K Time Program W/O SPED","Early Childhood Program - General",null,null,null,null,null,null,null,null,null,null,null,null,null,null,null,null,null,"N/A",null,null,"N/A","N/A"]
[null,null,497,"Lawrence","Douglas",8210,null,"Sunset Hill Elem","Elementary",null,null,null,null,null,null,null,null,null,null,null,null,null,null,null,null,null,378,null,null,137,0.3624]
[null,null,497,"Lawrence","Douglas",8212,null,"Woodlawn Elem","Elementary",null,null,null,null,null,null,null,null,null,null,null,null,null,null,null,null,null,211,null,null,87,0.4123]
[null,null,497,"Lawrence","Douglas",8213,null,"Langston Hughes Elem","Elementary",null,null,null,null,null,null,null,null,null,null,null,null,null,null,null,null,null,476,null,null,54,0.1134]
[null,null,497,"Lawrence","Douglas",8214,null,"Lawrence Liberty Memorial Central Mid School","Middle School",null,null,null,null,null,null,null,null,null,null,null,null,null,null,null,null,null,422,null,null,239,0.56640000000000001]
[null,null,497,"Lawrence","Douglas",8215,null,"Billy Mills Middle School","Middle School",null,null,null,null,null,null,null,null,null,null,null,null,null,null,null,null,null,518,null,null,253,0.4884]
[null,null,497,"Lawrence","Douglas",8216,null,"Lawrence West Middle School","Middle School",null,null,null,null,null,null,null,null,null,null,null,null,null,null,null,null,null,610,null,null,208,0.34100000000000003]
[null,null,497,"Lawrence","Douglas",8217,null,"Lawrence Southwest Middle School","Middle School",null,null,null,null,null,null,null,null,null,null,null,null,null,null,null,null,null,641,null,null,130,0.20280000000000001]
[null,null,497,"Lawrence","Douglas",8218,null,"Lawrence High","High School",null,null,null,null,null,null,null,null,null,null,null,null,null,null,null,null,null,1590,null,null,621,0.3906]
[null,null,497,"Lawrence","Douglas",8223,null,"Project Search","Special Ed Program - Off Site Community Based",null,null,null,null,null,null,null,null,null,null,null,null,null,null,null,null,null,"N/A",null,null,"N/A","N/A"]
[null,null,497,"Lawrence","Douglas",8224,null,"Lawrence Free State High","High School",null,null,null,null,null,null,null,null,null,null,null,null,null,null,null,null,null,1795,null,null,439,0.24460000000000001]
[null,null,497,"Lawrence","Douglas",8225,null,"Lawrence Juvenile Detention Center","Juvenile Detention Center",null,null,null,null,null,null,null,null,null,null,null,null,null,null,null,null,null,"N/A",null,null,"N/A","N/A"]
[null,null,497,"Lawrence","Douglas",8231,null,"Hilltop Child Development Center","Early Childhood Program - Other",null,null,null,null,null,null,null,null,null,null,null,null,null,null,null,null,null,"N/A",null,null,"N/A","N/A"]
[null,null,497,"Lawrence","Douglas",8235,null,"Lawrence College & Career Center","Special Ed Program - Public School Administered",null,null,null,null,null,null,null,null,null,null,null,null,null,null,null,null,null,"N/A",null,null,"N/A","N/A"]
[null,null,498,"Valley Heights","Marshall",8237,null,"USD 498 - Off Site Non Public Buildings","Special Ed Program - Off Site Community Based",null,null,null,null,null,null,null,null,null,null,null,null,null,null,null,null,null,"N/A",null,null,"N/A","N/A"]
[null,null,498,"Valley Heights","Marshall",8238,null,"Valley Heights Elem","Elementary",null,null,null,null,null,null,null,null,null,null,null,null,null,null,null,null,null,118,null,null,43,0.3644]
[null,null,498,"Valley Heights","Marshall",8239,null,"USD 498 - Public Off-Site Preschools","Special Ed Program - Off Site Preschool",null,null,null,null,null,null,null,null,null,null,null,null,null,null,null,null,null,"N/A",null,null,"N/A","N/A"]
[null,null,498,"Valley Heights","Marshall",8240,null,"USD 498 - Home","Special Ed Program - Home",null,null,null,null,null,null,null,null,null,null,null,null,null,null,null,null,null,"N/A",null,null,"N/A","N/A"]
[null,null,498,"Valley Heights","Marshall",8241,null,"USD 498 - Community-Based Preschool","Special Ed Program - Community Based Preschool",null,null,null,null,null,null,null,null,null,null,null,null,null,null,null,null,null,"N/A",null,null,"N/A","N/A"]
[null,null,498,"Valley Heights","Marshall",8242,null,"USD 498 - K Time Program W/O SPED","Early Childhood Program - General",null,null,null,null,null,null,null,null,null,null,null,null,null,null,null,null,null,"N/A",null,null,"N/A","N/A"]
[null,null,497,"Lawrence","Douglas",8243,null,"O’Connell Youth Ranch","Juvenile Detention Center",null,null,null,null,null,null,null,null,null,null,null,null,null,null,null,null,null,"N/A",null,null,"N/A","N/A"]
[null,null,497,"Lawrence","Douglas",8244,null,"Shelter, Inc.","Juvenile Detention Center",null,null,null,null,null,null,null,null,null,null,null,null,null,null,null,null,null,"N/A",null,null,"N/A","N/A"]
[null,null,497,"Lawrence","Shawnee",8245,null,"The Villages, Inc.","Juvenile Detention Center",null,null,null,null,null,null,null,null,null,null,null,null,null,null,null,null,null,"N/A",null,null,"N/A","N/A"]
[null,null,498,"Valley Heights","Marshall",8246,null,"Valley Heights Elementary - Waterville","Elementary",null,null,null,null,null,null,null,null,null,null,null,null,null,null,null,null,null,110,null,null,51,0.46360000000000001]
[null,null,497,"Lawrence","Douglas",8247,null,"The Shelter Inc. - Winter Facility","Other",null,null,null,null,null,null,null,null,null,null,null,null,null,null,null,null,null,"N/A",null,null,"N/A","N/A"]
[null,null,497,"Lawrence","Douglas",8248,null,"The Villages Inc. H. Roe Bartle Cottage","Other",null,null,null,null,null,null,null,null,null,null,null,null,null,null,null,null,null,"N/A",null,null,"N/A","N/A"]
[null,null,497,"Lawrence","Douglas",8249,null,"The Villages Inc. Raymond Cerf Cottage","Other",null,null,null,null,null,null,null,null,null,null,null,null,null,null,null,null,null,"N/A",null,null,"N/A","N/A"]
[null,null,497,"Lawrence","Douglas",8250,null,"FSSAP","Special Ed Program - Public School Administered",null,null,null,null,null,null,null,null,null,null,null,null,null,null,null,null,null,"N/A",null,null,"N/A","N/A"]
[null,null,497,"Lawrence","Douglas",8251,null,"Kennedy Early Childhood Center","Early Childhood Program - Other",null,null,null,null,null,null,null,null,null,null,null,null,null,null,null,null,null,"N/A",null,null,"N/A","N/A"]
[null,null,498,"Valley Heights","Marshall",8252,null,"Valley Heights Jr/Sr High","High School",null,null,null,null,null,null,null,null,null,null,null,null,null,null,null,null,null,180,null,null,70,0.38890000000000002]
[null,null,499,"Galena","Cherokee",8262,null,"Galena Dist Cherokee Co","Central Office",null,null,null,null,null,null,null,null,null,null,null,null,null,null,null,null,null,"N/A",null,null,"N/A","N/A"]
[null,null,499,"Galena","Cherokee",8264,null,"Liberty Elem","Elementary",null,null,null,null,null,null,null,null,null,null,null,null,null,null,null,null,null,192,null,null,112,0.58330000000000004]
[null,null,499,"Galena","Cherokee",8265,null,"USD 499 - Off Site Non Public Buildings","Special Ed Program - Off Site Community Based",null,null,null,null,null,null,null,null,null,null,null,null,null,null,null,null,null,"N/A",null,null,"N/A","N/A"]
[null,null,499,"Galena","Cherokee",8266,null,"USD 499 - Public Off-Site Preschools","Special Ed Program - Off Site Preschool",null,null,null,null,null,null,null,null,null,null,null,null,null,null,null,null,null,"N/A",null,null,"N/A","N/A"]
[null,null,499,"Galena","Cherokee",8267,null,"USD 499 - Home","Special Ed Program - Home",null,null,null,null,null,null,null,null,null,null,null,null,null,null,null,null,null,"N/A",null,null,"N/A","N/A"]
[null,null,499,"Galena","Cherokee",8268,null,"Spring Grove Primary Center","Elementary",null,null,null,null,null,null,null,null,null,null,null,null,null,null,null,null,null,202,null,null,122,0.60399999999999998]
[null,null,499,"Galena","Cherokee",8269,null,"USD 499 - K Time Program W/O SPED","Early Childhood Program - General",null,null,null,null,null,null,null,null,null,null,null,null,null,null,null,null,null,"N/A",null,null,"N/A","N/A"]
[null,null,499,"Galena","Cherokee",8270,null,"Galena Middle School","Middle School",null,null,null,null,null,null,null,null,null,null,null,null,null,null,null,null,null,164,null,null,95,0.57930000000000004]
[null,null,499,"Galena","Cherokee",8274,null,"Galena High","High School",null,null,null,null,null,null,null,null,null,null,null,null,null,null,null,null,null,251,null,null,134,0.53390000000000004]
[null,null,500,"Kansas City","Wyandotte",8276,null,"Kansas City Dist Wyandotte Co","Central Office",null,null,null,null,null,null,null,null,null,null,null,null,null,null,null,null,null,"N/A",null,null,"N/A","N/A"]
[null,null,500,"Kansas City","Wyandotte",8277,null,"USD 500 - Off Site Non Public Buildings","Special Ed Program - Off Site Community Based",null,null,null,null,null,null,null,null,null,null,null,null,null,null,null,null,null,"N/A",null,null,"N/A","N/A"]
[null,null,500,"Kansas City","Wyandotte",8279,null,"Banneker Elem","Elementary",null,null,null,null,null,null,null,null,null,null,null,null,null,null,null,null,null,256,null,null,222,0.86719999999999997]
[null,null,500,"Kansas City","Wyandotte",8281,null,"McKinley Elementary School","Elementary",null,null,null,null,null,null,null,null,null,null,null,null,null,null,null,null,null,265,null,null,219,0.82640000000000002]
[null,null,500,"Kansas City","Wyandotte",8282,null,"Silver City Elem","Elementary",null,null,null,null,null,null,null,null,null,null,null,null,null,null,null,null,null,307,null,null,253,0.82410000000000005]
[null,null,500,"Kansas City","Wyandotte",8284,null,"Chelsea Elem","Elementary",null,null,null,null,null,null,null,null,null,null,null,null,null,null,null,null,null,576,null,null,439,0.76219999999999999]
[null,null,500,"Kansas City","Wyandotte",8285,null,"Douglass Elem","Elementary",null,null,null,null,null,null,null,null,null,null,null,null,null,null,null,null,null,260,null,null,228,0.87690000000000001]
[null,null,500,"Kansas City","Wyandotte",8287,null,"Thomas A Edison Elem","Elementary",null,null,null,null,null,null,null,null,null,null,null,null,null,null,null,null,null,225,null,null,178,0.79110000000000003]
[null,null,500,"Kansas City","Wyandotte",8288,null,"Emerson Elem","Elementary",null,null,null,null,null,null,null,null,null,null,null,null,null,null,null,null,null,182,null,null,156,0.85709999999999997]
[null,null,500,"Kansas City","Wyandotte",8290,null,"John Fiske Elem","Elementary",null,null,null,null,null,null,null,null,null,null,null,null,null,null,null,null,null,1859,null,null,1046,0.56269999999999998]
[null,null,500,"Kansas City","Wyandotte",8291,null,"USD 500 - Public Off-Site Preschools","Special Ed Program - Off Site Preschool",null,null,null,null,null,null,null,null,null,null,null,null,null,null,null,null,null,"N/A",null,null,"N/A","N/A"]
[null,null,500,"Kansas City","Wyandotte",8292,null,"Grant Elem","Elementary",null,null,null,null,null,null,null,null,null,null,null,null,null,null,null,null,null,289,null,null,265,0.91700000000000004]
[null,null,500,"Kansas City","Wyandotte",8293,null,"Bertram Caruthers Elem","Elementary",null,null,null,null,null,null,null,null,null,null,null,null,null,null,null,null,null,352,null,null,306,0.86929999999999996]
[null,null,500,"Kansas City","Wyandotte",8295,null,"USD 500 - Home","Special Ed Program - Home",null,null,null,null,null,null,null,null,null,null,null,null,null,null,null,null,null,"N/A",null,null,"N/A","N/A"]
[null,null,500,"Kansas City","Wyandotte",8298,null,"Mark Twain Elem","Elementary",null,null,null,null,null,null,null,null,null,null,null,null,null,null,null,null,null,217,null,null,172,0.79259999999999997]
[null,null,500,"Kansas City","Wyandotte",8301,null,"USD 500 - Community-Based Preschool","Special Ed Program - Community Based Preschool",null,null,null,null,null,null,null,null,null,null,null,null,null,null,null,null,null,"N/A",null,null,"N/A","N/A"]
[null,null,500,"Kansas City","Wyandotte",8303,null,"Noble Prentis Elem","Elementary",null,null,null,null,null,null,null,null,null,null,null,null,null,null,null,null,null,216,null,null,174,0.80559999999999998]
[null,null,500,"Kansas City","Wyandotte",8304,null,"USD 500 - Public Off Campus","Special Ed Program - Public School Administered",null,null,null,null,null,null,null,null,null,null,null,null,null,null,null,null,null,"N/A",null,null,"N/A","N/A"]
[null,null,500,"Kansas City","Wyandotte",8305,null,"Quindaro Elem","Elementary",null,null,null,null,null,null,null,null,null,null,null,null,null,null,null,null,null,319,null,null,279,0.87460000000000004]
[null,null,500,"Kansas City","Wyandotte",8308,null,"Frank Rushton Elem","Elementary",null,null,null,null,null,null,null,null,null,null,null,null,null,null,null,null,null,311,null,null,221,0.71060000000000001]
[null,null,500,"Kansas City","Wyandotte",8309,null,"New Stanley Elem","Elementary",null,null,null,null,null,null,null,null,null,null,null,null,null,null,null,null,null,214,null,null,170,0.7944]
[null,null,500,"Kansas City","Wyandotte",8310,null,"USD 500 - K Time Program W/O SPED","Early Childhood Program - General",null,null,null,null,null,null,null,null,null,null,null,null,null,null,null,null,null,"N/A",null,null,"N/A","N/A"]
[null,null,500,"Kansas City","Wyandotte",8311,null,"Eugene Ware Elem","Elementary",null,null,null,null,null,null,null,null,null,null,null,null,null,null,null,null,null,246,null,null,196,0.79669999999999996]
[null,null,500,"Kansas City","Wyandotte",8313,null,"Whittier Elem","Elementary",null,null,null,null,null,null,null,null,null,null,null,null,null,null,null,null,null,480,null,null,412,0.85829999999999995]
[null,null,500,"Kansas City","Wyandotte",8315,null,"Frances Willard Elem","Elementary",null,null,null,null,null,null,null,null,null,null,null,null,null,null,null,null,null,407,null,null,322,0.79120000000000001]
[null,null,500,"Kansas City","Wyandotte",8316,null,"Central Middle","Middle School",null,null,null,null,null,null,null,null,null,null,null,null,null,null,null,null,null,695,null,null,565,0.81289999999999996]
[null,null,500,"Kansas City","Wyandotte",8317,null,"Carl B. Bruce Middle School","Middle School",null,null,null,null,null,null,null,null,null,null,null,null,null,null,null,null,null,840,null,null,675,0.80359999999999998]
[null,null,500,"Kansas City","Wyandotte",8320,null,"Argentine Middle","Middle School",null,null,null,null,null,null,null,null,null,null,null,null,null,null,null,null,null,570,null,null,439,0.7702]
[null,null,500,"Kansas City","Wyandotte",8321,null,"Rosedale Middle","Middle School",null,null,null,null,null,null,null,null,null,null,null,null,null,null,null,null,null,799,null,null,392,0.49059999999999998]
[null,null,500,"Kansas City","Wyandotte",8322,null,"Sumner Academy of Arts & Science","High School",null,null,null,null,null,null,null,null,null,null,null,null,null,null,null,null,null,1102,null,null,604,0.54810000000000003]
[null,null,500,"Kansas City","Wyandotte",8323,null,"Wyandotte High","High School",null,null,null,null,null,null,null,null,null,null,null,null,null,null,null,null,null,1832,null,null,1395,0.76149999999999995]
[null,null,500,"Kansas City","Wyandotte",8324,null,"Arrowhead Middle","Middle School",null,null,null,null,null,null,null,null,null,null,null,null,null,null,null,null,null,422,null,null,281,0.66590000000000005]
[null,null,500,"Kansas City","Wyandotte",8327,null,"J C Harmon High","High School",null,null,null,null,null,null,null,null,null,null,null,null,null,null,null,null,null,1330,null,null,944,0.70979999999999999]
[null,null,500,"Kansas City","Wyandotte",8329,null,"F L Schlagle High","High School",null,null,null,null,null,null,null,null,null,null,null,null,null,null,null,null,null,792,null,null,574,0.72470000000000001]
[null,null,500,"Kansas City","Wyandotte",8330,null,"Claude A Huyck Elem","Elementary",null,null,null,null,null,null,null,null,null,null,null,null,null,null,null,null,null,275,null,null,212,0.77090000000000003]
[null,null,500,"Kansas City","Wyandotte",8331,null,"D D Eisenhower Middle","Middle School",null,null,null,null,null,null,null,null,null,null,null,null,null,null,null,null,null,590,null,null,412,0.69830000000000003]
[null,null,500,"Kansas City","Wyandotte",8332,null,"Hazel Grove Elem","Elementary",null,null,null,null,null,null,null,null,null,null,null,null,null,null,null,null,null,551,null,null,396,0.71870000000000001]
[null,null,500,"Kansas City","Wyandotte",8333,null,"Morse Early Childhood Center","Early Childhood Program - Other",null,null,null,null,null,null,null,null,null,null,null,null,null,null,null,null,null,"N/A",null,null,"N/A","N/A"]
[null,null,500,"Kansas City","Wyandotte",8337,null,"Earl Watson Jr. Early Childhood Center","Early Childhood Program - Other",null,null,null,null,null,null,null,null,null,null,null,null,null,null,null,null,null,"N/A",null,null,"N/A","N/A"]
[null,null,500,"Kansas City","Wyandotte",8340,null,"John F Kennedy Elem","Elementary",null,null,null,null,null,null,null,null,null,null,null,null,null,null,null,null,null,401,null,null,302,0.75309999999999999]
[null,null,500,"Kansas City","Wyandotte",8342,null,"Lindbergh Elem","Elementary",null,null,null,null,null,null,null,null,null,null,null,null,null,null,null,null,null,166,null,null,144,0.86750000000000005]
[null,null,500,"Kansas City","Wyandotte",8346,null,"Stony Point South","Elementary",null,null,null,null,null,null,null,null,null,null,null,null,null,null,null,null,null,277,null,null,204,0.73650000000000004]
[null,null,500,"Kansas City","Wyandotte",8348,null,"Stony Point North","Elementary",null,null,null,null,null,null,null,null,null,null,null,null,null,null,null,null,null,307,null,null,213,0.69379999999999997]
[null,null,500,"Kansas City","Wyandotte",8350,null,"Washington High","High School",null,null,null,null,null,null,null,null,null,null,null,null,null,null,null,null,null,1115,null,null,748,0.67090000000000005]
[null,null,500,"Kansas City","Wyandotte",8351,null,"Camber Academy","Juvenile Detention Center",null,null,null,null,null,null,null,null,null,null,null,null,null,null,null,null,null,"N/A",null,null,"N/A","N/A"]
[null,null,500,"Kansas City","Wyandotte",8352,null,"Welborn Elem","Elementary",null,null,null,null,null,null,null,null,null,null,null,null,null,null,null,null,null,479,null,null,377,0.78710000000000002]
[null,null,500,"Kansas City","Wyandotte",8357,null,"Kansas City Juvenile Detention Center","Juvenile Detention Center",null,null,null,null,null,null,null,null,null,null,null,null,null,null,null,null,null,"N/A",null,null,"N/A","N/A"]
[null,null,500,"Kansas City","Wyandotte",8358,null,"M E Pearson Elem","Elementary",null,null,null,null,null,null,null,null,null,null,null,null,null,null,null,null,null,588,null,null,489,0.83160000000000001]
[null,null,500,"Kansas City","Wyandotte",8362,null,"Kansas City, Kansas Early Childhood Center","Early Childhood Program - Head Start",null,null,null,null,null,null,null,null,null,null,null,null,null,null,null,null,null,"N/A",null,null,"N/A","N/A"]
[null,null,500,"Kansas City","Wyandotte",8366,null,"Project Eagle Kans City","Early Childhood Program - Other",null,null,null,null,null,null,null,null,null,null,null,null,null,null,null,null,null,"N/A",null,null,"N/A","N/A"]
[null,null,505,"Chetopa-St. Paul","Neosho",8370,null,"St. Paul Elementary School","Elementary",null,null,null,null,null,null,null,null,null,null,null,null,null,null,null,null,null,123,null,null,45,0.3659]
[null,null,505,"Chetopa-St. Paul","Neosho",8372,null,"St. Paul High School","High School",null,null,null,null,null,null,null,null,null,null,null,null,null,null,null,null,null,69,null,null,20,0.28989999999999999]
[null,null,505,"Chetopa-St. Paul","Neosho",8373,null,"St. Paul Middle School","Middle School",null,null,null,null,null,null,null,null,null,null,null,null,null,null,null,null,null,46,null,null,15,0.3261]
[null,null,505,"Chetopa-St. Paul","Labette",8374,null,"USD 505 - Off Site Non Public Buildings","Special Ed Program - Off Site Community Based",null,null,null,null,null,null,null,null,null,null,null,null,null,null,null,null,null,"N/A",null,null,"N/A","N/A"]
[null,null,505,"Chetopa-St. Paul","Labette",8375,null,"USD 505 - Home","Special Ed Program - Home",null,null,null,null,null,null,null,null,null,null,null,null,null,null,null,null,null,"N/A",null,null,"N/A","N/A"]
[null,null,505,"Chetopa-St. Paul","Labette",8376,null,"USD 505 - K Time Program W/O SPED","Early Childhood Program - General",null,null,null,null,null,null,null,null,null,null,null,null,null,null,null,null,null,"N/A",null,null,"N/A","N/A"]
[null,null,500,"Kansas City","Wyandotte",8378,null,"Kansas City Kitchen Unit","Kitchen Unit",null,null,null,null,null,null,null,null,null,null,null,null,null,null,null,null,null,"N/A",null,null,"N/A","N/A"]
[null,null,500,"Kansas City","Wyandotte",8395,null,"North Central Office (NCO) Early Childhood","Special Ed Program - Off Site Preschool",null,null,null,null,null,null,null,null,null,null,null,null,null,null,null,null,null,"N/A",null,null,"N/A","N/A"]
[null,null,500,"Kansas City","Wyandotte",8402,null,"Alfred Fairfax Academy","High School",null,null,null,null,null,null,null,null,null,null,null,null,null,null,null,null,null,67,null,null,51,0.76119999999999999]
[null,null,500,"Kansas City","Wyandotte",8403,null,"500 Reach","High School",null,null,null,null,null,null,null,null,null,null,null,null,null,null,null,null,null,98,null,null,9,9.1800000000000007E-2]
[null,null,500,"Kansas City","Wyandotte",8406,null,"Bridges/Wyandot Academy","Special School",null,null,null,null,null,null,null,null,null,null,null,null,null,null,null,null,null,7,null,null,6,0.85709999999999997]
[null,null,500,"Kansas City","Wyandotte",8407,null,"Gloria Willis Middle School","Middle School",null,null,null,null,null,null,null,null,null,null,null,null,null,null,null,null,null,710,null,null,540,0.76060000000000005]
[null,null,500,"Kansas City","Wyandotte",8408,null,"Lowell Brune Elementary School","Elementary",null,null,null,null,null,null,null,null,null,null,null,null,null,null,null,null,null,502,null,null,322,0.64139999999999997]
[null,null,500,"Kansas City","Wyandotte",8409,null,"West Park Elementary School","Elementary",null,null,null,null,null,null,null,null,null,null,null,null,null,null,null,null,null,520,null,null,409,0.78649999999999998]
[null,null,501,"Topeka Public Schools","Shawnee",8440,null,"Topeka Dist Shawnee Co","Central Office",null,null,null,null,null,null,null,null,null,null,null,null,null,null,null,null,null,"N/A",null,null,"N/A","N/A"]
[null,null,501,"Topeka Public Schools","Shawnee",8441,null,"USD 501 - Off Site Non Public Buildings","Special Ed Program - Off Site Community Based",null,null,null,null,null,null,null,null,null,null,null,null,null,null,null,null,null,"N/A",null,null,"N/A","N/A"]
[null,null,501,"Topeka Public Schools","Shawnee",8443,null,"USD 501 - Home","Special Ed Program - Home",null,null,null,null,null,null,null,null,null,null,null,null,null,null,null,null,null,"N/A",null,null,"N/A","N/A"]
[null,null,501,"Topeka Public Schools","Shawnee",8446,null,"Avondale Academy","Elementary",null,null,null,null,null,null,null,null,null,null,null,null,null,null,null,null,null,379,null,null,270,0.71240000000000003]
[null,null,501,"Topeka Public Schools","Shawnee",8447,null,"USD 501 - Community-Based Preschool","Special Ed Program - Community Based Preschool",null,null,null,null,null,null,null,null,null,null,null,null,null,null,null,null,null,"N/A",null,null,"N/A","N/A"]
[null,null,501,"Topeka Public Schools","Shawnee",8449,null,"USD 501 - Public Off Campus","Special Ed Program - Public School Administered",null,null,null,null,null,null,null,null,null,null,null,null,null,null,null,null,null,"N/A",null,null,"N/A","N/A"]
[null,null,501,"Topeka Public Schools","Shawnee",8450,null,"USD 501 - K Time Program W/O SPED","Early Childhood Program - General",null,null,null,null,null,null,null,null,null,null,null,null,null,null,null,null,null,"N/A",null,null,"N/A","N/A"]
[null,null,501,"Topeka Public Schools","Shawnee",8451,null,"Topeka Center for Advanced Learning & Careers","Other",null,null,null,null,null,null,null,null,null,null,null,null,null,null,null,null,null,"N/A",null,null,"N/A","N/A"]
[null,null,501,"Topeka Public Schools","Shawnee",8452,null,"Chase Middle School","Middle School",null,null,null,null,null,null,null,null,null,null,null,null,null,null,null,null,null,378,null,null,328,0.86770000000000003]
[null,null,501,"Topeka Public Schools","Shawnee",8453,null,"Jardine Elementary","Elementary",null,null,null,null,null,null,null,null,null,null,null,null,null,null,null,null,null,743,null,null,491,0.66080000000000005]
[null,null,501,"Topeka Public Schools","Shawnee",8455,null,"Shaner Early Learning Academy","Early Childhood Program - Other",null,null,null,null,null,null,null,null,null,null,null,null,null,null,null,null,null,"N/A",null,null,"N/A","N/A"]
[null,null,501,"Topeka Public Schools","Shawnee",8456,null,"College Prep Academy","Middle School",null,null,null,null,null,null,null,null,null,null,null,null,null,null,null,null,null,"N/A",null,null,"N/A","N/A"]
[null,null,501,"Topeka Public Schools","Shawnee",8462,null,"Highland Park Central","Elementary",null,null,null,null,null,null,null,null,null,null,null,null,null,null,null,null,null,308,null,null,268,0.87009999999999998]
[null,null,501,"Topeka Public Schools","Shawnee",8465,null,"Ross Elementary","Elementary",null,null,null,null,null,null,null,null,null,null,null,null,null,null,null,null,null,558,null,null,464,0.83150000000000002]
[null,null,501,"Topeka Public Schools","Shawnee",8467,null,"Hope Street Charter Academy","High School",null,null,null,null,null,null,null,null,null,null,null,null,null,null,null,null,null,88,null,null,69,0.78410000000000002]
[null,null,501,"Topeka Public Schools","Shawnee",8471,null,"Avondale Student Support Center","Special School",null,null,null,null,null,null,null,null,null,null,null,null,null,null,null,null,null,"N/A",null,null,"N/A","N/A"]
[null,null,501,"Topeka Public Schools","Shawnee",8472,null,"Lowman Hill Elem","Elementary",null,null,null,null,null,null,null,null,null,null,null,null,null,null,null,null,null,308,null,null,248,0.80520000000000003]
[null,null,501,"Topeka Public Schools","Shawnee",8480,null,"McCarter Elem","Elementary",null,null,null,null,null,null,null,null,null,null,null,null,null,null,null,null,null,389,null,null,263,0.67610000000000003]
[null,null,501,"Topeka Public Schools","Shawnee",8482,null,"McClure Elem","Elementary",null,null,null,null,null,null,null,null,null,null,null,null,null,null,null,null,null,321,null,null,192,0.59809999999999997]
[null,null,501,"Topeka Public Schools","Shawnee",8484,null,"McEachron Elem","Elementary",null,null,null,null,null,null,null,null,null,null,null,null,null,null,null,null,null,418,null,null,263,0.62919999999999998]
[null,null,501,"Topeka Public Schools","Shawnee",8486,null,"Meadows Elementary","Elementary",null,null,null,null,null,null,null,null,null,null,null,null,null,null,null,null,null,417,null,null,325,0.77939999999999998]
[null,null,501,"Topeka Public Schools","Shawnee",8494,null,"Quincy Elem","Elementary",null,null,null,null,null,null,null,null,null,null,null,null,null,null,null,null,null,164,null,null,142,0.8659]
[null,null,501,"Topeka Public Schools","Shawnee",8496,null,"Quinton Heights Education Center","Special School",null,null,null,null,null,null,null,null,null,null,null,null,null,null,null,null,null,"N/A",null,null,"N/A","N/A"]
[null,null,501,"Topeka Public Schools","Shawnee",8498,null,"Randolph Elem","Elementary",null,null,null,null,null,null,null,null,null,null,null,null,null,null,null,null,null,359,null,null,244,0.67969999999999997]
[null,null,501,"Topeka Public Schools","Shawnee",8499,null,"Scott Dual Language Magnet","Elementary",null,null,null,null,null,null,null,null,null,null,null,null,null,null,null,null,null,391,null,null,297,0.75960000000000005]
[null,null,501,"Topeka Public Schools","Shawnee",8501,null,"Robinson Middle School","Middle School",null,null,null,null,null,null,null,null,null,null,null,null,null,null,null,null,null,360,null,null,281,0.78059999999999996]
[null,null,501,"Topeka Public Schools","Shawnee",8502,null,"Sheldon Child Development","Special School",null,null,null,null,null,null,null,null,null,null,null,null,null,null,null,null,null,"N/A",null,null,"N/A","N/A"]
[null,null,501,"Topeka Public Schools","Shawnee",8504,null,"State Street Elem","Elementary",null,null,null,null,null,null,null,null,null,null,null,null,null,null,null,null,null,456,null,null,362,0.79390000000000005]
[null,null,501,"Topeka Public Schools","Shawnee",8512,null,"Whitson Elem","Elementary",null,null,null,null,null,null,null,null,null,null,null,null,null,null,null,null,null,450,null,null,256,0.56889999999999996]
[null,null,501,"Topeka Public Schools","Shawnee",8513,null,"Williams Science and Fine Arts Magnet School","Elementary",null,null,null,null,null,null,null,null,null,null,null,null,null,null,null,null,null,420,null,null,363,0.86429999999999996]
[null,null,501,"Topeka Public Schools","Shawnee",8516,null,"Jaguar Academy","Special School",null,null,null,null,null,null,null,null,null,null,null,null,null,null,null,null,null,"N/A",null,null,"N/A","N/A"]
[null,null,501,"Topeka Public Schools","Shawnee",8524,null,"Eisenhower Middle School","Middle School",null,null,null,null,null,null,null,null,null,null,null,null,null,null,null,null,null,486,null,null,395,0.81279999999999997]
[null,null,501,"Topeka Public Schools","Shawnee",8530,null,"Jardine Middle School","Middle School",null,null,null,null,null,null,null,null,null,null,null,null,null,null,null,null,null,542,null,null,358,0.66049999999999998]
[null,null,501,"Topeka Public Schools","Shawnee",8532,null,"Landon Middle School","Middle School",null,null,null,null,null,null,null,null,null,null,null,null,null,null,null,null,null,457,null,null,268,0.58640000000000003]
[null,null,501,"Topeka Public Schools","Shawnee",8533,null,"Marjorie French Middle School","Middle School",null,null,null,null,null,null,null,null,null,null,null,null,null,null,null,null,null,436,null,null,263,0.60319999999999996]
[null,null,501,"Topeka Public Schools","Shawnee",8536,null,"Highland Park High","High School",null,null,null,null,null,null,null,null,null,null,null,null,null,null,null,null,null,857,null,null,651,0.75960000000000005]
[null,null,501,"Topeka Public Schools","Shawnee",8538,null,"Topeka High","High School",null,null,null,null,null,null,null,null,null,null,null,null,null,null,null,null,null,1514,null,null,955,0.63080000000000003]
[null,null,501,"Topeka Public Schools","Shawnee",8540,null,"Topeka West High","High School",null,null,null,null,null,null,null,null,null,null,null,null,null,null,null,null,null,1086,null,null,563,0.51839999999999997]
[null,null,501,"Topeka Public Schools","Shawnee",8541,null,"Preschool Intervention Program","Special Ed Program - Off Site Preschool",null,null,null,null,null,null,null,null,null,null,null,null,null,null,null,null,null,"N/A",null,null,"N/A","N/A"]
[null,null,501,"Topeka Public Schools","Shawnee",8542,null,"Topeka Juvenile Detention Center","Juvenile Detention Center",null,null,null,null,null,null,null,null,null,null,null,null,null,null,null,null,null,"N/A",null,null,"N/A","N/A"]
[null,null,501,"Topeka Public Schools","Shawnee",8543,null,"Florence Crittenton Services","Juvenile Detention Center",null,null,null,null,null,null,null,null,null,null,null,null,null,null,null,null,null,"N/A",null,null,"N/A","N/A"]
[null,null,501,"Topeka Public Schools","Shawnee",8552,null,"Capital City","Special School",null,null,null,null,null,null,null,null,null,null,null,null,null,null,null,null,null,67,null,null,55,0.82089999999999996]
[null,null,502,"Lewis","Edwards",8578,null,"Lewis Dist Edwards Co","Central Office",null,null,null,null,null,null,null,null,null,null,null,null,null,null,null,null,null,"N/A",null,null,"N/A","N/A"]
[null,null,502,"Lewis","Edwards",8579,null,"USD 502 - Off Site Non Public Buildings","Special Ed Program - Off Site Community Based",null,null,null,null,null,null,null,null,null,null,null,null,null,null,null,null,null,"N/A",null,null,"N/A","N/A"]
[null,null,502,"Lewis","Edwards",8580,null,"Lewis Elem","Elementary",null,null,null,null,null,null,null,null,null,null,null,null,null,null,null,null,null,74,null,null,43,0.58109999999999995]
[null,null,502,"Lewis","Edwards",8581,null,"USD 502 - Home","Special Ed Program - Home",null,null,null,null,null,null,null,null,null,null,null,null,null,null,null,null,null,"N/A",null,null,"N/A","N/A"]
[null,null,502,"Lewis","Edwards",8583,null,"USD 502 - K Time Program W/O SPED","Early Childhood Program - General",null,null,null,null,null,null,null,null,null,null,null,null,null,null,null,null,null,"N/A",null,null,"N/A","N/A"]
[null,null,503,"Parsons","Labette",8585,null,"USD 503 - Off Site Non Public Buildings","Special Ed Program - Off Site Community Based",null,null,null,null,null,null,null,null,null,null,null,null,null,null,null,null,null,"N/A",null,null,"N/A","N/A"]
[null,null,503,"Parsons","Labette",8591,null,"USD 503 - Home","Special Ed Program - Home",null,null,null,null,null,null,null,null,null,null,null,null,null,null,null,null,null,"N/A",null,null,"N/A","N/A"]
[null,null,503,"Parsons","Labette",8593,null,"USD 503 - Community-Based Preschool","Special Ed Program - Community Based Preschool",null,null,null,null,null,null,null,null,null,null,null,null,null,null,null,null,null,"N/A",null,null,"N/A","N/A"]
[null,null,503,"Parsons","Labette",8594,null,"Parsons Middle School","Middle School",null,null,null,null,null,null,null,null,null,null,null,null,null,null,null,null,null,295,null,null,214,0.72540000000000004]
[null,null,503,"Parsons","Labette",8596,null,"Parsons Sr High","High School",null,null,null,null,null,null,null,null,null,null,null,null,null,null,null,null,null,394,null,null,242,0.61419999999999997]
[null,null,503,"Parsons","Labette",8599,null,"USD 503 - K Time Program W/O SPED","Early Childhood Program - General",null,null,null,null,null,null,null,null,null,null,null,null,null,null,null,null,null,"N/A",null,null,"N/A","N/A"]
[null,null,503,"Parsons","Labette",8602,null,"Garfield School","Elementary",null,null,null,null,null,null,null,null,null,null,null,null,null,null,null,null,null,190,null,null,142,0.74739999999999995]
[null,null,503,"Parsons","Labette",8603,null,"Guthridge School","Elementary",null,null,null,null,null,null,null,null,null,null,null,null,null,null,null,null,null,186,null,null,126,0.6774]
[null,null,503,"Parsons","Labette",8604,null,"Lincoln School","Elementary",null,null,null,null,null,null,null,null,null,null,null,null,null,null,null,null,null,270,null,null,201,0.74439999999999995]
[null,null,503,"Parsons","Labette",8607,null,"Community Based Preschool Head Start","Early Childhood Program - Head Start",null,null,null,null,null,null,null,null,null,null,null,null,null,null,null,null,null,"N/A",null,null,"N/A","N/A"]
[null,null,503,"Parsons","Labette",8608,null,"QRTP - Successful Dreams","Other",null,null,null,null,null,null,null,null,null,null,null,null,null,null,null,null,null,"N/A",null,null,"N/A","N/A"]
[null,null,503,"Parsons","Labette",8609,null,"YRC2","Other",null,null,null,null,null,null,null,null,null,null,null,null,null,null,null,null,null,"N/A",null,null,"N/A","N/A"]
[null,null,504,"Oswego","Labette",8619,null,"USD 504 - Off Site Non Public Buildings","Special Ed Program - Off Site Community Based",null,null,null,null,null,null,null,null,null,null,null,null,null,null,null,null,null,"N/A",null,null,"N/A","N/A"]
[null,null,504,"Oswego","Labette",8621,null,"USD 504 - Public Off-Site Preschools","Special Ed Program - Off Site Preschool",null,null,null,null,null,null,null,null,null,null,null,null,null,null,null,null,null,"N/A",null,null,"N/A","N/A"]
[null,null,504,"Oswego","Labette",8622,null,"Oswego Neosho Hgts Elem","Elementary",null,null,null,null,null,null,null,null,null,null,null,null,null,null,null,null,null,183,null,null,85,0.46450000000000002]
[null,null,504,"Oswego","Labette",8623,null,"Service Valley Charter Academy","Elementary",null,null,null,null,null,null,null,null,null,null,null,null,null,null,null,null,null,124,null,null,60,0.4839]
[null,null,504,"Oswego","Labette",8624,null,"Oswego Junior-Senior High School","High School",null,null,null,null,null,null,null,null,null,null,null,null,null,null,null,null,null,191,null,null,94,0.49209999999999998]
[null,null,504,"Oswego","Labette",8625,null,"USD 504 - Home","Special Ed Program - Home",null,null,null,null,null,null,null,null,null,null,null,null,null,null,null,null,null,"N/A",null,null,"N/A","N/A"]
[null,null,504,"Oswego","Labette",8626,null,"USD 504 - Community-Based Preschool","Special Ed Program - Community Based Preschool",null,null,null,null,null,null,null,null,null,null,null,null,null,null,null,null,null,"N/A",null,null,"N/A","N/A"]
[null,null,504,"Oswego","Labette",8628,null,"USD 504 - K Time Program W/O SPED","Early Childhood Program - General",null,null,null,null,null,null,null,null,null,null,null,null,null,null,null,null,null,"N/A",null,null,"N/A","N/A"]
[null,null,505,"Chetopa-St. Paul","Labette",8636,null,"Chetopa Elem","Elementary",null,null,null,null,null,null,null,null,null,null,null,null,null,null,null,null,null,68,null,null,50,0.73529999999999995]
[null,null,505,"Chetopa-St. Paul","Labette",8638,null,"Chetopa High","High School",null,null,null,null,null,null,null,null,null,null,null,null,null,null,null,null,null,67,null,null,42,0.62690000000000001]
[null,null,506,"Labette County","Labette",8651,null,"USD 506 - Off Site Non Public Buildings","Special Ed Program - Off Site Community Based",null,null,null,null,null,null,null,null,null,null,null,null,null,null,null,null,null,"N/A",null,null,"N/A","N/A"]
[null,null,506,"Labette County","Labette",8652,null,"Altamont Elem","Elementary",null,null,null,null,null,null,null,null,null,null,null,null,null,null,null,null,null,214,null,null,121,0.56540000000000001]
[null,null,506,"Labette County","Labette",8653,null,"USD 506 - Home","Special Ed Program - Home",null,null,null,null,null,null,null,null,null,null,null,null,null,null,null,null,null,"N/A",null,null,"N/A","N/A"]
[null,null,506,"Labette County","Labette",8654,null,"Labette County High School","High School",null,null,null,null,null,null,null,null,null,null,null,null,null,null,null,null,null,534,null,null,230,0.43070000000000003]
[null,null,506,"Labette County","Labette",8655,null,"USD 506 - Incarceration","Special Ed Program - Incarcerated",null,null,null,null,null,null,null,null,null,null,null,null,null,null,null,null,null,"N/A",null,null,"N/A","N/A"]
[null,null,506,"Labette County","Labette",8656,null,"USD 506 - K Time Program W/O SPED","Early Childhood Program - General",null,null,null,null,null,null,null,null,null,null,null,null,null,null,null,null,null,"N/A",null,null,"N/A","N/A"]
[null,null,506,"Labette County","Labette",8657,null,"Labette County Virtual School","High School",null,null,null,null,null,null,null,null,null,null,null,null,null,null,null,null,null,11,null,null,8,0.72729999999999995]
[null,null,506,"Labette County","Labette",8658,null,"Bartlett Elem","Elementary",null,null,null,null,null,null,null,null,null,null,null,null,null,null,null,null,null,109,null,null,56,0.51380000000000003]
[null,null,506,"Labette County","Labette",8666,null,"Edna Elem","Elementary",null,null,null,null,null,null,null,null,null,null,null,null,null,null,null,null,null,172,null,null,76,0.44190000000000002]
[null,null,506,"Labette County","Labette",8680,null,"Meadowview Elem","Elementary",null,null,null,null,null,null,null,null,null,null,null,null,null,null,null,null,null,326,null,null,194,0.59509999999999996]
[null,null,506,"Labette County","Labette",8684,null,"Mound Valley Elem","Elementary",null,null,null,null,null,null,null,null,null,null,null,null,null,null,null,null,null,148,null,null,78,0.52700000000000002]
[null,null,507,"Satanta","Haskell",8693,null,"USD 507 - Off Site Non Public Buildings","Special Ed Program - Off Site Community Based",null,null,null,null,null,null,null,null,null,null,null,null,null,null,null,null,null,"N/A",null,null,"N/A","N/A"]
[null,null,507,"Satanta","Haskell",8694,null,"Satanta Elem","Elementary",null,null,null,null,null,null,null,null,null,null,null,null,null,null,null,null,null,113,null,null,65,0.57520000000000004]
[null,null,507,"Satanta","Haskell",8695,null,"USD 507 - Hospital","Special Ed Program - Hospital",null,null,null,null,null,null,null,null,null,null,null,null,null,null,null,null,null,"N/A",null,null,"N/A","N/A"]
[null,null,507,"Satanta","Haskell",8696,null,"Satanta Jr-Sr High","High School",null,null,null,null,null,null,null,null,null,null,null,null,null,null,null,null,null,123,null,null,74,0.60160000000000002]
[null,null,507,"Satanta","Haskell",8697,null,"USD 507 - Home","Special Ed Program - Home",null,null,null,null,null,null,null,null,null,null,null,null,null,null,null,null,null,"N/A",null,null,"N/A","N/A"]
[null,null,507,"Satanta","Haskell",8698,null,"USD 507 - K Time Program W/O SPED","Early Childhood Program - General",null,null,null,null,null,null,null,null,null,null,null,null,null,null,null,null,null,"N/A",null,null,"N/A","N/A"]
[null,null,508,"Baxter Springs","Cherokee",8701,null,"USD 508 - Off Site Non Public Buildings","Special Ed Program - Off Site Community Based",null,null,null,null,null,null,null,null,null,null,null,null,null,null,null,null,null,"N/A",null,null,"N/A","N/A"]
[null,null,508,"Baxter Springs","Cherokee",8702,null,"Central Elem","Elementary",null,null,null,null,null,null,null,null,null,null,null,null,null,null,null,null,null,216,null,null,125,0.57869999999999999]
[null,null,508,"Baxter Springs","Cherokee",8703,null,"USD 508 - Home","Special Ed Program - Home",null,null,null,null,null,null,null,null,null,null,null,null,null,null,null,null,null,"N/A",null,null,"N/A","N/A"]
[null,null,508,"Baxter Springs","Cherokee",8704,null,"Lincoln Elem","Elementary",null,null,null,null,null,null,null,null,null,null,null,null,null,null,null,null,null,229,null,null,139,0.60699999999999998]
[null,null,508,"Baxter Springs","Cherokee",8705,null,"USD 508 - K Time Program W/O SPED","Early Childhood Program - General",null,null,null,null,null,null,null,null,null,null,null,null,null,null,null,null,null,"N/A",null,null,"N/A","N/A"]
[null,null,508,"Baxter Springs","Cherokee",8707,null,"USD 508 eAcademy","High School",null,null,null,null,null,null,null,null,null,null,null,null,null,null,null,null,null,41,null,null,2,4.8800000000000003E-2]
[null,null,508,"Baxter Springs","Cherokee",8710,null,"Baxter Springs High","High School",null,null,null,null,null,null,null,null,null,null,null,null,null,null,null,null,null,389,null,null,204,0.52439999999999998]
[null,null,509,"South Haven","Sumner",8741,null,"USD 509 - Off Site Non Public Buildings","Special Ed Program - Off Site Community Based",null,null,null,null,null,null,null,null,null,null,null,null,null,null,null,null,null,"N/A",null,null,"N/A","N/A"]
[null,null,509,"South Haven","Sumner",8742,null,"South Haven Elem","Elementary",null,null,null,null,null,null,null,null,null,null,null,null,null,null,null,null,null,91,null,null,22,0.24179999999999999]
[null,null,509,"South Haven","Sumner",8743,null,"USD 509 - Home","Special Ed Program - Home",null,null,null,null,null,null,null,null,null,null,null,null,null,null,null,null,null,"N/A",null,null,"N/A","N/A"]
[null,null,509,"South Haven","Sumner",8744,null,"South Haven High","High School",null,null,null,null,null,null,null,null,null,null,null,null,null,null,null,null,null,116,null,null,33,0.28449999999999998]
[null,null,509,"South Haven","Sumner",8746,null,"USD 509 - K Time Program W/O SPED","Early Childhood Program - General",null,null,null,null,null,null,null,null,null,null,null,null,null,null,null,null,null,"N/A",null,null,"N/A","N/A"]
[null,null,511,"Attica","Harper",8761,null,"USD 511 - Off Site Non Public Buildings","Special Ed Program - Off Site Community Based",null,null,null,null,null,null,null,null,null,null,null,null,null,null,null,null,null,"N/A",null,null,"N/A","N/A"]
[null,null,511,"Attica","Harper",8762,null,"Puls Elem","Elementary",null,null,null,null,null,null,null,null,null,null,null,null,null,null,null,null,null,123,null,null,63,0.51219999999999999]
[null,null,511,"Attica","Harper",8763,null,"USD 511 - Home","Special Ed Program - Home",null,null,null,null,null,null,null,null,null,null,null,null,null,null,null,null,null,"N/A",null,null,"N/A","N/A"]
[null,null,511,"Attica","Harper",8764,null,"Attica High","High School",null,null,null,null,null,null,null,null,null,null,null,null,null,null,null,null,null,53,null,null,17,0.32079999999999997]
[null,null,511,"Attica","Harper",8765,null,"USD 511 - K Time Program W/O SPED","Early Childhood Program - General",null,null,null,null,null,null,null,null,null,null,null,null,null,null,null,null,null,"N/A",null,null,"N/A","N/A"]
[null,null,512,"Shawnee Mission Pub Sch","Johnson",8770,null,"Shawnee Mission Dist Johnson Co","Central Office",null,null,null,null,null,null,null,null,null,null,null,null,null,null,null,null,null,"N/A",null,null,"N/A","N/A"]
[null,null,512,"Shawnee Mission Pub Sch","Johnson",8771,null,"USD 512 - Off Site Non Public Buildings","Special Ed Program - Off Site Community Based",null,null,null,null,null,null,null,null,null,null,null,null,null,null,null,null,null,"N/A",null,null,"N/A","N/A"]
[null,null,512,"Shawnee Mission Pub Sch","Johnson",8773,null,"USD 512 - Public Off-Site Preschools","Special Ed Program - Off Site Preschool",null,null,null,null,null,null,null,null,null,null,null,null,null,null,null,null,null,"N/A",null,null,"N/A","N/A"]
[null,null,512,"Shawnee Mission Pub Sch","Johnson",8774,null,"East Antioch Elem","Elementary",null,null,null,null,null,null,null,null,null,null,null,null,null,null,null,null,null,300,null,null,117,0.39]
[null,null,512,"Shawnee Mission Pub Sch","Johnson",8776,null,"Apache Elem","Elementary",null,null,null,null,null,null,null,null,null,null,null,null,null,null,null,null,null,526,null,null,320,0.60840000000000005]
[null,null,512,"Shawnee Mission Pub Sch","Johnson",8777,null,"USD 512 - Home","Special Ed Program - Home",null,null,null,null,null,null,null,null,null,null,null,null,null,null,null,null,null,"N/A",null,null,"N/A","N/A"]
[null,null,512,"Shawnee Mission Pub Sch","Johnson",8781,null,"USD 512 - Community-Based Preschool","Special Ed Program - Community Based Preschool",null,null,null,null,null,null,null,null,null,null,null,null,null,null,null,null,null,"N/A",null,null,"N/A","N/A"]
[null,null,512,"Shawnee Mission Pub Sch","Johnson",8782,null,"Belinder Elem","Elementary",null,null,null,null,null,null,null,null,null,null,null,null,null,null,null,null,null,448,null,null,34,7.5899999999999995E-2]
[null,null,512,"Shawnee Mission Pub Sch","Johnson",8783,null,"USD 512 - Public Off Campus","Special Ed Program - Public School Administered",null,null,null,null,null,null,null,null,null,null,null,null,null,null,null,null,null,"N/A",null,null,"N/A","N/A"]
[null,null,512,"Shawnee Mission Pub Sch","Johnson",8784,null,"Bluejacket-Flint","Elementary",null,null,null,null,null,null,null,null,null,null,null,null,null,null,null,null,null,413,null,null,162,0.39229999999999998]
[null,null,512,"Shawnee Mission Pub Sch","Johnson",8786,null,"Briarwood Elem","Elementary",null,null,null,null,null,null,null,null,null,null,null,null,null,null,null,null,null,660,null,null,88,0.1333]
[null,null,512,"Shawnee Mission Pub Sch","Johnson",8787,null,"Broken Arrow Elem","Elementary",null,null,null,null,null,null,null,null,null,null,null,null,null,null,null,null,null,355,null,null,157,0.44230000000000003]
[null,null,512,"Shawnee Mission Pub Sch","Johnson",8788,null,"Brookridge Elem","Elementary",null,null,null,null,null,null,null,null,null,null,null,null,null,null,null,null,null,549,null,null,207,0.377]
[null,null,512,"Shawnee Mission Pub Sch","Johnson",8789,null,"USD 512 - K Time Program W/O SPED","Early Childhood Program - General",null,null,null,null,null,null,null,null,null,null,null,null,null,null,null,null,null,"N/A",null,null,"N/A","N/A"]
[null,null,512,"Shawnee Mission Pub Sch","Johnson",8790,null,"Brookwood Elem","Elementary",null,null,null,null,null,null,null,null,null,null,null,null,null,null,null,null,null,433,null,null,30,6.93E-2]
[null,null,512,"Shawnee Mission Pub Sch","Johnson",8791,null,"Christa McAuliffe Elem","Elementary",null,null,null,null,null,null,null,null,null,null,null,null,null,null,null,null,null,423,null,null,64,0.15129999999999999]
[null,null,512,"Shawnee Mission Pub Sch","Johnson",8793,null,"Comanche Elem","Elementary",null,null,null,null,null,null,null,null,null,null,null,null,null,null,null,null,null,372,null,null,252,0.6774]
[null,null,512,"Shawnee Mission Pub Sch","Johnson",8794,null,"Corinth Elem","Elementary",null,null,null,null,null,null,null,null,null,null,null,null,null,null,null,null,null,564,null,null,21,3.7199999999999997E-2]
[null,null,512,"Shawnee Mission Pub Sch","Johnson",8796,null,"Crestview Elem","Elementary",null,null,null,null,null,null,null,null,null,null,null,null,null,null,null,null,null,392,null,null,197,0.50260000000000005]
[null,null,512,"Shawnee Mission Pub Sch","Johnson",8797,null,"Horizons","Special Ed Program - Public School Administered",null,null,null,null,null,null,null,null,null,null,null,null,null,null,null,null,null,"N/A",null,null,"N/A","N/A"]
[null,null,512,"Shawnee Mission Pub Sch","Johnson",8801,null,"Arrowhead","Special School",null,null,null,null,null,null,null,null,null,null,null,null,null,null,null,null,null,"N/A",null,null,"N/A","N/A"]
[null,null,512,"Shawnee Mission Pub Sch","Johnson",8803,null,"Center for Academic Achievement","Special School",null,null,null,null,null,null,null,null,null,null,null,null,null,null,null,null,null,"N/A",null,null,"N/A","N/A"]
[null,null,512,"Shawnee Mission Pub Sch","Johnson",8805,null,"Lenexa Hills Elementary","Elementary",null,null,null,null,null,null,null,null,null,null,null,null,null,null,null,null,null,301,null,null,95,0.31559999999999999]
[null,null,512,"Shawnee Mission Pub Sch","Johnson",8806,null,"Highlands Elem","Elementary",null,null,null,null,null,null,null,null,null,null,null,null,null,null,null,null,null,348,null,null,36,0.10340000000000001]
[null,null,512,"Shawnee Mission Pub Sch","Johnson",8807,null,"Adolescent Center for Treatment","Special School",null,null,null,null,null,null,null,null,null,null,null,null,null,null,null,null,null,"N/A",null,null,"N/A","N/A"]
[null,null,512,"Shawnee Mission Pub Sch","Johnson",8808,null,"John Diemer Elem","Elementary",null,null,null,null,null,null,null,null,null,null,null,null,null,null,null,null,null,401,null,null,108,0.26929999999999998]
[null,null,512,"Shawnee Mission Pub Sch","Johnson",8809,null,"Project Finish","Special School",null,null,null,null,null,null,null,null,null,null,null,null,null,null,null,null,null,31,null,null,8,0.2581]
[null,null,512,"Shawnee Mission Pub Sch","Johnson",8812,null,"Shawanoe Elem","Elementary",null,null,null,null,null,null,null,null,null,null,null,null,null,null,null,null,null,476,null,null,368,0.77310000000000001]
[null,null,512,"Shawnee Mission Pub Sch","Johnson",8815,null,"Merriam Park Elementary","Elementary",null,null,null,null,null,null,null,null,null,null,null,null,null,null,null,null,null,425,null,null,200,0.47060000000000002]
[null,null,512,"Shawnee Mission Pub Sch","Johnson",8816,null,"Ray Marsh Elem","Elementary",null,null,null,null,null,null,null,null,null,null,null,null,null,null,null,null,null,473,null,null,114,0.24099999999999999]
[null,null,512,"Shawnee Mission Pub Sch","Johnson",8819,null,"Mill Creek Elem","Elementary",null,null,null,null,null,null,null,null,null,null,null,null,null,null,null,null,null,475,null,null,82,0.1726]
[null,null,512,"Shawnee Mission Pub Sch","Johnson",8822,null,"Nieman Elem","Elementary",null,null,null,null,null,null,null,null,null,null,null,null,null,null,null,null,null,448,null,null,263,0.58709999999999996]
[null,null,512,"Shawnee Mission Pub Sch","Johnson",8824,null,"Oak Park-Carpenter Elementary","Elementary",null,null,null,null,null,null,null,null,null,null,null,null,null,null,null,null,null,503,null,null,100,0.1988]
[null,null,512,"Shawnee Mission Pub Sch","Johnson",8826,null,"Overland Park Elem","Elementary",null,null,null,null,null,null,null,null,null,null,null,null,null,null,null,null,null,401,null,null,190,0.4738]
[null,null,512,"Shawnee Mission Pub Sch","Johnson",8828,null,"Pawnee Elem","Elementary",null,null,null,null,null,null,null,null,null,null,null,null,null,null,null,null,null,392,null,null,154,0.39290000000000003]
[null,null,512,"Shawnee Mission Pub Sch","Johnson",8832,null,"Prairie Elem","Elementary",null,null,null,null,null,null,null,null,null,null,null,null,null,null,null,null,null,449,null,null,26,5.79E-2]
[null,null,512,"Shawnee Mission Pub Sch","Johnson",8834,null,"Rhein Benninghoven Elem","Elementary",null,null,null,null,null,null,null,null,null,null,null,null,null,null,null,null,null,426,null,null,109,0.25590000000000002]
[null,null,512,"Shawnee Mission Pub Sch","Johnson",8836,null,"Rising Star Elem","Elementary",null,null,null,null,null,null,null,null,null,null,null,null,null,null,null,null,null,469,null,null,180,0.38379999999999997]
[null,null,512,"Shawnee Mission Pub Sch","Johnson",8838,null,"Roesland Elem","Elementary",null,null,null,null,null,null,null,null,null,null,null,null,null,null,null,null,null,354,null,null,148,0.41810000000000003]
[null,null,512,"Shawnee Mission Pub Sch","Johnson",8842,null,"Rosehill Elem","Elementary",null,null,null,null,null,null,null,null,null,null,null,null,null,null,null,null,null,484,null,null,256,0.52890000000000004]
[null,null,512,"Shawnee Mission Pub Sch","Johnson",8844,null,"Rushton Elem","Elementary",null,null,null,null,null,null,null,null,null,null,null,null,null,null,null,null,null,298,null,null,114,0.3826]
[null,null,512,"Shawnee Mission Pub Sch","Johnson",8846,null,"Santa Fe Trail Elem","Elementary",null,null,null,null,null,null,null,null,null,null,null,null,null,null,null,null,null,313,null,null,93,0.29709999999999998]
[null,null,512,"Shawnee Mission Pub Sch","Johnson",8857,null,"Sunflower Elem","Elementary",null,null,null,null,null,null,null,null,null,null,null,null,null,null,null,null,null,370,null,null,92,0.24859999999999999]
[null,null,512,"Shawnee Mission Pub Sch","Johnson",8858,null,"Tomahawk Elem","Elementary",null,null,null,null,null,null,null,null,null,null,null,null,null,null,null,null,null,290,null,null,74,0.25519999999999998]
[null,null,512,"Shawnee Mission Pub Sch","Johnson",8860,null,"Trailwood Elem","Elementary",null,null,null,null,null,null,null,null,null,null,null,null,null,null,null,null,null,415,null,null,37,8.9200000000000002E-2]
[null,null,512,"Shawnee Mission Pub Sch","Johnson",8864,null,"Westwood View Elem","Elementary",null,null,null,null,null,null,null,null,null,null,null,null,null,null,null,null,null,308,null,null,15,4.87E-2]
[null,null,512,"Shawnee Mission Pub Sch","Johnson",8866,null,"Broadmoor Multi-Use Center","Other",null,null,null,null,null,null,null,null,null,null,null,null,null,null,null,null,null,"N/A",null,null,"N/A","N/A"]
[null,null,512,"Shawnee Mission Pub Sch","Johnson",8868,null,"Westridge Middle","Middle School",null,null,null,null,null,null,null,null,null,null,null,null,null,null,null,null,null,811,null,null,385,0.47470000000000001]
[null,null,512,"Shawnee Mission Pub Sch","Johnson",8870,null,"Hocker Grove Middle","Middle School",null,null,null,null,null,null,null,null,null,null,null,null,null,null,null,null,null,747,null,null,350,0.46850000000000003]
[null,null,512,"Shawnee Mission Pub Sch","Johnson",8872,null,"Indian Creek Technology Center","Other",null,null,null,null,null,null,null,null,null,null,null,null,null,null,null,null,null,"N/A",null,null,"N/A","N/A"]
[null,null,512,"Shawnee Mission Pub Sch","Johnson",8874,null,"Indian Hills Middle","Middle School",null,null,null,null,null,null,null,null,null,null,null,null,null,null,null,null,null,850,null,null,97,0.11409999999999999]
[null,null,512,"Shawnee Mission Pub Sch","Johnson",8880,null,"Indian Woods Middle","Middle School",null,null,null,null,null,null,null,null,null,null,null,null,null,null,null,null,null,756,null,null,231,0.30559999999999998]
[null,null,512,"Shawnee Mission Pub Sch","Johnson",8883,null,"North Developmental Center","Special School",null,null,null,null,null,null,null,null,null,null,null,null,null,null,null,null,null,"N/A",null,null,"N/A","N/A"]
[null,null,512,"Shawnee Mission Pub Sch","Johnson",8884,null,"Trailridge Middle","Middle School",null,null,null,null,null,null,null,null,null,null,null,null,null,null,null,null,null,701,null,null,249,0.35520000000000002]
[null,null,512,"Shawnee Mission Pub Sch","Johnson",8886,null,"Shawnee Mission East High","High School",null,null,null,null,null,null,null,null,null,null,null,null,null,null,null,null,null,1697,null,null,175,0.1031]
[null,null,512,"Shawnee Mission Pub Sch","Johnson",8888,null,"Shawnee Mission North High","High School",null,null,null,null,null,null,null,null,null,null,null,null,null,null,null,null,null,1568,null,null,697,0.44450000000000001]
[null,null,512,"Shawnee Mission Pub Sch","Johnson",8890,null,"Shawnee Mission Northwest High","High School",null,null,null,null,null,null,null,null,null,null,null,null,null,null,null,null,null,1627,null,null,508,0.31219999999999998]
[null,null,512,"Shawnee Mission Pub Sch","Johnson",8892,null,"Shawnee Mission South High","High School",null,null,null,null,null,null,null,null,null,null,null,null,null,null,null,null,null,1586,null,null,440,0.27739999999999998]
[null,null,512,"Shawnee Mission Pub Sch","Johnson",8894,null,"Shawnee Mission West High","High School",null,null,null,null,null,null,null,null,null,null,null,null,null,null,null,null,null,1640,null,null,712,0.43409999999999999]
[391,"$B$4",233,"Olathe","Johnson",9300,{"$f":"IFERROR(IF(OR(AND(Application!$A$9=\"Yes\",IFERROR(MATCH(C2780,Application!$K$11:$K$297,0)>0,\"\")),AND(Application!$A$9=\"No\",C2780=Application!$A$13)),F2780,\"\"),\"\")","v":""},"Sunnyside Elementary School","Elementary",null,null,null,null,null,null,null,null,null,null,null,null,null,null,null,null,null,337,null,null,46,0.13650000000000001]
[392,"$B$4",233,"Olathe","Johnson",9301,{"$f":"IFERROR(IF(OR(AND(Application!$A$9=\"Yes\",IFERROR(MATCH(C2781,Application!$K$11:$K$297,0)>0,\"\")),AND(Application!$A$9=\"No\",C2781=Application!$A$13)),F2781,\"\"),\"\")","v":""},"Chisholm Trail Middle School","Middle School",null,null,null,null,null,null,null,null,null,null,null,null,null,null,null,null,null,607,null,null,68,0.112]
[393,"$B$4",233,"Olathe","Johnson",9302,{"$f":"IFERROR(IF(OR(AND(Application!$A$9=\"Yes\",IFERROR(MATCH(C2782,Application!$K$11:$K$297,0)>0,\"\")),AND(Application!$A$9=\"No\",C2782=Application!$A$13)),F2782,\"\"),\"\")","v":""},"Arbor Creek Elementary","Elementary",null,null,null,null,null,null,null,null,null,null,null,null,null,null,null,null,null,383,null,null,35,9.1399999999999995E-2]
[394,"$B$4",233,"Olathe","Johnson",9304,{"$f":"IFERROR(IF(OR(AND(Application!$A$9=\"Yes\",IFERROR(MATCH(C2783,Application!$K$11:$K$297,0)>0,\"\")),AND(Application!$A$9=\"No\",C2783=Application!$A$13)),F2783,\"\"),\"\")","v":""},"Manchester Park Elementary","Elementary",null,null,null,null,null,null,null,null,null,null,null,null,null,null,null,null,null,592,null,null,43,7.2599999999999998E-2]
[399,"$B$4",233,"Olathe","Johnson",9305,{"$f":"IFERROR(IF(OR(AND(Application!$A$9=\"Yes\",IFERROR(MATCH(C2784,Application!$K$11:$K$297,0)>0,\"\")),AND(Application!$A$9=\"No\",C2784=Application!$A$13)),F2784,\"\"),\"\")","v":""},"Clearwater Creek Elementary","Elementary",null,null,null,null,null,null,null,null,null,null,null,null,null,null,null,null,null,551,null,null,54,9.8000000000000004E-2]
[395,"$B$4",233,"Olathe","Johnson",9306,{"$f":"IFERROR(IF(OR(AND(Application!$A$9=\"Yes\",IFERROR(MATCH(C2785,Application!$K$11:$K$297,0)>0,\"\")),AND(Application!$A$9=\"No\",C2785=Application!$A$13)),F2785,\"\"),\"\")","v":""},"Prairie Trail Middle School","Middle School",null,null,null,null,null,null,null,null,null,null,null,null,null,null,null,null,null,754,null,null,50,6.6299999999999998E-2]
[396,"$B$4",233,"Olathe","Johnson",9307,{"$f":"IFERROR(IF(OR(AND(Application!$A$9=\"Yes\",IFERROR(MATCH(C2786,Application!$K$11:$K$297,0)>0,\"\")),AND(Application!$A$9=\"No\",C2786=Application!$A$13)),F2786,\"\"),\"\")","v":""},"Ravenwood Elementary","Elementary",null,null,null,null,null,null,null,null,null,null,null,null,null,null,null,null,null,432,null,null,114,0.26390000000000002]
[397,"$B$4",233,"Olathe","Johnson",9308,{"$f":"IFERROR(IF(OR(AND(Application!$A$9=\"Yes\",IFERROR(MATCH(C2787,Application!$K$11:$K$297,0)>0,\"\")),AND(Application!$A$9=\"No\",C2787=Application!$A$13)),F2787,\"\"),\"\")","v":""},"Harmony Early Childhood Center","Special School",null,null,null,null,null,null,null,null,null,null,null,null,null,null,null,null,null,"N/A",null,null,"N/A","N/A"]
[398,"$B$4",233,"Olathe","Johnson",9309,{"$f":"IFERROR(IF(OR(AND(Application!$A$9=\"Yes\",IFERROR(MATCH(C2788,Application!$K$11:$K$297,0)>0,\"\")),AND(Application!$A$9=\"No\",C2788=Application!$A$13)),F2788,\"\"),\"\")","v":""},"Olathe Juvenile Detention Center","Juvenile Detention Center",null,null,null,null,null,null,null,null,null,null,null,null,null,null,null,null,null,"N/A",null,null,"N/A","N/A"]
[400,"$B$4",233,"Olathe","Johnson",9310,{"$f":"IFERROR(IF(OR(AND(Application!$A$9=\"Yes\",IFERROR(MATCH(C2789,Application!$K$11:$K$297,0)>0,\"\")),AND(Application!$A$9=\"No\",C2789=Application!$A$13)),F2789,\"\"),\"\")","v":""},"TLC for Children and Families, Inc.","Juvenile Detention Center",null,null,null,null,null,null,null,null,null,null,null,null,null,null,null,null,null,"N/A",null,null,"N/A","N/A"]
[401,"$B$4",233,"Olathe","Johnson",9311,{"$f":"IFERROR(IF(OR(AND(Application!$A$9=\"Yes\",IFERROR(MATCH(C2790,Application!$K$11:$K$297,0)>0,\"\")),AND(Application!$A$9=\"No\",C2790=Application!$A$13)),F2790,\"\"),\"\")","v":""},"Forest View Elem","Elementary",null,null,null,null,null,null,null,null,null,null,null,null,null,null,null,null,null,444,null,null,50,0.11260000000000001]
[402,"$B$4",233,"Olathe","Johnson",9312,{"$f":"IFERROR(IF(OR(AND(Application!$A$9=\"Yes\",IFERROR(MATCH(C2791,Application!$K$11:$K$297,0)>0,\"\")),AND(Application!$A$9=\"No\",C2791=Application!$A$13)),F2791,\"\"),\"\")","v":""},"USD 233 - Off Site Non Public Buildings","Special Ed Program - Off Site Community Based",null,null,null,null,null,null,null,null,null,null,null,null,null,null,null,null,null,"N/A",null,null,"N/A","N/A"]
[403,"$B$4",233,"Olathe","Johnson",9313,{"$f":"IFERROR(IF(OR(AND(Application!$A$9=\"Yes\",IFERROR(MATCH(C2792,Application!$K$11:$K$297,0)>0,\"\")),AND(Application!$A$9=\"No\",C2792=Application!$A$13)),F2792,\"\"),\"\")","v":""},"USD 233 - Public Off Campus","Special Ed Program - Public School Administered",null,null,null,null,null,null,null,null,null,null,null,null,null,null,null,null,null,"N/A",null,null,"N/A","N/A"]
[404,"$B$4",233,"Olathe","Johnson",9315,{"$f":"IFERROR(IF(OR(AND(Application!$A$9=\"Yes\",IFERROR(MATCH(C2793,Application!$K$11:$K$297,0)>0,\"\")),AND(Application!$A$9=\"No\",C2793=Application!$A$13)),F2793,\"\"),\"\")","v":""},"USD 233 - K Time Program W/O SPED","Early Childhood Program - General",null,null,null,null,null,null,null,null,null,null,null,null,null,null,null,null,null,"N/A",null,null,"N/A","N/A"]

{"sheet":"District Data","index":10,"n_rows":288,"n_cols":9,"rows_kept":288,"cut":false,"hidden":true,"merged":[]}
["USD #","District Name","County",{"$f":"\"9/20/\"&Application!M1-2&\" Headcount\"","v":"9/20/2022 Headcount"},{"$f":"Application!$M$1-2&\"-\"&Application!$M$1-1&\" MHIT State Aid Awarded\"","v":"2022-2023 MHIT State Aid Awarded"},{"$f":"Application!$M$1-2&\"-\"&Application!$M$1-1&\" MHIT School Liaison State Aid Awarded\"","v":"2022-2023 MHIT School Liaison State Aid Awarded"},{"$f":"Application!$M$1-2&\"-\"&Application!$M$1-1&\" MHIT MHP State Aid Awarded\"","v":"2022-2023 MHIT MHP State Aid Awarded"},{"$f":"Application!M1-2&\"-\"&Application!M1-1&\" MHIT Grant Expenditures (unaudited)\"","v":"2022-2023 MHIT Grant Expenditures (unaudited)"},{"$f":"Application!M1-2&\"-\"&Application!M1-1&\" MHIT Program Grant Received\"","v":"2022-2023 MHIT Program Grant Received"}]
[999,"State","Totals",{"$f":"SUM(D3:D45)","v":97829},628624,471468,157156,0,0]
[101,"Erie-Galesburg","Neosho",416]
[102,"Cimarron-Ensign","Gray",604]
[103,"Cheylin","Cheyenne",149]
[105,"Rawlins County","Rawlins",375]
[106,"Western Plains","Ness",115]
[107,"Rock Hills","Jewell",374]
[108,"Washington Co. Schools","Washington",358]
[109,"Republic County","Republic",505]
[110,"Thunder Ridge Schools","Phillips",177]
[111,"Doniphan West Schools","Doniphan",365]
[112,"Central Plains","Ellsworth",1720]
[113,"Prairie Hills","Nemaha",1064,53339,40004,13335]
[114,"Riverside","Doniphan",643]
[115,"Nemaha Central","Nemaha",737]
[200,"Greeley County Schools","Greeley",230]
[202,"Turner-Kansas City","Wyandotte",3907]
[203,"Piper-Kansas City","Wyandotte",2692]
[204,"Bonner Springs","Wyandotte",2465,181960,136470,45490]
[205,"Bluestem","Butler",527]
[206,"Remington-Whitewater","Butler",472]
[207,"Ft Leavenworth","Leavenworth",1526]
[208,"Wakeeney","Trego",377]
[209,"Moscow Public Schools","Stevens",138]
[210,"Hugoton Public Schools","Stevens",1019]
[211,"Norton Community Schools","Norton",686]
[212,"Northern Valley","Norton",156]
[214,"Ulysses","Grant",1538]
[215,"Lakin","Kearny",622]
[216,"Deerfield","Kearny",243]
[217,"Rolla","Morton",96]
[218,"Elkhart","Morton",1663]
[219,"Minneola","Clark",252]
[220,"Ashland","Clark",191]
[223,"Barnes","Washington",481]
[224,"Clifton-Clyde","Washington",298]
[225,"Fowler","Meade",69]
[226,"Meade","Meade",364]
[227,"Hodgeman County Schools","Hodgeman",290]
[229,"Blue Valley","Johnson",22629]
[230,"Spring Hill","Johnson",5308]
[231,"Gardner Edgerton","Johnson",5858]
[232,"De Soto","Johnson",7385]
[233,"Olathe","Johnson",28745,393325,294994,98331]
[234,"Fort Scott","Bourbon",1828]
[235,"Uniontown","Bourbon",471]
[237,"Smith Center","Smith",452]
[239,"North Ottawa County","Ottawa",629,59400,44550,14850]
[240,"Twin Valley","Ottawa",605,44785,33589,11196]
[241,"Wallace County Schools","Wallace",186]
[242,"Weskan","Wallace",106]
[243,"Lebo-Waverly","Coffey",464]
[244,"Burlington","Coffey",823]
[245,"LeRoy-Gridley","Coffey",170]
[246,"Northeast","Crawford",472]
[247,"Cherokee","Crawford",457]
[248,"Girard","Crawford",1024]
[249,"Frontenac Public Schools","Crawford",912]
[250,"Pittsburg","Crawford",3364]
[251,"North Lyon County","Lyon",344]
[252,"Southern Lyon County","Lyon",524]
[253,"Emporia","Lyon",4344]
[254,"Barber County North","Barber",471]
[255,"South Barber","Barber",214,94000,70500,23500]
[256,"Marmaton Valley","Allen",272]
[257,"Iola","Allen",1160]
[258,"Humboldt","Allen",968]
[259,"Wichita","Sedgwick",46880,3209807,2160776,1049031]
[260,"Derby","Sedgwick",7275]
[261,"Haysville","Sedgwick",5777,225000,168750,56250]
[262,"Valley Center Pub Sch","Sedgwick",3194,202144,151608,50536]
[263,"Mulvane","Sedgwick",1817]
[264,"Clearwater","Sedgwick",1089]
[265,"Goddard","Sedgwick",6316]
[266,"Maize","Sedgwick",7862,260308,195231,65077]
[267,"Renwick","Sedgwick",1925]
[268,"Cheney","Sedgwick",816]
[269,"Palco","Rooks",94]
[270,"Plainville","Rooks",393,50588,37941,12647]
[271,"Stockton","Rooks",279,68351,51263,17088]
[272,"Waconda","Mitchell",328,20000,15000,5000]
[273,"Beloit","Mitchell",842]
[274,"Oakley","Logan",457]
[275,"Triplains","Logan",68]
[281,"Graham County","Graham",414]
[282,"West Elk","Elk",535,71900,53925,17975]
[283,"Elk Valley","Elk",107,63251,47438,15813]
[284,"Chase County","Chase",364]
[285,"Cedar Vale","Chautauqua",140]
[286,"Chautauqua Co Community","Chautauqua",382,57971,43478,14493]
[287,"West Franklin","Franklin",607]
[288,"Central Heights","Franklin",531]
[289,"Wellsville","Franklin",805]
[290,"Ottawa","Franklin",2309]
[291,"Grinnell Public Schools","Gove",62]
[292,"Wheatland","Gove",111]
[293,"Quinter Public Schools","Gove",312,86937,65203,21734]
[294,"Oberlin","Decatur",405]
[297,"St Francis Comm Sch","Cheyenne",305]
[298,"Lincoln","Lincoln",332]
[299,"Sylvan Grove","Lincoln",244]
[300,"Comanche County","Comanche",311]
[303,"Ness City","Ness",279]
[305,"Salina","Saline",6910,372000,279000,93000]
[306,"Southeast Of Saline","Saline",682,63584,47688,15896]
[307,"Ell-Saline","Saline",419]
[308,"Hutchinson Public Schools","Reno",4255]
[309,"Nickerson","Reno",1040,56500,42375,14125]
[310,"Fairfield","Reno",284,45980,34485,11495]
[311,"Pretty Prairie","Reno",304,56208,42156,14052]
[312,"Haven Public Schools","Reno",783]
[313,"Buhler","Reno",2459,58500,43875,14625]
[314,"Brewster","Thomas",119]
[315,"Colby Public Schools","Thomas",964]
[316,"Golden Plains","Thomas",156]
[320,"Wamego","Pottawatomie",1615,59935,44951,14984]
[321,"Kaw Valley","Pottawatomie",1068]
[322,"Onaga-Havensville-Wheaton","Pottawatomie",313]
[323,"Rock Creek","Pottawatomie",1332,67824,50868,16956]
[325,"Phillipsburg","Phillips",576]
[326,"Logan","Phillips",123]
[327,"Ellsworth","Ellsworth",645]
[329,"Wabaunsee","Wabaunsee",396,58955,44216,14739]
[330,"Mission Valley","Wabaunsee",461]
[331,"Kingman - Norwich","Kingman",956]
[332,"Cunningham","Kingman",206,63475,47606,15869]
[333,"Concordia","Cloud",1121]
[334,"Southern Cloud","Cloud",163]
[335,"North Jackson","Jackson",394]
[336,"Holton","Jackson",1115]
[337,"Royal Valley","Jackson",847,29329,21997,7332]
[338,"Valley Falls","Jefferson",384]
[339,"Jefferson County North","Jefferson",434]
[340,"Jefferson West","Jefferson",829]
[341,"Oskaloosa Public Schools","Jefferson",554]
[342,"McLouth","Jefferson",449]
[343,"Perry Public Schools","Jefferson",759]
[344,"Pleasanton","Linn",359]
[345,"Seaman","Shawnee",3831]
[346,"Jayhawk","Linn",565]
[347,"Kinsley-Offerle","Edwards",280]
[348,"Baldwin City","Douglas",1375]
[349,"Stafford","Stafford",262,61660,46245,15415]
[350,"St John-Hudson","Stafford",326]
[351,"Macksville","Stafford",192]
[352,"Goodland","Sherman",931]
[353,"Wellington","Sumner",1485]
[355,"Ellinwood Public Schools","Barton",481]
[356,"Conway Springs","Sumner",479]
[357,"Belle Plaine","Sumner",575]
[358,"Oxford","Sumner",462]
[359,"Argonia Public Schools","Sumner",145]
[360,"Caldwell","Sumner",248]
[361,"Chaparral Schools","Harper",814]
[362,"Prairie View","Linn",849]
[363,"Holcomb","Finney",960]
[364,"Marysville","Marshall",779]
[365,"Garnett","Anderson",944]
[366,"Woodson","Woodson",403]
[367,"Osawatomie","Miami",1064]
[368,"Paola","Miami",1813]
[369,"Burrton","Harvey",163]
[371,"Montezuma","Gray",218]
[372,"Silver Lake","Shawnee",674]
[373,"Newton","Harvey",3172,131400,98550,32850]
[374,"Sublette","Haskell",388]
[375,"Circle","Butler",2056]
[376,"Sterling","Rice",469]
[377,"Atchison Co Comm Schools","Atchison",500]
[378,"Riley County","Riley",680]
[379,"Clay County","Clay",1320]
[380,"Vermillion","Marshall",628]
[381,"Spearville","Ford",327]
[382,"Pratt","Pratt",1153,77035,57776,19259]
[383,"Manhattan-Ogden","Riley",6948,162963,122222,40741]
[384,"Blue Valley","Riley",254]
[385,"Andover","Butler",9070]
[386,"Madison-Virgil","Greenwood",238]
[387,"Altoona-Midway","Wilson",145]
[388,"Ellis","Ellis",388]
[389,"Eureka","Greenwood",548]
[390,"Hamilton","Greenwood",103]
[392,"Osborne County","Osborne",339]
[393,"Solomon","Dickinson",351]
[394,"Rose Hill Public Schools","Butler",1689,45000,33750,11250]
[395,"LaCrosse","Rush",296]
[396,"Douglass Public Schools","Butler",637]
[397,"Centre","Marion",523]
[398,"Peabody-Burns","Marion",219]
[399,"Paradise","Russell",111]
[400,"Smoky Valley","McPherson",1106]
[401,"Chase-Raymond","Rice",143]
[402,"Augusta","Butler",2082,82712,62034,20678]
[403,"Otis-Bison","Rush",233,19500,14625,4875]
[404,"Riverton","Cherokee",704]
[405,"Lyons","Rice",751]
[407,"Russell County","Russell",771]
[408,"Marion-Florence","Marion",502]
[409,"Atchison Public Schools","Atchison",1498]
[410,"Durham-Hillsboro-Lehigh","Marion",629]
[411,"Goessel","Marion",285]
[412,"Hoxie Community Schools","Sheridan",415]
[413,"Chanute Public Schools","Neosho",1798,70000,52500,17500]
[415,"Hiawatha","Brown",894]
[416,"Louisburg","Miami",1734]
[417,"Morris County","Morris",780,59864,44898,14966]
[418,"McPherson","McPherson",2296]
[419,"Canton-Galva","McPherson",333]
[420,"Osage City","Osage",702]
[421,"Lyndon","Osage",420]
[422,"Kiowa County","Kiowa",429,37931,28448,9483]
[423,"Moundridge","McPherson",488]
[426,"Pike Valley","Republic",221]
[428,"Great Bend","Barton",2903]
[429,"Troy Public Schools","Doniphan",314]
[430,"South Brown County","Brown",529]
[431,"Hoisington","Barton",743]
[432,"Victoria","Ellis",274]
[434,"Santa Fe Trail","Osage",1052]
[435,"Abilene","Dickinson",1497,207020,85448,121572]
[436,"Caney Valley","Montgomery",769]
[437,"Auburn Washburn","Shawnee",6049]
[438,"Skyline Schools","Pratt",373,76303,57227,19076]
[439,"Sedgwick Public Schools","Harvey",506]
[440,"Halstead","Harvey",818]
[443,"Dodge City","Ford",7202]
[444,"Little River","Rice",283,54000,40500,13500]
[445,"Coffeyville","Montgomery",1686,122515,91886,30629]
[446,"Independence","Montgomery",2055,115221,86416,28805]
[447,"Cherryvale","Montgomery",690,59340,44505,14835]
[448,"Inman","McPherson",415]
[449,"Easton","Leavenworth",642]
[450,"Shawnee Heights","Shawnee",3722,60000,45000,15000]
[452,"Stanton County","Stanton",410]
[453,"Leavenworth","Leavenworth",3608,73055,54791,18264]
[454,"Burlingame Public School","Osage",294]
[456,"Marais Des Cygnes Valley","Osage",198]
[457,"Garden City","Finney",7107,115808,60547,55261]
[458,"Basehor-Linwood","Leavenworth",3012]
[459,"Bucklin","Ford",218]
[460,"Hesston","Harvey",870]
[461,"Neodesha","Wilson",755,66277,49708,16569]
[462,"Central","Cowley",288,55137,41353,13784]
[463,"Udall","Cowley",322,43188,32391,10797]
[464,"Tonganoxie","Leavenworth",1937]
[465,"Winfield","Cowley",2175]
[466,"Scott County","Scott",961]
[467,"Leoti","Wichita",382]
[468,"Healy Public Schools","Lane",38]
[469,"Lansing","Leavenworth",2651]
[470,"Arkansas City","Cowley",2888]
[471,"Dexter","Cowley",270]
[473,"Chapman","Dickinson",1147]
[474,"Haviland","Kiowa",90]
[475,"Geary County Schools","Geary",7260]
[476,"Copeland","Gray",99]
[477,"Ingalls","Gray",234]
[479,"Crest","Anderson",247]
[480,"Liberal","Seward",4622]
[481,"Rural Vista","Dickinson",261]
[482,"Dighton","Lane",244]
[483,"Kismet-Plains","Seward",586]
[484,"Fredonia","Wilson",650,110657,82993,27664]
[487,"Herington","Dickinson",449]
[489,"Hays","Ellis",3401,148699,111524,37175]
[490,"El Dorado","Butler",2102,86871,65153,21718]
[491,"Eudora","Douglas",1678]
[492,"Flinthills","Butler",281]
[493,"Columbus","Cherokee",934]
[494,"Syracuse","Hamilton",549]
[495,"Ft Larned","Pawnee",854]
[496,"Pawnee Heights","Pawnee",149]
[497,"Lawrence","Douglas",10896]
[498,"Valley Heights","Marshall",408]
[499,"Galena","Cherokee",812]
[500,"Kansas City","Wyandotte",22973,1406016,1054512,351504]
[501,"Topeka Public Schools","Shawnee",12855,686238,478238,208000]
[502,"Lewis","Edwards",113]
[503,"Parsons","Labette",1335,120750,72750,48000]
[504,"Oswego","Labette",498]
[505,"Chetopa-St. Paul","Labette",373]
[506,"Labette County","Labette",1514,50359,37769,12590]
[507,"Satanta","Haskell",236]
[508,"Baxter Springs","Cherokee",875]
[509,"South Haven","Sumner",207]
[511,"Attica","Harper",176]
[512,"Shawnee Mission Pub Sch","Johnson",26440]

{"sheet":"Prior Year Data","index":11,"n_rows":58,"n_cols":11,"rows_kept":58,"cut":false,"hidden":true,"merged":[[0,0,0,5],[0,9,0,10]]}
[{"$f":"\"Fiscal Agents for > 1 District in \"&Application!$M$1-2&\"-\"&Application!$M$1-1","v":"Fiscal Agents for > 1 District in 2022-2023"},null,null,null,null,null,null,{"$f":"Application!$M$1-2&\"-\"&Application!$M$1-1&\" Participants (Fiscal Agents)\"","v":"2022-2023 Participants (Fiscal Agents)"},{"$f":"Application!$M$1-2&\"-\"&Application!$M$1-1&\" Prior Year Participants (not Fiscal Agents)\"","v":"2022-2023 Prior Year Participants (not Fiscal Agents)"},"2019-2020 CMHC Grant for Pilot Districts from 2018-2019"]
[null,null,274,311,null,393,null,113,274,259,1049031]
[null,null,275,312,null,435,null,204,275,435,125750]
[null,null,291,null,null,473,null,233,291,457,55500]
[null,null,292,null,null,487,null,239,292,500,133800]
[null,null,293,null,null,null,null,240,312,501,208000]
[null,null,468,null,null,null,null,255,393,503,48000]
[null,null,null,null,null,null,null,259,468]
[null,null,null,null,null,null,null,261,473]
[null,null,null,null,null,null,null,262,487]
[null,null,null,null,null,null,null,266]
[null,null,null,null,null,null,null,270]
[null,null,null,null,null,null,null,271]
[null,null,null,null,null,null,null,272]
[null,null,null,null,null,null,null,282]
[null,null,null,null,null,null,null,283]
[null,null,null,null,null,null,null,286]
[null,null,null,null,null,null,null,293]
[null,null,null,null,null,null,null,305]
[null,null,null,null,null,null,null,306]
[null,null,null,null,null,null,null,309]
[null,null,null,null,null,null,null,310]
[null,null,null,null,null,null,null,311]
[null,null,null,null,null,null,null,313]
[null,null,null,null,null,null,null,320]
[null,null,null,null,null,null,null,323]
[null,null,null,null,null,null,null,329]
[null,null,null,null,null,null,null,332]
[null,null,null,null,null,null,null,337]
[null,null,null,null,null,null,null,349]
[null,null,null,null,null,null,null,373]
[null,null,null,null,null,null,null,382]
[null,null,null,null,null,null,null,383]
[null,null,null,null,null,null,null,394]
[null,null,null,null,null,null,null,402]
[null,null,null,null,null,null,null,403]
[null,null,null,null,null,null,null,413]
[null,null,null,null,null,null,null,417]
[null,null,null,null,null,null,null,422]
[null,null,null,null,null,null,null,435]
[null,null,null,null,null,null,null,438]
[null,null,null,null,null,null,null,444]
[null,null,null,null,null,null,null,445]
[null,null,null,null,null,null,null,446]
[null,null,null,null,null,null,null,447]
[null,null,null,null,null,null,null,450]
[null,null,null,null,null,null,null,453]
[null,null,null,null,null,null,null,457]
[null,null,null,null,null,null,null,461]
[null,null,null,null,null,null,null,462]
[null,null,null,null,null,null,null,463]
[null,null,null,null,null,null,null,484]
[null,null,null,null,null,null,null,489]
[null,null,null,null,null,null,null,490]
[null,null,null,null,null,null,null,500]
[null,null,null,null,null,null,null,501]
[null,null,null,null,null,null,null,503]
[null,null,null,null,null,null,null,506]

{"sheet":"Mental Health Centers","index":12,"n_rows":28,"n_cols":9,"rows_kept":28,"cut":false,"hidden":true,"merged":[]}
["Center","Address","City","State","Zip","Phone","Fax","CEO","CEO email"]
["Center for Counseling and Consultation","5815 Broadway","Great Bend","KS",67530,"620-792-2544","620-792-7052","Julie Kramp","juliek@thecentergb.org"]
["Central Kansas Mental Health Center","809 Elmhurst","Salina","KS",67401,"785-823-6322","785-823-3109","Kathy Mosher","kmosher@ckmhc.org"]
["COMCARE of Sedgwick County","635 North Main","Wichita","KS",67203,"316-660-7600","316-383-7925","Joan Tammany","joan.tammany@sedgwick.gov"]
["Compass Behavioral Health","PO Box 477","Garden City","KS",67846,"620-276-6470","620-276-0501","Lisa Southern","lsouthern@compassbh.org"]
["CrossWinds Counseling & Wellness","1000 Lincoln","Emporia","KS",66801,"620-343-2211","620-342-1021","Amanda Cunningham","acunningham@crosswindsks.org"]
["Family Serivce and Guidance Center","325 SW Frazier","Topeka","KS",66606,"785-232-5005","785-232-0160","Kathy Mosher","kmosher@fsgctopeka.com"]
["Four County Mental Health Center","3751 West Main","Independence","KS",67301,"620-331-1748","620-332-1940","Greg Hennen","ghennen@fourcounty.com\nmalford@fourcounty.com"]
["High Plains Mental Health Center","208 East 7th Street","Hays","KS",67601,"785-628-2871","785-628-1438","Walt Hill","walt@hpmhc.com"]
["Horizons Mental Health Center","1715 East 23rd Street\n1600 N Lorraine, Suite 202","Hutchinson","KS",67502,"620-662-2240\n620-663-7595","(620) 728-2038","L. Michael Garrett","garrettm@hmhc.com"]
["Iroquois Center for Human Development","610 East Grant","Greensburg","KS",67054,"620-723-2272","620-723-3450","Mary Jane Dowler","maryjanedowler@irqcenter.com"]
["Johnson County Mental Health Center","6000 Lamar, Ste 130","Mission","KS",66202,"913-831-2550","913-826-1594","Tim DeWeese","Tim.DeWeese@jocogov.org"]
["Kanza Mental Health & Guidance Center","909 South Second St., Box 319","Hiawatha","KS",66434,"785-742-7113","785-742-3085","Jackie Feathers","jfeathers@kanzamhgc.org"]
["Labette Center for Mental Health Services","1730 Belmont, PO Box 258","Parsons","KS",67357,"620-421-3770","620-421-0665","Matthew Atteberry","matteberry@lcmhs.com"]
["Pawnee Mental Health Services","423 Houston St.","Manhattan","KS",66505,"785-587-4346","785-587-4377","Robbin Cole","robbin.cole@pawnee.org"]
["Prairie View, Inc.","1901 East First Street, Box 467","Newton","KS",67114,"316-284-6310","316-284-6352","Marcy Johnson","johnsonml@pvi.org"]
["South Central Mental Health Counseling Center","2365 West Central","El Dorado","KS",67042,"316-321-6088","316-321-3957","Dan Rice","danrice@scmhcc.kscoxmail.com"]
["Southeast Kansas Mental Health Center","304 N Jefferson, Box 807","Iola","KS",66749,"620-365-8641","620-365-8642","Nathan Fawson","nfawson@sekmhc.org"]
["The Guidance Center","500 Limit Street","Leavenworth","KS",66048,"913-682-5118","913-682-4664","Keith Rickard","krickard@theguidance-ctr.org"]
["Wyandot Center for Community Behavioral Healthcare (PACES)","757 Armstrong, Box 171578","Kansas City","KS",66117,"913-233-3300","913-233-3350","Randy Callstrom","callstrom_r@wmhci.org"]
["Bert Nash Community Mental Health Center","200 Maine St. Ste A","Lawrence","KS",66044,"785-843-9192","785-843-0264","Patrick Schmitz","pschmitz@bertnash.org"]
["Crawford County Mental Health Center","911 East Centennial","Pittsburg","KS",66762,"620-231-5130","620-235-7148","Michael Ehling","mehling@cmhccc.org"]
["Elizabeth Layton Center (Ottawa)","2537 Eisenhower Rd. \nPO Box 677","Ottawa","KS","66067-0677","785-242-3780","785-242-6397","Leslie Bjork","lbjork@laytoncenter.org"]
["Elizabeth Layton Center (Paola)","505 S Hospital Drive, PO Box 677","Paola","KS",66071,"913-557-9096","913-294-9247","Leslie Bjork","lbjork@laytoncenter.org"]
["Southwest Guidance Center","PO Box 2945","Liberal","KS",67905,"620-624-8171","620-624-0114","Leslie Bissell","lbissell@swguidance.org"]
["Spring River Mental Health & Wellness","6610 SE Quakervale Rd, Box 550","Riverton","KS",66770,"620-848-2300","620-848-2301","Stacy Manbeck","smanbeck@srmhw.org"]
["Sumner Mental Health Center","1601 West 16th St, Box 607","Wellington","KS",67152,"620-326-7448","620-326-6662","Jeanne Brown","jeannebrown@sumnermentalhealth.org"]
["Valeo Behavioral Health Care","5401 West 7th Street","Topeka","KS",66606,"785-273-2252","785-273-2736","Bill Persinger","bpersinger@valeotopeka.org"]

{"sheet":"Building Drop Down","index":13,"n_rows":114,"n_cols":287,"rows_kept":114,"cut":false,"hidden":true,"merged":[]}
[{"$f":"INDIRECT(ADDRESS(ROW(A3),COLUMN('Building Drop Down'!A1)+MATCH($A$9,_xlfn.ANCHORARRAY('Building Drop Down'!B$2), 0), 4) & \"#\")","v":{"$error":"#N/A"}}]
[null,{"$f":"TRANSPOSE(_xlfn._xlws.SORT(_xlfn.UNIQUE('[1]Building Info'!A2:A2968)))","v":101},102,103,105,106,107,108,109,110,111,112,113,114,115,200,202,203,204,205,206,207,208,209,210,211,212,214,215,216,217,218,219,220,223,224,225,226,227,229,230,231,232,233,234,235,237,239,240,241,242,243,244,245,246,247,248,249,250,251,252,253,254,255,256,257,258,259,260,261,262,263,264,265,266,267,268,269,270,271,272,273,274,275,281,282,283,284,285,286,287,288,289,290,291,292,293,294,297,298,299,300,303,305,306,307,308,309,310,311,312,313,314,315,316,320,321,322,323,325,326,327,329,330,331,332,333,334,335,336,337,338,339,340,341,342,343,344,345,346,347,348,349,350,351,352,353,355,356,357,358,359,360,361,362,363,364,365,366,367,368,369,371,372,373,374,375,376,377,378,379,380,381,382,383,384,385,386,387,388,389,390,392,393,394,395,396,397,398,399,400,401,402,403,404,405,407,408,409,410,411,412,413,415,416,417,418,419,420,421,422,423,426,428,429,430,431,432,434,435,436,437,438,439,440,443,444,445,446,447,448,449,450,452,453,454,456,457,458,459,460,461,462,463,464,465,466,467,468,469,470,471,473,474,475,476,477,479,480,481,482,483,484,487,489,490,491,492,493,494,495,496,497,498,499,500,501,502,503,504,505,506,507,508,509,511,512]
[null,{"$f":"_xlfn._xlws.SORT(_xlfn._xlws.FILTER('[1]Building Info'!$D$2:$D$2968,'[1]Building Info'!$A$2:$A$2968=B$2))","v":101},{"$f":"_xlfn._xlws.SORT(_xlfn._xlws.FILTER('[1]Building Info'!$D$2:$D$2968,'[1]Building Info'!$A$2:$A$2968=C$2))","v":124},{"$f":"_xlfn._xlws.SORT(_xlfn._xlws.FILTER('[1]Building Info'!$D$2:$D$2968,'[1]Building Info'!$A$2:$A$2968=D$2))","v":2777},{"$f":"_xlfn._xlws.SORT(_xlfn._xlws.FILTER('[1]Building Info'!$D$2:$D$2968,'[1]Building Info'!$A$2:$A$2968=E$2))","v":3329},{"$f":"_xlfn._xlws.SORT(_xlfn._xlws.FILTER('[1]Building Info'!$D$2:$D$2968,'[1]Building Info'!$A$2:$A$2968=F$2))","v":2921},{"$f":"_xlfn._xlws.SORT(_xlfn._xlws.FILTER('[1]Building Info'!$D$2:$D$2968,'[1]Building Info'!$A$2:$A$2968=G$2))","v":2969},{"$f":"_xlfn._xlws.SORT(_xlfn._xlws.FILTER('[1]Building Info'!$D$2:$D$2968,'[1]Building Info'!$A$2:$A$2968=H$2))","v":2981},{"$f":"_xlfn._xlws.SORT(_xlfn._xlws.FILTER('[1]Building Info'!$D$2:$D$2968,'[1]Building Info'!$A$2:$A$2968=I$2))","v":2972},{"$f":"_xlfn._xlws.SORT(_xlfn._xlws.FILTER('[1]Building Info'!$D$2:$D$2968,'[1]Building Info'!$A$2:$A$2968=J$2))","v":192},{"$f":"_xlfn._xlws.SORT(_xlfn._xlws.FILTER('[1]Building Info'!$D$2:$D$2968,'[1]Building Info'!$A$2:$A$2968=K$2))","v":200},{"$f":"_xlfn._xlws.SORT(_xlfn._xlws.FILTER('[1]Building Info'!$D$2:$D$2968,'[1]Building Info'!$A$2:$A$2968=L$2))","v":392},{"$f":"_xlfn._xlws.SORT(_xlfn._xlws.FILTER('[1]Building Info'!$D$2:$D$2968,'[1]Building Info'!$A$2:$A$2968=M$2))","v":399},{"$f":"_xlfn._xlws.SORT(_xlfn._xlws.FILTER('[1]Building Info'!$D$2:$D$2968,'[1]Building Info'!$A$2:$A$2968=N$2))","v":433},{"$f":"_xlfn._xlws.SORT(_xlfn._xlws.FILTER('[1]Building Info'!$D$2:$D$2968,'[1]Building Info'!$A$2:$A$2968=O$2))","v":280},{"$f":"_xlfn._xlws.SORT(_xlfn._xlws.FILTER('[1]Building Info'!$D$2:$D$2968,'[1]Building Info'!$A$2:$A$2968=P$2))","v":131},{"$f":"_xlfn._xlws.SORT(_xlfn._xlws.FILTER('[1]Building Info'!$D$2:$D$2968,'[1]Building Info'!$A$2:$A$2968=Q$2))","v":148},{"$f":"_xlfn._xlws.SORT(_xlfn._xlws.FILTER('[1]Building Info'!$D$2:$D$2968,'[1]Building Info'!$A$2:$A$2968=R$2))","v":178},{"$f":"_xlfn._xlws.SORT(_xlfn._xlws.FILTER('[1]Building Info'!$D$2:$D$2968,'[1]Building Info'!$A$2:$A$2968=S$2))","v":204},{"$f":"_xlfn._xlws.SORT(_xlfn._xlws.FILTER('[1]Building Info'!$D$2:$D$2968,'[1]Building Info'!$A$2:$A$2968=T$2))","v":237},{"$f":"_xlfn._xlws.SORT(_xlfn._xlws.FILTER('[1]Building Info'!$D$2:$D$2968,'[1]Building Info'!$A$2:$A$2968=U$2))","v":259},{"$f":"_xlfn._xlws.SORT(_xlfn._xlws.FILTER('[1]Building Info'!$D$2:$D$2968,'[1]Building Info'!$A$2:$A$2968=V$2))","v":285},{"$f":"_xlfn._xlws.SORT(_xlfn._xlws.FILTER('[1]Building Info'!$D$2:$D$2968,'[1]Building Info'!$A$2:$A$2968=W$2))","v":305},{"$f":"_xlfn._xlws.SORT(_xlfn._xlws.FILTER('[1]Building Info'!$D$2:$D$2968,'[1]Building Info'!$A$2:$A$2968=X$2))","v":341},{"$f":"_xlfn._xlws.SORT(_xlfn._xlws.FILTER('[1]Building Info'!$D$2:$D$2968,'[1]Building Info'!$A$2:$A$2968=Y$2))","v":355},{"$f":"_xlfn._xlws.SORT(_xlfn._xlws.FILTER('[1]Building Info'!$D$2:$D$2968,'[1]Building Info'!$A$2:$A$2968=Z$2))","v":372},{"$f":"_xlfn._xlws.SORT(_xlfn._xlws.FILTER('[1]Building Info'!$D$2:$D$2968,'[1]Building Info'!$A$2:$A$2968=AA$2))","v":403},{"$f":"_xlfn._xlws.SORT(_xlfn._xlws.FILTER('[1]Building Info'!$D$2:$D$2968,'[1]Building Info'!$A$2:$A$2968=AB$2))","v":441},{"$f":"_xlfn._xlws.SORT(_xlfn._xlws.FILTER('[1]Building Info'!$D$2:$D$2968,'[1]Building Info'!$A$2:$A$2968=AC$2))","v":465},{"$f":"_xlfn._xlws.SORT(_xlfn._xlws.FILTER('[1]Building Info'!$D$2:$D$2968,'[1]Building Info'!$A$2:$A$2968=AD$2))","v":481},{"$f":"_xlfn._xlws.SORT(_xlfn._xlws.FILTER('[1]Building Info'!$D$2:$D$2968,'[1]Building Info'!$A$2:$A$2968=AE$2))","v":495},{"$f":"_xlfn._xlws.SORT(_xlfn._xlws.FILTER('[1]Building Info'!$D$2:$D$2968,'[1]Building Info'!$A$2:$A$2968=AF$2))","v":513},{"$f":"_xlfn._xlws.SORT(_xlfn._xlws.FILTER('[1]Building Info'!$D$2:$D$2968,'[1]Building Info'!$A$2:$A$2968=AG$2))","v":535},{"$f":"_xlfn._xlws.SORT(_xlfn._xlws.FILTER('[1]Building Info'!$D$2:$D$2968,'[1]Building Info'!$A$2:$A$2968=AH$2))","v":551},{"$f":"_xlfn._xlws.SORT(_xlfn._xlws.FILTER('[1]Building Info'!$D$2:$D$2968,'[1]Building Info'!$A$2:$A$2968=AI$2))","v":613},{"$f":"_xlfn._xlws.SORT(_xlfn._xlws.FILTER('[1]Building Info'!$D$2:$D$2968,'[1]Building Info'!$A$2:$A$2968=AJ$2))","v":657},{"$f":"_xlfn._xlws.SORT(_xlfn._xlws.FILTER('[1]Building Info'!$D$2:$D$2968,'[1]Building Info'!$A$2:$A$2968=AK$2))","v":683},{"$f":"_xlfn._xlws.SORT(_xlfn._xlws.FILTER('[1]Building Info'!$D$2:$D$2968,'[1]Building Info'!$A$2:$A$2968=AL$2))","v":699},{"$f":"_xlfn._xlws.SORT(_xlfn._xlws.FILTER('[1]Building Info'!$D$2:$D$2968,'[1]Building Info'!$A$2:$A$2968=AM$2))","v":721},{"$f":"_xlfn._xlws.SORT(_xlfn._xlws.FILTER('[1]Building Info'!$D$2:$D$2968,'[1]Building Info'!$A$2:$A$2968=AN$2))","v":756},{"$f":"_xlfn._xlws.SORT(_xlfn._xlws.FILTER('[1]Building Info'!$D$2:$D$2968,'[1]Building Info'!$A$2:$A$2968=AO$2))","v":787},{"$f":"_xlfn._xlws.SORT(_xlfn._xlws.FILTER('[1]Building Info'!$D$2:$D$2968,'[1]Building Info'!$A$2:$A$2968=AP$2))","v":802},{"$f":"_xlfn._xlws.SORT(_xlfn._xlws.FILTER('[1]Building Info'!$D$2:$D$2968,'[1]Building Info'!$A$2:$A$2968=AQ$2))","v":824},{"$f":"_xlfn._xlws.SORT(_xlfn._xlws.FILTER('[1]Building Info'!$D$2:$D$2968,'[1]Building Info'!$A$2:$A$2968=AR$2))","v":845},{"$f":"_xlfn._xlws.SORT(_xlfn._xlws.FILTER('[1]Building Info'!$D$2:$D$2968,'[1]Building Info'!$A$2:$A$2968=AS$2))","v":889},{"$f":"_xlfn._xlws.SORT(_xlfn._xlws.FILTER('[1]Building Info'!$D$2:$D$2968,'[1]Building Info'!$A$2:$A$2968=AT$2))","v":945},{"$f":"_xlfn._xlws.SORT(_xlfn._xlws.FILTER('[1]Building Info'!$D$2:$D$2968,'[1]Building Info'!$A$2:$A$2968=AU$2))","v":975},{"$f":"_xlfn._xlws.SORT(_xlfn._xlws.FILTER('[1]Building Info'!$D$2:$D$2968,'[1]Building Info'!$A$2:$A$2968=AV$2))","v":1045},{"$f":"_xlfn._xlws.SORT(_xlfn._xlws.FILTER('[1]Building Info'!$D$2:$D$2968,'[1]Building Info'!$A$2:$A$2968=AW$2))","v":1077},{"$f":"_xlfn._xlws.SORT(_xlfn._xlws.FILTER('[1]Building Info'!$D$2:$D$2968,'[1]Building Info'!$A$2:$A$2968=AX$2))","v":1101},{"$f":"_xlfn._xlws.SORT(_xlfn._xlws.FILTER('[1]Building Info'!$D$2:$D$2968,'[1]Building Info'!$A$2:$A$2968=AY$2))","v":1119},{"$f":"_xlfn._xlws.SORT(_xlfn._xlws.FILTER('[1]Building Info'!$D$2:$D$2968,'[1]Building Info'!$A$2:$A$2968=AZ$2))","v":1132},{"$f":"_xlfn._xlws.SORT(_xlfn._xlws.FILTER('[1]Building Info'!$D$2:$D$2968,'[1]Building Info'!$A$2:$A$2968=BA$2))","v":1151},{"$f":"_xlfn._xlws.SORT(_xlfn._xlws.FILTER('[1]Building Info'!$D$2:$D$2968,'[1]Building Info'!$A$2:$A$2968=BB$2))","v":1171},{"$f":"_xlfn._xlws.SORT(_xlfn._xlws.FILTER('[1]Building Info'!$D$2:$D$2968,'[1]Building Info'!$A$2:$A$2968=BC$2))","v":1193},{"$f":"_xlfn._xlws.SORT(_xlfn._xlws.FILTER('[1]Building Info'!$D$2:$D$2968,'[1]Building Info'!$A$2:$A$2968=BD$2))","v":1219},{"$f":"_xlfn._xlws.SORT(_xlfn._xlws.FILTER('[1]Building Info'!$D$2:$D$2968,'[1]Building Info'!$A$2:$A$2968=BE$2))","v":1245},{"$f":"_xlfn._xlws.SORT(_xlfn._xlws.FILTER('[1]Building Info'!$D$2:$D$2968,'[1]Building Info'!$A$2:$A$2968=BF$2))","v":1285},{"$f":"_xlfn._xlws.SORT(_xlfn._xlws.FILTER('[1]Building Info'!$D$2:$D$2968,'[1]Building Info'!$A$2:$A$2968=BG$2))","v":1297},{"$f":"_xlfn._xlws.SORT(_xlfn._xlws.FILTER('[1]Building Info'!$D$2:$D$2968,'[1]Building Info'!$A$2:$A$2968=BH$2))","v":1345},{"$f":"_xlfn._xlws.SORT(_xlfn._xlws.FILTER('[1]Building Info'!$D$2:$D$2968,'[1]Building Info'!$A$2:$A$2968=BI$2))","v":1373},{"$f":"_xlfn._xlws.SORT(_xlfn._xlws.FILTER('[1]Building Info'!$D$2:$D$2968,'[1]Building Info'!$A$2:$A$2968=BJ$2))","v":1405},{"$f":"_xlfn._xlws.SORT(_xlfn._xlws.FILTER('[1]Building Info'!$D$2:$D$2968,'[1]Building Info'!$A$2:$A$2968=BK$2))","v":1455},{"$f":"_xlfn._xlws.SORT(_xlfn._xlws.FILTER('[1]Building Info'!$D$2:$D$2968,'[1]Building Info'!$A$2:$A$2968=BL$2))","v":1503},{"$f":"_xlfn._xlws.SORT(_xlfn._xlws.FILTER('[1]Building Info'!$D$2:$D$2968,'[1]Building Info'!$A$2:$A$2968=BM$2))","v":1529},{"$f":"_xlfn._xlws.SORT(_xlfn._xlws.FILTER('[1]Building Info'!$D$2:$D$2968,'[1]Building Info'!$A$2:$A$2968=BN$2))","v":1549},{"$f":"_xlfn._xlws.SORT(_xlfn._xlws.FILTER('[1]Building Info'!$D$2:$D$2968,'[1]Building Info'!$A$2:$A$2968=BO$2))","v":1589},{"$f":"_xlfn._xlws.SORT(_xlfn._xlws.FILTER('[1]Building Info'!$D$2:$D$2968,'[1]Building Info'!$A$2:$A$2968=BP$2))","v":1612},{"$f":"_xlfn._xlws.SORT(_xlfn._xlws.FILTER('[1]Building Info'!$D$2:$D$2968,'[1]Building Info'!$A$2:$A$2968=BQ$2))","v":1925},{"$f":"_xlfn._xlws.SORT(_xlfn._xlws.FILTER('[1]Building Info'!$D$2:$D$2968,'[1]Building Info'!$A$2:$A$2968=BR$2))","v":1955},{"$f":"_xlfn._xlws.SORT(_xlfn._xlws.FILTER('[1]Building Info'!$D$2:$D$2968,'[1]Building Info'!$A$2:$A$2968=BS$2))","v":1977},{"$f":"_xlfn._xlws.SORT(_xlfn._xlws.FILTER('[1]Building Info'!$D$2:$D$2968,'[1]Building Info'!$A$2:$A$2968=BT$2))","v":1988},{"$f":"_xlfn._xlws.SORT(_xlfn._xlws.FILTER('[1]Building Info'!$D$2:$D$2968,'[1]Building Info'!$A$2:$A$2968=BU$2))","v":2009},{"$f":"_xlfn._xlws.SORT(_xlfn._xlws.FILTER('[1]Building Info'!$D$2:$D$2968,'[1]Building Info'!$A$2:$A$2968=BV$2))","v":2023},{"$f":"_xlfn._xlws.SORT(_xlfn._xlws.FILTER('[1]Building Info'!$D$2:$D$2968,'[1]Building Info'!$A$2:$A$2968=BW$2))","v":2042},{"$f":"_xlfn._xlws.SORT(_xlfn._xlws.FILTER('[1]Building Info'!$D$2:$D$2968,'[1]Building Info'!$A$2:$A$2968=BX$2))","v":2061},{"$f":"_xlfn._xlws.SORT(_xlfn._xlws.FILTER('[1]Building Info'!$D$2:$D$2968,'[1]Building Info'!$A$2:$A$2968=BY$2))","v":2089},{"$f":"_xlfn._xlws.SORT(_xlfn._xlws.FILTER('[1]Building Info'!$D$2:$D$2968,'[1]Building Info'!$A$2:$A$2968=BZ$2))","v":2109},{"$f":"_xlfn._xlws.SORT(_xlfn._xlws.FILTER('[1]Building Info'!$D$2:$D$2968,'[1]Building Info'!$A$2:$A$2968=CA$2))","v":2129},{"$f":"_xlfn._xlws.SORT(_xlfn._xlws.FILTER('[1]Building Info'!$D$2:$D$2968,'[1]Building Info'!$A$2:$A$2968=CB$2))","v":2155},{"$f":"_xlfn._xlws.SORT(_xlfn._xlws.FILTER('[1]Building Info'!$D$2:$D$2968,'[1]Building Info'!$A$2:$A$2968=CC$2))","v":2169},{"$f":"_xlfn._xlws.SORT(_xlfn._xlws.FILTER('[1]Building Info'!$D$2:$D$2968,'[1]Building Info'!$A$2:$A$2968=CD$2))","v":2211},{"$f":"_xlfn._xlws.SORT(_xlfn._xlws.FILTER('[1]Building Info'!$D$2:$D$2968,'[1]Building Info'!$A$2:$A$2968=CE$2))","v":2255},{"$f":"_xlfn._xlws.SORT(_xlfn._xlws.FILTER('[1]Building Info'!$D$2:$D$2968,'[1]Building Info'!$A$2:$A$2968=CF$2))","v":2279},{"$f":"_xlfn._xlws.SORT(_xlfn._xlws.FILTER('[1]Building Info'!$D$2:$D$2968,'[1]Building Info'!$A$2:$A$2968=CG$2))","v":2407},{"$f":"_xlfn._xlws.SORT(_xlfn._xlws.FILTER('[1]Building Info'!$D$2:$D$2968,'[1]Building Info'!$A$2:$A$2968=CH$2))","v":2431},{"$f":"_xlfn._xlws.SORT(_xlfn._xlws.FILTER('[1]Building Info'!$D$2:$D$2968,'[1]Building Info'!$A$2:$A$2968=CI$2))","v":2465},{"$f":"_xlfn._xlws.SORT(_xlfn._xlws.FILTER('[1]Building Info'!$D$2:$D$2968,'[1]Building Info'!$A$2:$A$2968=CJ$2))","v":2483},{"$f":"_xlfn._xlws.SORT(_xlfn._xlws.FILTER('[1]Building Info'!$D$2:$D$2968,'[1]Building Info'!$A$2:$A$2968=CK$2))","v":2517},{"$f":"_xlfn._xlws.SORT(_xlfn._xlws.FILTER('[1]Building Info'!$D$2:$D$2968,'[1]Building Info'!$A$2:$A$2968=CL$2))","v":2533},{"$f":"_xlfn._xlws.SORT(_xlfn._xlws.FILTER('[1]Building Info'!$D$2:$D$2968,'[1]Building Info'!$A$2:$A$2968=CM$2))","v":2557},{"$f":"_xlfn._xlws.SORT(_xlfn._xlws.FILTER('[1]Building Info'!$D$2:$D$2968,'[1]Building Info'!$A$2:$A$2968=CN$2))","v":2584},{"$f":"_xlfn._xlws.SORT(_xlfn._xlws.FILTER('[1]Building Info'!$D$2:$D$2968,'[1]Building Info'!$A$2:$A$2968=CO$2))","v":2609},{"$f":"_xlfn._xlws.SORT(_xlfn._xlws.FILTER('[1]Building Info'!$D$2:$D$2968,'[1]Building Info'!$A$2:$A$2968=CP$2))","v":2635},{"$f":"_xlfn._xlws.SORT(_xlfn._xlws.FILTER('[1]Building Info'!$D$2:$D$2968,'[1]Building Info'!$A$2:$A$2968=CQ$2))","v":2664},{"$f":"_xlfn._xlws.SORT(_xlfn._xlws.FILTER('[1]Building Info'!$D$2:$D$2968,'[1]Building Info'!$A$2:$A$2968=CR$2))","v":2682},{"$f":"_xlfn._xlws.SORT(_xlfn._xlws.FILTER('[1]Building Info'!$D$2:$D$2968,'[1]Building Info'!$A$2:$A$2968=CS$2))","v":2705},{"$f":"_xlfn._xlws.SORT(_xlfn._xlws.FILTER('[1]Building Info'!$D$2:$D$2968,'[1]Building Info'!$A$2:$A$2968=CT$2))","v":2725},{"$f":"_xlfn._xlws.SORT(_xlfn._xlws.FILTER('[1]Building Info'!$D$2:$D$2968,'[1]Building Info'!$A$2:$A$2968=CU$2))","v":2795},{"$f":"_xlfn._xlws.SORT(_xlfn._xlws.FILTER('[1]Building Info'!$D$2:$D$2968,'[1]Building Info'!$A$2:$A$2968=CV$2))","v":2829},{"$f":"_xlfn._xlws.SORT(_xlfn._xlws.FILTER('[1]Building Info'!$D$2:$D$2968,'[1]Building Info'!$A$2:$A$2968=CW$2))","v":2857},{"$f":"_xlfn._xlws.SORT(_xlfn._xlws.FILTER('[1]Building Info'!$D$2:$D$2968,'[1]Building Info'!$A$2:$A$2968=CX$2))","v":2887},{"$f":"_xlfn._xlws.SORT(_xlfn._xlws.FILTER('[1]Building Info'!$D$2:$D$2968,'[1]Building Info'!$A$2:$A$2968=CY$2))","v":2939},{"$f":"_xlfn._xlws.SORT(_xlfn._xlws.FILTER('[1]Building Info'!$D$2:$D$2968,'[1]Building Info'!$A$2:$A$2968=CZ$2))","v":2982},{"$f":"_xlfn._xlws.SORT(_xlfn._xlws.FILTER('[1]Building Info'!$D$2:$D$2968,'[1]Building Info'!$A$2:$A$2968=DA$2))","v":3049},{"$f":"_xlfn._xlws.SORT(_xlfn._xlws.FILTER('[1]Building Info'!$D$2:$D$2968,'[1]Building Info'!$A$2:$A$2968=DB$2))","v":3073},{"$f":"_xlfn._xlws.SORT(_xlfn._xlws.FILTER('[1]Building Info'!$D$2:$D$2968,'[1]Building Info'!$A$2:$A$2968=DC$2))","v":3098},{"$f":"_xlfn._xlws.SORT(_xlfn._xlws.FILTER('[1]Building Info'!$D$2:$D$2968,'[1]Building Info'!$A$2:$A$2968=DD$2))","v":3158},{"$f":"_xlfn._xlws.SORT(_xlfn._xlws.FILTER('[1]Building Info'!$D$2:$D$2968,'[1]Building Info'!$A$2:$A$2968=DE$2))","v":3183},{"$f":"_xlfn._xlws.SORT(_xlfn._xlws.FILTER('[1]Building Info'!$D$2:$D$2968,'[1]Building Info'!$A$2:$A$2968=DF$2))","v":3209},{"$f":"_xlfn._xlws.SORT(_xlfn._xlws.FILTER('[1]Building Info'!$D$2:$D$2968,'[1]Building Info'!$A$2:$A$2968=DG$2))","v":3232},{"$f":"_xlfn._xlws.SORT(_xlfn._xlws.FILTER('[1]Building Info'!$D$2:$D$2968,'[1]Building Info'!$A$2:$A$2968=DH$2))","v":3250},{"$f":"_xlfn._xlws.SORT(_xlfn._xlws.FILTER('[1]Building Info'!$D$2:$D$2968,'[1]Building Info'!$A$2:$A$2968=DI$2))","v":3275},{"$f":"_xlfn._xlws.SORT(_xlfn._xlws.FILTER('[1]Building Info'!$D$2:$D$2968,'[1]Building Info'!$A$2:$A$2968=DJ$2))","v":3289},{"$f":"_xlfn._xlws.SORT(_xlfn._xlws.FILTER('[1]Building Info'!$D$2:$D$2968,'[1]Building Info'!$A$2:$A$2968=DK$2))","v":3313},{"$f":"_xlfn._xlws.SORT(_xlfn._xlws.FILTER('[1]Building Info'!$D$2:$D$2968,'[1]Building Info'!$A$2:$A$2968=DL$2))","v":3387},{"$f":"_xlfn._xlws.SORT(_xlfn._xlws.FILTER('[1]Building Info'!$D$2:$D$2968,'[1]Building Info'!$A$2:$A$2968=DM$2))","v":3415},{"$f":"_xlfn._xlws.SORT(_xlfn._xlws.FILTER('[1]Building Info'!$D$2:$D$2968,'[1]Building Info'!$A$2:$A$2968=DN$2))","v":3449},{"$f":"_xlfn._xlws.SORT(_xlfn._xlws.FILTER('[1]Building Info'!$D$2:$D$2968,'[1]Building Info'!$A$2:$A$2968=DO$2))","v":3479},{"$f":"_xlfn._xlws.SORT(_xlfn._xlws.FILTER('[1]Building Info'!$D$2:$D$2968,'[1]Building Info'!$A$2:$A$2968=DP$2))","v":3527},{"$f":"_xlfn._xlws.SORT(_xlfn._xlws.FILTER('[1]Building Info'!$D$2:$D$2968,'[1]Building Info'!$A$2:$A$2968=DQ$2))","v":3557},{"$f":"_xlfn._xlws.SORT(_xlfn._xlws.FILTER('[1]Building Info'!$D$2:$D$2968,'[1]Building Info'!$A$2:$A$2968=DR$2))","v":3579},{"$f":"_xlfn._xlws.SORT(_xlfn._xlws.FILTER('[1]Building Info'!$D$2:$D$2968,'[1]Building Info'!$A$2:$A$2968=DS$2))","v":3649},{"$f":"_xlfn._xlws.SORT(_xlfn._xlws.FILTER('[1]Building Info'!$D$2:$D$2968,'[1]Building Info'!$A$2:$A$2968=DT$2))","v":3679},{"$f":"_xlfn._xlws.SORT(_xlfn._xlws.FILTER('[1]Building Info'!$D$2:$D$2968,'[1]Building Info'!$A$2:$A$2968=DU$2))","v":3705},{"$f":"_xlfn._xlws.SORT(_xlfn._xlws.FILTER('[1]Building Info'!$D$2:$D$2968,'[1]Building Info'!$A$2:$A$2968=DV$2))","v":3747},{"$f":"_xlfn._xlws.SORT(_xlfn._xlws.FILTER('[1]Building Info'!$D$2:$D$2968,'[1]Building Info'!$A$2:$A$2968=DW$2))","v":3777},{"$f":"_xlfn._xlws.SORT(_xlfn._xlws.FILTER('[1]Building Info'!$D$2:$D$2968,'[1]Building Info'!$A$2:$A$2968=DX$2))","v":3831},{"$f":"_xlfn._xlws.SORT(_xlfn._xlws.FILTER('[1]Building Info'!$D$2:$D$2968,'[1]Building Info'!$A$2:$A$2968=DY$2))","v":3853},{"$f":"_xlfn._xlws.SORT(_xlfn._xlws.FILTER('[1]Building Info'!$D$2:$D$2968,'[1]Building Info'!$A$2:$A$2968=DZ$2))","v":3880},{"$f":"_xlfn._xlws.SORT(_xlfn._xlws.FILTER('[1]Building Info'!$D$2:$D$2968,'[1]Building Info'!$A$2:$A$2968=EA$2))","v":3909},{"$f":"_xlfn._xlws.SORT(_xlfn._xlws.FILTER('[1]Building Info'!$D$2:$D$2968,'[1]Building Info'!$A$2:$A$2968=EB$2))","v":3935},{"$f":"_xlfn._xlws.SORT(_xlfn._xlws.FILTER('[1]Building Info'!$D$2:$D$2968,'[1]Building Info'!$A$2:$A$2968=EC$2))","v":3943},{"$f":"_xlfn._xlws.SORT(_xlfn._xlws.FILTER('[1]Building Info'!$D$2:$D$2968,'[1]Building Info'!$A$2:$A$2968=ED$2))","v":3966},{"$f":"_xlfn._xlws.SORT(_xlfn._xlws.FILTER('[1]Building Info'!$D$2:$D$2968,'[1]Building Info'!$A$2:$A$2968=EE$2))","v":3986},{"$f":"_xlfn._xlws.SORT(_xlfn._xlws.FILTER('[1]Building Info'!$D$2:$D$2968,'[1]Building Info'!$A$2:$A$2968=EF$2))","v":4003},{"$f":"_xlfn._xlws.SORT(_xlfn._xlws.FILTER('[1]Building Info'!$D$2:$D$2968,'[1]Building Info'!$A$2:$A$2968=EG$2))","v":4019},{"$f":"_xlfn._xlws.SORT(_xlfn._xlws.FILTER('[1]Building Info'!$D$2:$D$2968,'[1]Building Info'!$A$2:$A$2968=EH$2))","v":4035},{"$f":"_xlfn._xlws.SORT(_xlfn._xlws.FILTER('[1]Building Info'!$D$2:$D$2968,'[1]Building Info'!$A$2:$A$2968=EI$2))","v":4053},{"$f":"_xlfn._xlws.SORT(_xlfn._xlws.FILTER('[1]Building Info'!$D$2:$D$2968,'[1]Building Info'!$A$2:$A$2968=EJ$2))","v":4087},{"$f":"_xlfn._xlws.SORT(_xlfn._xlws.FILTER('[1]Building Info'!$D$2:$D$2968,'[1]Building Info'!$A$2:$A$2968=EK$2))","v":4111},{"$f":"_xlfn._xlws.SORT(_xlfn._xlws.FILTER('[1]Building Info'!$D$2:$D$2968,'[1]Building Info'!$A$2:$A$2968=EL$2))","v":4138},{"$f":"_xlfn._xlws.SORT(_xlfn._xlws.FILTER('[1]Building Info'!$D$2:$D$2968,'[1]Building Info'!$A$2:$A$2968=EM$2))","v":4156},{"$f":"_xlfn._xlws.SORT(_xlfn._xlws.FILTER('[1]Building Info'!$D$2:$D$2968,'[1]Building Info'!$A$2:$A$2968=EN$2))","v":4175},{"$f":"_xlfn._xlws.SORT(_xlfn._xlws.FILTER('[1]Building Info'!$D$2:$D$2968,'[1]Building Info'!$A$2:$A$2968=EO$2))","v":4193},{"$f":"_xlfn._xlws.SORT(_xlfn._xlws.FILTER('[1]Building Info'!$D$2:$D$2968,'[1]Building Info'!$A$2:$A$2968=EP$2))","v":4220},{"$f":"_xlfn._xlws.SORT(_xlfn._xlws.FILTER('[1]Building Info'!$D$2:$D$2968,'[1]Building Info'!$A$2:$A$2968=EQ$2))","v":4247},{"$f":"_xlfn._xlws.SORT(_xlfn._xlws.FILTER('[1]Building Info'!$D$2:$D$2968,'[1]Building Info'!$A$2:$A$2968=ER$2))","v":4316},{"$f":"_xlfn._xlws.SORT(_xlfn._xlws.FILTER('[1]Building Info'!$D$2:$D$2968,'[1]Building Info'!$A$2:$A$2968=ES$2))","v":4337},{"$f":"_xlfn._xlws.SORT(_xlfn._xlws.FILTER('[1]Building Info'!$D$2:$D$2968,'[1]Building Info'!$A$2:$A$2968=ET$2))","v":4360},{"$f":"_xlfn._xlws.SORT(_xlfn._xlws.FILTER('[1]Building Info'!$D$2:$D$2968,'[1]Building Info'!$A$2:$A$2968=EU$2))","v":4379},{"$f":"_xlfn._xlws.SORT(_xlfn._xlws.FILTER('[1]Building Info'!$D$2:$D$2968,'[1]Building Info'!$A$2:$A$2968=EV$2))","v":4403},{"$f":"_xlfn._xlws.SORT(_xlfn._xlws.FILTER('[1]Building Info'!$D$2:$D$2968,'[1]Building Info'!$A$2:$A$2968=EW$2))","v":4419},{"$f":"_xlfn._xlws.SORT(_xlfn._xlws.FILTER('[1]Building Info'!$D$2:$D$2968,'[1]Building Info'!$A$2:$A$2968=EX$2))","v":4435},{"$f":"_xlfn._xlws.SORT(_xlfn._xlws.FILTER('[1]Building Info'!$D$2:$D$2968,'[1]Building Info'!$A$2:$A$2968=EY$2))","v":4483},{"$f":"_xlfn._xlws.SORT(_xlfn._xlws.FILTER('[1]Building Info'!$D$2:$D$2968,'[1]Building Info'!$A$2:$A$2968=EZ$2))","v":4515},{"$f":"_xlfn._xlws.SORT(_xlfn._xlws.FILTER('[1]Building Info'!$D$2:$D$2968,'[1]Building Info'!$A$2:$A$2968=FA$2))","v":4529},{"$f":"_xlfn._xlws.SORT(_xlfn._xlws.FILTER('[1]Building Info'!$D$2:$D$2968,'[1]Building Info'!$A$2:$A$2968=FB$2))","v":4575},{"$f":"_xlfn._xlws.SORT(_xlfn._xlws.FILTER('[1]Building Info'!$D$2:$D$2968,'[1]Building Info'!$A$2:$A$2968=FC$2))","v":4629},{"$f":"_xlfn._xlws.SORT(_xlfn._xlws.FILTER('[1]Building Info'!$D$2:$D$2968,'[1]Building Info'!$A$2:$A$2968=FD$2))","v":4657},{"$f":"_xlfn._xlws.SORT(_xlfn._xlws.FILTER('[1]Building Info'!$D$2:$D$2968,'[1]Building Info'!$A$2:$A$2968=FE$2))","v":4686},{"$f":"_xlfn._xlws.SORT(_xlfn._xlws.FILTER('[1]Building Info'!$D$2:$D$2968,'[1]Building Info'!$A$2:$A$2968=FF$2))","v":4733},{"$f":"_xlfn._xlws.SORT(_xlfn._xlws.FILTER('[1]Building Info'!$D$2:$D$2968,'[1]Building Info'!$A$2:$A$2968=FG$2))","v":4760},{"$f":"_xlfn._xlws.SORT(_xlfn._xlws.FILTER('[1]Building Info'!$D$2:$D$2968,'[1]Building Info'!$A$2:$A$2968=FH$2))","v":4775},{"$f":"_xlfn._xlws.SORT(_xlfn._xlws.FILTER('[1]Building Info'!$D$2:$D$2968,'[1]Building Info'!$A$2:$A$2968=FI$2))","v":4788},{"$f":"_xlfn._xlws.SORT(_xlfn._xlws.FILTER('[1]Building Info'!$D$2:$D$2968,'[1]Building Info'!$A$2:$A$2968=FJ$2))","v":4833},{"$f":"_xlfn._xlws.SORT(_xlfn._xlws.FILTER('[1]Building Info'!$D$2:$D$2968,'[1]Building Info'!$A$2:$A$2968=FK$2))","v":4848},{"$f":"_xlfn._xlws.SORT(_xlfn._xlws.FILTER('[1]Building Info'!$D$2:$D$2968,'[1]Building Info'!$A$2:$A$2968=FL$2))","v":4860},{"$f":"_xlfn._xlws.SORT(_xlfn._xlws.FILTER('[1]Building Info'!$D$2:$D$2968,'[1]Building Info'!$A$2:$A$2968=FM$2))","v":4881},{"$f":"_xlfn._xlws.SORT(_xlfn._xlws.FILTER('[1]Building Info'!$D$2:$D$2968,'[1]Building Info'!$A$2:$A$2968=FN$2))","v":4945},{"$f":"_xlfn._xlws.SORT(_xlfn._xlws.FILTER('[1]Building Info'!$D$2:$D$2968,'[1]Building Info'!$A$2:$A$2968=FO$2))","v":4963},{"$f":"_xlfn._xlws.SORT(_xlfn._xlws.FILTER('[1]Building Info'!$D$2:$D$2968,'[1]Building Info'!$A$2:$A$2968=FP$2))","v":5031},{"$f":"_xlfn._xlws.SORT(_xlfn._xlws.FILTER('[1]Building Info'!$D$2:$D$2968,'[1]Building Info'!$A$2:$A$2968=FQ$2))","v":5057},{"$f":"_xlfn._xlws.SORT(_xlfn._xlws.FILTER('[1]Building Info'!$D$2:$D$2968,'[1]Building Info'!$A$2:$A$2968=FR$2))","v":5077},{"$f":"_xlfn._xlws.SORT(_xlfn._xlws.FILTER('[1]Building Info'!$D$2:$D$2968,'[1]Building Info'!$A$2:$A$2968=FS$2))","v":5112},{"$f":"_xlfn._xlws.SORT(_xlfn._xlws.FILTER('[1]Building Info'!$D$2:$D$2968,'[1]Building Info'!$A$2:$A$2968=FT$2))","v":5157},{"$f":"_xlfn._xlws.SORT(_xlfn._xlws.FILTER('[1]Building Info'!$D$2:$D$2968,'[1]Building Info'!$A$2:$A$2968=FU$2))","v":5177},{"$f":"_xlfn._xlws.SORT(_xlfn._xlws.FILTER('[1]Building Info'!$D$2:$D$2968,'[1]Building Info'!$A$2:$A$2968=FV$2))","v":5193},{"$f":"_xlfn._xlws.SORT(_xlfn._xlws.FILTER('[1]Building Info'!$D$2:$D$2968,'[1]Building Info'!$A$2:$A$2968=FW$2))","v":5213},{"$f":"_xlfn._xlws.SORT(_xlfn._xlws.FILTER('[1]Building Info'!$D$2:$D$2968,'[1]Building Info'!$A$2:$A$2968=FX$2))","v":5232},{"$f":"_xlfn._xlws.SORT(_xlfn._xlws.FILTER('[1]Building Info'!$D$2:$D$2968,'[1]Building Info'!$A$2:$A$2968=FY$2))","v":5255},{"$f":"_xlfn._xlws.SORT(_xlfn._xlws.FILTER('[1]Building Info'!$D$2:$D$2968,'[1]Building Info'!$A$2:$A$2968=FZ$2))","v":5294},{"$f":"_xlfn._xlws.SORT(_xlfn._xlws.FILTER('[1]Building Info'!$D$2:$D$2968,'[1]Building Info'!$A$2:$A$2968=GA$2))","v":5319},{"$f":"_xlfn._xlws.SORT(_xlfn._xlws.FILTER('[1]Building Info'!$D$2:$D$2968,'[1]Building Info'!$A$2:$A$2968=GB$2))","v":5349},{"$f":"_xlfn._xlws.SORT(_xlfn._xlws.FILTER('[1]Building Info'!$D$2:$D$2968,'[1]Building Info'!$A$2:$A$2968=GC$2))","v":5369},{"$f":"_xlfn._xlws.SORT(_xlfn._xlws.FILTER('[1]Building Info'!$D$2:$D$2968,'[1]Building Info'!$A$2:$A$2968=GD$2))","v":5382},{"$f":"_xlfn._xlws.SORT(_xlfn._xlws.FILTER('[1]Building Info'!$D$2:$D$2968,'[1]Building Info'!$A$2:$A$2968=GE$2))","v":5411},{"$f":"_xlfn._xlws.SORT(_xlfn._xlws.FILTER('[1]Building Info'!$D$2:$D$2968,'[1]Building Info'!$A$2:$A$2968=GF$2))","v":5429},{"$f":"_xlfn._xlws.SORT(_xlfn._xlws.FILTER('[1]Building Info'!$D$2:$D$2968,'[1]Building Info'!$A$2:$A$2968=GG$2))","v":5455},{"$f":"_xlfn._xlws.SORT(_xlfn._xlws.FILTER('[1]Building Info'!$D$2:$D$2968,'[1]Building Info'!$A$2:$A$2968=GH$2))","v":5475},{"$f":"_xlfn._xlws.SORT(_xlfn._xlws.FILTER('[1]Building Info'!$D$2:$D$2968,'[1]Building Info'!$A$2:$A$2968=GI$2))","v":1974},{"$f":"_xlfn._xlws.SORT(_xlfn._xlws.FILTER('[1]Building Info'!$D$2:$D$2968,'[1]Building Info'!$A$2:$A$2968=GJ$2))","v":5529},{"$f":"_xlfn._xlws.SORT(_xlfn._xlws.FILTER('[1]Building Info'!$D$2:$D$2968,'[1]Building Info'!$A$2:$A$2968=GK$2))","v":5552},{"$f":"_xlfn._xlws.SORT(_xlfn._xlws.FILTER('[1]Building Info'!$D$2:$D$2968,'[1]Building Info'!$A$2:$A$2968=GL$2))","v":5582},{"$f":"_xlfn._xlws.SORT(_xlfn._xlws.FILTER('[1]Building Info'!$D$2:$D$2968,'[1]Building Info'!$A$2:$A$2968=GM$2))","v":5619},{"$f":"_xlfn._xlws.SORT(_xlfn._xlws.FILTER('[1]Building Info'!$D$2:$D$2968,'[1]Building Info'!$A$2:$A$2968=GN$2))","v":5632},{"$f":"_xlfn._xlws.SORT(_xlfn._xlws.FILTER('[1]Building Info'!$D$2:$D$2968,'[1]Building Info'!$A$2:$A$2968=GO$2))","v":5689},{"$f":"_xlfn._xlws.SORT(_xlfn._xlws.FILTER('[1]Building Info'!$D$2:$D$2968,'[1]Building Info'!$A$2:$A$2968=GP$2))","v":5741},{"$f":"_xlfn._xlws.SORT(_xlfn._xlws.FILTER('[1]Building Info'!$D$2:$D$2968,'[1]Building Info'!$A$2:$A$2968=GQ$2))","v":5761},{"$f":"_xlfn._xlws.SORT(_xlfn._xlws.FILTER('[1]Building Info'!$D$2:$D$2968,'[1]Building Info'!$A$2:$A$2968=GR$2))","v":5807},{"$f":"_xlfn._xlws.SORT(_xlfn._xlws.FILTER('[1]Building Info'!$D$2:$D$2968,'[1]Building Info'!$A$2:$A$2968=GS$2))","v":5833},{"$f":"_xlfn._xlws.SORT(_xlfn._xlws.FILTER('[1]Building Info'!$D$2:$D$2968,'[1]Building Info'!$A$2:$A$2968=GT$2))","v":5849},{"$f":"_xlfn._xlws.SORT(_xlfn._xlws.FILTER('[1]Building Info'!$D$2:$D$2968,'[1]Building Info'!$A$2:$A$2968=GU$2))","v":5869},{"$f":"_xlfn._xlws.SORT(_xlfn._xlws.FILTER('[1]Building Info'!$D$2:$D$2968,'[1]Building Info'!$A$2:$A$2968=GV$2))","v":5927},{"$f":"_xlfn._xlws.SORT(_xlfn._xlws.FILTER('[1]Building Info'!$D$2:$D$2968,'[1]Building Info'!$A$2:$A$2968=GW$2))","v":5965},{"$f":"_xlfn._xlws.SORT(_xlfn._xlws.FILTER('[1]Building Info'!$D$2:$D$2968,'[1]Building Info'!$A$2:$A$2968=GX$2))","v":5987},{"$f":"_xlfn._xlws.SORT(_xlfn._xlws.FILTER('[1]Building Info'!$D$2:$D$2968,'[1]Building Info'!$A$2:$A$2968=GY$2))","v":6018},{"$f":"_xlfn._xlws.SORT(_xlfn._xlws.FILTER('[1]Building Info'!$D$2:$D$2968,'[1]Building Info'!$A$2:$A$2968=GZ$2))","v":6063},{"$f":"_xlfn._xlws.SORT(_xlfn._xlws.FILTER('[1]Building Info'!$D$2:$D$2968,'[1]Building Info'!$A$2:$A$2968=HA$2))","v":6087},{"$f":"_xlfn._xlws.SORT(_xlfn._xlws.FILTER('[1]Building Info'!$D$2:$D$2968,'[1]Building Info'!$A$2:$A$2968=HB$2))","v":6101},{"$f":"_xlfn._xlws.SORT(_xlfn._xlws.FILTER('[1]Building Info'!$D$2:$D$2968,'[1]Building Info'!$A$2:$A$2968=HC$2))","v":6117},{"$f":"_xlfn._xlws.SORT(_xlfn._xlws.FILTER('[1]Building Info'!$D$2:$D$2968,'[1]Building Info'!$A$2:$A$2968=HD$2))","v":6132},{"$f":"_xlfn._xlws.SORT(_xlfn._xlws.FILTER('[1]Building Info'!$D$2:$D$2968,'[1]Building Info'!$A$2:$A$2968=HE$2))","v":6191},{"$f":"_xlfn._xlws.SORT(_xlfn._xlws.FILTER('[1]Building Info'!$D$2:$D$2968,'[1]Building Info'!$A$2:$A$2968=HF$2))","v":6254},{"$f":"_xlfn._xlws.SORT(_xlfn._xlws.FILTER('[1]Building Info'!$D$2:$D$2968,'[1]Building Info'!$A$2:$A$2968=HG$2))","v":6313},{"$f":"_xlfn._xlws.SORT(_xlfn._xlws.FILTER('[1]Building Info'!$D$2:$D$2968,'[1]Building Info'!$A$2:$A$2968=HH$2))","v":6339},{"$f":"_xlfn._xlws.SORT(_xlfn._xlws.FILTER('[1]Building Info'!$D$2:$D$2968,'[1]Building Info'!$A$2:$A$2968=HI$2))","v":6366},{"$f":"_xlfn._xlws.SORT(_xlfn._xlws.FILTER('[1]Building Info'!$D$2:$D$2968,'[1]Building Info'!$A$2:$A$2968=HJ$2))","v":6395},{"$f":"_xlfn._xlws.SORT(_xlfn._xlws.FILTER('[1]Building Info'!$D$2:$D$2968,'[1]Building Info'!$A$2:$A$2968=HK$2))","v":6439},{"$f":"_xlfn._xlws.SORT(_xlfn._xlws.FILTER('[1]Building Info'!$D$2:$D$2968,'[1]Building Info'!$A$2:$A$2968=HL$2))","v":6464},{"$f":"_xlfn._xlws.SORT(_xlfn._xlws.FILTER('[1]Building Info'!$D$2:$D$2968,'[1]Building Info'!$A$2:$A$2968=HM$2))","v":6490},{"$f":"_xlfn._xlws.SORT(_xlfn._xlws.FILTER('[1]Building Info'!$D$2:$D$2968,'[1]Building Info'!$A$2:$A$2968=HN$2))","v":6510},{"$f":"_xlfn._xlws.SORT(_xlfn._xlws.FILTER('[1]Building Info'!$D$2:$D$2968,'[1]Building Info'!$A$2:$A$2968=HO$2))","v":6543},{"$f":"_xlfn._xlws.SORT(_xlfn._xlws.FILTER('[1]Building Info'!$D$2:$D$2968,'[1]Building Info'!$A$2:$A$2968=HP$2))","v":6571},{"$f":"_xlfn._xlws.SORT(_xlfn._xlws.FILTER('[1]Building Info'!$D$2:$D$2968,'[1]Building Info'!$A$2:$A$2968=HQ$2))","v":6585},{"$f":"_xlfn._xlws.SORT(_xlfn._xlws.FILTER('[1]Building Info'!$D$2:$D$2968,'[1]Building Info'!$A$2:$A$2968=HR$2))","v":6672},{"$f":"_xlfn._xlws.SORT(_xlfn._xlws.FILTER('[1]Building Info'!$D$2:$D$2968,'[1]Building Info'!$A$2:$A$2968=HS$2))","v":6720},{"$f":"_xlfn._xlws.SORT(_xlfn._xlws.FILTER('[1]Building Info'!$D$2:$D$2968,'[1]Building Info'!$A$2:$A$2968=HT$2))","v":6747},{"$f":"_xlfn._xlws.SORT(_xlfn._xlws.FILTER('[1]Building Info'!$D$2:$D$2968,'[1]Building Info'!$A$2:$A$2968=HU$2))","v":6814},{"$f":"_xlfn._xlws.SORT(_xlfn._xlws.FILTER('[1]Building Info'!$D$2:$D$2968,'[1]Building Info'!$A$2:$A$2968=HV$2))","v":6867},{"$f":"_xlfn._xlws.SORT(_xlfn._xlws.FILTER('[1]Building Info'!$D$2:$D$2968,'[1]Building Info'!$A$2:$A$2968=HW$2))","v":6891},{"$f":"_xlfn._xlws.SORT(_xlfn._xlws.FILTER('[1]Building Info'!$D$2:$D$2968,'[1]Building Info'!$A$2:$A$2968=HX$2))","v":6913},{"$f":"_xlfn._xlws.SORT(_xlfn._xlws.FILTER('[1]Building Info'!$D$2:$D$2968,'[1]Building Info'!$A$2:$A$2968=HY$2))","v":6936},{"$f":"_xlfn._xlws.SORT(_xlfn._xlws.FILTER('[1]Building Info'!$D$2:$D$2968,'[1]Building Info'!$A$2:$A$2968=HZ$2))","v":6979},{"$f":"_xlfn._xlws.SORT(_xlfn._xlws.FILTER('[1]Building Info'!$D$2:$D$2968,'[1]Building Info'!$A$2:$A$2968=IA$2))","v":6999},{"$f":"_xlfn._xlws.SORT(_xlfn._xlws.FILTER('[1]Building Info'!$D$2:$D$2968,'[1]Building Info'!$A$2:$A$2968=IB$2))","v":7055},{"$f":"_xlfn._xlws.SORT(_xlfn._xlws.FILTER('[1]Building Info'!$D$2:$D$2968,'[1]Building Info'!$A$2:$A$2968=IC$2))","v":7093},{"$f":"_xlfn._xlws.SORT(_xlfn._xlws.FILTER('[1]Building Info'!$D$2:$D$2968,'[1]Building Info'!$A$2:$A$2968=ID$2))","v":7114},{"$f":"_xlfn._xlws.SORT(_xlfn._xlws.FILTER('[1]Building Info'!$D$2:$D$2968,'[1]Building Info'!$A$2:$A$2968=IE$2))","v":7158},{"$f":"_xlfn._xlws.SORT(_xlfn._xlws.FILTER('[1]Building Info'!$D$2:$D$2968,'[1]Building Info'!$A$2:$A$2968=IF$2))","v":7183},{"$f":"_xlfn._xlws.SORT(_xlfn._xlws.FILTER('[1]Building Info'!$D$2:$D$2968,'[1]Building Info'!$A$2:$A$2968=IG$2))","v":7203},{"$f":"_xlfn._xlws.SORT(_xlfn._xlws.FILTER('[1]Building Info'!$D$2:$D$2968,'[1]Building Info'!$A$2:$A$2968=IH$2))","v":7223},{"$f":"_xlfn._xlws.SORT(_xlfn._xlws.FILTER('[1]Building Info'!$D$2:$D$2968,'[1]Building Info'!$A$2:$A$2968=II$2))","v":7245},{"$f":"_xlfn._xlws.SORT(_xlfn._xlws.FILTER('[1]Building Info'!$D$2:$D$2968,'[1]Building Info'!$A$2:$A$2968=IJ$2))","v":7267},{"$f":"_xlfn._xlws.SORT(_xlfn._xlws.FILTER('[1]Building Info'!$D$2:$D$2968,'[1]Building Info'!$A$2:$A$2968=IK$2))","v":7282},{"$f":"_xlfn._xlws.SORT(_xlfn._xlws.FILTER('[1]Building Info'!$D$2:$D$2968,'[1]Building Info'!$A$2:$A$2968=IL$2))","v":7308},{"$f":"_xlfn._xlws.SORT(_xlfn._xlws.FILTER('[1]Building Info'!$D$2:$D$2968,'[1]Building Info'!$A$2:$A$2968=IM$2))","v":7349},{"$f":"_xlfn._xlws.SORT(_xlfn._xlws.FILTER('[1]Building Info'!$D$2:$D$2968,'[1]Building Info'!$A$2:$A$2968=IN$2))","v":7377},{"$f":"_xlfn._xlws.SORT(_xlfn._xlws.FILTER('[1]Building Info'!$D$2:$D$2968,'[1]Building Info'!$A$2:$A$2968=IO$2))","v":7401},{"$f":"_xlfn._xlws.SORT(_xlfn._xlws.FILTER('[1]Building Info'!$D$2:$D$2968,'[1]Building Info'!$A$2:$A$2968=IP$2))","v":7414},{"$f":"_xlfn._xlws.SORT(_xlfn._xlws.FILTER('[1]Building Info'!$D$2:$D$2968,'[1]Building Info'!$A$2:$A$2968=IQ$2))","v":7439},{"$f":"_xlfn._xlws.SORT(_xlfn._xlws.FILTER('[1]Building Info'!$D$2:$D$2968,'[1]Building Info'!$A$2:$A$2968=IR$2))","v":7490},{"$f":"_xlfn._xlws.SORT(_xlfn._xlws.FILTER('[1]Building Info'!$D$2:$D$2968,'[1]Building Info'!$A$2:$A$2968=IS$2))","v":7533},{"$f":"_xlfn._xlws.SORT(_xlfn._xlws.FILTER('[1]Building Info'!$D$2:$D$2968,'[1]Building Info'!$A$2:$A$2968=IT$2))","v":7570},{"$f":"_xlfn._xlws.SORT(_xlfn._xlws.FILTER('[1]Building Info'!$D$2:$D$2968,'[1]Building Info'!$A$2:$A$2968=IU$2))","v":7588},{"$f":"_xlfn._xlws.SORT(_xlfn._xlws.FILTER('[1]Building Info'!$D$2:$D$2968,'[1]Building Info'!$A$2:$A$2968=IV$2))","v":7644},{"$f":"_xlfn._xlws.SORT(_xlfn._xlws.FILTER('[1]Building Info'!$D$2:$D$2968,'[1]Building Info'!$A$2:$A$2968=IW$2))","v":7663},{"$f":"_xlfn._xlws.SORT(_xlfn._xlws.FILTER('[1]Building Info'!$D$2:$D$2968,'[1]Building Info'!$A$2:$A$2968=IX$2))","v":7691},{"$f":"_xlfn._xlws.SORT(_xlfn._xlws.FILTER('[1]Building Info'!$D$2:$D$2968,'[1]Building Info'!$A$2:$A$2968=IY$2))","v":7713},{"$f":"_xlfn._xlws.SORT(_xlfn._xlws.FILTER('[1]Building Info'!$D$2:$D$2968,'[1]Building Info'!$A$2:$A$2968=IZ$2))","v":7749},{"$f":"_xlfn._xlws.SORT(_xlfn._xlws.FILTER('[1]Building Info'!$D$2:$D$2968,'[1]Building Info'!$A$2:$A$2968=JA$2))","v":7772},{"$f":"_xlfn._xlws.SORT(_xlfn._xlws.FILTER('[1]Building Info'!$D$2:$D$2968,'[1]Building Info'!$A$2:$A$2968=JB$2))","v":7797},{"$f":"_xlfn._xlws.SORT(_xlfn._xlws.FILTER('[1]Building Info'!$D$2:$D$2968,'[1]Building Info'!$A$2:$A$2968=JC$2))","v":7815},{"$f":"_xlfn._xlws.SORT(_xlfn._xlws.FILTER('[1]Building Info'!$D$2:$D$2968,'[1]Building Info'!$A$2:$A$2968=JD$2))","v":7887},{"$f":"_xlfn._xlws.SORT(_xlfn._xlws.FILTER('[1]Building Info'!$D$2:$D$2968,'[1]Building Info'!$A$2:$A$2968=JE$2))","v":7934},{"$f":"_xlfn._xlws.SORT(_xlfn._xlws.FILTER('[1]Building Info'!$D$2:$D$2968,'[1]Building Info'!$A$2:$A$2968=JF$2))","v":7986},{"$f":"_xlfn._xlws.SORT(_xlfn._xlws.FILTER('[1]Building Info'!$D$2:$D$2968,'[1]Building Info'!$A$2:$A$2968=JG$2))","v":8022},{"$f":"_xlfn._xlws.SORT(_xlfn._xlws.FILTER('[1]Building Info'!$D$2:$D$2968,'[1]Building Info'!$A$2:$A$2968=JH$2))","v":8037},{"$f":"_xlfn._xlws.SORT(_xlfn._xlws.FILTER('[1]Building Info'!$D$2:$D$2968,'[1]Building Info'!$A$2:$A$2968=JI$2))","v":8059},{"$f":"_xlfn._xlws.SORT(_xlfn._xlws.FILTER('[1]Building Info'!$D$2:$D$2968,'[1]Building Info'!$A$2:$A$2968=JJ$2))","v":8107},{"$f":"_xlfn._xlws.SORT(_xlfn._xlws.FILTER('[1]Building Info'!$D$2:$D$2968,'[1]Building Info'!$A$2:$A$2968=JK$2))","v":8125},{"$f":"_xlfn._xlws.SORT(_xlfn._xlws.FILTER('[1]Building Info'!$D$2:$D$2968,'[1]Building Info'!$A$2:$A$2968=JL$2))","v":8163},{"$f":"_xlfn._xlws.SORT(_xlfn._xlws.FILTER('[1]Building Info'!$D$2:$D$2968,'[1]Building Info'!$A$2:$A$2968=JM$2))","v":8184},{"$f":"_xlfn._xlws.SORT(_xlfn._xlws.FILTER('[1]Building Info'!$D$2:$D$2968,'[1]Building Info'!$A$2:$A$2968=JN$2))","v":8237},{"$f":"_xlfn._xlws.SORT(_xlfn._xlws.FILTER('[1]Building Info'!$D$2:$D$2968,'[1]Building Info'!$A$2:$A$2968=JO$2))","v":8262},{"$f":"_xlfn._xlws.SORT(_xlfn._xlws.FILTER('[1]Building Info'!$D$2:$D$2968,'[1]Building Info'!$A$2:$A$2968=JP$2))","v":8276},{"$f":"_xlfn._xlws.SORT(_xlfn._xlws.FILTER('[1]Building Info'!$D$2:$D$2968,'[1]Building Info'!$A$2:$A$2968=JQ$2))","v":8440},{"$f":"_xlfn._xlws.SORT(_xlfn._xlws.FILTER('[1]Building Info'!$D$2:$D$2968,'[1]Building Info'!$A$2:$A$2968=JR$2))","v":8578},{"$f":"_xlfn._xlws.SORT(_xlfn._xlws.FILTER('[1]Building Info'!$D$2:$D$2968,'[1]Building Info'!$A$2:$A$2968=JS$2))","v":8585},{"$f":"_xlfn._xlws.SORT(_xlfn._xlws.FILTER('[1]Building Info'!$D$2:$D$2968,'[1]Building Info'!$A$2:$A$2968=JT$2))","v":8619},{"$f":"_xlfn._xlws.SORT(_xlfn._xlws.FILTER('[1]Building Info'!$D$2:$D$2968,'[1]Building Info'!$A$2:$A$2968=JU$2))","v":8370},{"$f":"_xlfn._xlws.SORT(_xlfn._xlws.FILTER('[1]Building Info'!$D$2:$D$2968,'[1]Building Info'!$A$2:$A$2968=JV$2))","v":8651},{"$f":"_xlfn._xlws.SORT(_xlfn._xlws.FILTER('[1]Building Info'!$D$2:$D$2968,'[1]Building Info'!$A$2:$A$2968=JW$2))","v":8693},{"$f":"_xlfn._xlws.SORT(_xlfn._xlws.FILTER('[1]Building Info'!$D$2:$D$2968,'[1]Building Info'!$A$2:$A$2968=JX$2))","v":8701},{"$f":"_xlfn._xlws.SORT(_xlfn._xlws.FILTER('[1]Building Info'!$D$2:$D$2968,'[1]Building Info'!$A$2:$A$2968=JY$2))","v":8741},{"$f":"_xlfn._xlws.SORT(_xlfn._xlws.FILTER('[1]Building Info'!$D$2:$D$2968,'[1]Building Info'!$A$2:$A$2968=JZ$2))","v":8761},{"$f":"_xlfn._xlws.SORT(_xlfn._xlws.FILTER('[1]Building Info'!$D$2:$D$2968,'[1]Building Info'!$A$2:$A$2968=KA$2))","v":8770}]
[null,107,125,2777,3331,2921,2976,2983,2991,193,201,393,409,434,281,132,149,179,208,238,260,286,306,341,355,373,403,443,466,482,496,514,536,552,615,658,684,700,722,757,790,803,825,846,891,945,976,1046,1078,1101,1120,1133,1154,1173,1193,1220,1246,1287,1298,1345,1374,1407,1456,1504,1531,1551,1591,1613,1926,1956,1979,1991,2009,2025,2043,2062,2090,2110,2130,2155,2171,2212,2256,2280,2409,2431,2466,2484,2518,2533,2559,2585,2610,2636,2665,2683,2706,2726,2796,2830,2858,2887,2939,2985,3050,3074,3099,3159,3183,3210,3233,3251,3276,3289,3314,3388,3417,3450,3480,3528,3558,3580,3650,3681,3706,3748,3778,3832,3854,3881,3910,3936,3944,3967,3987,4004,4021,4036,4054,4089,4113,4139,4157,4177,4194,4221,4248,4317,4338,4361,4381,4404,4420,4437,4483,4516,4531,4576,4629,4658,4688,4734,4761,4776,4789,4834,4849,4863,4881,4946,4964,5032,5058,5078,5113,5159,5179,5194,5215,5233,5256,5295,5319,5350,5370,5383,5412,5430,5458,5476,5494,5530,5553,5583,5620,5633,5690,5742,5763,5808,5834,5849,5871,5928,5967,5988,6019,6065,6088,6102,6118,6133,6192,6255,6314,6340,6367,6396,6440,6465,6491,6511,6544,6572,6586,6673,6721,6748,6815,6868,6892,6913,6937,6979,7003,7057,7094,7115,7159,7184,7204,7224,7245,7268,7283,7309,7351,7378,7402,7415,7440,7491,7534,7571,7589,7645,7663,7692,7715,7749,7778,7797,7816,7888,7935,7987,8023,8038,8060,8109,8126,8163,8185,8238,8264,8277,8441,8579,8591,8619,8372,8652,8693,8702,8742,8761,8771]
[null,109,128,2779,3332,2922,2977,2989,2999,194,203,415,410,435,283,133,153,181,209,240,262,287,307,342,356,374,404,444,467,483,497,515,537,553,616,659,685,701,723,758,792,804,827,847,893,946,977,1047,1079,1102,1122,1134,1155,1175,1193,1221,1247,1289,1301,1347,1375,1409,1457,1505,1532,1554,1592,1614,1927,1958,1980,1992,2011,2026,2044,2063,2091,2111,2132,2156,2173,2213,2257,2281,2411,2432,2467,2485,2519,2535,2561,2586,2611,2637,2666,2684,2707,2726,2797,2831,2859,2889,2940,2993,3051,3075,3101,3160,3184,3212,3234,3252,3277,3290,3315,3389,3421,3451,3480,3529,3559,3581,3651,3681,3707,3749,3779,3833,3855,3882,3911,3937,3945,3970,3988,4005,4021,4037,4055,4090,4115,4141,4157,4177,4195,4221,4251,4318,4338,4361,4382,4405,4422,4437,4483,4517,4532,4577,4631,4659,4689,4735,4762,4777,4793,4835,4850,4863,4882,4947,4966,5033,5059,5079,5114,5160,5180,5198,5219,5234,5257,5296,5321,5351,5371,5384,5413,5431,5459,5477,5495,5531,5554,5585,5621,5633,5691,5743,5765,5809,5836,5850,5874,5929,5969,5989,6020,6066,6089,6103,6119,6135,6193,6256,6315,6341,6368,6397,6441,6466,6492,6512,6544,6573,6587,6674,6721,6750,6816,6869,6893,6913,6938,6981,7005,7058,7095,7118,7160,7185,7205,7225,7246,7269,7284,7310,7352,7379,7403,7416,7442,7492,7535,7572,7590,7646,7664,7693,7717,7750,7779,7797,7818,7889,7936,7990,8026,8040,8062,8110,8127,8164,8189,8239,8265,8279,8443,8580,8593,8621,8373,8653,8694,8703,8743,8762,8773]
[null,110,129,2780,3333,2922,2987,2997,3011,195,215,416,411,436,293,134,154,182,210,241,263,288,308,343,357,375,405,446,468,484,498,516,537,554,620,660,686,702,724,759,793,805,829,849,898,946,978,1048,1080,1102,1123,1136,1156,1176,1193,1222,1248,1291,1302,1347,1376,1411,1457,1506,1533,1555,1593,1615,1928,1960,1981,1993,2012,2027,2045,2064,2092,2113,2136,2157,2175,2214,2259,2282,2412,2432,2470,2487,2520,2535,2563,2587,2620,2643,2667,2685,2709,2738,2798,2832,2860,2890,2940,2994,3052,3080,3103,3161,3184,3218,3235,3253,3278,3291,3316,3391,3426,3453,3482,3531,3562,3582,3652,3681,3708,3750,3780,3834,3856,3883,3912,3938,3946,3971,3991,4006,4021,4038,4057,4091,4116,4142,4158,4179,4196,4221,4252,4319,4338,4361,4384,4406,4423,4437,4484,4518,4533,4579,4631,4661,4690,4735,4764,4778,4793,4836,4852,4864,4883,4950,4967,5034,5060,5080,5115,5161,5181,5199,5221,5235,5268,5297,5321,5354,5372,5385,5414,5432,5460,5486,5498,5532,5555,5586,5622,5633,5692,5745,5767,5811,5837,5851,5875,5930,5970,5990,6021,6069,6090,6104,6120,6135,6194,6257,6316,6342,6369,6399,6442,6467,6493,6513,6545,6574,6588,6675,6723,6751,6820,6870,6895,6914,6939,6981,7011,7059,7096,7119,7162,7186,7206,7226,7247,7270,7285,7313,7352,7381,7404,7418,7443,7493,7536,7573,7592,7647,7665,7694,7718,7751,7779,7797,7819,7890,7937,7991,8027,8041,8063,8113,8129,8165,8190,8240,8266,8281,8446,8581,8594,8622,8374,8654,8695,8704,8744,8763,8774]
[null,111,135,2792,3334,2923,2995,3003,3013,196,217,417,413,437,295,137,155,183,213,242,266,290,311,344,358,375,405,448,469,485,499,517,538,555,622,661,687,703,725,760,794,807,830,850,900,947,1010,1049,1081,1103,1124,1137,1159,1178,1194,1230,1249,1293,1303,1348,1382,1414,1472,1507,1534,1557,1594,1617,1930,1961,1982,1996,2014,2028,2046,2065,2093,2115,2138,2158,2176,2215,2262,2286,2413,2433,2472,2489,2521,2537,2564,2588,2621,2644,2668,2687,2710,2740,2812,2840,2861,2891,2941,2996,3056,3082,3104,3164,3189,3220,3237,3254,3279,3292,3317,3392,3428,3456,3483,3538,3564,3594,3654,3683,3709,3752,3783,3835,3857,3884,3913,3940,3948,3972,3993,4007,4021,4039,4058,4092,4117,4147,4159,4179,4200,4223,4253,4320,4339,4362,4388,4407,4427,4438,4484,4519,4534,4580,4634,4662,4691,4736,4765,4779,4795,4837,4853,4866,4883,4952,4968,5035,5061,5081,5116,5164,5182,5202,5223,5236,5287,5298,5323,5356,5374,5387,5416,5433,5462,5488,5504,5534,5556,5587,5623,5633,5693,5746,5770,5812,5838,5852,5879,5931,5971,5991,6024,6070,6091,6105,6121,6138,6195,6258,6324,6343,6373,6403,6443,6468,6494,6515,6559,6575,6589,6677,6723,6752,6821,6871,6896,6914,6940,6981,7020,7061,7097,7120,7163,7187,7207,7227,7247,7271,7287,7315,7352,7382,7405,7418,7445,7494,7537,7574,7593,7648,7665,7695,7719,7751,7781,7798,7821,7891,7938,7993,8029,8044,8064,8114,8131,8167,8191,8241,8267,8282,8447,8583,8596,8623,8375,8655,8696,8705,8746,8764,8776]
[null,112,null,2793,3348,2923,3007,3009,3017,197,null,429,414,438,296,null,157,186,214,245,268,291,312,345,359,375,406,450,470,486,null,519,539,556,628,668,null,null,null,761,795,808,832,851,902,964,1012,1060,1088,1103,1125,1138,1161,1179,1195,1232,1258,1295,1304,1349,1388,1416,1475,null,1535,1559,1595,1618,1931,1962,1983,1997,2017,2029,2047,2066,2094,2116,null,2159,2177,2216,2266,2288,2415,2433,null,2491,null,2544,2565,null,2622,2645,2669,2689,2712,null,2816,2842,null,2892,2948,3000,null,null,3105,3165,3190,3222,3238,3255,3280,3293,3318,3393,3430,3458,3484,3540,null,3598,3655,3686,3710,null,3784,3836,3871,3885,3914,3941,3950,3973,3994,4008,4022,4040,4059,4094,4120,4148,4159,4180,null,4225,4255,4321,4340,4363,4390,null,4428,4439,4484,4520,4545,4581,4634,4664,4693,4737,4766,null,4797,4838,4854,4867,4884,null,4969,5035,null,5081,5119,5166,5183,5203,5224,5237,null,5300,5323,null,5376,5389,5417,5435,5463,null,5505,5536,5559,5598,5623,5634,5694,5747,5771,5813,5838,5853,5880,5932,5972,5992,6028,6071,6092,6106,6122,6139,6196,6261,6326,6344,6375,null,6444,6470,6496,6517,6560,6576,6592,6678,6726,6756,6823,6876,6898,6914,6943,6982,7023,7062,7104,7124,7164,null,7208,7228,7249,7272,7288,7316,7354,7385,7406,7419,7448,7495,7538,null,7594,7651,7666,7697,7723,7751,7782,7799,7822,7891,7939,7999,8030,8046,8065,8116,8133,8171,8193,8242,8268,8284,8449,8583,8599,8624,8376,8656,8697,8707,null,8765,8777]
[null,113,null,3374,3350,2926,null,3019,3070,null,null,430,419,438,297,null,160,187,216,247,272,292,null,346,365,377,407,451,471,487,null,520,null,null,630,null,null,null,null,764,797,809,833,852,904,966,null,1064,1090,1104,null,1139,1163,1181,1196,null,1260,1309,1307,1350,1392,1417,null,null,1536,1561,1596,1622,1933,1964,1984,1998,2018,2030,2049,2067,2095,null,null,null,2179,2217,2268,null,2415,2434,null,null,null,2546,2567,null,null,2647,2671,2691,null,null,null,null,null,2894,2952,3001,null,null,3106,3166,3191,null,3245,3257,null,3293,3319,3394,3432,null,3485,3542,null,3600,3665,3687,3711,null,3785,3838,3872,3887,3916,null,null,3974,3995,4009,4023,null,4061,4095,null,4149,4160,4181,null,4226,4260,4322,4341,4364,null,null,null,4440,4484,4521,4548,4592,4639,4665,4694,4738,4767,null,4808,4840,4855,4867,4885,null,4970,5036,null,5082,5120,null,5184,null,null,5238,null,null,5324,null,5377,5390,5420,5437,5464,null,5506,5538,5560,5600,5624,5634,5695,5748,5775,5814,5839,5854,5881,5933,5973,5994,6030,null,6093,null,null,6140,6206,6268,null,6348,6377,null,6446,6471,null,6518,null,null,6594,6679,6728,6770,6825,null,null,6917,6944,6983,7026,null,null,7126,7166,null,7210,7232,7254,7273,7298,7317,7355,null,null,7420,7450,null,7539,null,7595,null,7667,null,7725,7752,7783,7799,7832,7891,7940,8000,8031,8047,8066,null,8140,null,8194,8246,8269,8285,8450,null,8602,8625,8636,8657,8697,8710,null,8765,8781]
[null,null,null,null,null,2928,null,null,null,null,null,431,420,438,null,null,164,189,218,249,274,294,null,346,366,378,407,453,null,null,null,523,null,null,null,null,null,null,null,765,799,811,835,853,906,null,null,null,null,1105,null,1140,1165,1182,1197,null,1262,1313,1310,1353,1394,1418,null,null,1538,1562,1598,1623,1934,1965,1985,1999,2019,2031,2050,2068,null,null,null,null,null,2218,null,null,null,2434,null,null,null,null,2569,null,null,2648,null,null,null,null,null,null,null,null,null,3002,null,null,3107,3167,null,null,3247,3261,null,3294,null,3396,3436,null,3488,null,null,null,3667,null,3712,null,3787,null,null,3889,3918,null,null,3975,null,null,4024,null,4063,null,null,4150,4160,4182,null,4228,4265,4323,4342,4365,null,null,null,4441,4485,4522,4551,4610,4646,4666,4697,null,null,null,4810,4841,4856,4872,4889,null,4972,5037,null,5085,5121,null,5185,null,null,null,null,null,5324,null,5380,5396,5422,null,null,null,5520,null,5561,null,5625,5634,5718,5750,5776,5815,5840,null,5882,5934,5978,null,6032,null,null,null,null,6142,null,6270,null,6350,6378,null,6447,6472,null,6519,null,null,null,6680,6729,6772,6828,null,null,6918,6945,6984,7028,null,null,7127,7169,null,null,null,null,7274,7299,7318,7356,null,null,7421,7451,null,7540,null,7597,null,null,null,7729,7753,null,7799,7838,7892,7943,8002,8032,8050,8068,null,8142,null,8195,8252,8270,8287,8451,null,8603,8625,8638,8658,8698,null,null,null,8782]
[null,null,null,null,null,2966,null,null,null,null,null,1129,421,439,null,null,165,190,219,null,null,null,null,null,367,379,408,455,null,null,null,525,null,null,null,null,null,null,null,767,801,812,836,854,907,null,null,null,null,1106,null,1142,1166,null,1198,null,1263,null,1311,1358,null,1419,null,null,null,1563,1600,1624,1935,1966,1986,2000,null,2033,2051,2070,null,null,null,null,null,2220,null,null,null,2435,null,null,null,null,null,null,null,2650,null,null,null,null,null,null,null,null,null,3005,null,null,3108,3168,null,null,3249,3262,null,3297,null,3398,null,null,3492,null,null,null,null,null,3713,null,3793,null,null,3890,3921,null,null,null,null,null,4029,null,4065,null,null,4151,4161,null,null,4230,4266,null,4343,4365,null,null,null,4442,4496,null,null,4612,null,4667,4699,null,null,null,4813,null,4859,4872,4891,null,4973,5038,null,5088,5124,null,5186,null,null,null,null,null,5325,null,5386,null,null,null,null,null,5521,null,5562,null,5626,5634,5720,null,5779,5816,null,null,null,5936,5980,null,6034,null,null,null,null,6146,null,6274,null,null,6380,null,null,6475,null,6520,null,null,null,6682,6734,6788,6829,null,null,6919,6946,6985,7029,null,null,7128,7170,null,null,null,null,null,7300,7319,7357,null,null,7421,7454,null,7541,null,7598,null,null,null,7731,7753,null,7799,null,7893,7944,8003,8032,8051,8070,null,null,null,8197,null,8274,8288,8452,null,8604,8625,null,8666,null,null,null,null,8783]
[null,null,null,null,null,null,null,null,null,null,null,null,428,456,null,null,167,null,220,null,null,null,null,null,null,380,null,1116,null,null,null,null,null,null,null,null,null,null,null,768,929,813,837,855,910,null,null,null,null,null,null,1143,null,null,null,null,null,null,1314,null,null,1420,null,null,null,1564,null,1625,1936,1968,1995,null,null,2034,2052,2071,null,null,null,null,null,null,null,null,null,2435,null,null,null,null,null,null,null,2652,null,null,null,null,null,null,null,null,null,3006,null,null,3111,3169,null,null,3263,3264,null,3297,null,3399,null,null,3495,null,null,null,null,null,3716,null,3794,null,null,3892,null,null,null,null,null,null,4030,null,4067,null,null,null,4162,null,null,4232,4274,null,null,4365,null,null,null,4458,4502,null,null,null,null,4669,4700,null,null,null,4819,null,4871,4875,null,null,4974,5039,null,5090,5125,null,5187,null,null,null,null,null,5332,null,null,null,null,null,null,null,null,null,5565,null,null,5636,5722,null,null,null,null,null,null,5940,null,null,6038,null,null,null,null,null,null,6276,null,null,null,null,null,6476,null,6521,null,null,null,6683,null,null,6830,null,null,6920,6947,6985,7031,null,null,7129,7172,null,null,null,null,null,null,7321,7358,null,null,7423,7455,null,7542,null,7600,null,null,null,7731,7758,null,7800,null,null,7945,8009,8032,null,null,null,null,null,8198,null,null,8290,8453,null,8607,8626,null,8680,null,null,null,null,8784]
[null,null,null,null,null,null,null,null,null,null,null,null,462,456,null,null,168,null,221,null,null,null,null,null,null,null,null,null,null,null,null,null,null,null,null,null,null,null,null,769,931,814,839,856,911,null,null,null,null,null,null,null,null,null,null,null,null,null,1315,null,null,1422,null,null,null,1578,null,1627,1941,1970,2006,null,null,2035,2053,null,null,null,null,null,null,null,null,null,null,2436,null,null,null,null,null,null,null,2653,null,null,null,null,null,null,null,null,null,3008,null,null,3112,3170,null,null,null,3265,null,3298,null,null,null,null,null,null,null,null,null,null,3724,null,null,null,null,null,null,null,null,null,null,null,null,null,4069,null,null,null,4164,null,null,4233,4276,null,null,4366,null,null,null,null,4504,null,null,null,null,4671,4701,null,null,null,4821,null,4874,4875,null,null,4976,null,null,5092,5126,null,5188,null,null,null,null,null,5334,null,null,null,null,null,null,null,null,null,5568,null,null,5637,5724,null,null,null,null,null,null,5950,null,null,6040,null,null,null,null,null,null,6280,null,null,null,null,null,null,null,6522,null,null,null,6684,null,null,6831,null,null,6921,6948,null,7033,null,null,7130,7175,null,null,null,null,null,null,7324,7359,null,null,7426,7456,null,7546,null,7601,null,null,null,7731,7760,null,7801,null,null,7946,8011,8032,null,null,null,null,null,8199,null,null,8291,8455,null,8608,8628,null,8684,null,null,null,null,8786]
[null,null,null,null,null,null,null,null,null,null,null,null,null,456,null,null,169,null,228,null,null,null,null,null,null,null,null,null,null,null,null,null,null,null,null,null,null,null,null,770,951,815,841,857,null,null,null,null,null,null,null,null,null,null,null,null,null,null,1316,null,null,1424,null,null,null,1578,null,1628,1942,1971,2006,null,null,2036,2054,null,null,null,null,null,null,null,null,null,null,2437,null,null,null,null,null,null,null,2654,null,null,null,null,null,null,null,null,null,3012,null,null,3114,3171,null,null,null,3266,null,3298,null,null,null,null,null,null,null,null,null,null,null,null,null,null,null,null,null,null,null,null,null,null,null,null,4071,null,null,null,null,null,null,4234,4280,null,null,4367,null,null,null,null,4505,null,null,null,null,null,4703,null,null,null,4823,null,4876,null,null,null,5014,null,null,null,5127,null,5190,null,null,null,null,null,null,null,null,null,null,null,null,null,null,null,5570,null,null,5637,5726,null,null,null,null,null,null,null,null,null,null,null,null,null,null,null,null,6284,null,null,null,null,null,null,null,6523,null,null,null,6685,null,null,null,null,null,null,null,null,7041,null,null,7131,7178,null,null,null,null,null,null,7326,7360,null,null,7427,7458,null,7552,null,7605,null,null,null,7731,null,null,7801,null,null,7948,8012,8033,null,null,null,null,null,8201,null,null,8292,8456,null,8609,null,null,null,null,null,null,null,8787]
[null,null,null,null,null,null,null,null,null,null,null,null,null,459,null,null,984,null,1320,null,null,null,null,null,null,null,null,null,null,null,null,null,null,null,null,null,null,null,null,771,954,816,842,858,null,null,null,null,null,null,null,null,null,null,null,null,null,null,null,null,null,1425,null,null,null,null,null,1629,1943,1972,2007,null,null,2037,2054,null,null,null,null,null,null,null,null,null,null,null,null,null,null,null,null,null,null,2655,null,null,null,null,null,null,null,null,null,3014,null,null,3115,null,null,null,null,null,null,null,null,null,null,null,null,null,null,null,null,null,null,null,null,null,null,null,null,null,null,null,null,null,null,null,4072,null,null,null,null,null,null,4239,null,null,null,4367,null,null,null,null,null,null,null,null,null,null,null,null,null,null,4824,null,null,null,null,null,5016,null,null,null,5128,null,5191,null,null,null,null,null,null,null,null,null,null,null,null,null,null,null,5571,null,null,5637,null,null,null,null,null,null,null,null,null,null,null,null,null,null,null,null,null,6292,null,null,null,null,null,null,null,6524,null,null,null,6686,null,null,null,null,null,null,null,null,7041,null,null,7132,7179,null,null,null,null,null,null,7330,null,null,null,7427,7466,null,null,null,7606,null,null,null,7731,null,null,7801,null,null,7950,null,null,null,null,null,null,null,8202,null,null,8293,8462,null,null,null,null,null,null,null,null,null,8788]
[null,null,null,null,null,null,null,null,null,null,null,null,null,459,null,null,null,null,null,null,null,null,null,null,null,null,null,null,null,null,null,null,null,null,null,null,null,null,null,772,957,817,843,859,null,null,null,null,null,null,null,null,null,null,null,null,null,null,null,null,null,1428,null,null,null,null,null,1630,1944,1973,null,null,null,2056,2054,null,null,null,null,null,null,null,null,null,null,null,null,null,null,null,null,null,null,2658,null,null,null,null,null,null,null,null,null,3015,null,null,3116,null,null,null,null,null,null,null,null,null,null,null,null,null,null,null,null,null,null,null,null,null,null,null,null,null,null,null,null,null,null,null,4075,null,null,null,null,null,null,null,null,null,null,null,null,null,null,null,null,null,null,null,null,null,null,null,null,null,4827,null,null,null,null,null,null,null,null,null,5130,null,5197,null,null,null,null,null,null,null,null,null,null,null,null,null,null,null,null,null,null,5637,null,null,null,null,null,null,null,null,null,null,null,null,null,null,null,null,null,6300,null,null,null,null,null,null,null,6525,null,null,null,6687,null,null,null,null,null,null,null,null,7043,null,null,7133,7180,null,null,null,null,null,null,7332,null,null,null,7429,7469,null,null,null,7607,null,null,null,7731,null,null,7801,null,null,7952,null,null,null,null,null,null,null,8203,null,null,8295,8465,null,null,null,null,null,null,null,null,null,8789]
[null,null,null,null,null,null,null,null,null,null,null,null,null,459,null,null,null,null,null,null,null,null,null,null,null,null,null,null,null,null,null,null,null,null,null,null,null,null,null,773,null,818,844,860,null,null,null,null,null,null,null,null,null,null,null,null,null,null,null,null,null,1429,null,null,null,null,null,1631,1945,1975,null,null,null,2069,2054,null,null,null,null,null,null,null,null,null,null,null,null,null,null,null,null,null,null,2659,null,null,null,null,null,null,null,null,null,3018,null,null,3117,null,null,null,null,null,null,null,null,null,null,null,null,null,null,null,null,null,null,null,null,null,null,null,null,null,null,null,null,null,null,null,4076,null,null,null,null,null,null,null,null,null,null,null,null,null,null,null,null,null,null,null,null,null,null,null,null,null,4831,null,null,null,null,null,null,null,null,null,5131,null,5201,null,null,null,null,null,null,null,null,null,null,null,null,null,null,null,null,null,null,5638,null,null,null,null,null,null,null,null,null,null,null,null,null,null,null,null,null,6301,null,null,null,null,null,null,null,6526,null,null,null,6688,null,null,null,null,null,null,null,null,7045,null,null,7138,7181,null,null,null,null,null,null,7333,null,null,null,7431,null,null,null,null,7608,null,null,null,7731,null,null,7804,null,null,7954,null,null,null,null,null,null,null,8204,null,null,8298,8467,null,null,null,null,null,null,null,null,null,8790]
[null,null,null,null,null,null,null,null,null,null,null,null,null,463,null,null,null,null,null,null,null,null,null,null,null,null,null,null,null,null,null,null,null,null,null,null,null,null,null,774,null,819,903,861,null,null,null,null,null,null,null,null,null,null,null,null,null,null,null,null,null,1430,null,null,null,null,null,1633,1976,2105,null,null,null,2073,2057,null,null,null,null,null,null,null,null,null,null,null,null,null,null,null,null,null,null,null,null,null,null,null,null,null,null,null,null,3020,null,null,3118,null,null,null,null,null,null,null,null,null,null,null,null,null,null,null,null,null,null,null,null,null,null,null,null,null,null,null,null,null,null,null,null,null,null,null,null,null,null,null,null,null,null,null,null,null,null,null,null,null,null,null,null,null,null,null,null,null,4842,null,null,null,null,null,null,null,null,null,5132,null,5204,null,null,null,null,null,null,null,null,null,null,null,null,null,null,null,null,null,null,5639,null,null,null,null,null,null,null,null,null,null,null,null,null,null,null,null,null,null,null,null,null,null,null,null,null,6526,null,null,null,6689,null,null,null,null,null,null,null,null,7045,null,null,7140,7188,null,null,null,null,null,null,7337,null,null,null,7435,null,null,null,null,7610,null,null,null,7731,null,null,null,null,null,7956,null,null,null,null,null,null,null,8205,null,null,8301,8471,null,null,null,null,null,null,null,null,null,8791]
[null,null,null,null,null,null,null,null,null,null,null,null,null,463,null,null,null,null,null,null,null,null,null,null,null,null,null,null,null,null,null,null,null,null,null,null,null,null,null,776,null,927,909,862,null,null,null,null,null,null,null,null,null,null,null,null,null,null,null,null,null,1449,null,null,null,null,null,1634,2003,2301,null,null,null,2077,2058,null,null,null,null,null,null,null,null,null,null,null,null,null,null,null,null,null,null,null,null,null,null,null,null,null,null,null,null,3022,null,null,3119,null,null,null,null,null,null,null,null,null,null,null,null,null,null,null,null,null,null,null,null,null,null,null,null,null,null,null,null,null,null,null,null,null,null,null,null,null,null,null,null,null,null,null,null,null,null,null,null,null,null,null,null,null,null,null,null,null,4843,null,null,null,null,null,null,null,null,null,5133,null,null,null,null,null,null,null,null,null,null,null,null,null,null,null,null,null,null,null,null,5640,null,null,null,null,null,null,null,null,null,null,null,null,null,null,null,null,null,null,null,null,null,null,null,null,null,6527,null,null,null,6690,null,null,null,null,null,null,null,null,7046,null,null,7143,null,null,null,null,null,null,null,null,null,null,null,7467,null,null,null,null,7612,null,null,null,7731,null,null,null,null,null,7959,null,null,null,null,null,null,null,8206,null,null,8303,8472,null,null,null,null,null,null,null,null,null,8793]
[null,null,null,null,null,null,null,null,null,null,null,null,null,null,null,null,null,null,null,null,null,null,null,null,null,null,null,null,null,null,null,null,null,null,null,null,null,null,null,777,null,936,912,863,null,null,null,null,null,null,null,null,null,null,null,null,null,null,null,null,null,null,null,null,null,null,null,1636,2003,null,null,null,null,2188,2059,null,null,null,null,null,null,null,null,null,null,null,null,null,null,null,null,null,null,null,null,null,null,null,null,null,null,null,null,3023,null,null,3124,null,null,null,null,null,null,null,null,null,null,null,null,null,null,null,null,null,null,null,null,null,null,null,null,null,null,null,null,null,null,null,null,null,null,null,null,null,null,null,null,null,null,null,null,null,null,null,null,null,null,null,null,null,null,null,null,null,4845,null,null,null,null,null,null,null,null,null,5135,null,null,null,null,null,null,null,null,null,null,null,null,null,null,null,null,null,null,null,null,5641,null,null,null,null,null,null,null,null,null,null,null,null,null,null,null,null,null,null,null,null,null,null,null,null,null,6528,null,null,null,6707,null,null,null,null,null,null,null,null,7047,null,null,7147,null,null,null,null,null,null,null,null,null,null,null,7467,null,null,null,null,7614,null,null,null,7732,null,null,null,null,null,null,null,null,null,null,null,null,null,8207,null,null,8304,8480,null,null,null,null,null,null,null,null,null,8794]
[null,null,null,null,null,null,null,null,null,null,null,null,null,null,null,null,null,null,null,null,null,null,null,null,null,null,null,null,null,null,null,null,null,null,null,null,null,null,null,778,null,949,916,864,null,null,null,null,null,null,null,null,null,null,null,null,null,null,null,null,null,null,null,null,null,null,null,1637,2106,null,null,null,null,null,2075,null,null,null,null,null,null,null,null,null,null,null,null,null,null,null,null,null,null,null,null,null,null,null,null,null,null,null,null,3024,null,null,3125,null,null,null,null,null,null,null,null,null,null,null,null,null,null,null,null,null,null,null,null,null,null,null,null,null,null,null,null,null,null,null,null,null,null,null,null,null,null,null,null,null,null,null,null,null,null,null,null,null,null,null,null,null,null,null,null,null,4847,null,null,null,null,null,null,null,null,null,5136,null,null,null,null,null,null,null,null,null,null,null,null,null,null,null,null,null,null,null,null,5642,null,null,null,null,null,null,null,null,null,null,null,null,null,null,null,null,null,null,null,null,null,null,null,null,null,6530,null,null,null,null,null,null,null,null,null,null,null,null,null,null,null,7148,null,null,null,null,null,null,null,null,null,null,null,null,null,null,null,null,7616,null,null,null,7735,null,null,null,null,null,null,null,null,null,null,null,null,null,8208,null,null,8304,8482,null,null,null,null,null,null,null,null,null,8796]
[null,null,null,null,null,null,null,null,null,null,null,null,null,null,null,null,null,null,null,null,null,null,null,null,null,null,null,null,null,null,null,null,null,null,null,null,null,null,null,779,null,null,956,865,null,null,null,null,null,null,null,null,null,null,null,null,null,null,null,null,null,null,null,null,null,null,null,1639,2297,null,null,null,null,null,2076,null,null,null,null,null,null,null,null,null,null,null,null,null,null,null,null,null,null,null,null,null,null,null,null,null,null,null,null,3025,null,null,3127,null,null,null,null,null,null,null,null,null,null,null,null,null,null,null,null,null,null,null,null,null,null,null,null,null,null,null,null,null,null,null,null,null,null,null,null,null,null,null,null,null,null,null,null,null,null,null,null,null,null,null,null,null,null,null,null,null,null,null,null,null,null,null,null,null,null,null,5137,null,null,null,null,null,null,null,null,null,null,null,null,null,null,null,null,null,null,null,null,5643,null,null,null,null,null,null,null,null,null,null,null,null,null,null,null,null,null,null,null,null,null,null,null,null,null,6532,null,null,null,null,null,null,null,null,null,null,null,null,null,null,null,7149,null,null,null,null,null,null,null,null,null,null,null,null,null,null,null,null,7618,null,null,null,7736,null,null,null,null,null,null,null,null,null,null,null,null,null,8209,null,null,8305,8484,null,null,null,null,null,null,null,null,null,8797]
[null,null,null,null,null,null,null,null,null,null,null,null,null,null,null,null,null,null,null,null,null,null,null,null,null,null,null,null,null,null,null,null,null,null,null,null,null,null,null,780,null,null,958,867,null,null,null,null,null,null,null,null,null,null,null,null,null,null,null,null,null,null,null,null,null,null,null,1640,null,null,null,null,null,null,2078,null,null,null,null,null,null,null,null,null,null,null,null,null,null,null,null,null,null,null,null,null,null,null,null,null,null,null,null,3026,null,null,3129,null,null,null,null,null,null,null,null,null,null,null,null,null,null,null,null,null,null,null,null,null,null,null,null,null,null,null,null,null,null,null,null,null,null,null,null,null,null,null,null,null,null,null,null,null,null,null,null,null,null,null,null,null,null,null,null,null,null,null,null,null,null,null,null,null,null,null,5138,null,null,null,null,null,null,null,null,null,null,null,null,null,null,null,null,null,null,null,null,5644,null,null,null,null,null,null,null,null,null,null,null,null,null,null,null,null,null,null,null,null,null,null,null,null,null,6533,null,null,null,null,null,null,null,null,null,null,null,null,null,null,null,7150,null,null,null,null,null,null,null,null,null,null,null,null,null,null,null,null,7620,null,null,null,7737,null,null,null,null,null,null,null,null,null,null,null,null,null,8210,null,null,8308,8486,null,null,null,null,null,null,null,null,null,8801]
[null,null,null,null,null,null,null,null,null,null,null,null,null,null,null,null,null,null,null,null,null,null,null,null,null,null,null,null,null,null,null,null,null,null,null,null,null,null,null,781,null,null,997,868,null,null,null,null,null,null,null,null,null,null,null,null,null,null,null,null,null,null,null,null,null,null,null,1641,null,null,null,null,null,null,2161,null,null,null,null,null,null,null,null,null,null,null,null,null,null,null,null,null,null,null,null,null,null,null,null,null,null,null,null,3027,null,null,3129,null,null,null,null,null,null,null,null,null,null,null,null,null,null,null,null,null,null,null,null,null,null,null,null,null,null,null,null,null,null,null,null,null,null,null,null,null,null,null,null,null,null,null,null,null,null,null,null,null,null,null,null,null,null,null,null,null,null,null,null,null,null,null,null,null,null,null,5139,null,null,null,null,null,null,null,null,null,null,null,null,null,null,null,null,null,null,null,null,null,null,null,null,null,null,null,null,null,null,null,null,null,null,null,null,null,null,null,null,null,null,null,null,null,null,null,null,null,null,null,null,null,null,null,null,null,null,null,null,null,null,7153,null,null,null,null,null,null,null,null,null,null,null,null,null,null,null,null,7624,null,null,null,7738,null,null,null,null,null,null,null,null,null,null,null,null,null,8212,null,null,8309,8494,null,null,null,null,null,null,null,null,null,8803]
[null,null,null,null,null,null,null,null,null,null,null,null,null,null,null,null,null,null,null,null,null,null,null,null,null,null,null,null,null,null,null,null,null,null,null,null,null,null,null,782,null,null,null,870,null,null,null,null,null,null,null,null,null,null,null,null,null,null,null,null,null,null,null,null,null,null,null,1643,null,null,null,null,null,null,2162,null,null,null,null,null,null,null,null,null,null,null,null,null,null,null,null,null,null,null,null,null,null,null,null,null,null,null,null,3029,null,null,3130,null,null,null,null,null,null,null,null,null,null,null,null,null,null,null,null,null,null,null,null,null,null,null,null,null,null,null,null,null,null,null,null,null,null,null,null,null,null,null,null,null,null,null,null,null,null,null,null,null,null,null,null,null,null,null,null,null,null,null,null,null,null,null,null,null,null,null,5141,null,null,null,null,null,null,null,null,null,null,null,null,null,null,null,null,null,null,null,null,null,null,null,null,null,null,null,null,null,null,null,null,null,null,null,null,null,null,null,null,null,null,null,null,null,null,null,null,null,null,null,null,null,null,null,null,null,null,null,null,null,null,7168,null,null,null,null,null,null,null,null,null,null,null,null,null,null,null,null,7628,null,null,null,7739,null,null,null,null,null,null,null,null,null,null,null,null,null,8213,null,null,8310,8496,null,null,null,null,null,null,null,null,null,8805]
[null,null,null,null,null,null,null,null,null,null,null,null,null,null,null,null,null,null,null,null,null,null,null,null,null,null,null,null,null,null,null,null,null,null,null,null,null,null,null,783,null,null,null,871,null,null,null,null,null,null,null,null,null,null,null,null,null,null,null,null,null,null,null,null,null,null,null,1644,null,null,null,null,null,null,null,null,null,null,null,null,null,null,null,null,null,null,null,null,null,null,null,null,null,null,null,null,null,null,null,null,null,null,null,null,null,null,3131,null,null,null,null,null,null,null,null,null,null,null,null,null,null,null,null,null,null,null,null,null,null,null,null,null,null,null,null,null,null,null,null,null,null,null,null,null,null,null,null,null,null,null,null,null,null,null,null,null,null,null,null,null,null,null,null,null,null,null,null,null,null,null,null,null,null,null,5142,null,null,null,null,null,null,null,null,null,null,null,null,null,null,null,null,null,null,null,null,null,null,null,null,null,null,null,null,null,null,null,null,null,null,null,null,null,null,null,null,null,null,null,null,null,null,null,null,null,null,null,null,null,null,null,null,null,null,null,null,null,null,7176,null,null,null,null,null,null,null,null,null,null,null,null,null,null,null,null,7630,null,null,null,7740,null,null,null,null,null,null,null,null,null,null,null,null,null,8214,null,null,8311,8498,null,null,null,null,null,null,null,null,null,8806]
[null,null,null,null,null,null,null,null,null,null,null,null,null,null,null,null,null,null,null,null,null,null,null,null,null,null,null,null,null,null,null,null,null,null,null,null,null,null,null,784,null,null,null,872,null,null,null,null,null,null,null,null,null,null,null,null,null,null,null,null,null,null,null,null,null,null,null,1646,null,null,null,null,null,null,null,null,null,null,null,null,null,null,null,null,null,null,null,null,null,null,null,null,null,null,null,null,null,null,null,null,null,null,null,null,null,null,3133,null,null,null,null,null,null,null,null,null,null,null,null,null,null,null,null,null,null,null,null,null,null,null,null,null,null,null,null,null,null,null,null,null,null,null,null,null,null,null,null,null,null,null,null,null,null,null,null,null,null,null,null,null,null,null,null,null,null,null,null,null,null,null,null,null,null,null,5143,null,null,null,null,null,null,null,null,null,null,null,null,null,null,null,null,null,null,null,null,null,null,null,null,null,null,null,null,null,null,null,null,null,null,null,null,null,null,null,null,null,null,null,null,null,null,null,null,null,null,null,null,null,null,null,null,null,null,null,null,null,null,7177,null,null,null,null,null,null,null,null,null,null,null,null,null,null,null,null,7632,null,null,null,null,null,null,null,null,null,null,null,null,null,null,null,null,null,8215,null,null,8313,8499,null,null,null,null,null,null,null,null,null,8807]
[null,null,null,null,null,null,null,null,null,null,null,null,null,null,null,null,null,null,null,null,null,null,null,null,null,null,null,null,null,null,null,null,null,null,null,null,null,null,null,785,null,null,null,874,null,null,null,null,null,null,null,null,null,null,null,null,null,null,null,null,null,null,null,null,null,null,null,1647,null,null,null,null,null,null,null,null,null,null,null,null,null,null,null,null,null,null,null,null,null,null,null,null,null,null,null,null,null,null,null,null,null,null,null,null,null,null,3134,null,null,null,null,null,null,null,null,null,null,null,null,null,null,null,null,null,null,null,null,null,null,null,null,null,null,null,null,null,null,null,null,null,null,null,null,null,null,null,null,null,null,null,null,null,null,null,null,null,null,null,null,null,null,null,null,null,null,null,null,null,null,null,null,null,null,null,null,null,null,null,null,null,null,null,null,null,null,null,null,null,null,null,null,null,null,null,null,null,null,null,null,null,null,null,null,null,null,null,null,null,null,null,null,null,null,null,null,null,null,null,null,null,null,null,null,null,null,null,null,null,null,null,null,null,null,null,null,null,null,7189,null,null,null,null,null,null,null,null,null,null,null,null,null,null,null,null,null,null,null,null,null,null,null,null,null,null,null,null,null,null,null,null,null,null,8216,null,null,8315,8501,null,null,null,null,null,null,null,null,null,8808]
[null,null,null,null,null,null,null,null,null,null,null,null,null,null,null,null,null,null,null,null,null,null,null,null,null,null,null,null,null,null,null,null,null,null,null,null,null,null,null,820,null,null,null,875,null,null,null,null,null,null,null,null,null,null,null,null,null,null,null,null,null,null,null,null,null,null,null,1648,null,null,null,null,null,null,null,null,null,null,null,null,null,null,null,null,null,null,null,null,null,null,null,null,null,null,null,null,null,null,null,null,null,null,null,null,null,null,3135,null,null,null,null,null,null,null,null,null,null,null,null,null,null,null,null,null,null,null,null,null,null,null,null,null,null,null,null,null,null,null,null,null,null,null,null,null,null,null,null,null,null,null,null,null,null,null,null,null,null,null,null,null,null,null,null,null,null,null,null,null,null,null,null,null,null,null,null,null,null,null,null,null,null,null,null,null,null,null,null,null,null,null,null,null,null,null,null,null,null,null,null,null,null,null,null,null,null,null,null,null,null,null,null,null,null,null,null,null,null,null,null,null,null,null,null,null,null,null,null,null,null,null,null,null,null,null,null,null,null,null,null,null,null,null,null,null,null,null,null,null,null,null,null,null,null,null,null,null,null,null,null,null,null,null,null,null,null,null,null,null,null,null,null,null,8217,null,null,8316,8502,null,null,null,null,null,null,null,null,null,8809]
[null,null,null,null,null,null,null,null,null,null,null,null,null,null,null,null,null,null,null,null,null,null,null,null,null,null,null,null,null,null,null,null,null,null,null,null,null,null,null,821,null,null,null,876,null,null,null,null,null,null,null,null,null,null,null,null,null,null,null,null,null,null,null,null,null,null,null,1649,null,null,null,null,null,null,null,null,null,null,null,null,null,null,null,null,null,null,null,null,null,null,null,null,null,null,null,null,null,null,null,null,null,null,null,null,null,null,3138,null,null,null,null,null,null,null,null,null,null,null,null,null,null,null,null,null,null,null,null,null,null,null,null,null,null,null,null,null,null,null,null,null,null,null,null,null,null,null,null,null,null,null,null,null,null,null,null,null,null,null,null,null,null,null,null,null,null,null,null,null,null,null,null,null,null,null,null,null,null,null,null,null,null,null,null,null,null,null,null,null,null,null,null,null,null,null,null,null,null,null,null,null,null,null,null,null,null,null,null,null,null,null,null,null,null,null,null,null,null,null,null,null,null,null,null,null,null,null,null,null,null,null,null,null,null,null,null,null,null,null,null,null,null,null,null,null,null,null,null,null,null,null,null,null,null,null,null,null,null,null,null,null,null,null,null,null,null,null,null,null,null,null,null,null,8218,null,null,8317,8504,null,null,null,null,null,null,null,null,null,8812]
[null,null,null,null,null,null,null,null,null,null,null,null,null,null,null,null,null,null,null,null,null,null,null,null,null,null,null,null,null,null,null,null,null,null,null,null,null,null,null,823,null,null,null,877,null,null,null,null,null,null,null,null,null,null,null,null,null,null,null,null,null,null,null,null,null,null,null,1650,null,null,null,null,null,null,null,null,null,null,null,null,null,null,null,null,null,null,null,null,null,null,null,null,null,null,null,null,null,null,null,null,null,null,null,null,null,null,3139,null,null,null,null,null,null,null,null,null,null,null,null,null,null,null,null,null,null,null,null,null,null,null,null,null,null,null,null,null,null,null,null,null,null,null,null,null,null,null,null,null,null,null,null,null,null,null,null,null,null,null,null,null,null,null,null,null,null,null,null,null,null,null,null,null,null,null,null,null,null,null,null,null,null,null,null,null,null,null,null,null,null,null,null,null,null,null,null,null,null,null,null,null,null,null,null,null,null,null,null,null,null,null,null,null,null,null,null,null,null,null,null,null,null,null,null,null,null,null,null,null,null,null,null,null,null,null,null,null,null,null,null,null,null,null,null,null,null,null,null,null,null,null,null,null,null,null,null,null,null,null,null,null,null,null,null,null,null,null,null,null,null,null,null,null,8223,null,null,8320,8512,null,null,null,null,null,null,null,null,null,8815]
[null,null,null,null,null,null,null,null,null,null,null,null,null,null,null,null,null,null,null,null,null,null,null,null,null,null,null,null,null,null,null,null,null,null,null,null,null,null,null,933,null,null,null,885,null,null,null,null,null,null,null,null,null,null,null,null,null,null,null,null,null,null,null,null,null,null,null,1652,null,null,null,null,null,null,null,null,null,null,null,null,null,null,null,null,null,null,null,null,null,null,null,null,null,null,null,null,null,null,null,null,null,null,null,null,null,null,3145,null,null,null,null,null,null,null,null,null,null,null,null,null,null,null,null,null,null,null,null,null,null,null,null,null,null,null,null,null,null,null,null,null,null,null,null,null,null,null,null,null,null,null,null,null,null,null,null,null,null,null,null,null,null,null,null,null,null,null,null,null,null,null,null,null,null,null,null,null,null,null,null,null,null,null,null,null,null,null,null,null,null,null,null,null,null,null,null,null,null,null,null,null,null,null,null,null,null,null,null,null,null,null,null,null,null,null,null,null,null,null,null,null,null,null,null,null,null,null,null,null,null,null,null,null,null,null,null,null,null,null,null,null,null,null,null,null,null,null,null,null,null,null,null,null,null,null,null,null,null,null,null,null,null,null,null,null,null,null,null,null,null,null,null,null,8224,null,null,8321,8513,null,null,null,null,null,null,null,null,null,8816]
[null,null,null,null,null,null,null,null,null,null,null,null,null,null,null,null,null,null,null,null,null,null,null,null,null,null,null,null,null,null,null,null,null,null,null,null,null,null,null,937,null,null,null,890,null,null,null,null,null,null,null,null,null,null,null,null,null,null,null,null,null,null,null,null,null,null,null,1653,null,null,null,null,null,null,null,null,null,null,null,null,null,null,null,null,null,null,null,null,null,null,null,null,null,null,null,null,null,null,null,null,null,null,null,null,null,null,3146,null,null,null,null,null,null,null,null,null,null,null,null,null,null,null,null,null,null,null,null,null,null,null,null,null,null,null,null,null,null,null,null,null,null,null,null,null,null,null,null,null,null,null,null,null,null,null,null,null,null,null,null,null,null,null,null,null,null,null,null,null,null,null,null,null,null,null,null,null,null,null,null,null,null,null,null,null,null,null,null,null,null,null,null,null,null,null,null,null,null,null,null,null,null,null,null,null,null,null,null,null,null,null,null,null,null,null,null,null,null,null,null,null,null,null,null,null,null,null,null,null,null,null,null,null,null,null,null,null,null,null,null,null,null,null,null,null,null,null,null,null,null,null,null,null,null,null,null,null,null,null,null,null,null,null,null,null,null,null,null,null,null,null,null,null,8225,null,null,8322,8516,null,null,null,null,null,null,null,null,null,8819]
[null,null,null,null,null,null,null,null,null,null,null,null,null,null,null,null,null,null,null,null,null,null,null,null,null,null,null,null,null,null,null,null,null,null,null,null,null,null,null,1319,null,null,null,892,null,null,null,null,null,null,null,null,null,null,null,null,null,null,null,null,null,null,null,null,null,null,null,1655,null,null,null,null,null,null,null,null,null,null,null,null,null,null,null,null,null,null,null,null,null,null,null,null,null,null,null,null,null,null,null,null,null,null,null,null,null,null,3149,null,null,null,null,null,null,null,null,null,null,null,null,null,null,null,null,null,null,null,null,null,null,null,null,null,null,null,null,null,null,null,null,null,null,null,null,null,null,null,null,null,null,null,null,null,null,null,null,null,null,null,null,null,null,null,null,null,null,null,null,null,null,null,null,null,null,null,null,null,null,null,null,null,null,null,null,null,null,null,null,null,null,null,null,null,null,null,null,null,null,null,null,null,null,null,null,null,null,null,null,null,null,null,null,null,null,null,null,null,null,null,null,null,null,null,null,null,null,null,null,null,null,null,null,null,null,null,null,null,null,null,null,null,null,null,null,null,null,null,null,null,null,null,null,null,null,null,null,null,null,null,null,null,null,null,null,null,null,null,null,null,null,null,null,null,8231,null,null,8323,8524,null,null,null,null,null,null,null,null,null,8822]
[null,null,null,null,null,null,null,null,null,null,null,null,null,null,null,null,null,null,null,null,null,null,null,null,null,null,null,null,null,null,null,null,null,null,null,null,null,null,null,7773,null,null,null,905,null,null,null,null,null,null,null,null,null,null,null,null,null,null,null,null,null,null,null,null,null,null,null,1658,null,null,null,null,null,null,null,null,null,null,null,null,null,null,null,null,null,null,null,null,null,null,null,null,null,null,null,null,null,null,null,null,null,null,null,null,null,null,null,null,null,null,null,null,null,null,null,null,null,null,null,null,null,null,null,null,null,null,null,null,null,null,null,null,null,null,null,null,null,null,null,null,null,null,null,null,null,null,null,null,null,null,null,null,null,null,null,null,null,null,null,null,null,null,null,null,null,null,null,null,null,null,null,null,null,null,null,null,null,null,null,null,null,null,null,null,null,null,null,null,null,null,null,null,null,null,null,null,null,null,null,null,null,null,null,null,null,null,null,null,null,null,null,null,null,null,null,null,null,null,null,null,null,null,null,null,null,null,null,null,null,null,null,null,null,null,null,null,null,null,null,null,null,null,null,null,null,null,null,null,null,null,null,null,null,null,null,null,null,null,null,null,null,null,null,null,null,null,null,null,null,null,null,null,8235,null,null,8324,8530,null,null,null,null,null,null,null,null,null,8824]
[null,null,null,null,null,null,null,null,null,null,null,null,null,null,null,null,null,null,null,null,null,null,null,null,null,null,null,null,null,null,null,null,null,null,null,null,null,null,null,7774,null,null,null,913,null,null,null,null,null,null,null,null,null,null,null,null,null,null,null,null,null,null,null,null,null,null,null,1660,null,null,null,null,null,null,null,null,null,null,null,null,null,null,null,null,null,null,null,null,null,null,null,null,null,null,null,null,null,null,null,null,null,null,null,null,null,null,null,null,null,null,null,null,null,null,null,null,null,null,null,null,null,null,null,null,null,null,null,null,null,null,null,null,null,null,null,null,null,null,null,null,null,null,null,null,null,null,null,null,null,null,null,null,null,null,null,null,null,null,null,null,null,null,null,null,null,null,null,null,null,null,null,null,null,null,null,null,null,null,null,null,null,null,null,null,null,null,null,null,null,null,null,null,null,null,null,null,null,null,null,null,null,null,null,null,null,null,null,null,null,null,null,null,null,null,null,null,null,null,null,null,null,null,null,null,null,null,null,null,null,null,null,null,null,null,null,null,null,null,null,null,null,null,null,null,null,null,null,null,null,null,null,null,null,null,null,null,null,null,null,null,null,null,null,null,null,null,null,null,null,null,null,null,8243,null,null,8327,8532,null,null,null,null,null,null,null,null,null,8826]
[null,null,null,null,null,null,null,null,null,null,null,null,null,null,null,null,null,null,null,null,null,null,null,null,null,null,null,null,null,null,null,null,null,null,null,null,null,null,null,7775,null,null,null,914,null,null,null,null,null,null,null,null,null,null,null,null,null,null,null,null,null,null,null,null,null,null,null,1661,null,null,null,null,null,null,null,null,null,null,null,null,null,null,null,null,null,null,null,null,null,null,null,null,null,null,null,null,null,null,null,null,null,null,null,null,null,null,null,null,null,null,null,null,null,null,null,null,null,null,null,null,null,null,null,null,null,null,null,null,null,null,null,null,null,null,null,null,null,null,null,null,null,null,null,null,null,null,null,null,null,null,null,null,null,null,null,null,null,null,null,null,null,null,null,null,null,null,null,null,null,null,null,null,null,null,null,null,null,null,null,null,null,null,null,null,null,null,null,null,null,null,null,null,null,null,null,null,null,null,null,null,null,null,null,null,null,null,null,null,null,null,null,null,null,null,null,null,null,null,null,null,null,null,null,null,null,null,null,null,null,null,null,null,null,null,null,null,null,null,null,null,null,null,null,null,null,null,null,null,null,null,null,null,null,null,null,null,null,null,null,null,null,null,null,null,null,null,null,null,null,null,null,null,8244,null,null,8329,8533,null,null,null,null,null,null,null,null,null,8828]
[null,null,null,null,null,null,null,null,null,null,null,null,null,null,null,null,null,null,null,null,null,null,null,null,null,null,null,null,null,null,null,null,null,null,null,null,null,null,null,7776,null,null,null,922,null,null,null,null,null,null,null,null,null,null,null,null,null,null,null,null,null,null,null,null,null,null,null,1662,null,null,null,null,null,null,null,null,null,null,null,null,null,null,null,null,null,null,null,null,null,null,null,null,null,null,null,null,null,null,null,null,null,null,null,null,null,null,null,null,null,null,null,null,null,null,null,null,null,null,null,null,null,null,null,null,null,null,null,null,null,null,null,null,null,null,null,null,null,null,null,null,null,null,null,null,null,null,null,null,null,null,null,null,null,null,null,null,null,null,null,null,null,null,null,null,null,null,null,null,null,null,null,null,null,null,null,null,null,null,null,null,null,null,null,null,null,null,null,null,null,null,null,null,null,null,null,null,null,null,null,null,null,null,null,null,null,null,null,null,null,null,null,null,null,null,null,null,null,null,null,null,null,null,null,null,null,null,null,null,null,null,null,null,null,null,null,null,null,null,null,null,null,null,null,null,null,null,null,null,null,null,null,null,null,null,null,null,null,null,null,null,null,null,null,null,null,null,null,null,null,null,null,null,8245,null,null,8330,8536,null,null,null,null,null,null,null,null,null,8832]
[null,null,null,null,null,null,null,null,null,null,null,null,null,null,null,null,null,null,null,null,null,null,null,null,null,null,null,null,null,null,null,null,null,null,null,null,null,null,null,7777,null,null,null,923,null,null,null,null,null,null,null,null,null,null,null,null,null,null,null,null,null,null,null,null,null,null,null,1663,null,null,null,null,null,null,null,null,null,null,null,null,null,null,null,null,null,null,null,null,null,null,null,null,null,null,null,null,null,null,null,null,null,null,null,null,null,null,null,null,null,null,null,null,null,null,null,null,null,null,null,null,null,null,null,null,null,null,null,null,null,null,null,null,null,null,null,null,null,null,null,null,null,null,null,null,null,null,null,null,null,null,null,null,null,null,null,null,null,null,null,null,null,null,null,null,null,null,null,null,null,null,null,null,null,null,null,null,null,null,null,null,null,null,null,null,null,null,null,null,null,null,null,null,null,null,null,null,null,null,null,null,null,null,null,null,null,null,null,null,null,null,null,null,null,null,null,null,null,null,null,null,null,null,null,null,null,null,null,null,null,null,null,null,null,null,null,null,null,null,null,null,null,null,null,null,null,null,null,null,null,null,null,null,null,null,null,null,null,null,null,null,null,null,null,null,null,null,null,null,null,null,null,null,8247,null,null,8331,8538,null,null,null,null,null,null,null,null,null,8834]
[null,null,null,null,null,null,null,null,null,null,null,null,null,null,null,null,null,null,null,null,null,null,null,null,null,null,null,null,null,null,null,null,null,null,null,null,null,null,null,7786,null,null,null,924,null,null,null,null,null,null,null,null,null,null,null,null,null,null,null,null,null,null,null,null,null,null,null,1664,null,null,null,null,null,null,null,null,null,null,null,null,null,null,null,null,null,null,null,null,null,null,null,null,null,null,null,null,null,null,null,null,null,null,null,null,null,null,null,null,null,null,null,null,null,null,null,null,null,null,null,null,null,null,null,null,null,null,null,null,null,null,null,null,null,null,null,null,null,null,null,null,null,null,null,null,null,null,null,null,null,null,null,null,null,null,null,null,null,null,null,null,null,null,null,null,null,null,null,null,null,null,null,null,null,null,null,null,null,null,null,null,null,null,null,null,null,null,null,null,null,null,null,null,null,null,null,null,null,null,null,null,null,null,null,null,null,null,null,null,null,null,null,null,null,null,null,null,null,null,null,null,null,null,null,null,null,null,null,null,null,null,null,null,null,null,null,null,null,null,null,null,null,null,null,null,null,null,null,null,null,null,null,null,null,null,null,null,null,null,null,null,null,null,null,null,null,null,null,null,null,null,null,null,8248,null,null,8332,8540,null,null,null,null,null,null,null,null,null,8836]
[null,null,null,null,null,null,null,null,null,null,null,null,null,null,null,null,null,null,null,null,null,null,null,null,null,null,null,null,null,null,null,null,null,null,null,null,null,null,null,7787,null,null,null,925,null,null,null,null,null,null,null,null,null,null,null,null,null,null,null,null,null,null,null,null,null,null,null,1665,null,null,null,null,null,null,null,null,null,null,null,null,null,null,null,null,null,null,null,null,null,null,null,null,null,null,null,null,null,null,null,null,null,null,null,null,null,null,null,null,null,null,null,null,null,null,null,null,null,null,null,null,null,null,null,null,null,null,null,null,null,null,null,null,null,null,null,null,null,null,null,null,null,null,null,null,null,null,null,null,null,null,null,null,null,null,null,null,null,null,null,null,null,null,null,null,null,null,null,null,null,null,null,null,null,null,null,null,null,null,null,null,null,null,null,null,null,null,null,null,null,null,null,null,null,null,null,null,null,null,null,null,null,null,null,null,null,null,null,null,null,null,null,null,null,null,null,null,null,null,null,null,null,null,null,null,null,null,null,null,null,null,null,null,null,null,null,null,null,null,null,null,null,null,null,null,null,null,null,null,null,null,null,null,null,null,null,null,null,null,null,null,null,null,null,null,null,null,null,null,null,null,null,null,8249,null,null,8333,8541,null,null,null,null,null,null,null,null,null,8838]
[null,null,null,null,null,null,null,null,null,null,null,null,null,null,null,null,null,null,null,null,null,null,null,null,null,null,null,null,null,null,null,null,null,null,null,null,null,null,null,7788,null,null,null,932,null,null,null,null,null,null,null,null,null,null,null,null,null,null,null,null,null,null,null,null,null,null,null,1666,null,null,null,null,null,null,null,null,null,null,null,null,null,null,null,null,null,null,null,null,null,null,null,null,null,null,null,null,null,null,null,null,null,null,null,null,null,null,null,null,null,null,null,null,null,null,null,null,null,null,null,null,null,null,null,null,null,null,null,null,null,null,null,null,null,null,null,null,null,null,null,null,null,null,null,null,null,null,null,null,null,null,null,null,null,null,null,null,null,null,null,null,null,null,null,null,null,null,null,null,null,null,null,null,null,null,null,null,null,null,null,null,null,null,null,null,null,null,null,null,null,null,null,null,null,null,null,null,null,null,null,null,null,null,null,null,null,null,null,null,null,null,null,null,null,null,null,null,null,null,null,null,null,null,null,null,null,null,null,null,null,null,null,null,null,null,null,null,null,null,null,null,null,null,null,null,null,null,null,null,null,null,null,null,null,null,null,null,null,null,null,null,null,null,null,null,null,null,null,null,null,null,null,null,8250,null,null,8337,8542,null,null,null,null,null,null,null,null,null,8842]
[null,null,null,null,null,null,null,null,null,null,null,null,null,null,null,null,null,null,null,null,null,null,null,null,null,null,null,null,null,null,null,null,null,null,null,null,null,null,null,7789,null,null,null,934,null,null,null,null,null,null,null,null,null,null,null,null,null,null,null,null,null,null,null,null,null,null,null,1667,null,null,null,null,null,null,null,null,null,null,null,null,null,null,null,null,null,null,null,null,null,null,null,null,null,null,null,null,null,null,null,null,null,null,null,null,null,null,null,null,null,null,null,null,null,null,null,null,null,null,null,null,null,null,null,null,null,null,null,null,null,null,null,null,null,null,null,null,null,null,null,null,null,null,null,null,null,null,null,null,null,null,null,null,null,null,null,null,null,null,null,null,null,null,null,null,null,null,null,null,null,null,null,null,null,null,null,null,null,null,null,null,null,null,null,null,null,null,null,null,null,null,null,null,null,null,null,null,null,null,null,null,null,null,null,null,null,null,null,null,null,null,null,null,null,null,null,null,null,null,null,null,null,null,null,null,null,null,null,null,null,null,null,null,null,null,null,null,null,null,null,null,null,null,null,null,null,null,null,null,null,null,null,null,null,null,null,null,null,null,null,null,null,null,null,null,null,null,null,null,null,null,null,null,8251,null,null,8340,8543,null,null,null,null,null,null,null,null,null,8844]
[null,null,null,null,null,null,null,null,null,null,null,null,null,null,null,null,null,null,null,null,null,null,null,null,null,null,null,null,null,null,null,null,null,null,null,null,null,null,null,7790,null,null,null,939,null,null,null,null,null,null,null,null,null,null,null,null,null,null,null,null,null,null,null,null,null,null,null,1668,null,null,null,null,null,null,null,null,null,null,null,null,null,null,null,null,null,null,null,null,null,null,null,null,null,null,null,null,null,null,null,null,null,null,null,null,null,null,null,null,null,null,null,null,null,null,null,null,null,null,null,null,null,null,null,null,null,null,null,null,null,null,null,null,null,null,null,null,null,null,null,null,null,null,null,null,null,null,null,null,null,null,null,null,null,null,null,null,null,null,null,null,null,null,null,null,null,null,null,null,null,null,null,null,null,null,null,null,null,null,null,null,null,null,null,null,null,null,null,null,null,null,null,null,null,null,null,null,null,null,null,null,null,null,null,null,null,null,null,null,null,null,null,null,null,null,null,null,null,null,null,null,null,null,null,null,null,null,null,null,null,null,null,null,null,null,null,null,null,null,null,null,null,null,null,null,null,null,null,null,null,null,null,null,null,null,null,null,null,null,null,null,null,null,null,null,null,null,null,null,null,null,null,null,null,null,null,8342,8543,null,null,null,null,null,null,null,null,null,8846]
[null,null,null,null,null,null,null,null,null,null,null,null,null,null,null,null,null,null,null,null,null,null,null,null,null,null,null,null,null,null,null,null,null,null,null,null,null,null,null,7792,null,null,null,950,null,null,null,null,null,null,null,null,null,null,null,null,null,null,null,null,null,null,null,null,null,null,null,1669,null,null,null,null,null,null,null,null,null,null,null,null,null,null,null,null,null,null,null,null,null,null,null,null,null,null,null,null,null,null,null,null,null,null,null,null,null,null,null,null,null,null,null,null,null,null,null,null,null,null,null,null,null,null,null,null,null,null,null,null,null,null,null,null,null,null,null,null,null,null,null,null,null,null,null,null,null,null,null,null,null,null,null,null,null,null,null,null,null,null,null,null,null,null,null,null,null,null,null,null,null,null,null,null,null,null,null,null,null,null,null,null,null,null,null,null,null,null,null,null,null,null,null,null,null,null,null,null,null,null,null,null,null,null,null,null,null,null,null,null,null,null,null,null,null,null,null,null,null,null,null,null,null,null,null,null,null,null,null,null,null,null,null,null,null,null,null,null,null,null,null,null,null,null,null,null,null,null,null,null,null,null,null,null,null,null,null,null,null,null,null,null,null,null,null,null,null,null,null,null,null,null,null,null,null,null,null,8346,8552,null,null,null,null,null,null,null,null,null,8857]
[null,null,null,null,null,null,null,null,null,null,null,null,null,null,null,null,null,null,null,null,null,null,null,null,null,null,null,null,null,null,null,null,null,null,null,null,null,null,null,7793,null,null,null,953,null,null,null,null,null,null,null,null,null,null,null,null,null,null,null,null,null,null,null,null,null,null,null,1671,null,null,null,null,null,null,null,null,null,null,null,null,null,null,null,null,null,null,null,null,null,null,null,null,null,null,null,null,null,null,null,null,null,null,null,null,null,null,null,null,null,null,null,null,null,null,null,null,null,null,null,null,null,null,null,null,null,null,null,null,null,null,null,null,null,null,null,null,null,null,null,null,null,null,null,null,null,null,null,null,null,null,null,null,null,null,null,null,null,null,null,null,null,null,null,null,null,null,null,null,null,null,null,null,null,null,null,null,null,null,null,null,null,null,null,null,null,null,null,null,null,null,null,null,null,null,null,null,null,null,null,null,null,null,null,null,null,null,null,null,null,null,null,null,null,null,null,null,null,null,null,null,null,null,null,null,null,null,null,null,null,null,null,null,null,null,null,null,null,null,null,null,null,null,null,null,null,null,null,null,null,null,null,null,null,null,null,null,null,null,null,null,null,null,null,null,null,null,null,null,null,null,null,null,null,null,null,8348,null,null,null,null,null,null,null,null,null,null,8858]
[null,null,null,null,null,null,null,null,null,null,null,null,null,null,null,null,null,null,null,null,null,null,null,null,null,null,null,null,null,null,null,null,null,null,null,null,null,null,null,7794,null,null,null,955,null,null,null,null,null,null,null,null,null,null,null,null,null,null,null,null,null,null,null,null,null,null,null,1672,null,null,null,null,null,null,null,null,null,null,null,null,null,null,null,null,null,null,null,null,null,null,null,null,null,null,null,null,null,null,null,null,null,null,null,null,null,null,null,null,null,null,null,null,null,null,null,null,null,null,null,null,null,null,null,null,null,null,null,null,null,null,null,null,null,null,null,null,null,null,null,null,null,null,null,null,null,null,null,null,null,null,null,null,null,null,null,null,null,null,null,null,null,null,null,null,null,null,null,null,null,null,null,null,null,null,null,null,null,null,null,null,null,null,null,null,null,null,null,null,null,null,null,null,null,null,null,null,null,null,null,null,null,null,null,null,null,null,null,null,null,null,null,null,null,null,null,null,null,null,null,null,null,null,null,null,null,null,null,null,null,null,null,null,null,null,null,null,null,null,null,null,null,null,null,null,null,null,null,null,null,null,null,null,null,null,null,null,null,null,null,null,null,null,null,null,null,null,null,null,null,null,null,null,null,null,null,8350,null,null,null,null,null,null,null,null,null,null,8860]
[null,null,null,null,null,null,null,null,null,null,null,null,null,null,null,null,null,null,null,null,null,null,null,null,null,null,null,null,null,null,null,null,null,null,null,null,null,null,null,null,null,null,null,1115,null,null,null,null,null,null,null,null,null,null,null,null,null,null,null,null,null,null,null,null,null,null,null,1673,null,null,null,null,null,null,null,null,null,null,null,null,null,null,null,null,null,null,null,null,null,null,null,null,null,null,null,null,null,null,null,null,null,null,null,null,null,null,null,null,null,null,null,null,null,null,null,null,null,null,null,null,null,null,null,null,null,null,null,null,null,null,null,null,null,null,null,null,null,null,null,null,null,null,null,null,null,null,null,null,null,null,null,null,null,null,null,null,null,null,null,null,null,null,null,null,null,null,null,null,null,null,null,null,null,null,null,null,null,null,null,null,null,null,null,null,null,null,null,null,null,null,null,null,null,null,null,null,null,null,null,null,null,null,null,null,null,null,null,null,null,null,null,null,null,null,null,null,null,null,null,null,null,null,null,null,null,null,null,null,null,null,null,null,null,null,null,null,null,null,null,null,null,null,null,null,null,null,null,null,null,null,null,null,null,null,null,null,null,null,null,null,null,null,null,null,null,null,null,null,null,null,null,null,null,null,null,8351,null,null,null,null,null,null,null,null,null,null,8864]
[null,null,null,null,null,null,null,null,null,null,null,null,null,null,null,null,null,null,null,null,null,null,null,null,null,null,null,null,null,null,null,null,null,null,null,null,null,null,null,null,null,null,null,2781,null,null,null,null,null,null,null,null,null,null,null,null,null,null,null,null,null,null,null,null,null,null,null,1674,null,null,null,null,null,null,null,null,null,null,null,null,null,null,null,null,null,null,null,null,null,null,null,null,null,null,null,null,null,null,null,null,null,null,null,null,null,null,null,null,null,null,null,null,null,null,null,null,null,null,null,null,null,null,null,null,null,null,null,null,null,null,null,null,null,null,null,null,null,null,null,null,null,null,null,null,null,null,null,null,null,null,null,null,null,null,null,null,null,null,null,null,null,null,null,null,null,null,null,null,null,null,null,null,null,null,null,null,null,null,null,null,null,null,null,null,null,null,null,null,null,null,null,null,null,null,null,null,null,null,null,null,null,null,null,null,null,null,null,null,null,null,null,null,null,null,null,null,null,null,null,null,null,null,null,null,null,null,null,null,null,null,null,null,null,null,null,null,null,null,null,null,null,null,null,null,null,null,null,null,null,null,null,null,null,null,null,null,null,null,null,null,null,null,null,null,null,null,null,null,null,null,null,null,null,null,null,8352,null,null,null,null,null,null,null,null,null,null,8866]
[null,null,null,null,null,null,null,null,null,null,null,null,null,null,null,null,null,null,null,null,null,null,null,null,null,null,null,null,null,null,null,null,null,null,null,null,null,null,null,null,null,null,null,2782,null,null,null,null,null,null,null,null,null,null,null,null,null,null,null,null,null,null,null,null,null,null,null,1677,null,null,null,null,null,null,null,null,null,null,null,null,null,null,null,null,null,null,null,null,null,null,null,null,null,null,null,null,null,null,null,null,null,null,null,null,null,null,null,null,null,null,null,null,null,null,null,null,null,null,null,null,null,null,null,null,null,null,null,null,null,null,null,null,null,null,null,null,null,null,null,null,null,null,null,null,null,null,null,null,null,null,null,null,null,null,null,null,null,null,null,null,null,null,null,null,null,null,null,null,null,null,null,null,null,null,null,null,null,null,null,null,null,null,null,null,null,null,null,null,null,null,null,null,null,null,null,null,null,null,null,null,null,null,null,null,null,null,null,null,null,null,null,null,null,null,null,null,null,null,null,null,null,null,null,null,null,null,null,null,null,null,null,null,null,null,null,null,null,null,null,null,null,null,null,null,null,null,null,null,null,null,null,null,null,null,null,null,null,null,null,null,null,null,null,null,null,null,null,null,null,null,null,null,null,null,null,8357,null,null,null,null,null,null,null,null,null,null,8868]
[null,null,null,null,null,null,null,null,null,null,null,null,null,null,null,null,null,null,null,null,null,null,null,null,null,null,null,null,null,null,null,null,null,null,null,null,null,null,null,null,null,null,null,2783,null,null,null,null,null,null,null,null,null,null,null,null,null,null,null,null,null,null,null,null,null,null,null,1678,null,null,null,null,null,null,null,null,null,null,null,null,null,null,null,null,null,null,null,null,null,null,null,null,null,null,null,null,null,null,null,null,null,null,null,null,null,null,null,null,null,null,null,null,null,null,null,null,null,null,null,null,null,null,null,null,null,null,null,null,null,null,null,null,null,null,null,null,null,null,null,null,null,null,null,null,null,null,null,null,null,null,null,null,null,null,null,null,null,null,null,null,null,null,null,null,null,null,null,null,null,null,null,null,null,null,null,null,null,null,null,null,null,null,null,null,null,null,null,null,null,null,null,null,null,null,null,null,null,null,null,null,null,null,null,null,null,null,null,null,null,null,null,null,null,null,null,null,null,null,null,null,null,null,null,null,null,null,null,null,null,null,null,null,null,null,null,null,null,null,null,null,null,null,null,null,null,null,null,null,null,null,null,null,null,null,null,null,null,null,null,null,null,null,null,null,null,null,null,null,null,null,null,null,null,null,null,8358,null,null,null,null,null,null,null,null,null,null,8870]
[null,null,null,null,null,null,null,null,null,null,null,null,null,null,null,null,null,null,null,null,null,null,null,null,null,null,null,null,null,null,null,null,null,null,null,null,null,null,null,null,null,null,null,2784,null,null,null,null,null,null,null,null,null,null,null,null,null,null,null,null,null,null,null,null,null,null,null,1684,null,null,null,null,null,null,null,null,null,null,null,null,null,null,null,null,null,null,null,null,null,null,null,null,null,null,null,null,null,null,null,null,null,null,null,null,null,null,null,null,null,null,null,null,null,null,null,null,null,null,null,null,null,null,null,null,null,null,null,null,null,null,null,null,null,null,null,null,null,null,null,null,null,null,null,null,null,null,null,null,null,null,null,null,null,null,null,null,null,null,null,null,null,null,null,null,null,null,null,null,null,null,null,null,null,null,null,null,null,null,null,null,null,null,null,null,null,null,null,null,null,null,null,null,null,null,null,null,null,null,null,null,null,null,null,null,null,null,null,null,null,null,null,null,null,null,null,null,null,null,null,null,null,null,null,null,null,null,null,null,null,null,null,null,null,null,null,null,null,null,null,null,null,null,null,null,null,null,null,null,null,null,null,null,null,null,null,null,null,null,null,null,null,null,null,null,null,null,null,null,null,null,null,null,null,null,null,8362,null,null,null,null,null,null,null,null,null,null,8872]
[null,null,null,null,null,null,null,null,null,null,null,null,null,null,null,null,null,null,null,null,null,null,null,null,null,null,null,null,null,null,null,null,null,null,null,null,null,null,null,null,null,null,null,2785,null,null,null,null,null,null,null,null,null,null,null,null,null,null,null,null,null,null,null,null,null,null,null,1686,null,null,null,null,null,null,null,null,null,null,null,null,null,null,null,null,null,null,null,null,null,null,null,null,null,null,null,null,null,null,null,null,null,null,null,null,null,null,null,null,null,null,null,null,null,null,null,null,null,null,null,null,null,null,null,null,null,null,null,null,null,null,null,null,null,null,null,null,null,null,null,null,null,null,null,null,null,null,null,null,null,null,null,null,null,null,null,null,null,null,null,null,null,null,null,null,null,null,null,null,null,null,null,null,null,null,null,null,null,null,null,null,null,null,null,null,null,null,null,null,null,null,null,null,null,null,null,null,null,null,null,null,null,null,null,null,null,null,null,null,null,null,null,null,null,null,null,null,null,null,null,null,null,null,null,null,null,null,null,null,null,null,null,null,null,null,null,null,null,null,null,null,null,null,null,null,null,null,null,null,null,null,null,null,null,null,null,null,null,null,null,null,null,null,null,null,null,null,null,null,null,null,null,null,null,null,null,8366,null,null,null,null,null,null,null,null,null,null,8874]
[null,null,null,null,null,null,null,null,null,null,null,null,null,null,null,null,null,null,null,null,null,null,null,null,null,null,null,null,null,null,null,null,null,null,null,null,null,null,null,null,null,null,null,2786,null,null,null,null,null,null,null,null,null,null,null,null,null,null,null,null,null,null,null,null,null,null,null,1688,null,null,null,null,null,null,null,null,null,null,null,null,null,null,null,null,null,null,null,null,null,null,null,null,null,null,null,null,null,null,null,null,null,null,null,null,null,null,null,null,null,null,null,null,null,null,null,null,null,null,null,null,null,null,null,null,null,null,null,null,null,null,null,null,null,null,null,null,null,null,null,null,null,null,null,null,null,null,null,null,null,null,null,null,null,null,null,null,null,null,null,null,null,null,null,null,null,null,null,null,null,null,null,null,null,null,null,null,null,null,null,null,null,null,null,null,null,null,null,null,null,null,null,null,null,null,null,null,null,null,null,null,null,null,null,null,null,null,null,null,null,null,null,null,null,null,null,null,null,null,null,null,null,null,null,null,null,null,null,null,null,null,null,null,null,null,null,null,null,null,null,null,null,null,null,null,null,null,null,null,null,null,null,null,null,null,null,null,null,null,null,null,null,null,null,null,null,null,null,null,null,null,null,null,null,null,null,8378,null,null,null,null,null,null,null,null,null,null,8880]
[null,null,null,null,null,null,null,null,null,null,null,null,null,null,null,null,null,null,null,null,null,null,null,null,null,null,null,null,null,null,null,null,null,null,null,null,null,null,null,null,null,null,null,2787,null,null,null,null,null,null,null,null,null,null,null,null,null,null,null,null,null,null,null,null,null,null,null,1690,null,null,null,null,null,null,null,null,null,null,null,null,null,null,null,null,null,null,null,null,null,null,null,null,null,null,null,null,null,null,null,null,null,null,null,null,null,null,null,null,null,null,null,null,null,null,null,null,null,null,null,null,null,null,null,null,null,null,null,null,null,null,null,null,null,null,null,null,null,null,null,null,null,null,null,null,null,null,null,null,null,null,null,null,null,null,null,null,null,null,null,null,null,null,null,null,null,null,null,null,null,null,null,null,null,null,null,null,null,null,null,null,null,null,null,null,null,null,null,null,null,null,null,null,null,null,null,null,null,null,null,null,null,null,null,null,null,null,null,null,null,null,null,null,null,null,null,null,null,null,null,null,null,null,null,null,null,null,null,null,null,null,null,null,null,null,null,null,null,null,null,null,null,null,null,null,null,null,null,null,null,null,null,null,null,null,null,null,null,null,null,null,null,null,null,null,null,null,null,null,null,null,null,null,null,null,null,8395,null,null,null,null,null,null,null,null,null,null,8883]
[null,null,null,null,null,null,null,null,null,null,null,null,null,null,null,null,null,null,null,null,null,null,null,null,null,null,null,null,null,null,null,null,null,null,null,null,null,null,null,null,null,null,null,2788,null,null,null,null,null,null,null,null,null,null,null,null,null,null,null,null,null,null,null,null,null,null,null,1693,null,null,null,null,null,null,null,null,null,null,null,null,null,null,null,null,null,null,null,null,null,null,null,null,null,null,null,null,null,null,null,null,null,null,null,null,null,null,null,null,null,null,null,null,null,null,null,null,null,null,null,null,null,null,null,null,null,null,null,null,null,null,null,null,null,null,null,null,null,null,null,null,null,null,null,null,null,null,null,null,null,null,null,null,null,null,null,null,null,null,null,null,null,null,null,null,null,null,null,null,null,null,null,null,null,null,null,null,null,null,null,null,null,null,null,null,null,null,null,null,null,null,null,null,null,null,null,null,null,null,null,null,null,null,null,null,null,null,null,null,null,null,null,null,null,null,null,null,null,null,null,null,null,null,null,null,null,null,null,null,null,null,null,null,null,null,null,null,null,null,null,null,null,null,null,null,null,null,null,null,null,null,null,null,null,null,null,null,null,null,null,null,null,null,null,null,null,null,null,null,null,null,null,null,null,null,null,8402,null,null,null,null,null,null,null,null,null,null,8884]
[null,null,null,null,null,null,null,null,null,null,null,null,null,null,null,null,null,null,null,null,null,null,null,null,null,null,null,null,null,null,null,null,null,null,null,null,null,null,null,null,null,null,null,2789,null,null,null,null,null,null,null,null,null,null,null,null,null,null,null,null,null,null,null,null,null,null,null,1694,null,null,null,null,null,null,null,null,null,null,null,null,null,null,null,null,null,null,null,null,null,null,null,null,null,null,null,null,null,null,null,null,null,null,null,null,null,null,null,null,null,null,null,null,null,null,null,null,null,null,null,null,null,null,null,null,null,null,null,null,null,null,null,null,null,null,null,null,null,null,null,null,null,null,null,null,null,null,null,null,null,null,null,null,null,null,null,null,null,null,null,null,null,null,null,null,null,null,null,null,null,null,null,null,null,null,null,null,null,null,null,null,null,null,null,null,null,null,null,null,null,null,null,null,null,null,null,null,null,null,null,null,null,null,null,null,null,null,null,null,null,null,null,null,null,null,null,null,null,null,null,null,null,null,null,null,null,null,null,null,null,null,null,null,null,null,null,null,null,null,null,null,null,null,null,null,null,null,null,null,null,null,null,null,null,null,null,null,null,null,null,null,null,null,null,null,null,null,null,null,null,null,null,null,null,null,null,8403,null,null,null,null,null,null,null,null,null,null,8886]
[null,null,null,null,null,null,null,null,null,null,null,null,null,null,null,null,null,null,null,null,null,null,null,null,null,null,null,null,null,null,null,null,null,null,null,null,null,null,null,null,null,null,null,2790,null,null,null,null,null,null,null,null,null,null,null,null,null,null,null,null,null,null,null,null,null,null,null,1695,null,null,null,null,null,null,null,null,null,null,null,null,null,null,null,null,null,null,null,null,null,null,null,null,null,null,null,null,null,null,null,null,null,null,null,null,null,null,null,null,null,null,null,null,null,null,null,null,null,null,null,null,null,null,null,null,null,null,null,null,null,null,null,null,null,null,null,null,null,null,null,null,null,null,null,null,null,null,null,null,null,null,null,null,null,null,null,null,null,null,null,null,null,null,null,null,null,null,null,null,null,null,null,null,null,null,null,null,null,null,null,null,null,null,null,null,null,null,null,null,null,null,null,null,null,null,null,null,null,null,null,null,null,null,null,null,null,null,null,null,null,null,null,null,null,null,null,null,null,null,null,null,null,null,null,null,null,null,null,null,null,null,null,null,null,null,null,null,null,null,null,null,null,null,null,null,null,null,null,null,null,null,null,null,null,null,null,null,null,null,null,null,null,null,null,null,null,null,null,null,null,null,null,null,null,null,null,8406,null,null,null,null,null,null,null,null,null,null,8888]
[null,null,null,null,null,null,null,null,null,null,null,null,null,null,null,null,null,null,null,null,null,null,null,null,null,null,null,null,null,null,null,null,null,null,null,null,null,null,null,null,null,null,null,2791,null,null,null,null,null,null,null,null,null,null,null,null,null,null,null,null,null,null,null,null,null,null,null,1698,null,null,null,null,null,null,null,null,null,null,null,null,null,null,null,null,null,null,null,null,null,null,null,null,null,null,null,null,null,null,null,null,null,null,null,null,null,null,null,null,null,null,null,null,null,null,null,null,null,null,null,null,null,null,null,null,null,null,null,null,null,null,null,null,null,null,null,null,null,null,null,null,null,null,null,null,null,null,null,null,null,null,null,null,null,null,null,null,null,null,null,null,null,null,null,null,null,null,null,null,null,null,null,null,null,null,null,null,null,null,null,null,null,null,null,null,null,null,null,null,null,null,null,null,null,null,null,null,null,null,null,null,null,null,null,null,null,null,null,null,null,null,null,null,null,null,null,null,null,null,null,null,null,null,null,null,null,null,null,null,null,null,null,null,null,null,null,null,null,null,null,null,null,null,null,null,null,null,null,null,null,null,null,null,null,null,null,null,null,null,null,null,null,null,null,null,null,null,null,null,null,null,null,null,null,null,null,8407,null,null,null,null,null,null,null,null,null,null,8890]
[null,null,null,null,null,null,null,null,null,null,null,null,null,null,null,null,null,null,null,null,null,null,null,null,null,null,null,null,null,null,null,null,null,null,null,null,null,null,null,null,null,null,null,9300,null,null,null,null,null,null,null,null,null,null,null,null,null,null,null,null,null,null,null,null,null,null,null,1704,null,null,null,null,null,null,null,null,null,null,null,null,null,null,null,null,null,null,null,null,null,null,null,null,null,null,null,null,null,null,null,null,null,null,null,null,null,null,null,null,null,null,null,null,null,null,null,null,null,null,null,null,null,null,null,null,null,null,null,null,null,null,null,null,null,null,null,null,null,null,null,null,null,null,null,null,null,null,null,null,null,null,null,null,null,null,null,null,null,null,null,null,null,null,null,null,null,null,null,null,null,null,null,null,null,null,null,null,null,null,null,null,null,null,null,null,null,null,null,null,null,null,null,null,null,null,null,null,null,null,null,null,null,null,null,null,null,null,null,null,null,null,null,null,null,null,null,null,null,null,null,null,null,null,null,null,null,null,null,null,null,null,null,null,null,null,null,null,null,null,null,null,null,null,null,null,null,null,null,null,null,null,null,null,null,null,null,null,null,null,null,null,null,null,null,null,null,null,null,null,null,null,null,null,null,null,null,8408,null,null,null,null,null,null,null,null,null,null,8892]
[null,null,null,null,null,null,null,null,null,null,null,null,null,null,null,null,null,null,null,null,null,null,null,null,null,null,null,null,null,null,null,null,null,null,null,null,null,null,null,null,null,null,null,9301,null,null,null,null,null,null,null,null,null,null,null,null,null,null,null,null,null,null,null,null,null,null,null,1706,null,null,null,null,null,null,null,null,null,null,null,null,null,null,null,null,null,null,null,null,null,null,null,null,null,null,null,null,null,null,null,null,null,null,null,null,null,null,null,null,null,null,null,null,null,null,null,null,null,null,null,null,null,null,null,null,null,null,null,null,null,null,null,null,null,null,null,null,null,null,null,null,null,null,null,null,null,null,null,null,null,null,null,null,null,null,null,null,null,null,null,null,null,null,null,null,null,null,null,null,null,null,null,null,null,null,null,null,null,null,null,null,null,null,null,null,null,null,null,null,null,null,null,null,null,null,null,null,null,null,null,null,null,null,null,null,null,null,null,null,null,null,null,null,null,null,null,null,null,null,null,null,null,null,null,null,null,null,null,null,null,null,null,null,null,null,null,null,null,null,null,null,null,null,null,null,null,null,null,null,null,null,null,null,null,null,null,null,null,null,null,null,null,null,null,null,null,null,null,null,null,null,null,null,null,null,null,8409,null,null,null,null,null,null,null,null,null,null,8894]
[null,null,null,null,null,null,null,null,null,null,null,null,null,null,null,null,null,null,null,null,null,null,null,null,null,null,null,null,null,null,null,null,null,null,null,null,null,null,null,null,null,null,null,9302,null,null,null,null,null,null,null,null,null,null,null,null,null,null,null,null,null,null,null,null,null,null,null,1708]
[null,null,null,null,null,null,null,null,null,null,null,null,null,null,null,null,null,null,null,null,null,null,null,null,null,null,null,null,null,null,null,null,null,null,null,null,null,null,null,null,null,null,null,9304,null,null,null,null,null,null,null,null,null,null,null,null,null,null,null,null,null,null,null,null,null,null,null,1710]
[null,null,null,null,null,null,null,null,null,null,null,null,null,null,null,null,null,null,null,null,null,null,null,null,null,null,null,null,null,null,null,null,null,null,null,null,null,null,null,null,null,null,null,9305,null,null,null,null,null,null,null,null,null,null,null,null,null,null,null,null,null,null,null,null,null,null,null,1712]
[null,null,null,null,null,null,null,null,null,null,null,null,null,null,null,null,null,null,null,null,null,null,null,null,null,null,null,null,null,null,null,null,null,null,null,null,null,null,null,null,null,null,null,9306,null,null,null,null,null,null,null,null,null,null,null,null,null,null,null,null,null,null,null,null,null,null,null,1715]
[null,null,null,null,null,null,null,null,null,null,null,null,null,null,null,null,null,null,null,null,null,null,null,null,null,null,null,null,null,null,null,null,null,null,null,null,null,null,null,null,null,null,null,9307,null,null,null,null,null,null,null,null,null,null,null,null,null,null,null,null,null,null,null,null,null,null,null,1718]
[null,null,null,null,null,null,null,null,null,null,null,null,null,null,null,null,null,null,null,null,null,null,null,null,null,null,null,null,null,null,null,null,null,null,null,null,null,null,null,null,null,null,null,9308,null,null,null,null,null,null,null,null,null,null,null,null,null,null,null,null,null,null,null,null,null,null,null,1720]
[null,null,null,null,null,null,null,null,null,null,null,null,null,null,null,null,null,null,null,null,null,null,null,null,null,null,null,null,null,null,null,null,null,null,null,null,null,null,null,null,null,null,null,9309,null,null,null,null,null,null,null,null,null,null,null,null,null,null,null,null,null,null,null,null,null,null,null,1724]
[null,null,null,null,null,null,null,null,null,null,null,null,null,null,null,null,null,null,null,null,null,null,null,null,null,null,null,null,null,null,null,null,null,null,null,null,null,null,null,null,null,null,null,9310,null,null,null,null,null,null,null,null,null,null,null,null,null,null,null,null,null,null,null,null,null,null,null,1736]
[null,null,null,null,null,null,null,null,null,null,null,null,null,null,null,null,null,null,null,null,null,null,null,null,null,null,null,null,null,null,null,null,null,null,null,null,null,null,null,null,null,null,null,9311,null,null,null,null,null,null,null,null,null,null,null,null,null,null,null,null,null,null,null,null,null,null,null,1740]
[null,null,null,null,null,null,null,null,null,null,null,null,null,null,null,null,null,null,null,null,null,null,null,null,null,null,null,null,null,null,null,null,null,null,null,null,null,null,null,null,null,null,null,9312,null,null,null,null,null,null,null,null,null,null,null,null,null,null,null,null,null,null,null,null,null,null,null,1744]
[null,null,null,null,null,null,null,null,null,null,null,null,null,null,null,null,null,null,null,null,null,null,null,null,null,null,null,null,null,null,null,null,null,null,null,null,null,null,null,null,null,null,null,9313,null,null,null,null,null,null,null,null,null,null,null,null,null,null,null,null,null,null,null,null,null,null,null,1746]
[null,null,null,null,null,null,null,null,null,null,null,null,null,null,null,null,null,null,null,null,null,null,null,null,null,null,null,null,null,null,null,null,null,null,null,null,null,null,null,null,null,null,null,9315,null,null,null,null,null,null,null,null,null,null,null,null,null,null,null,null,null,null,null,null,null,null,null,1754]
[null,null,null,null,null,null,null,null,null,null,null,null,null,null,null,null,null,null,null,null,null,null,null,null,null,null,null,null,null,null,null,null,null,null,null,null,null,null,null,null,null,null,null,null,null,null,null,null,null,null,null,null,null,null,null,null,null,null,null,null,null,null,null,null,null,null,null,1756]
[null,null,null,null,null,null,null,null,null,null,null,null,null,null,null,null,null,null,null,null,null,null,null,null,null,null,null,null,null,null,null,null,null,null,null,null,null,null,null,null,null,null,null,null,null,null,null,null,null,null,null,null,null,null,null,null,null,null,null,null,null,null,null,null,null,null,null,1758]
[null,null,null,null,null,null,null,null,null,null,null,null,null,null,null,null,null,null,null,null,null,null,null,null,null,null,null,null,null,null,null,null,null,null,null,null,null,null,null,null,null,null,null,null,null,null,null,null,null,null,null,null,null,null,null,null,null,null,null,null,null,null,null,null,null,null,null,1760]
[null,null,null,null,null,null,null,null,null,null,null,null,null,null,null,null,null,null,null,null,null,null,null,null,null,null,null,null,null,null,null,null,null,null,null,null,null,null,null,null,null,null,null,null,null,null,null,null,null,null,null,null,null,null,null,null,null,null,null,null,null,null,null,null,null,null,null,1766]
[null,null,null,null,null,null,null,null,null,null,null,null,null,null,null,null,null,null,null,null,null,null,null,null,null,null,null,null,null,null,null,null,null,null,null,null,null,null,null,null,null,null,null,null,null,null,null,null,null,null,null,null,null,null,null,null,null,null,null,null,null,null,null,null,null,null,null,1770]
[null,null,null,null,null,null,null,null,null,null,null,null,null,null,null,null,null,null,null,null,null,null,null,null,null,null,null,null,null,null,null,null,null,null,null,null,null,null,null,null,null,null,null,null,null,null,null,null,null,null,null,null,null,null,null,null,null,null,null,null,null,null,null,null,null,null,null,1772]
[null,null,null,null,null,null,null,null,null,null,null,null,null,null,null,null,null,null,null,null,null,null,null,null,null,null,null,null,null,null,null,null,null,null,null,null,null,null,null,null,null,null,null,null,null,null,null,null,null,null,null,null,null,null,null,null,null,null,null,null,null,null,null,null,null,null,null,1778]
[null,null,null,null,null,null,null,null,null,null,null,null,null,null,null,null,null,null,null,null,null,null,null,null,null,null,null,null,null,null,null,null,null,null,null,null,null,null,null,null,null,null,null,null,null,null,null,null,null,null,null,null,null,null,null,null,null,null,null,null,null,null,null,null,null,null,null,1780]
[null,null,null,null,null,null,null,null,null,null,null,null,null,null,null,null,null,null,null,null,null,null,null,null,null,null,null,null,null,null,null,null,null,null,null,null,null,null,null,null,null,null,null,null,null,null,null,null,null,null,null,null,null,null,null,null,null,null,null,null,null,null,null,null,null,null,null,1782]
[null,null,null,null,null,null,null,null,null,null,null,null,null,null,null,null,null,null,null,null,null,null,null,null,null,null,null,null,null,null,null,null,null,null,null,null,null,null,null,null,null,null,null,null,null,null,null,null,null,null,null,null,null,null,null,null,null,null,null,null,null,null,null,null,null,null,null,1785]
[null,null,null,null,null,null,null,null,null,null,null,null,null,null,null,null,null,null,null,null,null,null,null,null,null,null,null,null,null,null,null,null,null,null,null,null,null,null,null,null,null,null,null,null,null,null,null,null,null,null,null,null,null,null,null,null,null,null,null,null,null,null,null,null,null,null,null,1790]
[null,null,null,null,null,null,null,null,null,null,null,null,null,null,null,null,null,null,null,null,null,null,null,null,null,null,null,null,null,null,null,null,null,null,null,null,null,null,null,null,null,null,null,null,null,null,null,null,null,null,null,null,null,null,null,null,null,null,null,null,null,null,null,null,null,null,null,1792]
[null,null,null,null,null,null,null,null,null,null,null,null,null,null,null,null,null,null,null,null,null,null,null,null,null,null,null,null,null,null,null,null,null,null,null,null,null,null,null,null,null,null,null,null,null,null,null,null,null,null,null,null,null,null,null,null,null,null,null,null,null,null,null,null,null,null,null,1796]
[null,null,null,null,null,null,null,null,null,null,null,null,null,null,null,null,null,null,null,null,null,null,null,null,null,null,null,null,null,null,null,null,null,null,null,null,null,null,null,null,null,null,null,null,null,null,null,null,null,null,null,null,null,null,null,null,null,null,null,null,null,null,null,null,null,null,null,1798]
[null,null,null,null,null,null,null,null,null,null,null,null,null,null,null,null,null,null,null,null,null,null,null,null,null,null,null,null,null,null,null,null,null,null,null,null,null,null,null,null,null,null,null,null,null,null,null,null,null,null,null,null,null,null,null,null,null,null,null,null,null,null,null,null,null,null,null,1800]
[null,null,null,null,null,null,null,null,null,null,null,null,null,null,null,null,null,null,null,null,null,null,null,null,null,null,null,null,null,null,null,null,null,null,null,null,null,null,null,null,null,null,null,null,null,null,null,null,null,null,null,null,null,null,null,null,null,null,null,null,null,null,null,null,null,null,null,1802]
[null,null,null,null,null,null,null,null,null,null,null,null,null,null,null,null,null,null,null,null,null,null,null,null,null,null,null,null,null,null,null,null,null,null,null,null,null,null,null,null,null,null,null,null,null,null,null,null,null,null,null,null,null,null,null,null,null,null,null,null,null,null,null,null,null,null,null,1804]
[null,null,null,null,null,null,null,null,null,null,null,null,null,null,null,null,null,null,null,null,null,null,null,null,null,null,null,null,null,null,null,null,null,null,null,null,null,null,null,null,null,null,null,null,null,null,null,null,null,null,null,null,null,null,null,null,null,null,null,null,null,null,null,null,null,null,null,1806]
[null,null,null,null,null,null,null,null,null,null,null,null,null,null,null,null,null,null,null,null,null,null,null,null,null,null,null,null,null,null,null,null,null,null,null,null,null,null,null,null,null,null,null,null,null,null,null,null,null,null,null,null,null,null,null,null,null,null,null,null,null,null,null,null,null,null,null,1808]
[null,null,null,null,null,null,null,null,null,null,null,null,null,null,null,null,null,null,null,null,null,null,null,null,null,null,null,null,null,null,null,null,null,null,null,null,null,null,null,null,null,null,null,null,null,null,null,null,null,null,null,null,null,null,null,null,null,null,null,null,null,null,null,null,null,null,null,1810]
[null,null,null,null,null,null,null,null,null,null,null,null,null,null,null,null,null,null,null,null,null,null,null,null,null,null,null,null,null,null,null,null,null,null,null,null,null,null,null,null,null,null,null,null,null,null,null,null,null,null,null,null,null,null,null,null,null,null,null,null,null,null,null,null,null,null,null,1812]
[null,null,null,null,null,null,null,null,null,null,null,null,null,null,null,null,null,null,null,null,null,null,null,null,null,null,null,null,null,null,null,null,null,null,null,null,null,null,null,null,null,null,null,null,null,null,null,null,null,null,null,null,null,null,null,null,null,null,null,null,null,null,null,null,null,null,null,1814]
[null,null,null,null,null,null,null,null,null,null,null,null,null,null,null,null,null,null,null,null,null,null,null,null,null,null,null,null,null,null,null,null,null,null,null,null,null,null,null,null,null,null,null,null,null,null,null,null,null,null,null,null,null,null,null,null,null,null,null,null,null,null,null,null,null,null,null,1817]
[null,null,null,null,null,null,null,null,null,null,null,null,null,null,null,null,null,null,null,null,null,null,null,null,null,null,null,null,null,null,null,null,null,null,null,null,null,null,null,null,null,null,null,null,null,null,null,null,null,null,null,null,null,null,null,null,null,null,null,null,null,null,null,null,null,null,null,1818]
[null,null,null,null,null,null,null,null,null,null,null,null,null,null,null,null,null,null,null,null,null,null,null,null,null,null,null,null,null,null,null,null,null,null,null,null,null,null,null,null,null,null,null,null,null,null,null,null,null,null,null,null,null,null,null,null,null,null,null,null,null,null,null,null,null,null,null,1823]
[null,null,null,null,null,null,null,null,null,null,null,null,null,null,null,null,null,null,null,null,null,null,null,null,null,null,null,null,null,null,null,null,null,null,null,null,null,null,null,null,null,null,null,null,null,null,null,null,null,null,null,null,null,null,null,null,null,null,null,null,null,null,null,null,null,null,null,1824]
[null,null,null,null,null,null,null,null,null,null,null,null,null,null,null,null,null,null,null,null,null,null,null,null,null,null,null,null,null,null,null,null,null,null,null,null,null,null,null,null,null,null,null,null,null,null,null,null,null,null,null,null,null,null,null,null,null,null,null,null,null,null,null,null,null,null,null,1828]
[null,null,null,null,null,null,null,null,null,null,null,null,null,null,null,null,null,null,null,null,null,null,null,null,null,null,null,null,null,null,null,null,null,null,null,null,null,null,null,null,null,null,null,null,null,null,null,null,null,null,null,null,null,null,null,null,null,null,null,null,null,null,null,null,null,null,null,1830]
[null,null,null,null,null,null,null,null,null,null,null,null,null,null,null,null,null,null,null,null,null,null,null,null,null,null,null,null,null,null,null,null,null,null,null,null,null,null,null,null,null,null,null,null,null,null,null,null,null,null,null,null,null,null,null,null,null,null,null,null,null,null,null,null,null,null,null,1833]
[null,null,null,null,null,null,null,null,null,null,null,null,null,null,null,null,null,null,null,null,null,null,null,null,null,null,null,null,null,null,null,null,null,null,null,null,null,null,null,null,null,null,null,null,null,null,null,null,null,null,null,null,null,null,null,null,null,null,null,null,null,null,null,null,null,null,null,1834]
[null,null,null,null,null,null,null,null,null,null,null,null,null,null,null,null,null,null,null,null,null,null,null,null,null,null,null,null,null,null,null,null,null,null,null,null,null,null,null,null,null,null,null,null,null,null,null,null,null,null,null,null,null,null,null,null,null,null,null,null,null,null,null,null,null,null,null,1835]
[null,null,null,null,null,null,null,null,null,null,null,null,null,null,null,null,null,null,null,null,null,null,null,null,null,null,null,null,null,null,null,null,null,null,null,null,null,null,null,null,null,null,null,null,null,null,null,null,null,null,null,null,null,null,null,null,null,null,null,null,null,null,null,null,null,null,null,1836]
[null,null,null,null,null,null,null,null,null,null,null,null,null,null,null,null,null,null,null,null,null,null,null,null,null,null,null,null,null,null,null,null,null,null,null,null,null,null,null,null,null,null,null,null,null,null,null,null,null,null,null,null,null,null,null,null,null,null,null,null,null,null,null,null,null,null,null,1837]
[null,null,null,null,null,null,null,null,null,null,null,null,null,null,null,null,null,null,null,null,null,null,null,null,null,null,null,null,null,null,null,null,null,null,null,null,null,null,null,null,null,null,null,null,null,null,null,null,null,null,null,null,null,null,null,null,null,null,null,null,null,null,null,null,null,null,null,1838]
[null,null,null,null,null,null,null,null,null,null,null,null,null,null,null,null,null,null,null,null,null,null,null,null,null,null,null,null,null,null,null,null,null,null,null,null,null,null,null,null,null,null,null,null,null,null,null,null,null,null,null,null,null,null,null,null,null,null,null,null,null,null,null,null,null,null,null,1840]
[null,null,null,null,null,null,null,null,null,null,null,null,null,null,null,null,null,null,null,null,null,null,null,null,null,null,null,null,null,null,null,null,null,null,null,null,null,null,null,null,null,null,null,null,null,null,null,null,null,null,null,null,null,null,null,null,null,null,null,null,null,null,null,null,null,null,null,1842]
[null,null,null,null,null,null,null,null,null,null,null,null,null,null,null,null,null,null,null,null,null,null,null,null,null,null,null,null,null,null,null,null,null,null,null,null,null,null,null,null,null,null,null,null,null,null,null,null,null,null,null,null,null,null,null,null,null,null,null,null,null,null,null,null,null,null,null,1844]
[null,null,null,null,null,null,null,null,null,null,null,null,null,null,null,null,null,null,null,null,null,null,null,null,null,null,null,null,null,null,null,null,null,null,null,null,null,null,null,null,null,null,null,null,null,null,null,null,null,null,null,null,null,null,null,null,null,null,null,null,null,null,null,null,null,null,null,1846]
[null,null,null,null,null,null,null,null,null,null,null,null,null,null,null,null,null,null,null,null,null,null,null,null,null,null,null,null,null,null,null,null,null,null,null,null,null,null,null,null,null,null,null,null,null,null,null,null,null,null,null,null,null,null,null,null,null,null,null,null,null,null,null,null,null,null,null,1847]
[null,null,null,null,null,null,null,null,null,null,null,null,null,null,null,null,null,null,null,null,null,null,null,null,null,null,null,null,null,null,null,null,null,null,null,null,null,null,null,null,null,null,null,null,null,null,null,null,null,null,null,null,null,null,null,null,null,null,null,null,null,null,null,null,null,null,null,1948]
[null,null,null,null,null,null,null,null,null,null,null,null,null,null,null,null,null,null,null,null,null,null,null,null,null,null,null,null,null,null,null,null,null,null,null,null,null,null,null,null,null,null,null,null,null,null,null,null,null,null,null,null,null,null,null,null,null,null,null,null,null,null,null,null,null,null,null,1949]